Workbook
Name __fdf1: '[1]#REF'!$B$4
Name __fdf2: '[1]#REF'!$B$5
Name __Lot123: #REF!
Name __Lot123: #REF!
Name __Lot123: #REF!
Name __Lot123: #REF!
Name __tr1: '[1]Travel Rates'!#REF!
Name __tr1: '[1]Travel Rates'!#REF!
Name __tr1: '[1]Travel Rates'!#REF!
Name __tr1: '[1]Travel Rates'!#REF!
Name __tr2: #REF!
Name __tr2: #REF!
Name __tr2: #REF!
Name __tr2: #REF!
Name __tr3: '[1]Travel Rates'!#REF!
Name __tr3: '[1]Travel Rates'!#REF!
Name __tr3: '[1]Travel Rates'!#REF!
Name __tr3: '[1]Travel Rates'!#REF!
Name __tr4: #REF!
Name __tr4: #REF!
Name __tr4: #REF!
Name __tr4: #REF!
Name __tr5: '[1]Travel Rates'!#REF!
Name __tr5: '[1]Travel Rates'!#REF!
Name __tr5: '[1]Travel Rates'!#REF!
Name __tr5: '[1]Travel Rates'!#REF!
Name __TTL4000: '[1]#REF'!$L$16
Name __TTL5000: '[1]#REF'!$N$211
Name __TTL5400: '[1]#REF'!$N$58
Name __TTL6000: '[1]#REF'!$N$102
Name __TTL8000: '[1]#REF'!$N$176
Name __wdf2: '[1]#REF'!$B$7
Name _1Y_0Crite: #REF!
Name _1Y_0Crite: #REF!
Name _1Y_0Crite: #REF!
Name _1Y_0Crite: #REF!
Name _1Y_0Crite: #REF!
Name _1Y_0Crite: #REF!
Name _1Y_0Crite: #REF!
Name _2Y_0Crite: #REF!
Name _2Y_0Crite: #REF!
Name _2Y_0Crite: #REF!
Name _2Y_0Crite: #REF!
Name _2Y_0Crite: #REF!
Name _2Y_0Crite: #REF!
Name _2Y_0Extr: #REF!
Name _2Y_0Extr: #REF!
Name _2Y_0Extr: #REF!
Name _2Y_0Extr: #REF!
Name _3Y__Crite: '[1]Labour Hours'!#REF!
Name _3Y__Crite: '[1]Labour Hours'!#REF!
Name _3Y__Crite: '[1]Labour Hours'!#REF!
Name _3Y__Crite: '[1]Labour Hours'!#REF!
Name _4Y__Extr: '[1]Labour Hours'!#REF!
Name _4Y__Extr: '[1]Labour Hours'!#REF!
Name _4Y__Extr: '[1]Labour Hours'!#REF!
Name _4Y__Extr: '[1]Labour Hours'!#REF!
Name _4Y__Extr: '[1]Labour Hours'!#REF!
Name _4Y__Extr: '[1]Labour Hours'!#REF!
Name _4Y__Extr: '[1]Labour Hours'!#REF!

Sheet Ekler
B2: DAĞITIM ŞİRKETLERİ YILLIK TARİFE TABLOLARI LİSTESİ:
B4: ='Profil ve Lisans Bilgileri'!B2 -> EK-1: FİRMA PROFİLİ VE LİSANS BİLGİLERİ
B5: ='Temel Veriler'!B2 -> EK-2: TEMEL VERİLER
B6: =Bilanço!B2 -> EK-3: YILLIK BİLANÇOLAR
B7: ='Gelir Tablosu'!B2 -> EK-4: YILLIK GELİR TABLOLARI
B8: ='Nakit Akım Tablosu'!B2 -> EK-5: YILLIK NAKİT AKIM TABLOLARI
B9: =Mizanlar!B2 -> EK-6: MİZANLAR
B10: =Alımlar!B2 -> EK-7: DAĞITIM ŞİRKETLERİ DOĞAL GAZ ALIM MİKTAR VE BEDELLERİ
B11: ='Satışlar '!B2 -> EK-8/A: DAĞITIM ŞİRKETLERİ DOĞAL GAZ SATIŞ FİYAT, MİKTAR VE BEDELLERİ
B12: EK-8/B: DAĞITIM ŞİRKETLERİNİN 2021 YILINA KADAR DOĞAL GAZ MİKTAR TAHMİNLERİ (Bu yıl istenmemektedir.)
B13: ='Serbest Tüketiciler'!B2 -> EK-8/C: 100.000 Sm3 ÜZERİ TÜKETEN SERBEST TÜKETİCİLERİN LİSTESİ
B14: EK-8/D: DAĞITIM ŞİRKETLERİNİN GÜNLÜK DOĞAL GAZ ÇEKİŞLERİ (Bu yıl istenmemektedir.)
B15: =Taşıma!B2 -> EK-9: TEDARİKÇİLERDEN DOĞAL GAZ ALAN SERBEST TÜKETİCİLERİN LİSTESİ
B16: EK-10/A: DOĞAL GAZ HİZMET MALİYETİ (Bu yıl istenmemektedir.)
B17: ='İşletme Giderleri'!B2 -> EK-10/B: İŞLETME GİDERLERİ
B18: ='İşletme Gideri Mizan Karşılığı'!B2 -> EK-10/C: İŞLETME GİDERLERİ - MİZAN KARŞILIĞI
B19: ='Bina Kira Giderleri'!B2 -> EK-10/D: GAYRİMENKUL KİRA GİDERLERİ
B20: ='Taşıt Kira Giderleri'!B2 -> EK-10/E: TAŞIT KİRA GİDERLERİ
B21: ='Yazılım Kira Giderleri'!B2 -> EK-10/F: YAZILIM KİRA GİDERLERİ
B22: ='Fatura Bilgileri'!B2 -> EK-10/G: FATURA BİLGİLERİ
B23: EK-11: DOĞAL GAZ HİZMETİNDE KULLANILAN SABİT KIYMETLER (Bu yıl istenmemektedir.)
B24: EK-12: BİRİKMİŞ AMORTİSMAN VE TÜKENME PAYLARI (Bu yıl istenmemektedir.)
B25: =İstihdam!B2 -> EK-13: PERSONEL SAYISI VE PERSONEL GİDERLERİ
B26: EK-14/A: DAĞITIM ŞİRKETLERİNİN ÖNEMLİ BORÇLARI (Bu yıl istenmemektedir.)
B27: =Krediler!B2 -> EK-14/B: DAĞITIM ŞİRKETLERİNİN KREDİLERİ
B28: EK-14/C: DAĞITIM ŞİRKETLERİNİN KREDİ GERİ ÖDEME TABLOSU (Bu yıl istenmemektedir.)
B29: EK-15: DAĞITIM ŞİRKETLERİNİN ÖNEMLİ ALACAKLARI (Bu yıl istenmemektedir.)
B30: EK-16: DAĞITIM ŞİRKETLERİ TARİFE ÖNERİSİ (Şirket üst yazısında sunulacaktır.)
B31: EK-17: VERİMLİLİK (Bu yıl istenmemektedir.)
B32: EK-18: BAĞLANTI BEDELİ MALİYETİ (Bu yıl istenmemektedir.)
B33: ='Hizmet Kalitesi'!B2 -> EK-19: HİZMET KALİTESİ PERFORMANS GÖSTERGELERİ
B34: ='Tüketici Bilgileri'!B2 -> EK-20: TÜKETİCİ SAYISI DETAY TABLOSU
B35: =Yatırımlar!B2 -> EK-21/A1: YATIRIMLAR
B36: ='Servis Hatları'!B2 -> EK-21/A2: SERVİS HATLARI
B37: ='Münferit Hatlar'!B2 -> EK-21/A3: MÜNFERİT HATLAR
B38: EK-21/B: YATIRIM DAĞILIMI (Bu yıl istenmemektedir.)
B39: ='Planlanan Yatırımlar'!B2 -> EK-21/C: PLANLANAN YATIRIMLAR
B40: ='İstasyon Bilgileri'!B2 -> EK-21/D: İSTASYON BİLGİLERİ
B41: ='Deplase Hatlar'!B2 -> EK-21/E: DEPLASE HATLAR
B42: ='Sayaç Bilgileri'!B2 -> EK-21/F: SAYAÇ BİLGİLERİ
B43: =Hakedişler!B2 -> EK-22/A: HAKEDİŞLER
B44: ='Hakediş Metrajları'!B2 -> EK-22/B: HAKEDİŞ METRAJ DETAYI
B45: ='Kaplama Detayları'!B2 -> EK-22/C: KAPLAMA DETAYLARI
B46: =ŞHV!B2 -> EK-23: ŞEBEKE HARİCİ VARLIKLAR
B47: ='Faaliyet Gelirleri'!B2 -> EK-24/A: FAALİYET GELİRLERİ
B48: ='Faaliyet Geliri Mizan Karşılığı'!B2 -> EK-24/B: FAALİYET GELİRLERİ - MİZAN KARŞILIĞI
B49: ='Güvence Bedeli'!B2 -> EK-25: GÜVENCE BEDELİ AKIŞ TABLOSU
B50: ='Varlık Satışı'!B2 -> EK-26: VARLIK SATIŞI
B51: ='Tüketim Grubu Satış Tablosu_V1'!B2 -> EK-27/A: TÜKETİM GRUBU BAZINDA TÜKETİCİ SAYISI VE TÜKETİM MİKTARLARI (TAŞIMA DAHİL) (V1)
B52: ='Tüketim Grubu Satış Tablosu_V2'!B2 -> EK-27/B: TÜKETİM GRUBU BAZINDA TÜKETİCİ SAYISI VE TÜKETİM MİKTARLARI (TAŞIMA DAHİL) (V2)
B53: ='Müşteri Profili'!B2 -> EK-27/C: TÜKETİM KADEMELERİ BAZINDA MÜŞTERİ PROFİLİ

Sheet Profil ve Lisans Bilgileri
B2: EK-1: FİRMA PROFİLİ VE LİSANS BİLGİLERİ
C3: 1. Kişi | D3: 2. Kişi | E3: 3. Kişi | F3: 4. Kişi | G3: 5. Kişi
B4: Tabloları Düzenleyenler :
B5: Düzenleyenlerin Telefonu :
B6: Düzenleyenlerin E-mail Adresi :
B8: 1. ŞİRKET KİMLİĞİ
B9: 1.1. Şirket Unvanı
B10: 1.2. Kuruluş Tarihi
B12: 2. LİSANS BİLGİLERİ
B13: 2.1. Lisans Tarihi ve Sayısı
B14: 2.2. Lisans Türü
B15: 2.3. Lisans Süresi
B16: 2.4. Tarifeye Esas Faaliyeti
B17: 2.5. Güncel Lisans Bölgesi (01.04.2019 itibariyle)
B18: 2.6. Lisans Bölgesi Genişledi mi? | C18: EVET | E18: EVET
B19: Eğer yukarıdaki soruya verilen cevap "EVET" ise 3 numaralı bölümün doldurulması gerekmektedir. | E19: HAYIR | F19: HAYIR
B21: 3. GENİŞLEME BİLGİLERİ
B22: Genişleme Kurul Karar Tarih ve Sayısı | C22: Lisans Kapsamına Alınan Şehir(ler)
B23: … tarihli ve … sayılı
B24: … tarihli ve … sayılı
B25: … tarihli ve … sayılı
B26: … tarihli ve … sayılı
B27: … tarihli ve … sayılı
B28: … tarihli ve … sayılı
B29: … tarihli ve … sayılı
B30: … tarihli ve … sayılı
B31: … tarihli ve … sayılı
B32: … tarihli ve … sayılı
B33: … tarihli ve … sayılı
B34: … tarihli ve … sayılı
... B46: 4.6. Bağlantı Kurulacak Yetkililer

Sheet Temel Veriler
B2: EK-2: TEMEL VERİLER
B4: 1. TEMEL BİLGİLER | C4: Birim | D4: 2018
B5: 1.1. Nüfus | C5: adet
B6: 1.2. Şehir Sayısı | C6: adet
B7: 1.3. Toplam Bina Sayısı | C7: adet
B8: 1.4. Toplam Daire Sayısı | C8: adet
B9: 1.5. Abone Merkezi Sayısı | C9: adet
B10: 1.6. Acil Müdahale Lokasyon Sayısı | C10: adet
B11: 1.7. Toplam Acil Müdahale Araç Sayısı | C11: adet
B13: 2. ŞEBEKE BİLGİLERİ | C13: Birim | D13: 2014 | E13: 2015 | F13: 2016 | G13: 2017 | H13: 2018
B14: 2.1. Faaliyette bulunulan alan | C14: km2
B15: 2.2. Toplam Boru Hattı Uzunluğu (kümülatif) | C15: metre | D15: =SUM(D16:D18) -> 0 | E15: =SUM(E16:E18) -> 0 | F15: =SUM(F16:F18) -> 0 | G15: =SUM(G16:G18) -> 0 | H15: =SUM(H16:H18) -> 0
B16: 2.2.1. Çelik hat uzunluğu (kümülatif) | C16: metre
B17: 2.2.2. PE hat uzunluğu (kümülatif) | C17: metre
B18: 2.2.3. Servis hattı uzunluğu (kümülatif) | C18: metre
B19: 2.3. Toplam Sayaç Sayısı (Kümülatif) | C19: adet
B20: 2.4. Penetrasyon oranı | C20: %
B21: 2.5. Pik Gün Verileri
B22: 2.5.1. Şebekenin Günlük Gaz Taşıma Kapasitesi | C22: Sm3/gün
B23: 2.5.2. Pik Gün | C23: gg/aa/yyyy
B24: 2.5.3. Şebekenin Pik Gününde Şebekeden Geçen Toplam Gaz Miktarı | C24: Sm3
B25: 2.5.4. Pik Günde Serbest Tüketicilerce Tüketilen Gaz Miktarı (Taşıma Hizmeti verilenler dahil) | C25: Sm3
B26: 2.5.5. Pik Günde Abonelerce Tüketilen Gaz Miktarı | C26: Sm3 | D26: =D24-D25 -> 0 | E26: =E24-E25 -> 0 | F26: =F24-F25 -> 0 | G26: =G24-G25 -> 0 | H26: =H24-H25 -> 0
B28: 3. ABONE BİLGİLERİ | C28: Birim | D28: 2014 | E28: 2015 | F28: 2016 | G28: 2017 | H28: 2018
B29: 3.1. Bağlantı Sözleşmesi Yapılan Tüketici Sayısı (Kümülatif) | C29: adet
B30: 3.2. Gaz Verilen Bina Sayısı (İçinde en az bir abone bulunan) (Kümülatif) | C30: adet
B32: 4. DOĞAL GAZ ALIŞ, SATIŞ VE TAŞIMA BİLGİLERİ | C32: Birim | D32: 2014 | E32: 2015 | F32: 2016 | G32: 2017 | H32: 2018
B33: 4.1. Satın Alınan Doğal Gaz Miktarı | C33: Sm3
B34: 4.2. Satılan Doğal Gaz Miktarı | C34: Sm3
B35: 4.3. Taşınan Gaz Miktarı | C35: Sm3

Sheet Bilanço
B2: EK-3: YILLIK BİLANÇOLAR
C4: (TL)
B5: AKTİF | C5: 43465
B6: I-DÖNEN VARLIKLAR | C6: =+C7+C13+C19+C27+C36+C44+C47+C50 -> 0
B7: A - HAZIR DEĞERLER | C7: =C8+C9+C10-C11+C12 -> 0
B8: 1 - Kasa Hesabı
B9: 2 - Alınan Çekler Hesabı
B10: 3 - Bankalar Hesabı
B11: 4 - Verilen Çekler ve Ödeme Emirleri (-)
B12: 5 - Diğer Hazır Değerler
B13: B - MENKUL KIYMETLER | C13: =C14+C15+C16+C17-C18 -> 0
B14: 1 - Hisse Senetleri
B15: 2 - Özel Kesim Tahvil, Senet ve Bonoları
B16: 3 - Kamu Kesim Tahvil, Senet ve Bonoları
B17: 4 - Diğer Menkul Kıymetler
B18: 5 - Menkul Kıymetler Değer Düşüklüğü Karşılığı Hesabı (-)
B19: C - TİCARİ ALACAKLAR | C19: =+C20+C21-C22+C23+C24+C25-C26 -> 0
B20: 1 - Alıcılar
B21: 2 - Alacak Senetleri
B22: 3 - Alacak Senetleri Reeskontu (-)
B23: 4 - Verilen Depozito ve Teminatlar
B24: 5 - Diğer Ticari Alacaklar
B25: 6 - Şüpheli Ticari Alacaklar
B26: 7 - Şüpheli Ticari Alacaklar Karşılığı (-)
B27: D - DİĞER ALACAKLAR | C27: =C28+C29+C30+C31+C32-C33+C34-C35 -> 0
B28: 1 - Ortaklardan Alacaklar
B29: 2 - İştiraklerden Alacaklar
B30: 3 - Bağlı Ortaklıklardan Alacaklar
B31: 4 - Personelden Alacaklar
B32: 5 - Diğer Çeşitli Alacaklar
B33: 6 - Diğer Alacak Senetleri Reeskontu (-)
B34: 7 - Şüpheli Diğer Alacaklar
B35: 8 - Şüpheli Diğer Alacaklar Karşılığı (-)
B36: E - STOKLAR | C36: =+C37+C38+C39+C40+C41-C42+C43 -> 0
B37: 1 - İlk Madde ve Malzeme Giderleri
B38: 2 - Yarı Mamül Üretim Hesabı
B39: 3 - Mamüller Hesabı
B40: 4 - Ticari Mallar
B41: 5 - Diğer Stoklar Hesabı
B42: 6 - Stok Değer Düşüklüğü Karşılığı (-)
B43: 7 - Verilen Sipariş Avansları
B44: F - YILLARA YAYGIN İNŞAAT VE ONARIM MALİYETLERİ | C44: =SUM(C45:C46) -> 0
B45: 1 - Yıllara Yaygın İnşaat ve Onarım Maliyetleri
B46: 2 - Taşeronlara Verilen Avanslar Hesabı
B47: G - GELECEK AYLARA AİT GİDERLER VE GELİR TAHAKKUKLARI | C47: =SUM(C48:C49) -> 0
B48: 1 - Gelecek Aylara Ait Giderler
B49: 2 - Gelir Tahakkukları
B50: H - DİĞER DÖNEN VARLIKLAR | C50: =SUM(C51:C58)-C59 -> 0
B51: 1 - Devreden KDV
B52: 2 - İndirilecek KDV
B53: 3 - Diğer KDV
B54: 4 - Peşin Ödenen Vergiler ve Fonlar
B55: 5 - İş Avansları
B56: 6 - Personel Avansları
B57: 7 - Sayım ve Tesellüm Noksanları
B58: 8 - Diğer Çeşitli Dönen Varlıklar
B59: 9 - Diğer Dönen Varlıklar Karşılığı (-)
B60: AKTİF
C61: 43465
B62: II-DURAN VARLIKLAR | C62: =+C63+C69+C77+C88+C99+C108+C114+C117 -> 0
B63: A - TİCARİ ALACAKLAR | C63: =C64+C65-C66+C67-C68 -> 0
B64: 1 - Alıcılar
B65: 2 - Alacak Senetleri
B66: 3 - Alacak Senetleri Reeskontu Hesabı (-)
B67: 4 - Verilen Depozito ve Teminatlar
B68: 5 - Şüpheli Alacaklar Karşılığı (-)
B69: B - DİĞER ALACAKLAR | C69: =SUM(C70:C74)-C75-C76 -> 0
B70: 1 - Ortaklardan Alacaklar
B71: 2 - İştiraklerden Alacaklar
B72: 3 - Bağlı Ortaklıklardan Alacaklar
B73: 4 - Personelden Alacaklar
B74: 5 - Diğer Çeşitli Alacaklar
B75: 6 - Diğer Alacak Senetleri Reeskontu (-)
B76: 7 - Şüpheli Diğer Alacaklar Karşılığı (-)
B77: C - MALİ DURAN VARLIKLAR | C77: =+C78-C79+C80-C81-C82+C83-C84-C85+C86-C87 -> 0
B78: 1 - Bağlı Menkul Kıymetler
B79: 2 - Bağlı Menkul Kıymetler Değer Düşüklüğü Karşılığı (-)
B80: 3 - İştirakler
B81: 4 - İştiraklere Sermaye Taahhütleri (-)
B82: 5 - İştirakler Sermaye Payları Değer Düşüklüğü Karşılığı (-)
B83: 6 - Bağlı Ortaklıklar
B84: 7 - Bağlı Ortaklıklara Sermaye Taahhütleri (-)
B85: 8 - Bağlı Ortaklıklar Sermaye Payları Değer Düşüklüğü Karşılığı (-)
B86: 9 - Diğer Mali Duran Varlıklar
B87: 10 - Diğer Mali Duran Varlıklar Karşılığı (-)
B88: D - MADDİ DURAN VARLIKLAR | C88: =SUM(C89:C95)-C96+C97+C98 -> 0
B89: 1 - Arazi ve Arsalar
B90: 2 - Yeraltı ve Yerüstü Düzenleri
B91: 3 - Binalar
B92: 4 - Tesis, Makine ve Cihazlar
B93: 5 - Taşıtlar
B94: 6 - Demirbaşlar
B95: 7 - Diğer Maddi Duran Varlıklar
B96: 8 - Birikmiş Amortismanlar (-)
B97: 9 - Yapılmakta Olan Yatırımlar
B98: 10 - Verilen Avanslar
B99: E - MADDİ OLMAYAN DURAN VARLIKLAR | C99: =SUM(C100:C105)-C106+C107 -> 0
B100: 1 - Haklar
B101: 2 - Şerefiyeler
B102: 3 - Kuruluş ve Örgütlenme Giderleri
...

Sheet Gelir Tablosu
B2: EK-4: YILLIK GELİR TABLOLARI
C4: (TL)
C5: 43465
B6: A - Brüt Satışlar | C6: =SUM(C7:C9) -> 0
B7: 1 - Yurtiçi Satışlar
B8: 2 - Yurtdışı Satışlar
B9: 3 - Diğer Gelirler
B11: B - Satış İndirimleri (-) | C11: =SUM(C12:C14) -> 0
B12: 1 - Satıştan İadeler (-)
B13: 2 - Satış İskontoları (-)
B14: 3 - Diğer İndirimler (-)
B16: C - NET SATIŞLAR | C16: =+C6-C11 -> 0
B18: D - Satışların Maliyeti (-) | C18: =SUM(C19:C22) -> 0
B19: 1 - Satılan Mamüller Maliyeti (-)
B20: 2 - Satılan Ticari Mallar Maliyeti (-)
B21: 3 - Satılan Hizmet Maliyeti (-)
B22: 4 - Diğer Satışların Maliyeti (-)
B24: BRÜT SATIŞ KARI VEYA ZARARI | C24: =+C16-C18 -> 0
B26: E - Faaliyet Giderleri (-) | C26: =SUM(C27:C29) -> 0
B27: 1 - Araştırma ve Geliştirme Giderleri (-)
B28: 2 - Pazarlama, Satış ve Dağıtım Giderleri (-)
B29: 3 - Genel Yönetim Giderleri (-)
B31: FAALİYET KARI VEYA ZARARI | C31: =+C24-C26 -> 0
B33: F - Diğer Faaliyetlerden Olağan Gelir ve Karlar | C33: =SUM(C34:C42) -> 0
B34: 1 - İştiraklerden Temettü Gelirleri
B35: 2 - Bağlı Ortaklıklardan Temettü Gelirleri
B36: 3 - Faiz Gelirleri
B37: 4 - Komisyon Gelirleri
B38: 5 - Konusu Kalmayan Karşılıklar
B39: 6 - Menkul Kıymet Satış Karları
B40: 7 - Kambiyo Karları
B41: 8 - Reeskont Faiz Gelirleri
B42: 9 - Diğer Olağan Gelir ve Karlar
B44: G - Diğer Faaliyetlerden Olağan Gider ve Zararlar (-) | C44: =SUM(C45:C50) -> 0
B45: 1 - Komisyon Giderleri (-)
B46: 2 - Karşılık Giderleri (-)
B47: 3 - Menkul Kıymet Satış Zararları (-)
B48: 4 - Kambiyo Zararları (-)
B49: 5 - Reeskont Faiz Giderleri (-)
B50: 6 - Diğer Gider ve Zararlar (-)
B52: H - Finansman Giderleri (-) | C52: =SUM(C53:C54) -> 0
B53: 1 - Kısa Vadeli Borçlanma Giderleri (-)
B54: 2 - Uzun Vadeli Borçlanma Giderleri (-)
B56: OLAĞAN KAR VEYA ZARAR | C56: =+C31+C33-C44-C52 -> 0
B58: I - Olağandışı Gelir ve Karlar | C58: =SUM(C59:C60) -> 0
B59: 1 - Önceki Dönem Gelir ve Karları
B60: 2 - Diğer Olağandışı Gelir ve Karlar
B62: J - Olağandışı Gider ve Zararlar (-) | C62: =SUM(C63:C65) -> 0
B63: 1 - Çalışmayan Kısım Gider ve Zararları (-)
B64: 2 - Önceki Dönem Gider ve Zararları (-)
B65: 3 - Diğer Olağandışı Gider ve Zararlar (-)
B67: DÖNEM KARI VEYA ZARARI | C67: =+C56+C58-C62 -> 0
B69: K - Dönem Karı Vergi ve Diğer Yasal Yükümlülükler Karşılıkları (-)
B71: DÖNEM NET KARI VEYA ZARARI | C71: =+C67-C69 -> 0

Sheet Nakit Akım Tablosu
B2: EK-5: YILLIK NAKİT AKIM TABLOLARI
C4: (TL)
B5: NAKİT AKIM TABLOSU | C5: 43465
B6: NAKİT GİRİŞLERİ
B7: Dönem Başı Nakit
B8: D.Gaz Satışlarından Tahsilat
B9: Taşıma Hizmeti Gelirlerinden Tahsilat
B10: Bağlantı Gelirlerinden Tahsilat
B11: İç Tesisat İşlemleri
B12: Diğer Gelirler Kapsamındaki Tahsilatlar
B13: Diğer Faaliyetlerden Tahsilatlar
B14: Hissedarlardan Nakit Girişleri
B15: Kredi Girişleri (İşletme)
B16: Kredi Girişleri (Yatırım)
B17: Güvence Bedeli Tahsilatları
B18: Diğer Nakit Girişleri
B19: TOPLAM NAKİT GİRİŞLERİ | C19: =SUM(C7:C18) -> 0
B21: NAKİT ÇIKIŞLARI
B22: D.Gaz Emtia Ödemeleri
B23: İade İşlemleri Kaynaklı Nakit Çıkışları
B24: İlk Madde ve Malzeme Alış Ödemeleri
B25: Yatırım Hakediş Ödemeleri
B26: Vergi ve Fon Ödemeleri
B27: Kredi Ödemeleri (İşletme)
B28: Kredi Ödemeleri (Yatırım)
B29: Hissedara Temettü / Temettüye Mahsuben Avans
B30: Faaliyet Giderleri | C30: =SUM(C31:C33) -> 0
B31: Personel Giderleri Kapsamındaki Ödemeler
B32: Dışarıdan Sağlanan Fayda ve Hizmetler Kapsamındaki Ödemeler
B33: Diğer Faaliyet Giderleri Kapsamındaki Ödemeler
B34: Güvence Bedeli İadeleri
B35: Diğer Nakit Çıkışları
B36: ÇIKIŞLAR TOPLAMI | C36: =SUM(C22:C30,C34:C35) -> 0
B38: DÖNEM SONU NAKİT | C38: =C19-C36 -> 0

Sheet Mizanlar
B2: EK-6: MİZANLAR
B4: AÇIKLAMALAR:
B5: 1- Şirket mizanları detay kalemlerinin anlaşılacak şekilde tam adlarıyla ve bu kalemlere ilişkin açıklamaların aydınlatıcı şekilde verilmesi gerekmektedir.
B6: 2- Şirket mizanlarının excel tablosu şeklinde eklenmesi, fotoğraf veya pdf şeklinde eklenmemesi gerekmektedir.
B9: 2018 YILI İÇİN DETAY MİZANLAR BU TABLODA ELEKTRONİK ORTAMDA,
B10: AYRICA ONAYLI BASILI ÇIKTI OLARAK YAZI EKİNDE SUNULACAKTIR.

Sheet Alımlar
B2: EK-7: DAĞITIM ŞİRKETLERİ DOĞAL GAZ ALIM MİKTAR VE BEDELLERİ
B4: DAĞITIM ŞİRKETLERİNİN 2018 YILI DOĞAL GAZ ALIM MİKTAR VE BEDELLERİ
C5: Ocak | D5: Şubat | E5: Mart | F5: Nisan | G5: Mayıs | H5: Haziran | I5: Temmuz | J5: Ağustos | K5: Eylül | L5: Ekim | M5: Kasım | N5: Aralık | O5: Yıllık
B6: TEDARİKÇİ UNVANI
B7: Abone
B8: Miktar (Sm3) | O8: =SUM(C8:N8) -> 0
B9: ÖTV Dahil KDV Hariç Toplam Alım Bedeli (TL) | O9: =SUM(C9:N9) -> 0
B10: Serbest Tüketici
B11: Elektrik Üretim Amaçlı
B12: Miktar (Sm3) | O12: =SUM(C12:N12) -> 0
B13: ÖTV Dahil KDV Hariç Toplam Alım Bedeli (TL) | O13: =SUM(C13:N13) -> 0
B14: OSB
B15: Miktar (Sm3) | O15: =SUM(C15:N15) -> 0
B16: ÖTV Dahil KDV Hariç Toplam Alım Bedeli (TL) | O16: =SUM(C16:N16) -> 0
B17: Diğer
B18: Miktar (Sm3) | O18: =SUM(C18:N18) -> 0
B19: ÖTV Dahil KDV Hariç Toplam Alım Bedeli (TL) | O19: =SUM(C19:N19) -> 0
B21: TEDARİKÇİ UNVANI
B22: Abone
B23: Miktar (Sm3) | O23: =SUM(C23:N23) -> 0
B24: ÖTV Dahil KDV Hariç Toplam Alım Bedeli (TL) | O24: =SUM(C24:N24) -> 0
B25: Serbest Tüketici
B26: Elektrik Üretim Amaçlı
B27: Miktar (Sm3) | O27: =SUM(C27:N27) -> 0
B28: ÖTV Dahil KDV Hariç Toplam Alım Bedeli (TL) | O28: =SUM(C28:N28) -> 0
B29: OSB
B30: Miktar (Sm3) | O30: =SUM(C30:N30) -> 0
B31: ÖTV Dahil KDV Hariç Toplam Alım Bedeli (TL) | O31: =SUM(C31:N31) -> 0
B32: Diğer
B33: Miktar (Sm3) | O33: =SUM(C33:N33) -> 0
B34: ÖTV Dahil KDV Hariç Toplam Alım Bedeli (TL) | O34: =SUM(C34:N34) -> 0
B35: ……….
B37: TOPLAM ABONE DOĞAL GAZ MİKTARI (Sm3) | O37: =SUM(C37:N37) -> 0
B38: TOPLAM ABONE ALIM BEDELİ (TL) (ÖTV Dahil KDV Hariç) | O38: =SUM(C38:N38) -> 0
B39: TOPLAM ST (EÜA) DOĞAL GAZ MİKTARI (Sm3) | O39: =SUM(C39:N39) -> 0
B40: TOPLAM ST (EÜA) ALIM BEDELİ (TL) (ÖTV Dahil KDV Hariç) | O40: =SUM(C40:N40) -> 0
B41: TOPLAM ST (OSB) DOĞAL GAZ MİKTARI (Sm3) | O41: =SUM(C41:N41) -> 0
B42: TOPLAM ST (OSB) ALIM BEDELİ (TL) (ÖTV Dahil KDV Hariç) | O42: =SUM(C42:N42) -> 0
B43: TOPLAM ST (DİĞER) DOĞAL GAZ MİKTARI (Sm3) | O43: =SUM(C43:N43) -> 0
B44: TOPLAM ST (DİĞER) ALIM BEDELİ (TL) (ÖTV Dahil KDV Hariç) | O44: =SUM(C44:N44) -> 0
B45: TOPLAM ALIM MİKTARI (Sm3) | C45: =SUM(C37,C39,C41,C43) -> 0 | D45: =SUM(D37,D39,D41,D43) -> 0 | E45: =SUM(E37,E39,E41,E43) -> 0 | F45: =SUM(F37,F39,F41,F43) -> 0 | G45: =SUM(G37,G39,G41,G43) -> 0 | H45: =SUM(H37,H39,H41,H43) -> 0 | I45: =SUM(I37,I39,I41,I43) -> 0 | J45: =SUM(J37,J39,J41,J43) -> 0 | ... O45: =SUM(O37,O39,O41,O43) -> 0
B46: TOPLAM ALIM TUTARI (TL) | C46: =SUM(C38,C40,C42,C44) -> 0 | D46: =SUM(D38,D40,D42,D44) -> 0 | E46: =SUM(E38,E40,E42,E44) -> 0 | F46: =SUM(F38,F40,F42,F44) -> 0 | G46: =SUM(G38,G40,G42,G44) -> 0 | H46: =SUM(H38,H40,H42,H44) -> 0 | I46: =SUM(I38,I40,I42,I44) -> 0 | J46: =SUM(J38,J40,J42,J44) -> 0 | ... O46: =SUM(O38,O40,O42,O44) -> 0

Sheet Satışlar 
B2: EK-8/A: DAĞITIM ŞİRKETLERİ DOĞAL GAZ SATIŞ FİYAT, MİKTAR VE BEDELLERİ
B4: DAĞITIM ŞİRKETLERİ 2018 YILI DOĞAL GAZ SATIŞ FİYAT, MİKTAR VE BEDELLERİ (Sm3)
C5: Ocak | D5: Şubat | E5: Mart | F5: Nisan | G5: Mayıs | H5: Haziran | I5: Temmuz | J5: Ağustos | K5: Eylül | L5: Ekim | M5: Kasım | N5: Aralık | O5: Yıllık
B6: Abone
B7: ÖTV Dahil KDV Hariç Fiyat (TL/Sm3) | C7: =IF(C8=0,0,C9/C8) -> 0 | D7: =IF(D8=0,0,D9/D8) -> 0 | E7: =IF(E8=0,0,E9/E8) -> 0 | F7: =IF(F8=0,0,F9/F8) -> 0 | G7: =IF(G8=0,0,G9/G8) -> 0 | H7: =IF(H8=0,0,H9/H8) -> 0 | I7: =IF(I8=0,0,I9/I8) -> 0 | J7: =IF(J8=0,0,J9/J8) -> 0 | ... N7: =IF(N8=0,0,N9/N8) -> 0 | O7: =IF(O8=0,0,+O9/O8) -> 0
B8: Tüketim (Sm3) | O8: =SUM(C8:N8) -> 0
B9: Hasılat (TL) | O9: =SUM(C9:N9) -> 0
B10: Müşteri Sayısı (Fatura Kesilen) | O10: =N10 -> 0
B11: Serbest Tüketici
B12: Elektrik Üretim Amaçlı
B13: ÖTV Dahil KDV Hariç Fiyat (TL/Sm3) | C13: =IF(C14=0,0,C15/C14) -> 0 | D13: =IF(D14=0,0,D15/D14) -> 0 | E13: =IF(E14=0,0,E15/E14) -> 0 | F13: =IF(F14=0,0,F15/F14) -> 0 | G13: =IF(G14=0,0,G15/G14) -> 0 | H13: =IF(H14=0,0,H15/H14) -> 0 | I13: =IF(I14=0,0,I15/I14) -> 0 | J13: =IF(J14=0,0,J15/J14) -> 0 | ... N13: =IF(N14=0,0,N15/N14) -> 0 | O13: =IF(O14=0,0,+O15/O14) -> 0
B14: Tüketim (Sm3) | O14: =SUM(C14:N14) -> 0
B15: Hasılat (TL) | O15: =SUM(C15:N15) -> 0
B16: Müşteri Sayısı (Fatura Kesilen) | O16: =N16 -> 0
B17: OSB
B18: ÖTV Dahil KDV Hariç Fiyat (TL/Sm3) | C18: =IF(C19=0,0,C20/C19) -> 0 | D18: =IF(D19=0,0,D20/D19) -> 0 | E18: =IF(E19=0,0,E20/E19) -> 0 | F18: =IF(F19=0,0,F20/F19) -> 0 | G18: =IF(G19=0,0,G20/G19) -> 0 | H18: =IF(H19=0,0,H20/H19) -> 0 | I18: =IF(I19=0,0,I20/I19) -> 0 | J18: =IF(J19=0,0,J20/J19) -> 0 | ... N18: =IF(N19=0,0,N20/N19) -> 0 | O18: =IF(O19=0,0,+O20/O19) -> 0
B19: Tüketim (Sm3) | O19: =SUM(C19:N19) -> 0
B20: Hasılat (TL) | O20: =SUM(C20:N20) -> 0
B21: Müşteri Sayısı (Fatura Kesilen) | O21: =N21 -> 0
B22: CNG Lisansı Sahipleri
B23: ÖTV Dahil KDV Hariç Fiyat (TL/Sm3) | C23: =IF(C24=0,0,C25/C24) -> 0 | D23: =IF(D24=0,0,D25/D24) -> 0 | E23: =IF(E24=0,0,E25/E24) -> 0 | F23: =IF(F24=0,0,F25/F24) -> 0 | G23: =IF(G24=0,0,G25/G24) -> 0 | H23: =IF(H24=0,0,H25/H24) -> 0 | I23: =IF(I24=0,0,I25/I24) -> 0 | J23: =IF(J24=0,0,J25/J24) -> 0 | ... N23: =IF(N24=0,0,N25/N24) -> 0 | O23: =IF(O24=0,0,+O25/O24) -> 0
B24: Tüketim (Sm3) | O24: =SUM(C24:N24) -> 0
B25: Hasılat (TL) | O25: =SUM(C25:N25) -> 0
B26: Müşteri Sayısı (Fatura Kesilen) | O26: =N26 -> 0
B27: Diğer
B28: ÖTV Dahil KDV Hariç Fiyat (TL/Sm3) | C28: =IF(C29=0,0,C30/C29) -> 0 | D28: =IF(D29=0,0,D30/D29) -> 0 | E28: =IF(E29=0,0,E30/E29) -> 0 | F28: =IF(F29=0,0,F30/F29) -> 0 | G28: =IF(G29=0,0,G30/G29) -> 0 | H28: =IF(H29=0,0,H30/H29) -> 0 | I28: =IF(I29=0,0,I30/I29) -> 0 | J28: =IF(J29=0,0,J30/J29) -> 0 | ... N28: =IF(N29=0,0,N30/N29) -> 0 | O28: =IF(O29=0,0,+O30/O29) -> 0
B29: Tüketim (Sm3) | O29: =SUM(C29:N29) -> 0
B30: Hasılat (TL) | O30: =SUM(C30:N30) -> 0
B31: Müşteri Sayısı (Fatura Kesilen) | O31: =N31 -> 0
B32: Isıtma Gazı ve Diğer Amaçlı Kullanım
B33: ÖTV Dahil KDV Hariç Fiyat (TL/Sm3) | C33: =IF(C34=0,0,C35/C34) -> 0 | D33: =IF(D34=0,0,D35/D34) -> 0 | E33: =IF(E34=0,0,E35/E34) -> 0 | F33: =IF(F34=0,0,F35/F34) -> 0 | G33: =IF(G34=0,0,G35/G34) -> 0 | H33: =IF(H34=0,0,H35/H34) -> 0 | I33: =IF(I34=0,0,I35/I34) -> 0 | J33: =IF(J34=0,0,J35/J34) -> 0 | ... N33: =IF(N34=0,0,N35/N34) -> 0 | O33: =IF(O34=0,0,+O35/O34) -> 0
B34: Tüketim (Sm3) | O34: =SUM(C34:N34) -> 0
B35: Gider (TL) | O35: =SUM(C35:N35) -> 0
B36: TOPLAM
B37: Toplam Tüketim (Sm3) | C37: =C19+C14+C8+C29+C24+C34 -> 0 | D37: =D19+D14+D8+D29+D24+D34 -> 0 | E37: =E19+E14+E8+E29+E24+E34 -> 0 | F37: =F19+F14+F8+F29+F24+F34 -> 0 | G37: =G19+G14+G8+G29+G24+G34 -> 0 | H37: =H19+H14+H8+H29+H24+H34 -> 0 | I37: =I19+I14+I8+I29+I24+I34 -> 0 | J37: =J19+J14+J8+J29+J24+J34 -> 0 | ... O37: =O19+O14+O8+O29+O24+O34 -> 0
B38: Toplam Hasılat (TL) | C38: =C20+C15+C9+C30+C25+C35 -> 0 | D38: =D20+D15+D9+D30+D25+D35 -> 0 | E38: =E20+E15+E9+E30+E25+E35 -> 0 | F38: =F20+F15+F9+F30+F25+F35 -> 0 | G38: =G20+G15+G9+G30+G25+G35 -> 0 | H38: =H20+H15+H9+H30+H25+H35 -> 0 | I38: =I20+I15+I9+I30+I25+I35 -> 0 | J38: =J20+J15+J9+J30+J25+J35 -> 0 | ... O38: =O20+O15+O9+O30+O25+O35 -> 0
B39: ÖTV Dahil KDV Hariç Ortalama Fiyat (TL/Sm3) | C39: =IF(C37=0,0,C38/C37) -> 0 | D39: =IF(D37=0,0,D38/D37) -> 0 | E39: =IF(E37=0,0,E38/E37) -> 0 | F39: =IF(F37=0,0,F38/F37) -> 0 | G39: =IF(G37=0,0,G38/G37) -> 0 | H39: =IF(H37=0,0,H38/H37) -> 0 | I39: =IF(I37=0,0,I38/I37) -> 0 | J39: =IF(J37=0,0,J38/J37) -> 0 | ... O39: =IF(O37=0,0,O38/O37) -> 0

Sheet Serbest Tüketiciler
B2: EK-8/C: 100.000 Sm3 ÜZERİ TÜKETEN SERBEST TÜKETİCİLERİN LİSTESİ
B4: Tüketicinin
B5: Sıra No: | C5: Ad/Unvanı | D5: Mevcut Tedarikçisi | E5: Tüketimleri (Sm3)
E6: 2014 | F6: 2015 | G6: 2016 | H6: 2017 | I6: 2018
B7: 1
B8: 2
B9: 3
B10: 4
B11: 5
B12: 6
B13: 7
B14: 8
B15: 9
B16: 10
B17: 11
B18: 12
B19: 13
B20: …

Sheet Taşıma
B2: EK-9: TEDARİKÇİLERDEN DOĞAL GAZ ALAN SERBEST TÜKETİCİLERİN LİSTESİ
B4: 2018 YILINDAKİ MÜŞTERİLER
C5: Ocak | D5: Şubat | E5: Mart | F5: Nisan | G5: Mayıs | H5: Haziran | I5: Temmuz | J5: Ağustos | K5: Eylül | L5: Ekim | M5: Kasım | N5: Aralık | O5: TOPLAM
B6: 1- Tüketici Adı/Unvanı
B7: Tüketim Miktarı (Sm3) | O7: =SUM(C7:N7) -> 0
B8: Uygulanan Sistem Kullanım Bedeli (KDV Hariç)(TL/Sm3) | O8: =IF(O7=0,0,+O9/O7) -> 0
B9: Taşıma Hasılatı | C9: =C7*C8 -> 0 | D9: =D7*D8 -> 0 | E9: =E7*E8 -> 0 | F9: =F7*F8 -> 0 | G9: =G7*G8 -> 0 | H9: =H7*H8 -> 0 | I9: =I7*I8 -> 0 | J9: =J7*J8 -> 0 | ... N9: =N7*N8 -> 0 | O9: =SUM(C9:N9) -> 0
B10: 2- Tüketici Adı/Unvanı
B11: Tüketim Miktarı (Sm3) | O11: =SUM(C11:N11) -> 0
B12: Uygulanan Sistem Kullanım Bedeli (KDV Hariç)(TL/Sm3) | O12: =IF(O11=0,0,+O13/O11) -> 0
B13: Taşıma Hasılatı | C13: =C11*C12 -> 0 | D13: =D11*D12 -> 0 | E13: =E11*E12 -> 0 | F13: =F11*F12 -> 0 | G13: =G11*G12 -> 0 | H13: =H11*H12 -> 0 | I13: =I11*I12 -> 0 | J13: =J11*J12 -> 0 | ... N13: =N11*N12 -> 0 | O13: =SUM(C13:N13) -> 0
B14: 3- …
B15: Tüketim Miktarı (Sm3) | O15: =SUM(C15:N15) -> 0
B16: Uygulanan Sistem Kullanım Bedeli (KDV Hariç)(TL/Sm3) | O16: =IF(O15=0,0,+O17/O15) -> 0
B17: Taşıma Hasılatı | C17: =C15*C16 -> 0 | D17: =D15*D16 -> 0 | E17: =E15*E16 -> 0 | F17: =F15*F16 -> 0 | G17: =G15*G16 -> 0 | H17: =H15*H16 -> 0 | I17: =I15*I16 -> 0 | J17: =J15*J16 -> 0 | ... N17: =N15*N16 -> 0 | O17: =SUM(C17:N17) -> 0
B18: ……..
B20: Toplam Tüketim (Sm3)
B21: Toplam Hasılat (TL)

Sheet İşletme Giderleri
B2: EK-10/B: İŞLETME GİDERLERİ
B4: İŞLETME GİDERLERİ
C5: 43465
B6: Toplam İşletme Giderleri | C6: =C7+C19+C23+C48+C53+C60+C78+C84+C87 -> 0
B7: Personel Ücret ve Giderleri | C7: =SUM(C8:C18) -> 0
B8: 01. Esas Ücretler (Ücrete bağlı vergiler dahil)
B9: 02. Sosyal Yardımlar
B10: 03. Tazminatlar
B11: 04. İşveren Payları
B12: 05. Huzur Haklar
B13: 06. Personel Sağlık Giderleri
B14: 07. Personel Eğitim Giderleri
B15: 08. Personel Yemek Giderleri
B16: 09. Personel Servis Giderleri
B17: 10. Seyahat Giderleri
B18: 11. Diğer Personel Giderleri
B19: İlk Madde ve Malzeme Giderleri | C19: =SUM(C20:C22) -> 0
B20: 01. Dağıtım Hatları
B21: 02. İstasyonlar
B22: 03. Sayaçlar (Periyodik muayene ve kalibrasyon hariç)
B23: Dışarıdan Sağlanan Hizmet Giderleri | C23: =SUM(C24:C34,C41:C42,C45:C47) -> 0
B24: 01. Sayaç Okuma ve Faturalandırma
B25: 02. İhbar Dağıtım Hizmeti
B26: 03. Sayaç Açma Kapama
B27: 04. İç Tesisat İşlemleri
B28: 05. Periyodik Muayene ve Sayaç Kalibrasyonu
B29: 06. Münferit Ölçüm Ekipmanı Muayene Giderleri
B30: 07. Tahsilat Giderleri
B31: 08. Komisyon Giderleri
B32: 09. Güvenlik Hizmeti
B33: 10. Çağrı Merkezi
B34: 11. Bakım Onarım Giderleri | C34: =SUM(C35:C40) -> 0
B35: 11.01. Dağıtım Hatları
B36: 11.02. İstasyonlar
B37: 11.03. Sayaçlar (Periyodik muayene ve kalibrasyon hariç)
B38: 11.04. Bina
B39: 11.05. Araçlar
B40: 11.06. Demirbaşlar
B41: 12. Teknoloji Hizmeti
B42: 13. Danışmanlık ve Müşavirlik Giderleri | C42: =SUM(C43:C44) -> 0
B43: 13.01. Destek Hizmet Alım Giderleri
B44: 13.02. Diğer Danışmanlık ve Müşavirlik Giderleri
B45: 14. Temizlik Hizmet Giderleri
B46: 15. CNG Alım Fiyat Farkları
B47: 16. LNG Alım Fiyat Farkları
B48: Kira Giderleri | C48: =SUM(C49:C52) -> 0
B49: 01. Gayrimenkul Kira Giderleri
B50: 02. Kullanım Hakkı Giderleri
B51: 03. Makine Teçhizat Kira Giderleri
B52: 04. Araç Kira Giderleri
B53: Enerji Giderleri | C53: =SUM(C54:C59) -> 0
B54: 01. Isıtma Gazı Gideri
B55: 02. Yakıt Giderleri
B56: 03. Bina Isınma
B57: 04. Elektrik
B58: 05. Su
B59: 06. Kokulandırma Giderleri
B60: Yasal Zorunlu Harcamalar | C60: =SUM(C61:C62,C65,C66,C71:C77) -> 0
B61: 01. Mahkeme ve Avukatlık
B62: 02. Damga Vergisi | C62: =SUM(C63:C64) -> 0
B63: 02.01. Doğal Gaz Alım Damga Vergisi
B64: 02.02. Diğer İşlemlerden Doğan Damga Vergisi
B65: 03. Diğer Vergi, Resim ve Harçlar (ÖİV ve MTV dahil, Kurumlar Vergisi hariçtir.)
B66: 04. Sigorta | C66: =SUM(C67:C70) -> 0
B67: 04.01. Şebekeye İlişkin Sigorta Giderleri
B68: 04.02. Bina Sigorta Giderleri
B69: 04.03. Araç Sigorta Giderleri
B70: 04.04. Diğer Sigorta Giderleri
B71: 05. EPDK Yıllık Lisans Bedeli
B72: 06. EPDK Katılım Payı
B73: 07. Denetim Giderleri (Mevzuat Kapsamında Yaptırılan)
B74: 08. Noter Giderleri
B75: 09. Oda Aidat Giderleri
B76: 10. EPDK Kesin Teminat Komisyon Gideri
B77: 11. İlan Giderleri
B78: Haberleşme Giderleri | C78: =SUM(C79:C83) -> 0
B79: 01. Telsiz
B80: 02. Telefon
B81: 03. İnternet
B82: 04. Posta ve Kargo
B83: 05. SCADA ve Uzaktan Okuma Sistemleri
B84: Büro ve İdari Giderler | C84: =SUM(C85:C86) -> 0
B85: 01. Kırtasiye, Fotokopi ve Matbaa Giderleri
B86: 02. Temizlik Malzemeleri
B87: Diğer Giderler | C87: =SUM(C88:C90,C91,C94:C95) -> 0
B88: 01. Reklam ve Tanıtım
B89: 02. Bağış, Sponsorluk ve Dernek Aidat Giderleri
B90: 03. Temsil ve Ağırlama
B91: 04. Araştırma Geliştirme | C91: =SUM(C92:C93) -> 0
B92: 04.01. EPDK AR-GE Komisyonu Tarafından Kabul Edilen Projeler
B93: 04.02. EPDK AR-GE Komisyonu Tarafından Kabul Edilmeyen Projeler
B94: 05. Gider Sayılan Demirbaşlar
B95: 06. Kanunen Kabul Edilmeyen Giderler

Sheet İşletme Gideri Mizan Karşılığı
B2: EK-10/C: İŞLETME GİDERLERİ - MİZAN KARŞILIĞI
B4: İşletme Giderleri - Ana Kalem | C4: İşletme Gider Detay | D4: 2018
D5: Hesap No | E5: Hesap Adı | F5: Tutar
B6: Personel Ücret ve Giderleri | F6: =F8+F10+F12+F14+F16+F18+F20+F22+F24+F26+F28 -> 0
C7: 01. Esas Ücretler (Ücrete bağlı vergiler dahil)
C8: Toplam
C9: 02. Sosyal Yardımlar
C10: Toplam
C11: 03. Tazminatlar
C12: Toplam
C13: 04. İşveren Payları
C14: Toplam
C15: 05. Huzur Haklar
C16: Toplam
C17: 06. Personel Sağlık Giderleri
C18: Toplam
... C28: Toplam
B29: İlk Madde ve Malzeme Giderleri | F29: =F31+F33+F35 -> 0
C30: 01. Dağıtım Hatları
C31: Toplam
C32: 02. İstasyonlar
C33: Toplam
C34: 03. Sayaçlar (Periyodik muayene ve kalibrasyon hariç)
C35: Toplam
B36: Dışarıdan Sağlanan Hizmet Giderleri | F36: =F38+F40+F42+F44+F46+F48+F50+F52+F54+F56+F64+F66+F70+F72+F74+F76 -> 0
C37: 01. Sayaç Okuma ve Faturalandırma
C38: Toplam
C39: 02. İhbar Dağıtım Hizmeti
C40: Toplam
C41: 03. Sayaç Açma Kapama
C42: Toplam
C43: 04. İç Tesisat İşlemleri
C44: Toplam
C45: 05. Periyodik Muayene ve Sayaç Kalibrasyonu
C46: Toplam
C47: 06. Münferit Ölçüm Ekipmanı Muayene Giderleri
C48: Toplam
... C76: Toplam
B77: Kira Giderleri | F77: =F79+F81+F83+F85 -> 0
C78: 01. Gayrimenkul Kira Giderleri
C79: Toplam
C80: 02. Kullanım Hakkı Giderleri
C81: Toplam
C82: 03. Makine Teçhizat Kira Giderleri
C83: Toplam
C84: 04. Araç Kira Giderleri
C85: Toplam
B86: Enerji Giderleri | F86: =F88+F90+F92+F94+F96+F98 -> 0
C87: 01. Isıtma Gazı Gideri
C88: Toplam
C89: 02. Yakıt Giderleri
C90: Toplam
C91: 03. Bina Isınma
C92: Toplam
C93: 04. Elektrik
C94: Toplam
C95: 05. Su
C96: Toplam
C97: 06. Kokulandırma Giderleri
C98: Toplam
B99: Yasal Zorunlu Harcamalar | F99: =F101+F105+F107+F113+F115+F117+F119+F121+F123+F125+F127 -> 0
C100: 01. Mahkeme ve Avukatlık
C101: Toplam
C102: 02. Damga Vergisi
C103: 02.01. Doğal Gaz Alım Damga Vergisi
C104: 02.02. Diğer İşlemlerden Doğan Damga Vergisi
C105: Toplam
C106: 03. Diğer Vergi, Resim ve Harçlar (ÖİV ve MTV dahil, Kurumlar Vergisi Hariçtir.)
C107: Toplam
C108: 04. Sigorta
C109: 04.01. Şebekeye İlişkin Sigorta Giderleri
C110: 04.02. Bina Sigorta Giderleri
C111: 04.03. Araç Sigorta Giderleri
... C127: Toplam
B128: Haberleşme Giderleri | F128: =F130+F132+F134+F136+F138 -> 0
C129: 01. Telsiz
C130: Toplam
C131: 02. Telefon
C132: Toplam
C133: 03. İnternet
C134: Toplam
C135: 04. Posta ve Kargo
C136: Toplam
C137: 05. SCADA ve Uzaktan Okuma Sistemleri
C138: Toplam
B139: Büro ve İdari Giderler | F139: =F141+F143 -> 0
C140: 01. Kırtasiye, Fotokopi ve Matbaa Giderleri
C141: Toplam
C142: 02. Temizlik Malzemeleri
C143: Toplam
B144: Diğer Giderler | F144: =F146+F148+F150+F154+F156+F158 -> 0
C145: 01. Reklam ve Tanıtım
C146: Toplam
C147: 02. Bağış, Sponsorluk ve Dernek Aidat Giderleri
C148: Toplam
C149: 03. Temsil ve Ağırlama
C150: Toplam
C151: 04. Araştırma Geliştirme
C152: 04.01. EPDK AR-GE Komisyonu Tarafından Kabul Edilen Projeler
C153: 04.02. EPDK AR-GE Komisyonu Tarafından Kabul Edilmeyen Projeler
...

Sheet Bina Kira Giderleri
B2: EK-10/D: GAYRİMENKUL KİRA GİDERLERİ
B4: 2018
B5: MEVKİİ | C5: BRÜT ALAN | D5: KİRALAMA TARİHİ | E5: KİRALAMA SÜRESİ (Ay Bazında) | F5: KULLANIM AMACI | G5: İLGİLİ YIL TOPLAM KİRA BEDELİ (TL)
F12: TOPLAM | G12: =SUM(G6:G11) -> 0

Sheet Taşıt Kira Giderleri
B2: EK-10/E: TAŞIT KİRA GİDERLERİ
B4: 2018
B5: PLAKA | C5: MARKA / MODEL | D5: KİRALAMA TARİHİ | E5: KİRALANAN FİRMA | F5: KİRALAMA SÜRESİ (Ay Bazında) | G5: KULLANIM AMACI | H5: İLGİLİ YIL YAPILAN KİLOMETRE | I5: İLGİLİ YIL TOPLAM KİRA BEDELİ (TL)
G12: TOPLAM | H12: =SUM(H6:H11) -> 0 | I12: =SUM(I6:I11) -> 0

Sheet Yazılım Kira Giderleri
B2: EK-10/F: YAZILIM KİRA GİDERLERİ
B4: 2018
B5: YAZILIM TANIMI | C5: EDİNİM TARİHİ | D5: KULLANIM AMACI | E5: ALINAN FİRMA | F5: İLGİLİ YIL TOPLAM KİRA BEDELİ (TL)
E11: TOPLAM | F11: =SUM(F6:F10) -> 0

Sheet Fatura Bilgileri
B2: EK-10/G: FATURA BİLGİLERİ
B4: FATURA BİLGİLERİ (Adet)
B5: Dönem | C5: Okunan Sayaç Sayısı | D5: Kesilen Fatura Sayısı | E5: Dağıtılan İhbarname Sayısı | F5: Fatura Tahsilat Bilgileri
F6: Şirket Tarafından Tahsil Edilen Fatura Sayısı | G6: PTT tarafından Tahsil Edilen Fatura Sayısı | H6: Bankalarca Tahsil Edilen Fatura Sayısı | I6: Diğer (Tahsilat Yolunu Buraya Yazınız) | J6: Tahsil Edilen Toplam Fatura Sayısı
B7: 43101 | J7: =SUM(F7:I7) -> 0
B8: 43132 | J8: =SUM(F8:I8) -> 0
B9: 43160 | J9: =SUM(F9:I9) -> 0
B10: 43191 | J10: =SUM(F10:I10) -> 0
B11: 43221 | J11: =SUM(F11:I11) -> 0
B12: 43252 | J12: =SUM(F12:I12) -> 0
B13: 43282 | J13: =SUM(F13:I13) -> 0
B14: 43313 | J14: =SUM(F14:I14) -> 0
B15: 43344 | J15: =SUM(F15:I15) -> 0
B16: 43374 | J16: =SUM(F16:I16) -> 0
B17: 43405 | J17: =SUM(F17:I17) -> 0
B18: 43435 | J18: =SUM(F18:I18) -> 0
B19: 2018 Toplamı | C19: =SUM(C7:C18) -> 0 | D19: =SUM(D7:D18) -> 0 | E19: =SUM(E7:E18) -> 0 | F19: =SUM(F7:F18) -> 0 | G19: =SUM(G7:G18) -> 0 | H19: =SUM(H7:H18) -> 0 | I19: =SUM(I7:I18) -> 0 | J19: =SUM(J7:J18) -> 0

Sheet İstihdam
B2: EK-13: PERSONEL SAYISI VE PERSONEL GİDERLERİ
B4: PERSONEL SAYISI - PERSONEL GİDERLERİ | C4: 43101 | D4: 43132 | E4: 43160 | F4: 43191 | G4: 43221 | H4: 43252 | I4: 43282 | J4: 43313 | K4: 43344 | L4: 43374 | M4: 43405 | N4: 43435 | O4: TOPLAM
B5: Personel Sayısı | O5: =N5 -> 0
B6: Toplam Personel Giderleri (TL) | O6: =SUM(C6:N6) -> 0
B8: PERSONEL SAYISI DAĞILIMI | O8: TOPLAM
B9: 1. Müşteri Hizmetleri Personeli | C9: =SUM(C10:C12) -> 0 | D9: =SUM(D10:D12) -> 0 | E9: =SUM(E10:E12) -> 0 | F9: =SUM(F10:F12) -> 0 | G9: =SUM(G10:G12) -> 0 | H9: =SUM(H10:H12) -> 0 | I9: =SUM(I10:I12) -> 0 | J9: =SUM(J10:J12) -> 0 | ... O9: =SUM(O10:O12) -> 0
B10: 1.1. Sayaç Okuma ve Faturalandırma Hizmeti | O10: =N10 -> 0
B11: 1.2. Abonelik Hizmeti | O11: =N11 -> 0
B12: 1.3. Tahsilat Hizmeti | O12: =N12 -> 0
B13: 2. Güvenlik Personeli | O13: =N13 -> 0
B14: 3. Teknik Hizmetler Personeli | C14: =SUM(C15:C18) -> 0 | D14: =SUM(D15:D18) -> 0 | E14: =SUM(E15:E18) -> 0 | F14: =SUM(F15:F18) -> 0 | G14: =SUM(G15:G18) -> 0 | H14: =SUM(H15:H18) -> 0 | I14: =SUM(I15:I18) -> 0 | J14: =SUM(J15:J18) -> 0 | ... O14: =SUM(O15:O18) -> 0
B15: 3.1. İç Tesisat | O15: =N15 -> 0
B16: 3.2. Acil Müdahale | O16: =N16 -> 0
B17: 3.3. Bakım Onarım | O17: =N17 -> 0
B18: 3.4. Yapım, Proje ve Etüd | O18: =N18 -> 0
B19: 4. Genel Hizmet Personeli | O19: =N19 -> 0
B20: 5. Pazarlama Personeli | O20: =N20 -> 0
B21: 6. Genel Yönetim Personeli | O21: =N21 -> 0
B22: TOPLAM | C22: =SUM(C9,C13,C14,C19,C20,C21) -> 0 | D22: =SUM(D9,D13,D14,D19,D20,D21) -> 0 | E22: =SUM(E9,E13,E14,E19,E20,E21) -> 0 | F22: =SUM(F9,F13,F14,F19,F20,F21) -> 0 | G22: =SUM(G9,G13,G14,G19,G20,G21) -> 0 | H22: =SUM(H9,H13,H14,H19,H20,H21) -> 0 | I22: =SUM(I9,I13,I14,I19,I20,I21) -> 0 | J22: =SUM(J9,J13,J14,J19,J20,J21) -> 0 | ... O22: =SUM(O9,O13,O14,O19,O20,O21) -> 0
B24: PERSONEL GİDERLERİ DAĞILIMI (TL) | O24: TOPLAM
B25: 1. Müşteri Hizmetleri Personel Gideri | C25: =SUM(C26:C28) -> 0 | D25: =SUM(D26:D28) -> 0 | E25: =SUM(E26:E28) -> 0 | F25: =SUM(F26:F28) -> 0 | G25: =SUM(G26:G28) -> 0 | H25: =SUM(H26:H28) -> 0 | I25: =SUM(I26:I28) -> 0 | J25: =SUM(J26:J28) -> 0 | ... O25: =SUM(O26:O28) -> 0
B26: 1.1. Sayaç Okuma ve Faturalandırma Hizmeti | O26: =SUM(C26:N26) -> 0
B27: 1.2. Abonelik Hizmeti | O27: =SUM(C27:N27) -> 0
B28: 1.3. Tahsilat Hizmeti | O28: =SUM(C28:N28) -> 0
B29: 2. Güvenlik Personel Gideri | O29: =SUM(C29:N29) -> 0
B30: 3. Teknik Hizmetler Personel Gideri | C30: =SUM(C31:C34) -> 0 | D30: =SUM(D31:D34) -> 0 | E30: =SUM(E31:E34) -> 0 | F30: =SUM(F31:F34) -> 0 | G30: =SUM(G31:G34) -> 0 | H30: =SUM(H31:H34) -> 0 | I30: =SUM(I31:I34) -> 0 | J30: =SUM(J31:J34) -> 0 | ... O30: =SUM(O31:O34) -> 0
B31: 3.1. İç Tesisat | O31: =SUM(C31:N31) -> 0
B32: 3.2. Acil Müdahale | O32: =SUM(C32:N32) -> 0
B33: 3.3. Bakım Onarım | O33: =SUM(C33:N33) -> 0
B34: 3.4. Yapım, Proje ve Etüd | O34: =SUM(C34:N34) -> 0
B35: 4. Genel Hizmet Personel Gideri | O35: =SUM(C35:N35) -> 0
B36: 5. Pazarlama Personel Gideri | O36: =SUM(C36:N36) -> 0
B37: 6. Genel Yönetim Personel Gideri | O37: =SUM(C37:N37) -> 0
B38: TOPLAM | C38: =SUM(C25,C29,C30,C35,C36,C37) -> 0 | D38: =SUM(D25,D29,D30,D35,D36,D37) -> 0 | E38: =SUM(E25,E29,E30,E35,E36,E37) -> 0 | F38: =SUM(F25,F29,F30,F35,F36,F37) -> 0 | G38: =SUM(G25,G29,G30,G35,G36,G37) -> 0 | H38: =SUM(H25,H29,H30,H35,H36,H37) -> 0 | I38: =SUM(I25,I29,I30,I35,I36,I37) -> 0 | J38: =SUM(J25,J29,J30,J35,J36,J37) -> 0 | ... O38: =SUM(O25,O29,O30,O35,O36,O37) -> 0

Sheet Krediler
B2: EK-14/B: DAĞITIM ŞİRKETLERİNİN KREDİLERİ
B4: KREDİLER TABLOSU (31.12.2018 TARİHİ İTİBARİYLE)
B5: Kredi No | C5: Kullanıldığı Proje | D5: Krediyi Sağlayan Finans Kurumu | E5: Kredi Başlangıç Tarihi | F5: Kredi Bitiş Tarihi | G5: Para Birimi | H5: Kredi Tutarı | I5: Taksit Periyodu | J5: 31.12.2018 Bakiyesi | K5: Yıllık Faiz Oranı

Sheet Hizmet Kalitesi
B2: EK-19: HİZMET KALİTESİ PERFORMANS GÖSTERGELERİ
B4: HİZMET KALİTESİ PERFORMANS GÖSTERGELERİ
C5: Birim | D5: 43465
B6: I) BAĞLANTI BİLGİLERİ
B7: Bağlantı başvuru sayısı | C7: Adet | D7: =D8+D9 -> 0
B8: Kabul edilen bağlantı talep sayısı | C8: Adet
B9: Reddedilen bağlantı talep sayısı | C9: Adet
B10: Ortalama bağlantı başvurusu sonuçlandırma süresi | C10: Gün
B11: II) GEÇİCİ GAZ KESİNTİSİ NEDENLERİ
B12: Müşterinin talebi | C12: Adet
B13: Fatura bedelinin ödenmemesi | C13: Adet
B14: Mahkeme veya Kurul Kararı | C14: Adet
B15: Kaçak veya usülsüz gaz kullanımı | C15: Adet
B16: Fatura Okunamaması (sayaca ulaşılamaması) | C16: Adet
B17: III) ÖLÇÜMLEME
B18: Ölçüm yapamayan sayaç | C18: Adet
B19: Hatalı ölçüm yapan sayaç | C19: Adet
B20: Sayaç açma-kapama bedeli alınan müşteri sayısı | C20: Adet
B21: Doğal gaz yükleme merkezi sayısı | C21: Adet
B22: Nöbetçi doğal gaz yükleme merkezi sayısı | C22: Adet
B23: IV-a) ŞİKAYET SEBEPLERİ
B24: Sayaç şikayetleri | C24: Adet
B25: Gaz basınç seviyesi şikayetleri | C25: Adet
B26: Gaz kesinti şikayetleri | C26: Adet
B27: Sertfika sahiplerinin şikayetleri | C27: Adet
B28: Diğer şikayetler | C28: Adet
B29: IV-b) ŞİKAYET YÖNTEMLERİ
B30: Yazılı şikayet sayısı | C30: Adet
B31: Telefonla gelen şikayet sayısı | C31: Adet
B32: Fax ile gelen şikayet sayısı | C32: Adet
B33: E-posta ile gelen şikayet sayısı | C33: Adet
B34: Ortalama şikayet giderme süresi | C34: Saat
B35: IV-c) FATURA İTİRAZLARI
B36: Faturaya itiraz sayısı | C36: Adet
B37: Faturaya itirazı kabul edilen müşteri sayısı | C37: Adet
B38: Faturaya itirazı reddedilen müşteri sayısı | C38: Adet
B39: V) TAHSİLAT BİLGİLERİ
B40: Şirkete ait ödeme merkezi sayısı | C40: Adet
B41: Şirkete ait vezne sayısı | C41: Adet
B42: Şirket web sitesi üzerinden fatura ödeme sayısı | C42: Adet
B43: Toplam fatura sayısı | C43: Adet
B44: Uzaktan okuma yapılan sayaç sayısı | C44: Adet
B45: VI) ACİL MÜDAHALE DURUMU
B46: Acil müdahale ihbar sayısı | C46: Adet
B47: Acil müdahaleye cevap verecek telefon hattı sayısı | C47: Adet
B48: Acil müdahale personel sayısı | C48: Adet
B49: Acil müdahale araç sayısı | C49: Adet
B50: Ortalama acil duruma müdahale süresi | C50: Dakika
B51: VII) KESİNTİ
B52: Bakım onarımdan dolayı kesinti sayısı | C52: Adet
B53: Bakım onarımdan dolayı kesinti süresi | C53: Dakika
B54: Acil durumdan dolayı kesinti sayısı | C54: Adet
B55: Acil durumdan dolayı kesinti süresi | C55: Dakika
B56: VIII) İŞ GÜVENLİĞİ
B57: Gaz kaçaklarına bağlı kaza sayısı | C57: Adet
B58: Kazaların yol açtığı yaralanma veya ölüm sayısı | C58: Adet
B59: Kazalar sonucu oluşan zaman kaybı | C59: Saat
B60: IX) TEDARİKÇİ DEĞİŞİMİ
B61: Dönem içerisinde tedarikçi değiştiren müşteri sayısı | C61: Adet
B62: X) ARAMA MERKEZİ (CALL CENTER) BİLGİLERİ
B63: Arama merkezi hat sayısı | C63: Adet
B64: Arama merkezi personel sayısı | C64: Adet
B65: Arama sayısı | C65: Adet
B66: Ortalama bekleme süresi | C66: Saniye

Sheet Tüketici Bilgileri
B2: EK-20: TÜKETİCİ SAYISI DETAY TABLOSU
C4: Birim | D4: 42004 | E4: 42369 | F4: 42735 | G4: 43100 | H4: 43465
B5: Faaliyette Bulunulan Alan | C5: km2
B6: Dağıtım Bölgesindeki Potansiyel Tüketici Adedi (Kümülatif) | C6: Adet | D6: =D7+D8 -> 0 | E6: =E7+E8 -> 0 | F6: =F7+F8 -> 0 | G6: =G7+G8 -> 0 | H6: =H7+H8 -> 0
B7: - Konut (Daire bazında) | C7: Adet
B8: - Konut Harici (İşyeri bazında) | C8: Adet
B9: Şebekenin Ulaştığı Potansiyel Tüketici Adedi (Kümülatif) | C9: Adet | D9: =D10+D11 -> 0 | E9: =E10+E11 -> 0 | F9: =F10+F11 -> 0 | G9: =G10+G11 -> 0 | H9: =H10+H11 -> 0
B10: - Konut (Daire bazında) | C10: Adet
B11: - Konut Harici (İşyeri bazında) | C11: Adet
B13: Servis Hattı Yapım Adedi (Kümülatif) | C13: Adet
B14: Tesis Edilen Servis Hatlarının Toplam Uzunluğu (Kümülatif) | C14: Metre
B15: Servis Hatları Toplam Maliyeti (Malzeme ve İşçilik Dahil Toplam Yapım Maliyeti) (KDV Hariç) | C15: TL
B17: Servis Hattıyla Ulaşılan Potansiyel Tüketici Adedi (Kümülatif) | C17: Adet | D17: =D18+D19 -> 0 | E17: =E18+E19 -> 0 | F17: =F18+F19 -> 0 | G17: =G18+G19 -> 0 | H17: =H18+H19 -> 0
B18: - Konut (Daire bazında) | C18: Adet
B19: - Konut Harici (İşyeri bazında) | C19: Adet
B20: Servis Hattıyla Ulaşılan Potansiyel Tüketici (Kümülatif) | C20: BBS | D20: =D21+D22 -> 0 | E20: =E21+E22 -> 0 | F20: =F21+F22 -> 0 | G20: =G21+G22 -> 0 | H20: =H21+H22 -> 0
B21: - Konut (Daire bazında) | C21: BBS
B22: - Konut Harici (İşyeri bazında) | C22: BBS
B24: Bağlantı Sözleşmesi Yapılan Tüketici Adedi (Kümülatif) (Servis Hattıyla Bağlanan - Bağlantı Bedelini BBS üzerinden ödeyen tüketiciler) | C24: Adet | D24: =SUM(D25:D28) -> 0 | E24: =SUM(E25:E28) -> 0 | F24: =SUM(F25:F28) -> 0 | G24: =SUM(G25:G28) -> 0 | H24: =SUM(H25:H28) -> 0
B25: - Konut Bireysel (Merkezi sistem ile ısınmayan) | C25: Adet
B26: - Konut Merkezi | C26: Adet
B27: - Konut Harici Bireysel (Merkezi sistem ile ısınmayan) | C27: Adet
B28: - Konut Harici Merkezi | C28: Adet
B29: Bağlantı Sözleşmesi Yapılan Tüketici (Kümülatif) (Servis Hattıyla Bağlanan - Bağlantı Bedelini BBS üzerinden ödeyen tüketiciler) | C29: BBS | D29: =SUM(D30:D33) -> 0 | E29: =SUM(E30:E33) -> 0 | F29: =SUM(F30:F33) -> 0 | G29: =SUM(G30:G33) -> 0 | H29: =SUM(H30:H33) -> 0
B30: - Konut Bireysel (Merkezi sistem ile ısınmayan) | C30: BBS
B31: - Konut Merkezi | C31: BBS
B32: - Konut Harici Bireysel (Merkezi sistem ile ısınmayan) | C32: BBS
B33: - Konut Harici Merkezi | C33: BBS
B34: Bağlantısı Yapılmış Merkezi Sistem Adedi (Kümülatif) | C34: Adet
B36: İç Tesisat Onayı Yapılan Tüketici Adedi (Kümülatif) | C36: Adet
B37: Gaz Kullanım Sözleşmesi İmzalayan Tüketici Adedi (Kümülatif) | C37: Adet
B38: Gazı Açılan Tüketici Adedi (Yıl içinde gazı ilk kez açılan tüketici) | C38: Adet
B39: Yıl İçinde En Az Bir Kez Fatura Kesilen Tüketici Adedi | C39: Adet
B40: Gaz Verilen Bina Adedi (İçinde en az bir abone bulunan) (Kümülatif) | C40: Adet
B42: Dağıtım Bölgesi Su Abone Sayısı (Kümülatif) | C42: Adet

Sheet Yatırımlar
B2: EK-21/A1: YATIRIMLAR
B4: YATIRIM GİDERLERİ (TL)
D5: 43465
B6: ŞEBEKE UNSURLARI | C6: Birim | D6: Miktar | E6: Birim Malzeme Giderleri (TL/Birim) | F6: Birim İnşaat ve İşçilik Giderleri (TL/Birim) | G6: Toplam Yatırım Giderleri (TL)
B7: TOPLAM YATIRIM TUTARI | G7: =G8+G104+G134+C164 -> 0
B8: 1. DAĞITIM ŞEBEKESİ | G8: =G9+G30+G51+G72+G73+G88 -> 0
B9: 1.1. Dağıtım Hatları | G9: =G10+G23 -> 0
B10: 1.1.1. Çelik Hatlar | G10: =SUM(G11:G22) -> 0
B11: 1-2" | C11: metre | G11: =D11*(E11+F11) -> 0
B12: 3-4" | C12: metre | G12: =D12*(E12+F12) -> 0
B13: 5-6" | C13: metre | G13: =D13*(E13+F13) -> 0
B14: 7-8" | C14: metre | G14: =D14*(E14+F14) -> 0
B15: 9-10" | C15: metre | G15: =D15*(E15+F15) -> 0
B16: 11-12" | C16: metre | G16: =D16*(E16+F16) -> 0
B17: 13-14" | C17: metre | G17: =D17*(E17+F17) -> 0
B18: 15-16" | C18: metre | G18: =D18*(E18+F18) -> 0
B19: 17-20" | C19: metre | G19: =D19*(E19+F19) -> 0
B20: 21-24" | C20: metre | G20: =D20*(E20+F20) -> 0
B21: 25-28" | C21: metre | G21: =D21*(E21+F21) -> 0
B22: 28" üzeri | C22: metre | G22: =D22*(E22+F22) -> 0
B23: 1.1.2. Polietilen Hatlar | G23: =SUM(G24:G29) -> 0
B24: ND 0-40 mm | C24: metre | G24: =D24*(E24+F24) -> 0
B25: ND 63 mm | C25: metre | G25: =D25*(E25+F25) -> 0
B26: ND 90 mm | C26: metre | G26: =D26*(E26+F26) -> 0
B27: ND 110 mm | C27: metre | G27: =D27*(E27+F27) -> 0
B28: ND 125 mm | C28: metre | G28: =D28*(E28+F28) -> 0
B29: ND 125 mm üzeri | C29: metre | G29: =D29*(E29+F29) -> 0
B30: 1.2. Özel Geçiş Dağıtım Hatları | G30: =G31+G44 -> 0
B31: 1.2.1. ÖG Çelik Hatlar | G31: =SUM(G32:G43) -> 0
B32: 1-2" | C32: metre | G32: =D32*(E32+F32) -> 0
B33: 3-4" | C33: metre | G33: =D33*(E33+F33) -> 0
B34: 5-6" | C34: metre | G34: =D34*(E34+F34) -> 0
B35: 7-8" | C35: metre | G35: =D35*(E35+F35) -> 0
B36: 9-10" | C36: metre | G36: =D36*(E36+F36) -> 0
B37: 11-12" | C37: metre | G37: =D37*(E37+F37) -> 0
B38: 13-14" | C38: metre | G38: =D38*(E38+F38) -> 0
B39: 15-16" | C39: metre | G39: =D39*(E39+F39) -> 0
B40: 17-20" | C40: metre | G40: =D40*(E40+F40) -> 0
B41: 21-24" | C41: metre | G41: =D41*(E41+F41) -> 0
B42: 25-28" | C42: metre | G42: =D42*(E42+F42) -> 0
B43: 28" üzeri | C43: metre | G43: =D43*(E43+F43) -> 0
B44: 1.2.2. ÖG Polietilen Hatlar | G44: =SUM(G45:G50) -> 0
B45: ND 0-40 mm | C45: metre | G45: =D45*(E45+F45) -> 0
B46: ND 63 mm | C46: metre | G46: =D46*(E46+F46) -> 0
B47: ND 90 mm | C47: metre | G47: =D47*(E47+F47) -> 0
B48: ND 110 mm | C48: metre | G48: =D48*(E48+F48) -> 0
B49: ND 125 mm | C49: metre | G49: =D49*(E49+F49) -> 0
B50: ND 125 mm üzeri | C50: metre | G50: =D50*(E50+F50) -> 0
B51: 1.3. Hat Vanaları ve Vana Odaları | G51: =G52+G65 -> 0
B52: 1.3.1. Çelik Vanalar | G52: =SUM(G53:G64) -> 0
B53: 1-2" | C53: adet | G53: =D53*(E53+F53) -> 0
B54: 3-4" | C54: adet | G54: =D54*(E54+F54) -> 0
B55: 5-6" | C55: adet | G55: =D55*(E55+F55) -> 0
B56: 7-8" | C56: adet | G56: =D56*(E56+F56) -> 0
B57: 9-10" | C57: adet | G57: =D57*(E57+F57) -> 0
B58: 11-12" | C58: adet | G58: =D58*(E58+F58) -> 0
B59: 13-14" | C59: adet | G59: =D59*(E59+F59) -> 0
B60: 15-16" | C60: adet | G60: =D60*(E60+F60) -> 0
B61: 17-20" | C61: adet | G61: =D61*(E61+F61) -> 0
B62: 21-24" | C62: adet | G62: =D62*(E62+F62) -> 0
B63: 25-28" | C63: adet | G63: =D63*(E63+F63) -> 0
B64: 28" üzeri | C64: adet | G64: =D64*(E64+F64) -> 0
B65: 1.3.2. Polietilen Vanalar | G65: =SUM(G66:G71) -> 0
B66: ND 0-40 mm | C66: adet | G66: =D66*(E66+F66) -> 0
B67: ND 63 mm | C67: adet | G67: =D67*(E67+F67) -> 0
B68: ND 90 mm | C68: adet | G68: =D68*(E68+F68) -> 0
B69: ND 110 mm | C69: adet | G69: =D69*(E69+F69) -> 0
B70: ND 125 mm | C70: adet | G70: =D70*(E70+F70) -> 0
B71: ND 125 mm üzeri | C71: adet | G71: =D71*(E71+F71) -> 0
B72: 1.4. Canlı (Hot-tap) Operasyon Gideri | C72: TL
B73: 1.5. Şehir Giriş İstasyonları | G73: =G74+G87 -> 0
B74: 1.5.1. İlk Yatırım (İstasyon Kapasitesine Göre) | G74: =SUM(G75:G86) -> 0
B75: İstasyon 1 (Kapasite:………..m3/h) | C75: adet | G75: =D75*(E75+F75) -> 0
B76: İstasyon 2 (Kapasite:………. m3/h) | C76: adet | G76: =D76*(E76+F76) -> 0
B77: İstasyon 3 (Kapasite:………..m3/h) | C77: adet | G77: =D77*(E77+F77) -> 0
B78: İstasyon 4 (Kapasite:………. m3/h) | C78: adet | G78: =D78*(E78+F78) -> 0
B79: İstasyon 5 (Kapasite:………..m3/h) | C79: adet | G79: =D79*(E79+F79) -> 0
B80: İstasyon 6 (Kapasite:………. m3/h) | C80: adet | G80: =D80*(E80+F80) -> 0
B81: İstasyon 7 (Kapasite:………..m3/h) | C81: adet | G81: =D81*(E81+F81) -> 0
B82: İstasyon 8 (Kapasite:………. m3/h) | C82: adet | G82: =D82*(E82+F82) -> 0
B83: İstasyon 9 (Kapasite:………. m3/h) | C83: adet | G83: =D83*(E83+F83) -> 0
B84: İstasyon 10 (Kapasite:………. m3/h) | C84: adet | G84: =D84*(E84+F84) -> 0
B85: … | C85: adet | G85: =D85*(E85+F85) -> 0
B86: … | C86: adet | G86: =D86*(E86+F86) -> 0
B87: 1.5.2. İlave Yatırım | C87: TL
B88: 1.6. Şehir içi Bölge İstasyonları | G88: =G89+G102 -> 0
B89: 1.6.1. İlk Yatırım (İstasyon Kapasitesine Göre) | G89: =SUM(G90:G101) -> 0
B90: BR 1 (Kapasite:………..m3/h) | C90: adet | G90: =D90*(E90+F90) -> 0
B91: BR 2 (Kapasite:………. m3/h) | C91: adet | G91: =D91*(E91+F91) -> 0
B92: BR 3 (Kapasite:………..m3/h) | C92: adet | G92: =D92*(E92+F92) -> 0
B93: BR 4 (Kapasite:………. m3/h) | C93: adet | G93: =D93*(E93+F93) -> 0
B94: BR 5 (Kapasite:………..m3/h) | C94: adet | G94: =D94*(E94+F94) -> 0
B95: BR 6 (Kapasite:………. m3/h) | C95: adet | G95: =D95*(E95+F95) -> 0
B96: BR 7 (Kapasite:………..m3/h) | C96: adet | G96: =D96*(E96+F96) -> 0
B97: BR 8 (Kapasite:………. m3/h) | C97: adet | G97: =D97*(E97+F97) -> 0
B98: BR 9 (Kapasite:………. m3/h) | C98: adet | G98: =D98*(E98+F98) -> 0
B99: BR 10 (Kapasite:………. m3/h) | C99: adet | G99: =D99*(E99+F99) -> 0
B100: … | C100: adet | G100: =D100*(E100+F100) -> 0
B101: … | C101: adet | G101: =D101*(E101+F101) -> 0
B102: 1.6.2. İlave Yatırım | C102: TL
...

Sheet Servis Hatları
B2: EK-21/A2: SERVİS HATLARI
B4: YATIRIM GİDERLERİ (TL)
D5: 43465
C6: Birim | D6: Miktar | E6: Birim Malzeme Giderleri (TL/Birim) | F6: Birim İnşaat ve İşçilik Giderleri (TL/Birim) | G6: Toplam Yatırım Giderleri (TL)
B7: TOPLAM YATIRIM TUTARI | G7: =SUM(G8,G9,G10,C29) -> 0
B8: 1. Servis Hattı | C8: metre | G8: =D8*(E8+F8) -> 0
B9: 2. Servis Kutusu | C9: adet | G9: =D9*(E9+F9) -> 0
B10: 3. Sayaçlar | G10: =SUM(G11,G19) -> 0
B11: 3.1. Mekanik | G11: =SUM(G12:G18) -> 0
B12: G4 Mekanik | C12: adet | G12: =D12*(E12+F12) -> 0
B13: G6 Mekanik | C13: adet | G13: =D13*(E13+F13) -> 0
B14: G10 Mekanik | C14: adet | G14: =D14*(E14+F14) -> 0
B15: G16 Mekanik | C15: adet | G15: =D15*(E15+F15) -> 0
B16: G25 Mekanik | C16: adet | G16: =D16*(E16+F16) -> 0
B17: G40 Mekanik | C17: adet | G17: =D17*(E17+F17) -> 0
B18: G40 Üzeri Mekanik | C18: adet | G18: =D18*(E18+F18) -> 0
B19: 3.2. Elektronik (Ön Ödemeli Modül Sistemi Dahil) | G19: =SUM(G20:G26) -> 0
B20: G4 Elektronik | C20: adet | G20: =D20*(E20+F20) -> 0
B21: G6 Elektronik | C21: adet | G21: =D21*(E21+F21) -> 0
B22: G10 Elektronik | C22: adet | G22: =D22*(E22+F22) -> 0
B23: G16 Elektronik | C23: adet | G23: =D23*(E23+F23) -> 0
B24: G25 Elektronik | C24: adet | G24: =D24*(E24+F24) -> 0
B25: G40 Elektronik | C25: adet | G25: =D25*(E25+F25) -> 0
B26: G40 Üzeri Elektronik | C26: adet | G26: =D26*(E26+F26) -> 0
C28: 43465
B29: 4. DİĞER YATIRIMLAR | C29: =SUM(C30,C37) -> 0
B30: 4.1. Üst Kaplama Giderleri | C30: =C31+C32 -> 0
B31: 4.1.1. Belediye Üst Kaplama Giderleri
B32: 4.1.2. Alt Yüklenici Üst Kaplama Giderleri | C32: =SUM(C33:C36) -> 0
B33: 4.1.2.1. Asfalt Kaplama
B34: 4.1.2.2. Beton Kaplama
B35: 4.1.2.3. Parke Kaplama
B36: 4.1.2.4. Diğer Kaplama
B37: 4.2. Haritalama ve Coğrafi Bilgi Sistemleri | C37: =SUM(C38:C38) -> 0
B38: 4.2.1. Uygulama (As-Built) Yatırımları

Sheet Münferit Hatlar
B2: EK-21/A3: MÜNFERİT HATLAR
B4: YATIRIM GİDERLERİ (TL)
D5: 43465
C6: Birim | D6: Miktar | E6: Birim Malzeme Giderleri (TL/Birim) | F6: Birim İnşaat ve İşçilik Giderleri (TL/Birim) | G6: Toplam Yatırım Giderleri (TL)
B7: TOPLAM YATIRIM TUTARI | G7: =SUM(G8,G29,G32,C37) -> 0
B8: 1. HATLAR | G8: =G9+G22 -> 0
B9: 1.1. Çelik Hatlar | G9: =SUM(G10:G21) -> 0
B10: 1-2" | C10: metre | G10: =D10*(E10+F10) -> 0
B11: 3-4" | C11: metre | G11: =D11*(E11+F11) -> 0
B12: 5-6" | C12: metre | G12: =D12*(E12+F12) -> 0
B13: 7-8" | C13: metre | G13: =D13*(E13+F13) -> 0
B14: 9-10" | C14: metre | G14: =D14*(E14+F14) -> 0
B15: 11-12" | C15: metre | G15: =D15*(E15+F15) -> 0
B16: 13-14" | C16: metre | G16: =D16*(E16+F16) -> 0
B17: 15-16" | C17: metre | G17: =D17*(E17+F17) -> 0
B18: 17-20" | C18: metre | G18: =D18*(E18+F18) -> 0
B19: 21-24" | C19: metre | G19: =D19*(E19+F19) -> 0
B20: 25-28" | C20: metre | G20: =D20*(E20+F20) -> 0
B21: 28" üzeri | C21: metre | G21: =D21*(E21+F21) -> 0
B22: 1.2. Polietilen Hatlar | G22: =SUM(G23:G28) -> 0
B23: ND 0-40 mm | C23: metre | G23: =D23*(E23+F23) -> 0
B24: ND 63 mm | C24: metre | G24: =D24*(E24+F24) -> 0
B25: ND 90 mm | C25: metre | G25: =D25*(E25+F25) -> 0
B26: ND 110 mm | C26: metre | G26: =D26*(E26+F26) -> 0
B27: ND 125 mm | C27: metre | G27: =D27*(E27+F27) -> 0
B28: ND 125 mm üzeri | C28: metre | G28: =D28*(E28+F28) -> 0
B29: 2. İSTASYONLAR | G29: =SUM(G30:G31) -> 0
B30: 2.1. Müşteri İstasyonu | C30: adet | G30: =D30*(E30+F30) -> 0
B31: 2.2. Müşteri Servis Kutusu | C31: adet | G31: =D31*(E31+F31) -> 0
B32: 3. SAYAÇLAR | G32: =SUM(G33:G34) -> 0
B33: 3.1. Sayaçlar | C33: adet | G33: =D33*(E33+F33) -> 0
B34: 3.2. Hacim Düzelticiler | C34: adet | G34: =D34*(E34+F34) -> 0
C36: 43465
B37: 4. DİĞER YATIRIMLAR | C37: =SUM(C38:C43) -> 0
B38: 4.1. Kazı, Ruhsat, Harç Giderleri
B39: 4.2. Kamulaştırma
B40: 4.3. Üst Kaplama Giderleri
B41: 4.4. Katodik Koruma Sistemi
B42: 4.5. SCADA Yatırımları
B43: 4.6. Haritalama ve Coğrafi Bilgi Sistemleri | C43: =SUM(C44:C45) -> 0
B44: 4.6.1. Uygulama (As-Built) Yatırımları
B45: 4.6.2. Etüt ve Proje Giderleri

Sheet Planlanan Yatırımlar
B2: EK-21/C: PLANLANAN YATIRIMLAR
C4: 2019 | E4: 2020 | G4: 2021
B5: YATIRIM KALEMLERİ | C5: Miktar | D5: Tutar | E5: Miktar | F5: Tutar | G5: Miktar | H5: Tutar
B6: 1. Dağıtım Hatları | D6: =D7+D8 -> 0 | F6: =F7+F8 -> 0 | H6: =H7+H8 -> 0
B7: 1.1. Çelik Hatlar (metre)
B8: 1.2. Polietilen Hatlar (metre)
B9: 2. Hat Vanaları ve Vana Odaları | D9: =D10+D11 -> 0 | F9: =F10+F11 -> 0 | H9: =H10+H11 -> 0
B10: 2.1. Çelik Vanalar (adet)
B11: 2.2. Polietilen Vanalar (adet)
B12: 3. Şehir Giriş İstasyonu (adet)
B13: 4. Şehir İçi Bölge İstasyonu (adet)
B14: 5. Şehir Besleme Hatları
B15: 6. Servis Hattı Maliyeti (Sayaçlar Dahil)
B16: 7. Kazı, Ruhsat, Harç Maliyetleri
B17: 8. Kamulaştırma Maliyetleri
B18: 9. Üst Kaplama Maliyetleri
B19: 10. Kontrol Şirketi Maliyetleri
B20: 11. Katodik Koruma Maliyetleri
B21: 12. SCADA Yatırımları
... B25: 16. LNG Yatırımları
B26: TOPLAM | D26: =SUM(D6,D9,D12:D25) -> 0 | F26: =SUM(F6,F9,F12:F25) -> 0 | H26: =SUM(H6,H9,H12:H25) -> 0

Sheet İstasyon Bilgileri
B2: EK-21/D: İSTASYON BİLGİLERİ | M2: Evet
M3: Hayır
C4: Teknik Özellikler | G4: Edinme Tarihi | H4: Edinme Türü | I4: Yatırım Tutarı (TL) | M4: Devir
C5: Kapasite (m3/h) | D5: Giriş Basıncı (bar) | E5: Çıkış Basıncı (bar) | F5: Dağıtım Şirketi Isıtma Gazı Giderine Katlanıyor Mu? | I5: 2018 | M5: Yatırım
I6: İlk Yatırım | J6: İlave Yatırım
B7: 1. Şehir Giriş İstasyonları
B8: İstasyon 1
B9: İstasyon 2
B10: İstasyon 3
B11: İstasyon 4
B12: İstasyon 5
B13: …
B15: 2. Müşteri İstasyonları
B16: İstasyon 1
B17: İstasyon 2
B18: İstasyon 3
B19: İstasyon 4
... B21: …

Sheet Deplase Hatlar
B2: EK-21/E: DEPLASE HATLAR
B4: Deplase Hatlar | E4: Deplase Hat Uzunluğu (metre) | G4: Deplase Hat Maliyeti (TL) | J4: Tahsil Edilen Tutar (TL)
B5: Deplase No | C5: Açıklama | D5: Yıl | E5: Çelik | F5: PE | G5: Çelik (malzeme+işçilik) | H5: PE (malzeme+işçilik) | I5: İşçilik Maliyeti (sadece demontaj)

Sheet Sayaç Bilgileri
B2: EK-21/F: SAYAÇ BİLGİLERİ
B4: Sayaç Türü | C4: Şebekede Kurulu Sayaçlar | L4: Stok Hareketi | T4: Hurda
C5: Dönem Başı | D5: Takılan | H5: Sökülen | K5: Dönem Sonu | L5: Dönem Başı | M5: Stoka Alınan | P5: Stoktan Çıkartılan | S5: Dönem Sonu | T5: 14 Yaşını Doldurmamış | U5: 14 Yaşını Doldurmuş, 20 Yaşını Doldurmamış | V5: 20 Yaşını Doldurmuş
D6: Yeni | G6: Kullanılmış | H6: Damga Süresinin Dolması | I6: Müşteri Talebi | J6: Diğer
D7: Yatırım Tavanı Kapsamında | E7: Abone Bağlantı Bedeli Kapsamında | F7: Diğer | M7: Satın Alınan | N7: Muayeneden Gelen | O7: Sökülerek Doğrudan Stoka Alınan | P7: Takılan | Q7: Stoktan Doğrudan Satış | R7: Diğer
B8: G4 Mekanik | K8: =C8+SUM(D8:G8)-SUM(H8:J8) -> 0 | P8: =SUM(D8:G8) -> 0 | S8: =L8+(M8+N8+O8)-(P8+Q8+R8) -> 0
B9: G6 Mekanik | K9: =C9+SUM(D9:G9)-SUM(H9:J9) -> 0 | P9: =SUM(D9:G9) -> 0 | S9: =L9+M9+N9+O9-P9-Q9-R9 -> 0
B10: G10 Mekanik | K10: =C10+SUM(D10:G10)-SUM(H10:J10) -> 0 | P10: =SUM(D10:G10) -> 0 | S10: =L10+M10+N10+O10-P10-Q10-R10 -> 0
B11: G16 Mekanik | K11: =C11+SUM(D11:G11)-SUM(H11:J11) -> 0 | P11: =SUM(D11:G11) -> 0 | S11: =L11+M11+N11+O11-P11-Q11-R11 -> 0
B12: G25 Mekanik | K12: =C12+SUM(D12:G12)-SUM(H12:J12) -> 0 | P12: =SUM(D12:G12) -> 0 | S12: =L12+M12+N12+O12-P12-Q12-R12 -> 0
B13: G40 Mekanik | K13: =C13+SUM(D13:G13)-SUM(H13:J13) -> 0 | P13: =SUM(D13:G13) -> 0 | S13: =L13+M13+N13+O13-P13-Q13-R13 -> 0
B14: G65 Mekanik | K14: =C14+SUM(D14:G14)-SUM(H14:J14) -> 0 | P14: =SUM(D14:G14) -> 0 | S14: =L14+M14+N14+O14-P14-Q14-R14 -> 0
B15: G100 Mekanik | K15: =C15+SUM(D15:G15)-SUM(H15:J15) -> 0 | P15: =SUM(D15:G15) -> 0 | S15: =L15+M15+N15+O15-P15-Q15-R15 -> 0
B16: G160 Mekanik | K16: =C16+SUM(D16:G16)-SUM(H16:J16) -> 0 | P16: =SUM(D16:G16) -> 0 | S16: =L16+M16+N16+O16-P16-Q16-R16 -> 0
B17: G250 Mekanik | K17: =C17+SUM(D17:G17)-SUM(H17:J17) -> 0 | P17: =SUM(D17:G17) -> 0 | S17: =L17+M17+N17+O17-P17-Q17-R17 -> 0
B18: G400 Mekanik | K18: =C18+SUM(D18:G18)-SUM(H18:J18) -> 0 | P18: =SUM(D18:G18) -> 0 | S18: =L18+M18+N18+O18-P18-Q18-R18 -> 0
B19: G650 Mekanik | K19: =C19+SUM(D19:G19)-SUM(H19:J19) -> 0 | P19: =SUM(D19:G19) -> 0 | S19: =L19+M19+N19+O19-P19-Q19-R19 -> 0
B20: G1000 Mekanik | K20: =C20+SUM(D20:G20)-SUM(H20:J20) -> 0 | P20: =SUM(D20:G20) -> 0 | S20: =L20+M20+N20+O20-P20-Q20-R20 -> 0
... B35: G1000 Üzeri Elektronik | K35: =C35+SUM(D35:G35)-SUM(H35:J35) -> 0 | P35: =SUM(D35:G35) -> 0 | S35: =L35+M35+N35+O35-P35-Q35-R35 -> 0

Sheet Hakedişler
M1: İhale Usulü
B2: EK-22/A: HAKEDİŞLER | M2: Teklif Usulü
M3: Pazarlık Usulü
B4: Sıra No | C4: Hakediş Tarihi | D4: Hakediş | E4: Yüklenici | F4: Tutar | G4: Bölge | H4: Usul | I4: Açıklama | M4: Diğer (Açıklamada belirtiniz)
B5: 1
B6: 2
B7: 3
B8: 4
B9: 5
B10: 6
B11: 7
B12: 8
B13: 9
B14: 10
B15: 11
B16: 12
... B24: 20
B25: …

Sheet Hakediş Metrajları
B2: EK-22/B: HAKEDİŞ METRAJ DETAYI
B4: Sıra No | C4: Hakediş Tarihi | D4: Hakediş | E4: Yüklenici | F4: Yatırım Yılı | G4: Tip | H4: Metraj
B5: 1
B6: 2
B7: 3
B8: 4
B9: 5
B10: 6
B11: 7
B12: 8
B13: 9
B14: 10
B15: 11
B16: 12
... B24: 20
B25: …

Sheet Kaplama Detayları
N1: Parke
B2: EK-22/C: KAPLAMA DETAYLARI | L2: 2017 | M2: Belediye | N2: Beton
L3: 2018 | M3: Alt Yüklenici | N3: Asfalt
B4: Sıra No | C4: Kaplama Türü | D4: Yapan Taraf | E4: Yıl | F4: Birim | G4: Miktar | H4: Tutar (TL) | N4: Diğer
B5: 1 | F5: =IF(C5="Beton","m3",IF(C5="Asfalt","m2",IF(C5="Parke","m2",IF(C5="Diğer","m2",""))))
B6: 2 | F6: =IF(C6="Beton","m3",IF(C6="Asfalt","m2",IF(C6="Parke","m2",IF(C6="Diğer","m2",""))))
B7: 3 | F7: =IF(C7="Beton","m3",IF(C7="Asfalt","m2",IF(C7="Parke","m2",IF(C7="Diğer","m2",""))))
B8: 4 | F8: =IF(C8="Beton","m3",IF(C8="Asfalt","m2",IF(C8="Parke","m2",IF(C8="Diğer","m2",""))))
B9: 5 | F9: =IF(C9="Beton","m3",IF(C9="Asfalt","m2",IF(C9="Parke","m2",IF(C9="Diğer","m2",""))))
B10: 6 | F10: =IF(C10="Beton","m3",IF(C10="Asfalt","m2",IF(C10="Parke","m2",IF(C10="Diğer","m2",""))))
B11: 7 | F11: =IF(C11="Beton","m3",IF(C11="Asfalt","m2",IF(C11="Parke","m2",IF(C11="Diğer","m2",""))))
B12: 8 | F12: =IF(C12="Beton","m3",IF(C12="Asfalt","m2",IF(C12="Parke","m2",IF(C12="Diğer","m2",""))))
B13: 9 | F13: =IF(C13="Beton","m3",IF(C13="Asfalt","m2",IF(C13="Parke","m2",IF(C13="Diğer","m2",""))))
B14: 10 | F14: =IF(C14="Beton","m3",IF(C14="Asfalt","m2",IF(C14="Parke","m2",IF(C14="Diğer","m2",""))))
B15: 11 | F15: =IF(C15="Beton","m3",IF(C15="Asfalt","m2",IF(C15="Parke","m2",IF(C15="Diğer","m2",""))))
B16: 12 | F16: =IF(C16="Beton","m3",IF(C16="Asfalt","m2",IF(C16="Parke","m2",IF(C16="Diğer","m2",""))))
... B54: 50 | F54: =IF(C54="Beton","m3",IF(C54="Asfalt","m2",IF(C54="Parke","m2",IF(C54="Diğer","m2",""))))
B55: … | F55: =IF(C55="Beton","m3",IF(C55="Asfalt","m2",IF(C55="Parke","m2",IF(C55="Diğer","m2",""))))

Sheet ŞHV
B2: EK-23: ŞEBEKE HARİCİ VARLIKLAR
B4: GAYRİMENKULLER | C4: MEVKİ | D4: BRÜT ALAN | E4: EDİNME YILI | F4: EDİNİM BEDELİ | G4: KULLANIM AMACI
B5: Gayrimenkul-1
B6: Gayrimenkul-2
B7: Gayrimenkul-3
B8: …
B10: TAŞITLAR | C10: PLAKA | D10: MARKA / MODEL | E10: EDİNME YILI | F10: EDİNİM BEDELİ | G10: KULLANIM AMACI | H10: ORTALAMA YILLIK KM
B11: Taşıt-1
B12: Taşıt-2
B13: Taşıt-3
B14: …
B16: YAZILIM TANIMI | C16: EDİNME YILI | D16: EDİNİM BEDELİ | E16: KULLANIM AMACI
B17: Yazılım - 1
B18: Yazılım - 2
B19: Yazılım - 3
B20: Yazılım - 4
B21: …

Sheet Faaliyet Gelirleri
B2: EK-24/A: FAALİYET GELİRLERİ
B4: DÖNEMSEL GELİR TABLOSU (TL) (KDV Hariç)
C6: 43465
B7: TOPLAM GELİRLER | C7: =C8+C15+SUM(C20:C26)+C29+C30 -> 0
B8: 1. Sistem Kullanım Gelirleri | C8: =SUM(C9:C14) -> 0
B9: 1.1. 0 - 10.000 Sm3
B10: 1.2. 10.001 - 100.000 Sm3
B11: 1.3. 100.001 - 1.000.000 Sm3
B12: 1.4. 1.000.001 - 10.000.000 Sm3
B13: 1.5. 10.000.001 - 100.000.000 Sm3
B14: 1.6. 100.000.001 Sm3 ve Üzeri
B15: 2. Bağlantı Gelirleri | C15: =C16+C17 -> 0
B16: 2.1. BBS Esaslı Bağlantı Gelirleri
B17: 2.2. Diğer Bağlantı Gelirleri | C17: =C18+C19 -> 0
B18: a. Bağlantı Hattının Dağıtım Şirketince Yapılması
B19: b. Bağlantı Hattının Sertifikalıya Yaptırılması
B20: 3. İç Tesisat İşlem Gelirleri
B21: 4. Sertifika Hizmet Gelirleri
B22: 5. Sayaç Açma Kapama Gelirleri
B23: 6. Deplase Hat Gelirleri
B24: 7. Hasar Gelirleri
B25: 8. Usulsüz Gaz Kullanım Bedeli
B26: 9. Kaçak Gaz Kullanım Bedeli | C26: =C27+C28 -> 0
B27: 9.1. Kaçak Gaz Tüketim Bedeli
B28: 9.2. Kaçak Gaz Ceza Bedeli
B29: 10. Gecikme Gelirleri
B30: 11. Diğer Gelirler | C30: =SUM(C31:C35)+SUM(C38:C56) -> 0
B31: 11.1. Kira Gelirleri
B32: 11.2. Hot-Tap Operasyon Gelirleri
B33: 11.3. Şartname Satış Gelirleri
B34: 11.4. Diğer Hizmet Gelirleri
B35: 11.5. Duran Varlık Satış Gelirleri | C35: =C36+C37 -> 0
B36: 11.5.1. Şebeke Varlık Satış Gelirleri
B37: 11.5.2. Şebeke Harici Varlık Satış Gelirleri
B38: 11.6. Hurda Satış Gelirleri
B39: 11.7. Sigorta Tazmin Gelirleri
B40: 11.8. Sayaç Tamir Gelirleri
B41: 11.9. Reklam Gelirleri
B42: 11.10. İlk Madde ve Malzeme Satış Gelirleri
B43: 11.11. Yan Hizmet Gelirleri
B44: 11.12. Ön Ödemeli Sayaç Değişim Gelirleri
B45: 11.13. Ölçüm Ekipmanı Muayene Gelirleri
B46: 11.14. Kalibrasyon Gelirleri
B47: …
... B56: …

Sheet Faaliyet Geliri Mizan Karşılığı
B2: EK-24/B: FAALİYET GELİRLERİ - MİZAN KARŞILIĞI
B4: Faaliyet Gelirleri - Ana Kalem | C4: Faaliyet Geliri Detayı | D4: 2018
D5: Hesap No | E5: Hesap Adı | F5: Tutar
B6: 1. Sistem Kullanım Gelirleri
B7: 2. Bağlantı Gelirleri | F7: =F9+F11 -> 0
C8: 2.1. BBS Esaslı Bağlantı Gelirleri
C9: Toplam
C10: 2.2. Diğer Bağlantı Gelirleri
C11: Toplam
B12: 3. İç Tesisat İşlem Gelirleri
B13: 4. Sertifika Hizmet Gelirleri
B14: 5. Sayaç Açma Kapama Gelirleri
B15: 6. Deplase Hat Gelirleri
B16: 7. Hasar Gelirleri
B17: 8. Usulsüz Gaz Kullanım Bedeli
B18: 9. Kaçak Gaz Kullanım Bedeli
B19: 10. Gecikme Gelirleri
B20: 11. Diğer Gelirler | F20: =F22+F24+F26+F28+F30+F32+F34+F36+F38+F40+F42+F44+F46+F48+F50 -> 0
C21: 11.1. Kira Gelirleri
C22: Toplam
C23: 11.2. Hot-Tap Operasyon Gelirleri
C24: Toplam
C25: 11.3. Şartname Satış Gelirleri
C26: Toplam
C27: 11.4. Diğer Hizmet Gelirleri
C28: Toplam
C29: 11.5. Duran Varlık Satış Gelirleri
C30: Toplam
C31: 11.6. Hurda Satış Gelirleri
C32: Toplam
... C50: Toplam

Sheet Güvence Bedeli
B2: EK-25: GÜVENCE BEDELİ AKIŞ TABLOSU
B4: TAHSİL EDİLEN GÜVENCE BEDELLERİ (TL) | C4: 2018
B5: 1. İlgili Yıl Başı İtibariyle Tahsil Edilmiş Güvence Bedeli Toplamı (Enflasyon Hariç) | C5: =SUM(C6:C7) -> 0
B6: 1.1. Abone
B7: 1.2. Diğer Müşteriler
B8: 2. İlgili Yıl Başı İtibariyle Tahsil Edilmiş Güvence Bedellerinin Dönem Başı İtibariyle Enflasyon Farkı Toplamı | C8: =SUM(C9:C10) -> 0
B9: 2.1. Abone
B10: 2.2. Diğer Müşteriler
B11: 3. İlgili Yıl İçinde Tahsil Edilen Güvence Bedeli Tutarı | C11: =SUM(C12:C13) -> 0
B12: 3.1. Abone
B13: 3.2. Diğer Müşteriler
B14: 4. İlgili Yıl İçinde Abonelik Sonlandırması Sebebiyle Ödenen Güvence Bedellerinin Anapara Toplamı | C14: =SUM(C15:C16) -> 0
B15: 4.1. Abone
B16: 4.2. Diğer Müşteriler
B17: 5. İlgili Yıl İçinde Abonelik Sonlandırması Sebebiyle Ödenen Güvence Bedellerinin Enflasyon Farkı Toplamı | C17: =SUM(C18:C19) -> 0
B18: 5.1. Abone
B19: 5.2. Diğer Müşteriler

Sheet Varlık Satışı
B2: EK-26: VARLIK SATIŞI
B4: A- ŞEBEKE VARLIK SATIŞLARI (2018)
B5: Varlık Adı | C5: Edinme Tarihi (gg/aa/yyyy) | D5: Edinme Değeri (TL) | E5: Satış Tarihi (gg/aa/yyyy) | F5: Satış Değeri (TL) | G5: Satış Tarihindeki Birikmiş Amortisman Tutarı (TL)
B15: B- ŞEBEKE HARİCİ VARLIK SATIŞLARI (2018)
B16: Varlık Adı | C16: Edinme Tarihi (gg/aa/yyyy) | D16: Edinim Değeri (TL) | E16: Satış Tarihi (gg/aa/yyyy) | F16: Satış Değeri (TL) | G16: Satış Tarihindeki Birikmiş Amortisman Tutarı (TL)

Sheet Tüketim Grubu Satış Tablosu_V1
B2: EK-27/A: TÜKETİM GRUBU BAZINDA TÜKETİCİ SAYISI VE TÜKETİM MİKTARLARI (TAŞIMA DAHİL) (V1)
B5: 2014 | C5: Toplam Tüketim Miktarı
B6: Sayaç Tüketim Kademesi (Sm3) | C6: OCAK | D6: ŞUBAT | E6: MART | F6: NİSAN | G6: MAYIS | H6: HAZİRAN | I6: TEMMUZ | J6: AĞUSTOS | K6: EYLÜL | L6: EKİM | M6: KASIM | N6: ARALIK | O6: TOPLAM | P6: Sayaç Sayısı (Gaz Kullanan)
B7: 0 - 10.000 | O7: =SUM(C7:N7) -> 0
B8: 10.001 - 100.000 | O8: =SUM(C8:N8) -> 0
B9: 100.001 - 1.000.000 | O9: =SUM(C9:N9) -> 0
B10: 1.000.001 - 10.000.000 | O10: =SUM(C10:N10) -> 0
B11: 10.000.001 - 100.000.000 | O11: =SUM(C11:N11) -> 0
B12: 100.000.001 ve Üzeri | O12: =SUM(C12:N12) -> 0
B13: Toplam | C13: =SUM(C7:C12) -> 0 | D13: =SUM(D7:D12) -> 0 | E13: =SUM(E7:E12) -> 0 | F13: =SUM(F7:F12) -> 0 | G13: =SUM(G7:G12) -> 0 | H13: =SUM(H7:H12) -> 0 | I13: =SUM(I7:I12) -> 0 | J13: =SUM(J7:J12) -> 0 | ... P13: =SUM(P7:P12) -> 0
B15: 2015 | C15: Toplam Tüketim Miktarı
B16: Sayaç Tüketim Kademesi (Sm3) | C16: OCAK | D16: ŞUBAT | E16: MART | F16: NİSAN | G16: MAYIS | H16: HAZİRAN | I16: TEMMUZ | J16: AĞUSTOS | K16: EYLÜL | L16: EKİM | M16: KASIM | N16: ARALIK | O16: TOPLAM | P16: Sayaç Sayısı (Gaz Kullanan)
B17: 0 - 10.000 | O17: =SUM(C17:N17) -> 0
B18: 10.001 - 100.000 | O18: =SUM(C18:N18) -> 0
B19: 100.001 - 1.000.000 | O19: =SUM(C19:N19) -> 0
B20: 1.000.001 - 10.000.000 | O20: =SUM(C20:N20) -> 0
B21: 10.000.001 - 100.000.000 | O21: =SUM(C21:N21) -> 0
B22: 100.000.001 ve Üzeri | O22: =SUM(C22:N22) -> 0
B23: Toplam | C23: =SUM(C17:C22) -> 0 | D23: =SUM(D17:D22) -> 0 | E23: =SUM(E17:E22) -> 0 | F23: =SUM(F17:F22) -> 0 | G23: =SUM(G17:G22) -> 0 | H23: =SUM(H17:H22) -> 0 | I23: =SUM(I17:I22) -> 0 | J23: =SUM(J17:J22) -> 0 | ... P23: =SUM(P17:P22) -> 0
B25: 2016 | C25: Toplam Tüketim Miktarı
B26: Sayaç Tüketim Kademesi (Sm3) | C26: OCAK | D26: ŞUBAT | E26: MART | F26: NİSAN | G26: MAYIS | H26: HAZİRAN | I26: TEMMUZ | J26: AĞUSTOS | K26: EYLÜL | L26: EKİM | M26: KASIM | N26: ARALIK | O26: TOPLAM | P26: Sayaç Sayısı (Gaz Kullanan)
B27: 0 - 10.000 | O27: =SUM(C27:N27) -> 0
B28: 10.001 - 100.000 | O28: =SUM(C28:N28) -> 0
B29: 100.001 - 1.000.000 | O29: =SUM(C29:N29) -> 0
B30: 1.000.001 - 10.000.000 | O30: =SUM(C30:N30) -> 0
B31: 10.000.001 - 100.000.000 | O31: =SUM(C31:N31) -> 0
B32: 100.000.001 ve Üzeri | O32: =SUM(C32:N32) -> 0
B33: Toplam | C33: =SUM(C27:C32) -> 0 | D33: =SUM(D27:D32) -> 0 | E33: =SUM(E27:E32) -> 0 | F33: =SUM(F27:F32) -> 0 | G33: =SUM(G27:G32) -> 0 | H33: =SUM(H27:H32) -> 0 | I33: =SUM(I27:I32) -> 0 | J33: =SUM(J27:J32) -> 0 | ... P33: =SUM(P27:P32) -> 0
B35: 2017 | C35: Toplam Tüketim Miktarı
B36: Sayaç Tüketim Kademesi (Sm3) | C36: OCAK | D36: ŞUBAT | E36: MART | F36: NİSAN | G36: MAYIS | H36: HAZİRAN | I36: TEMMUZ | J36: AĞUSTOS | K36: EYLÜL | L36: EKİM | M36: KASIM | N36: ARALIK | O36: TOPLAM | P36: Sayaç Sayısı (Gaz Kullanan)
B37: 0 - 10.000 | O37: =SUM(C37:N37) -> 0
B38: 10.001 - 100.000 | O38: =SUM(C38:N38) -> 0
B39: 100.001 - 1.000.000 | O39: =SUM(C39:N39) -> 0
B40: 1.000.001 - 10.000.000 | O40: =SUM(C40:N40) -> 0
B41: 10.000.001 - 100.000.000 | O41: =SUM(C41:N41) -> 0
B42: 100.000.001 ve Üzeri | O42: =SUM(C42:N42) -> 0
B43: Toplam | C43: =SUM(C37:C42) -> 0 | D43: =SUM(D37:D42) -> 0 | E43: =SUM(E37:E42) -> 0 | F43: =SUM(F37:F42) -> 0 | G43: =SUM(G37:G42) -> 0 | H43: =SUM(H37:H42) -> 0 | I43: =SUM(I37:I42) -> 0 | J43: =SUM(J37:J42) -> 0 | ... P43: =SUM(P37:P42) -> 0
B45: 2018 | C45: Toplam Tüketim Miktarı
B46: Sayaç Tüketim Kademesi (Sm3) | C46: OCAK | D46: ŞUBAT | E46: MART | F46: NİSAN | G46: MAYIS | H46: HAZİRAN | I46: TEMMUZ | J46: AĞUSTOS | K46: EYLÜL | L46: EKİM | M46: KASIM | N46: ARALIK | O46: TOPLAM | P46: Sayaç Sayısı (Gaz Kullanan)
B47: 0 - 10.000 | O47: =SUM(C47:N47) -> 0
B48: 10.001 - 100.000 | O48: =SUM(C48:N48) -> 0
B49: 100.001 - 1.000.000 | O49: =SUM(C49:N49) -> 0
B50: 1.000.001 - 10.000.000 | O50: =SUM(C50:N50) -> 0
B51: 10.000.001 - 100.000.000 | O51: =SUM(C51:N51) -> 0
B52: 100.000.001 ve Üzeri | O52: =SUM(C52:N52) -> 0
B53: Toplam | C53: =SUM(C47:C52) -> 0 | D53: =SUM(D47:D52) -> 0 | E53: =SUM(E47:E52) -> 0 | F53: =SUM(F47:F52) -> 0 | G53: =SUM(G47:G52) -> 0 | H53: =SUM(H47:H52) -> 0 | I53: =SUM(I47:I52) -> 0 | J53: =SUM(J47:J52) -> 0 | ... P53: =SUM(P47:P52) -> 0
B55: 2019 | C55: Toplam Tüketim Miktarı
B56: Sayaç Tüketim Kademesi (Sm3) | C56: OCAK (G) | D56: ŞUBAT (G) | E56: MART (G) | F56: NİSAN (P) | G56: MAYIS (P) | H56: HAZİRAN (P) | I56: TEMMUZ (P) | J56: AĞUSTOS (P) | K56: EYLÜL (P) | L56: EKİM (P) | M56: KASIM (P) | N56: ARALIK (P) | O56: TOPLAM | P56: Sayaç Sayısı (Gaz Kullanan)
B57: 0 - 10.000 | O57: =SUM(C57:N57) -> 0
B58: 10.001 - 100.000 | O58: =SUM(C58:N58) -> 0
B59: 100.001 - 1.000.000 | O59: =SUM(C59:N59) -> 0
B60: 1.000.001 - 10.000.000 | O60: =SUM(C60:N60) -> 0
B61: 10.000.001 - 100.000.000 | O61: =SUM(C61:N61) -> 0
B62: 100.000.001 ve Üzeri | O62: =SUM(C62:N62) -> 0
B63: Toplam | C63: =SUM(C57:C62) -> 0 | D63: =SUM(D57:D62) -> 0 | E63: =SUM(E57:E62) -> 0 | F63: =SUM(F57:F62) -> 0 | G63: =SUM(G57:G62) -> 0 | H63: =SUM(H57:H62) -> 0 | I63: =SUM(I57:I62) -> 0 | J63: =SUM(J57:J62) -> 0 | ... P63: =SUM(P57:P62) -> 0
B64: (G): Gerçekleşme
B65: (P): Planlanan
B69: 2014 | C69: Toplam Tüketim Miktarı
B70: Sayaç Tüketim Kademesi (Sm3) | C70: OCAK | D70: ŞUBAT | E70: MART | F70: NİSAN | G70: MAYIS | H70: HAZİRAN | I70: TEMMUZ | J70: AĞUSTOS | K70: EYLÜL | L70: EKİM | M70: KASIM | N70: ARALIK | O70: TOPLAM | P70: Sayaç Sayısı (Gaz Kullanan)
B71: 0 - 100.000 | C71: =SUM(C7:C8) -> 0 | D71: =SUM(D7:D8) -> 0 | E71: =SUM(E7:E8) -> 0 | F71: =SUM(F7:F8) -> 0 | G71: =SUM(G7:G8) -> 0 | H71: =SUM(H7:H8) -> 0 | I71: =SUM(I7:I8) -> 0 | J71: =SUM(J7:J8) -> 0 | ... N71: =SUM(N7:N8) -> 0 | O71: =SUM(C71:N71) -> 0 | P71: =SUM(P7:P8) -> 0
B72: 100.001 - 1.000.000 | C72: =C9 -> 0 | D72: =D9 -> 0 | E72: =E9 -> 0 | F72: =F9 -> 0 | G72: =G9 -> 0 | H72: =H9 -> 0 | I72: =I9 -> 0 | J72: =J9 -> 0 | ... N72: =N9 -> 0 | O72: =SUM(C72:N72) -> 0 | P72: =P9 -> 0
B73: 1.000.001 - 10.000.000 | C73: =C10 -> 0 | D73: =D10 -> 0 | E73: =E10 -> 0 | F73: =F10 -> 0 | G73: =G10 -> 0 | H73: =H10 -> 0 | I73: =I10 -> 0 | J73: =J10 -> 0 | ... N73: =N10 -> 0 | O73: =SUM(C73:N73) -> 0 | P73: =P10 -> 0
B74: 10.000.001 - 100.000.000 | C74: =C11 -> 0 | D74: =D11 -> 0 | E74: =E11 -> 0 | F74: =F11 -> 0 | G74: =G11 -> 0 | H74: =H11 -> 0 | I74: =I11 -> 0 | J74: =J11 -> 0 | ... N74: =N11 -> 0 | O74: =SUM(C74:N74) -> 0 | P74: =P11 -> 0
B75: 100.000.001 ve Üzeri | C75: =C12 -> 0 | D75: =D12 -> 0 | E75: =E12 -> 0 | F75: =F12 -> 0 | G75: =G12 -> 0 | H75: =H12 -> 0 | I75: =I12 -> 0 | J75: =J12 -> 0 | ... N75: =N12 -> 0 | O75: =SUM(C75:N75) -> 0 | P75: =P12 -> 0
B76: Toplam | C76: =SUM(C71:C75) -> 0 | D76: =SUM(D71:D75) -> 0 | E76: =SUM(E71:E75) -> 0 | F76: =SUM(F71:F75) -> 0 | G76: =SUM(G71:G75) -> 0 | H76: =SUM(H71:H75) -> 0 | I76: =SUM(I71:I75) -> 0 | J76: =SUM(J71:J75) -> 0 | ... P76: =SUM(P71:P75) -> 0
B79: 2015 | C79: Toplam Tüketim Miktarı
B80: Sayaç Tüketim Kademesi (Sm3) | C80: OCAK | D80: ŞUBAT | E80: MART | F80: NİSAN | G80: MAYIS | H80: HAZİRAN | I80: TEMMUZ | J80: AĞUSTOS | K80: EYLÜL | L80: EKİM | M80: KASIM | N80: ARALIK | O80: TOPLAM | P80: Sayaç Sayısı (Gaz Kullanan)
B81: 0 - 100.000 | C81: =SUM(C17:C18) -> 0 | D81: =SUM(D17:D18) -> 0 | E81: =SUM(E17:E18) -> 0 | F81: =SUM(F17:F18) -> 0 | G81: =SUM(G17:G18) -> 0 | H81: =SUM(H17:H18) -> 0 | I81: =SUM(I17:I18) -> 0 | J81: =SUM(J17:J18) -> 0 | ... N81: =SUM(N17:N18) -> 0 | O81: =SUM(C81:N81) -> 0 | P81: =SUM(P17:P18) -> 0
B82: 100.001 - 1.000.000 | C82: =C19 -> 0 | D82: =D19 -> 0 | E82: =E19 -> 0 | F82: =F19 -> 0 | G82: =G19 -> 0 | H82: =H19 -> 0 | I82: =I19 -> 0 | J82: =J19 -> 0 | ... N82: =N19 -> 0 | O82: =SUM(C82:N82) -> 0 | P82: =P19 -> 0
B83: 1.000.001 - 10.000.000 | C83: =C20 -> 0 | D83: =D20 -> 0 | E83: =E20 -> 0 | F83: =F20 -> 0 | G83: =G20 -> 0 | H83: =H20 -> 0 | I83: =I20 -> 0 | J83: =J20 -> 0 | ... N83: =N20 -> 0 | O83: =SUM(C83:N83) -> 0 | P83: =P20 -> 0
B84: 10.000.001 - 100.000.000 | C84: =C21 -> 0 | D84: =D21 -> 0 | E84: =E21 -> 0 | F84: =F21 -> 0 | G84: =G21 -> 0 | H84: =H21 -> 0 | I84: =I21 -> 0 | J84: =J21 -> 0 | ... N84: =N21 -> 0 | O84: =SUM(C84:N84) -> 0 | P84: =P21 -> 0
B85: 100.000.001 ve Üzeri | C85: =C22 -> 0 | D85: =D22 -> 0 | E85: =E22 -> 0 | F85: =F22 -> 0 | G85: =G22 -> 0 | H85: =H22 -> 0 | I85: =I22 -> 0 | J85: =J22 -> 0 | ... N85: =N22 -> 0 | O85: =SUM(C85:N85) -> 0 | P85: =P22 -> 0
B86: Toplam | C86: =SUM(C81:C85) -> 0 | D86: =SUM(D81:D85) -> 0 | E86: =SUM(E81:E85) -> 0 | F86: =SUM(F81:F85) -> 0 | G86: =SUM(G81:G85) -> 0 | H86: =SUM(H81:H85) -> 0 | I86: =SUM(I81:I85) -> 0 | J86: =SUM(J81:J85) -> 0 | ... P86: =SUM(P81:P85) -> 0
B89: 2016 | C89: Toplam Tüketim Miktarı
B90: Sayaç Tüketim Kademesi (Sm3) | C90: OCAK | D90: ŞUBAT | E90: MART | F90: NİSAN | G90: MAYIS | H90: HAZİRAN | I90: TEMMUZ | J90: AĞUSTOS | K90: EYLÜL | L90: EKİM | M90: KASIM | N90: ARALIK | O90: TOPLAM | P90: Sayaç Sayısı (Gaz Kullanan)
B91: 0 - 100.000 | C91: =SUM(C27:C28) -> 0 | D91: =SUM(D27:D28) -> 0 | E91: =SUM(E27:E28) -> 0 | F91: =SUM(F27:F28) -> 0 | G91: =SUM(G27:G28) -> 0 | H91: =SUM(H27:H28) -> 0 | I91: =SUM(I27:I28) -> 0 | J91: =SUM(J27:J28) -> 0 | ... N91: =SUM(N27:N28) -> 0 | O91: =SUM(C91:N91) -> 0 | P91: =SUM(P27:P28) -> 0
B92: 100.001 - 1.000.000 | C92: =C29 -> 0 | D92: =D29 -> 0 | E92: =E29 -> 0 | F92: =F29 -> 0 | G92: =G29 -> 0 | H92: =H29 -> 0 | I92: =I29 -> 0 | J92: =J29 -> 0 | ... N92: =N29 -> 0 | O92: =SUM(C92:N92) -> 0 | P92: =P29 -> 0
B93: 1.000.001 - 10.000.000 | C93: =C30 -> 0 | D93: =D30 -> 0 | E93: =E30 -> 0 | F93: =F30 -> 0 | G93: =G30 -> 0 | H93: =H30 -> 0 | I93: =I30 -> 0 | J93: =J30 -> 0 | ... N93: =N30 -> 0 | O93: =SUM(C93:N93) -> 0 | P93: =P30 -> 0
B94: 10.000.001 - 100.000.000 | C94: =C31 -> 0 | D94: =D31 -> 0 | E94: =E31 -> 0 | F94: =F31 -> 0 | G94: =G31 -> 0 | H94: =H31 -> 0 | I94: =I31 -> 0 | J94: =J31 -> 0 | ... N94: =N31 -> 0 | O94: =SUM(C94:N94) -> 0 | P94: =P31 -> 0
B95: 100.000.001 ve Üzeri | C95: =C32 -> 0 | D95: =D32 -> 0 | E95: =E32 -> 0 | F95: =F32 -> 0 | G95: =G32 -> 0 | H95: =H32 -> 0 | I95: =I32 -> 0 | J95: =J32 -> 0 | ... N95: =N32 -> 0 | O95: =SUM(C95:N95) -> 0 | P95: =P32 -> 0
B96: Toplam | C96: =SUM(C91:C95) -> 0 | D96: =SUM(D91:D95) -> 0 | E96: =SUM(E91:E95) -> 0 | F96: =SUM(F91:F95) -> 0 | G96: =SUM(G91:G95) -> 0 | H96: =SUM(H91:H95) -> 0 | I96: =SUM(I91:I95) -> 0 | J96: =SUM(J91:J95) -> 0 | ... P96: =SUM(P91:P95) -> 0
B99: 2017 | C99: Toplam Tüketim Miktarı
B100: Sayaç Tüketim Kademesi (Sm3) | C100: OCAK | D100: ŞUBAT | E100: MART | F100: NİSAN | G100: MAYIS | H100: HAZİRAN | I100: TEMMUZ | J100: AĞUSTOS | K100: EYLÜL | L100: EKİM | M100: KASIM | N100: ARALIK | O100: TOPLAM | P100: Sayaç Sayısı (Gaz Kullanan)
B101: 0 - 100.000 | C101: =SUM(C37:C38) -> 0 | D101: =SUM(D37:D38) -> 0 | E101: =SUM(E37:E38) -> 0 | F101: =SUM(F37:F38) -> 0 | G101: =SUM(G37:G38) -> 0 | H101: =SUM(H37:H38) -> 0 | I101: =SUM(I37:I38) -> 0 | J101: =SUM(J37:J38) -> 0 | ... N101: =SUM(N37:N38) -> 0 | O101: =SUM(C101:N101) -> 0 | P101: =SUM(P37:P38) -> 0
B102: 100.001 - 1.000.000 | C102: =C39 -> 0 | D102: =D39 -> 0 | E102: =E39 -> 0 | F102: =F39 -> 0 | G102: =G39 -> 0 | H102: =H39 -> 0 | I102: =I39 -> 0 | J102: =J39 -> 0 | ... N102: =N39 -> 0 | O102: =SUM(C102:N102) -> 0 | P102: =P39 -> 0
B103: 1.000.001 - 10.000.000 | C103: =C40 -> 0 | D103: =D40 -> 0 | E103: =E40 -> 0 | F103: =F40 -> 0 | G103: =G40 -> 0 | H103: =H40 -> 0 | I103: =I40 -> 0 | J103: =J40 -> 0 | ... N103: =N40 -> 0 | O103: =SUM(C103:N103) -> 0 | P103: =P40 -> 0
B104: 10.000.001 - 100.000.000 | C104: =C41 -> 0 | D104: =D41 -> 0 | E104: =E41 -> 0 | F104: =F41 -> 0 | G104: =G41 -> 0 | H104: =H41 -> 0 | I104: =I41 -> 0 | J104: =J41 -> 0 | ... N104: =N41 -> 0 | O104: =SUM(C104:N104) -> 0 | P104: =P41 -> 0
B105: 100.000.001 ve Üzeri | C105: =C42 -> 0 | D105: =D42 -> 0 | E105: =E42 -> 0 | F105: =F42 -> 0 | G105: =G42 -> 0 | H105: =H42 -> 0 | I105: =I42 -> 0 | J105: =J42 -> 0 | ... N105: =N42 -> 0 | O105: =SUM(C105:N105) -> 0 | P105: =P42 -> 0
B106: Toplam | C106: =SUM(C101:C105) -> 0 | D106: =SUM(D101:D105) -> 0 | E106: =SUM(E101:E105) -> 0 | F106: =SUM(F101:F105) -> 0 | G106: =SUM(G101:G105) -> 0 | H106: =SUM(H101:H105) -> 0 | I106: =SUM(I101:I105) -> 0 | J106: =SUM(J101:J105) -> 0 | ... P106: =SUM(P101:P105) -> 0
B109: 2018 | C109: Toplam Tüketim Miktarı
B110: Sayaç Tüketim Kademesi (Sm3) | C110: OCAK | D110: ŞUBAT | E110: MART | F110: NİSAN | G110: MAYIS | H110: HAZİRAN | I110: TEMMUZ | J110: AĞUSTOS | K110: EYLÜL | L110: EKİM | M110: KASIM | N110: ARALIK | O110: TOPLAM | P110: Sayaç Sayısı (Gaz Kullanan)
B111: 0 - 100.000 | C111: =SUM(C47:C48) -> 0 | D111: =SUM(D47:D48) -> 0 | E111: =SUM(E47:E48) -> 0 | F111: =SUM(F47:F48) -> 0 | G111: =SUM(G47:G48) -> 0 | H111: =SUM(H47:H48) -> 0 | I111: =SUM(I47:I48) -> 0 | J111: =SUM(J47:J48) -> 0 | ... N111: =SUM(N47:N48) -> 0 | O111: =SUM(C111:N111) -> 0 | P111: =SUM(P47:P48) -> 0
B112: 100.001 - 1.000.000 | C112: =C49 -> 0 | D112: =D49 -> 0 | E112: =E49 -> 0 | F112: =F49 -> 0 | G112: =G49 -> 0 | H112: =H49 -> 0 | I112: =I49 -> 0 | J112: =J49 -> 0 | ... N112: =N49 -> 0 | O112: =SUM(C112:N112) -> 0 | P112: =P49 -> 0
B113: 1.000.001 - 10.000.000 | C113: =C50 -> 0 | D113: =D50 -> 0 | E113: =E50 -> 0 | F113: =F50 -> 0 | G113: =G50 -> 0 | H113: =H50 -> 0 | I113: =I50 -> 0 | J113: =J50 -> 0 | ... N113: =N50 -> 0 | O113: =SUM(C113:N113) -> 0 | P113: =P50 -> 0
B114: 10.000.001 - 100.000.000 | C114: =C51 -> 0 | D114: =D51 -> 0 | E114: =E51 -> 0 | F114: =F51 -> 0 | G114: =G51 -> 0 | H114: =H51 -> 0 | I114: =I51 -> 0 | J114: =J51 -> 0 | ... N114: =N51 -> 0 | O114: =SUM(C114:N114) -> 0 | P114: =P51 -> 0
B115: 100.000.001 ve Üzeri | C115: =C52 -> 0 | D115: =D52 -> 0 | E115: =E52 -> 0 | F115: =F52 -> 0 | G115: =G52 -> 0 | H115: =H52 -> 0 | I115: =I52 -> 0 | J115: =J52 -> 0 | ... N115: =N52 -> 0 | O115: =SUM(C115:N115) -> 0 | P115: =P52 -> 0
B116: Toplam | C116: =SUM(C111:C115) -> 0 | D116: =SUM(D111:D115) -> 0 | E116: =SUM(E111:E115) -> 0 | F116: =SUM(F111:F115) -> 0 | G116: =SUM(G111:G115) -> 0 | H116: =SUM(H111:H115) -> 0 | I116: =SUM(I111:I115) -> 0 | J116: =SUM(J111:J115) -> 0 | ... P116: =SUM(P111:P115) -> 0
B119: 2019 | C119: Toplam Tüketim Miktarı
B120: Sayaç Tüketim Kademesi (Sm3) | C120: OCAK | D120: ŞUBAT | E120: MART | F120: NİSAN | G120: MAYIS | H120: HAZİRAN | I120: TEMMUZ | J120: AĞUSTOS | K120: EYLÜL | L120: EKİM | M120: KASIM | N120: ARALIK | O120: TOPLAM | P120: Sayaç Sayısı (Gaz Kullanan)
B121: 0 - 100.000 | C121: =SUM(C57:C58) -> 0 | D121: =SUM(D57:D58) -> 0 | E121: =SUM(E57:E58) -> 0 | F121: =SUM(F57:F58) -> 0 | G121: =SUM(G57:G58) -> 0 | H121: =SUM(H57:H58) -> 0 | I121: =SUM(I57:I58) -> 0 | J121: =SUM(J57:J58) -> 0 | ... N121: =SUM(N57:N58) -> 0 | O121: =SUM(C121:N121) -> 0 | P121: =SUM(P57:P58) -> 0
...

Sheet Tüketim Grubu Satış Tablosu_V2
B2: EK-27/B: TÜKETİM GRUBU BAZINDA TÜKETİCİ SAYISI VE TÜKETİM MİKTARLARI (TAŞIMA DAHİL) (V2)
B4: 2018 | C4: OCAK | E4: ŞUBAT | G4: MART | I4: NİSAN | K4: MAYIS | M4: HAZİRAN | O4: TEMMUZ | Q4: AĞUSTOS | S4: EYLÜL | U4: EKİM | W4: KASIM | Y4: ARALIK | AA4: TOPLAM | AC4: Sayaç Sayısı (Gaz Kullanan)
B5: Sayaç Tüketim Kademesi (Sm3) | C5: Tüketim | D5: Fatura | E5: Tüketim | F5: Fatura | G5: Tüketim | H5: Fatura | I5: Tüketim | J5: Fatura | K5: Tüketim | L5: Fatura | M5: Tüketim | N5: Fatura | O5: Tüketim | P5: Fatura | Q5: Tüketim | R5: Fatura | S5: Tüketim | T5: Fatura | U5: Tüketim | V5: Fatura | W5: Tüketim | X5: Fatura | Y5: Tüketim | Z5: Fatura | AA5: Tüketim | AB5: Fatura
B6: 0 - 10.000 | AA6: =SUM(C6,E6,G6,I6,K6,M6,O6,Q6,S6,U6,W6,Y6) -> 0 | AB6: =SUM(D6,F6,H6,J6,L6,N6,P6,R6,T6,V6,X6,Z6) -> 0
B7: 10.001 - 100.000 | AA7: =SUM(C7,E7,G7,I7,K7,M7,O7,Q7,S7,U7,W7,Y7) -> 0 | AB7: =SUM(D7,F7,H7,J7,L7,N7,P7,R7,T7,V7,X7,Z7) -> 0
B8: 100.001 - 1.000.000 | AA8: =SUM(C8,E8,G8,I8,K8,M8,O8,Q8,S8,U8,W8,Y8) -> 0 | AB8: =SUM(D8,F8,H8,J8,L8,N8,P8,R8,T8,V8,X8,Z8) -> 0
B9: 1.000.001 - 10.000.000 | AA9: =SUM(C9,E9,G9,I9,K9,M9,O9,Q9,S9,U9,W9,Y9) -> 0 | AB9: =SUM(D9,F9,H9,J9,L9,N9,P9,R9,T9,V9,X9,Z9) -> 0
B10: 10.000.001 - 100.000.000 | AA10: =SUM(C10,E10,G10,I10,K10,M10,O10,Q10,S10,U10,W10,Y10) -> 0 | AB10: =SUM(D10,F10,H10,J10,L10,N10,P10,R10,T10,V10,X10,Z10) -> 0
B11: 100.000.001 ve Üzeri | AA11: =SUM(C11,E11,G11,I11,K11,M11,O11,Q11,S11,U11,W11,Y11) -> 0 | AB11: =SUM(D11,F11,H11,J11,L11,N11,P11,R11,T11,V11,X11,Z11) -> 0
B12: Toplam | C12: =SUM(C6:C11) -> 0 | D12: =SUM(D6:D11) -> 0 | E12: =SUM(E6:E11) -> 0 | F12: =SUM(F6:F11) -> 0 | G12: =SUM(G6:G11) -> 0 | H12: =SUM(H6:H11) -> 0 | I12: =SUM(I6:I11) -> 0 | J12: =SUM(J6:J11) -> 0 | ... Z12: =SUM(Z6:Z11) -> 0 | AA12: =SUM(C12,E12,G12,I12,K12,M12,O12,Q12,S12,U12,W12,Y12) -> 0 | AB12: =SUM(D12,F12,H12,J12,L12,N12,P12,R12,T12,V12,X12,Z12) -> 0 | AC12: =SUM(AC6:AC11) -> 0
B18: 2018 | C18: OCAK | D18: ŞUBAT | E18: MART | F18: NİSAN | G18: MAYIS | H18: HAZİRAN | I18: TEMMUZ | J18: AĞUSTOS | K18: EYLÜL | L18: EKİM | M18: KASIM | N18: ARALIK | O18: TOPLAM
B19: Sayaç Tüketim Kademesi (Sm3) | C19: Tüketim | D19: Tüketim | E19: Tüketim | F19: Tüketim | G19: Tüketim | H19: Tüketim | I19: Tüketim | J19: Tüketim | K19: Tüketim | L19: Tüketim | M19: Tüketim | N19: Tüketim | O19: Tüketim
B20: 0 - 10.000 | C20: =C6 -> 0 | D20: =E6 -> 0 | E20: =G6 -> 0 | F20: =I6 -> 0 | G20: =K6 -> 0 | H20: =M6 -> 0 | I20: =O6 -> 0 | J20: =Q6 -> 0 | K20: =S6 -> 0 | L20: =U6 -> 0 | M20: =W6 -> 0 | N20: =Y6 -> 0 | O20: =SUM(C20,D20,E20,F20,G20,H20,I20,J20,K20,L20,M20,N20) -> 0
B21: 10.001 - 100.000 | C21: =C7 -> 0 | D21: =E7 -> 0 | E21: =G7 -> 0 | F21: =I7 -> 0 | G21: =K7 -> 0 | H21: =M7 -> 0 | I21: =O7 -> 0 | J21: =Q7 -> 0 | K21: =S7 -> 0 | L21: =U7 -> 0 | M21: =W7 -> 0 | N21: =Y7 -> 0 | O21: =SUM(C21,D21,E21,F21,G21,H21,I21,J21,K21,L21,M21,N21) -> 0
B22: 100.001 - 1.000.000 | C22: =C8 -> 0 | D22: =E8 -> 0 | E22: =G8 -> 0 | F22: =I8 -> 0 | G22: =K8 -> 0 | H22: =M8 -> 0 | I22: =O8 -> 0 | J22: =Q8 -> 0 | K22: =S8 -> 0 | L22: =U8 -> 0 | M22: =W8 -> 0 | N22: =Y8 -> 0 | O22: =SUM(C22,D22,E22,F22,G22,H22,I22,J22,K22,L22,M22,N22) -> 0
B23: 1.000.001 - 10.000.000 | C23: =C9 -> 0 | D23: =E9 -> 0 | E23: =G9 -> 0 | F23: =I9 -> 0 | G23: =K9 -> 0 | H23: =M9 -> 0 | I23: =O9 -> 0 | J23: =Q9 -> 0 | K23: =S9 -> 0 | L23: =U9 -> 0 | M23: =W9 -> 0 | N23: =Y9 -> 0 | O23: =SUM(C23,D23,E23,F23,G23,H23,I23,J23,K23,L23,M23,N23) -> 0
B24: 10.000.001 - 100.000.000 | C24: =C10 -> 0 | D24: =E10 -> 0 | E24: =G10 -> 0 | F24: =I10 -> 0 | G24: =K10 -> 0 | H24: =M10 -> 0 | I24: =O10 -> 0 | J24: =Q10 -> 0 | K24: =S10 -> 0 | L24: =U10 -> 0 | M24: =W10 -> 0 | N24: =Y10 -> 0 | O24: =SUM(C24,D24,E24,F24,G24,H24,I24,J24,K24,L24,M24,N24) -> 0
B25: 100.000.001 ve Üzeri | C25: =C11 -> 0 | D25: =E11 -> 0 | E25: =G11 -> 0 | F25: =I11 -> 0 | G25: =K11 -> 0 | H25: =M11 -> 0 | I25: =O11 -> 0 | J25: =Q11 -> 0 | K25: =S11 -> 0 | L25: =U11 -> 0 | M25: =W11 -> 0 | N25: =Y11 -> 0 | O25: =SUM(C25,D25,E25,F25,G25,H25,I25,J25,K25,L25,M25,N25) -> 0
B26: Toplam | C26: =SUM(C20:C25) -> 0 | D26: =SUM(D20:D25) -> 0 | E26: =SUM(E20:E25) -> 0 | F26: =SUM(F20:F25) -> 0 | G26: =SUM(G20:G25) -> 0 | H26: =SUM(H20:H25) -> 0 | I26: =SUM(I20:I25) -> 0 | J26: =SUM(J20:J25) -> 0 | ... N26: =SUM(N20:N25) -> 0 | O26: =SUM(C26,D26,E26,F26,G26,H26,I26,J26,K26,L26,M26,N26) -> 0
B29: 2018 | C29: OCAK | D29: ŞUBAT | E29: MART | F29: NİSAN | G29: MAYIS | H29: HAZİRAN | I29: TEMMUZ | J29: AĞUSTOS | K29: EYLÜL | L29: EKİM | M29: KASIM | N29: ARALIK | O29: TOPLAM
B30: Sayaç Tüketim Kademesi (Sm3) | C30: Tüketim | D30: Tüketim | E30: Tüketim | F30: Tüketim | G30: Tüketim | H30: Tüketim | I30: Tüketim | J30: Tüketim | K30: Tüketim | L30: Tüketim | M30: Tüketim | N30: Tüketim | O30: Tüketim
B31: 0 - 100.000 | C31: =SUM(C6:C7) -> 0 | D31: =SUM(E6:E7) -> 0 | E31: =SUM(G6:G7) -> 0 | F31: =SUM(I6:I7) -> 0 | G31: =SUM(K6:K7) -> 0 | H31: =SUM(M6:M7) -> 0 | I31: =SUM(O6:O7) -> 0 | J31: =SUM(Q6:Q7) -> 0 | K31: =SUM(S6:S7) -> 0 | L31: =SUM(U6:U7) -> 0 | M31: =SUM(W6:W7) -> 0 | N31: =SUM(Y6:Y7) -> 0 | O31: =SUM(C31,D31,E31,F31,G31,H31,I31,J31,K31,L31,M31,N31) -> 0
B32: 100.001 - 1.000.000 | C32: =C8 -> 0 | D32: =E8 -> 0 | E32: =G8 -> 0 | F32: =I8 -> 0 | G32: =K8 -> 0 | H32: =M8 -> 0 | I32: =O8 -> 0 | J32: =Q8 -> 0 | K32: =S8 -> 0 | L32: =U8 -> 0 | M32: =W8 -> 0 | N32: =Y8 -> 0 | O32: =SUM(C32,D32,E32,F32,G32,H32,I32,J32,K32,L32,M32,N32) -> 0
B33: 1.000.001 - 10.000.000 | C33: =C9 -> 0 | D33: =E9 -> 0 | E33: =G9 -> 0 | F33: =I9 -> 0 | G33: =K9 -> 0 | H33: =M9 -> 0 | I33: =O9 -> 0 | J33: =Q9 -> 0 | K33: =S9 -> 0 | L33: =U9 -> 0 | M33: =W9 -> 0 | N33: =Y9 -> 0 | O33: =SUM(C33,D33,E33,F33,G33,H33,I33,J33,K33,L33,M33,N33) -> 0
B34: 10.000.001 - 100.000.000 | C34: =C10 -> 0 | D34: =E10 -> 0 | E34: =G10 -> 0 | F34: =I10 -> 0 | G34: =K10 -> 0 | H34: =M10 -> 0 | I34: =O10 -> 0 | J34: =Q10 -> 0 | K34: =S10 -> 0 | L34: =U10 -> 0 | M34: =W10 -> 0 | N34: =Y10 -> 0 | O34: =SUM(C34,D34,E34,F34,G34,H34,I34,J34,K34,L34,M34,N34) -> 0
B35: 100.000.001 ve Üzeri | C35: =C11 -> 0 | D35: =E11 -> 0 | E35: =G11 -> 0 | F35: =I11 -> 0 | G35: =K11 -> 0 | H35: =M11 -> 0 | I35: =O11 -> 0 | J35: =Q11 -> 0 | K35: =S11 -> 0 | L35: =U11 -> 0 | M35: =W11 -> 0 | N35: =Y11 -> 0 | O35: =SUM(C35,D35,E35,F35,G35,H35,I35,J35,K35,L35,M35,N35) -> 0
B36: Toplam | C36: =SUM(C31:C35) -> 0 | D36: =SUM(D31:D35) -> 0 | E36: =SUM(E31:E35) -> 0 | F36: =SUM(F31:F35) -> 0 | G36: =SUM(G31:G35) -> 0 | H36: =SUM(H31:H35) -> 0 | I36: =SUM(I31:I35) -> 0 | J36: =SUM(J31:J35) -> 0 | ... N36: =SUM(N31:N35) -> 0 | O36: =SUM(C36,D36,E36,F36,G36,H36,I36,J36,K36,L36,M36,N36) -> 0
B39: 2018 | C39: OCAK | D39: ŞUBAT | E39: MART | F39: NİSAN | G39: MAYIS | H39: HAZİRAN | I39: TEMMUZ | J39: AĞUSTOS | K39: EYLÜL | L39: EKİM | M39: KASIM | N39: ARALIK | O39: TOPLAM
B40: Sayaç Tüketim Kademesi (Sm3) | C40: Fatura | D40: Fatura | E40: Fatura | F40: Fatura | G40: Fatura | H40: Fatura | I40: Fatura | J40: Fatura | K40: Fatura | L40: Fatura | M40: Fatura | N40: Fatura | O40: Fatura
B41: 0 - 10.000 | C41: =D6 -> 0 | D41: =F6 -> 0 | E41: =H6 -> 0 | F41: =J6 -> 0 | G41: =L6 -> 0 | H41: =N6 -> 0 | I41: =P6 -> 0 | J41: =R6 -> 0 | K41: =T6 -> 0 | L41: =V6 -> 0 | M41: =X6 -> 0 | N41: =Z6 -> 0 | O41: =SUM(C41,D41,E41,F41,G41,H41,I41,J41,K41,L41,M41,N41) -> 0
B42: 10.001 - 100.000 | C42: =D7 -> 0 | D42: =F7 -> 0 | E42: =H7 -> 0 | F42: =J7 -> 0 | G42: =L7 -> 0 | H42: =N7 -> 0 | I42: =P7 -> 0 | J42: =R7 -> 0 | K42: =T7 -> 0 | L42: =V7 -> 0 | M42: =X7 -> 0 | N42: =Z7 -> 0 | O42: =SUM(C42,D42,E42,F42,G42,H42,I42,J42,K42,L42,M42,N42) -> 0
B43: 100.001 - 1.000.000 | C43: =D8 -> 0 | D43: =F8 -> 0 | E43: =H8 -> 0 | F43: =J8 -> 0 | G43: =L8 -> 0 | H43: =N8 -> 0 | I43: =P8 -> 0 | J43: =R8 -> 0 | K43: =T8 -> 0 | L43: =V8 -> 0 | M43: =X8 -> 0 | N43: =Z8 -> 0 | O43: =SUM(C43,D43,E43,F43,G43,H43,I43,J43,K43,L43,M43,N43) -> 0
B44: 1.000.001 - 10.000.000 | C44: =D9 -> 0 | D44: =F9 -> 0 | E44: =H9 -> 0 | F44: =J9 -> 0 | G44: =L9 -> 0 | H44: =N9 -> 0 | I44: =P9 -> 0 | J44: =R9 -> 0 | K44: =T9 -> 0 | L44: =V9 -> 0 | M44: =X9 -> 0 | N44: =Z9 -> 0 | O44: =SUM(C44,D44,E44,F44,G44,H44,I44,J44,K44,L44,M44,N44) -> 0
B45: 10.000.001 - 100.000.000 | C45: =D10 -> 0 | D45: =F10 -> 0 | E45: =H10 -> 0 | F45: =J10 -> 0 | G45: =L10 -> 0 | H45: =N10 -> 0 | I45: =P10 -> 0 | J45: =R10 -> 0 | K45: =T10 -> 0 | L45: =V10 -> 0 | M45: =X10 -> 0 | N45: =Z10 -> 0 | O45: =SUM(C45,D45,E45,F45,G45,H45,I45,J45,K45,L45,M45,N45) -> 0
B46: 100.000.001 ve Üzeri | C46: =D11 -> 0 | D46: =F11 -> 0 | E46: =H11 -> 0 | F46: =J11 -> 0 | G46: =L11 -> 0 | H46: =N11 -> 0 | I46: =P11 -> 0 | J46: =R11 -> 0 | K46: =T11 -> 0 | L46: =V11 -> 0 | M46: =X11 -> 0 | N46: =Z11 -> 0 | O46: =SUM(C46,D46,E46,F46,G46,H46,I46,J46,K46,L46,M46,N46) -> 0
B47: Toplam | C47: =SUM(C41:C46) -> 0 | D47: =SUM(D41:D46) -> 0 | E47: =SUM(E41:E46) -> 0 | F47: =SUM(F41:F46) -> 0 | G47: =SUM(G41:G46) -> 0 | H47: =SUM(H41:H46) -> 0 | I47: =SUM(I41:I46) -> 0 | J47: =SUM(J41:J46) -> 0 | ... N47: =SUM(N41:N46) -> 0 | O47: =SUM(C47,D47,E47,F47,G47,H47,I47,J47,K47,L47,M47,N47) -> 0
B50: 2018 | C50: OCAK | D50: ŞUBAT | E50: MART | F50: NİSAN | G50: MAYIS | H50: HAZİRAN | I50: TEMMUZ | J50: AĞUSTOS | K50: EYLÜL | L50: EKİM | M50: KASIM | N50: ARALIK | O50: TOPLAM
B51: Sayaç Tüketim Kademesi (Sm3) | C51: Fatura | D51: Fatura | E51: Fatura | F51: Fatura | G51: Fatura | H51: Fatura | I51: Fatura | J51: Fatura | K51: Fatura | L51: Fatura | M51: Fatura | N51: Fatura | O51: Fatura
B52: 0 - 100.000 | C52: =C41+C42 -> 0 | D52: =D41+D42 -> 0 | E52: =E41+E42 -> 0 | F52: =F41+F42 -> 0 | G52: =G41+G42 -> 0 | H52: =H41+H42 -> 0 | I52: =I41+I42 -> 0 | J52: =J41+J42 -> 0 | ... O52: =O41+O42 -> 0
B53: 100.001 - 1.000.000 | C53: =C43 -> 0 | D53: =D43 -> 0 | E53: =E43 -> 0 | F53: =F43 -> 0 | G53: =G43 -> 0 | H53: =H43 -> 0 | I53: =I43 -> 0 | J53: =J43 -> 0 | ... O53: =O43 -> 0
B54: 1.000.001 - 10.000.000 | C54: =C44 -> 0 | D54: =D44 -> 0 | E54: =E44 -> 0 | F54: =F44 -> 0 | G54: =G44 -> 0 | H54: =H44 -> 0 | I54: =I44 -> 0 | J54: =J44 -> 0 | ... O54: =O44 -> 0
B55: 10.000.001 - 100.000.000 | C55: =C45 -> 0 | D55: =D45 -> 0 | E55: =E45 -> 0 | F55: =F45 -> 0 | G55: =G45 -> 0 | H55: =H45 -> 0 | I55: =I45 -> 0 | J55: =J45 -> 0 | ... O55: =O45 -> 0
B56: 100.000.001 ve Üzeri | C56: =C46 -> 0 | D56: =D46 -> 0 | E56: =E46 -> 0 | F56: =F46 -> 0 | G56: =G46 -> 0 | H56: =H46 -> 0 | I56: =I46 -> 0 | J56: =J46 -> 0 | ... O56: =O46 -> 0
B57: Toplam | C57: =SUM(C52:C56) -> 0 | D57: =SUM(D52:D56) -> 0 | E57: =SUM(E52:E56) -> 0 | F57: =SUM(F52:F56) -> 0 | G57: =SUM(G52:G56) -> 0 | H57: =SUM(H52:H56) -> 0 | I57: =SUM(I52:I56) -> 0 | J57: =SUM(J52:J56) -> 0 | ... O57: =SUM(O52:O56) -> 0

Sheet Müşteri Profili
B2: EK-27/C: TÜKETİM KADEMELERİ BAZINDA MÜŞTERİ PROFİLİ
B4: 0 - 10.000 Sm3
B5: 2018 Yılı Tüketim Miktarı (Sm3) | C5: OCAK | D5: ŞUBAT | E5: MART | F5: NİSAN | G5: MAYIS | H5: HAZİRAN | I5: TEMMUZ | J5: AĞUSTOS | K5: EYLÜL | L5: EKİM | M5: KASIM | N5: ARALIK | O5: TOPLAM | P5: SAYAÇ SAYISI | Q5: TÜKETİM ORANI
B6: Konut | O6: =SUM(C6:N6) -> 0 | Q6: =IF($O$12=0,0,O6/$O$12) -> 0
B7: Resmi Kurum | O7: =SUM(C7:N7) -> 0 | Q7: =IF($O$12=0,0,O7/$O$12) -> 0
B8: Ticarethane ve Diğer | O8: =SUM(C8:N8) -> 0 | Q8: =IF($O$12=0,0,O8/$O$12) -> 0
B9: Sanayi Tesisleri | O9: =SUM(C9:N9) -> 0 | Q9: =IF($O$12=0,0,O9/$O$12) -> 0
B10: Organize Sanayi Bölgeleri | O10: =SUM(C10:N10) -> 0 | Q10: =IF($O$12=0,0,O10/$O$12) -> 0
B11: Elektrik Üretim Tesisleri | O11: =SUM(C11:N11) -> 0 | Q11: =IF($O$12=0,0,O11/$O$12) -> 0
B12: TOPLAM | C12: =SUM(C6:C11) -> 0 | D12: =SUM(D6:D11) -> 0 | E12: =SUM(E6:E11) -> 0 | F12: =SUM(F6:F11) -> 0 | G12: =SUM(G6:G11) -> 0 | H12: =SUM(H6:H11) -> 0 | I12: =SUM(I6:I11) -> 0 | J12: =SUM(J6:J11) -> 0 | ... P12: =SUM(P6:P11) -> 0 | Q12: =IF($O$12=0,0,O12/$O$12) -> 0
B14: 10.001-100.000 Sm3
B15: 2018 Yılı Tüketim Miktarı (Sm3) | C15: OCAK | D15: ŞUBAT | E15: MART | F15: NİSAN | G15: MAYIS | H15: HAZİRAN | I15: TEMMUZ | J15: AĞUSTOS | K15: EYLÜL | L15: EKİM | M15: KASIM | N15: ARALIK | O15: TOPLAM | P15: SAYAÇ SAYISI | Q15: TÜKETİM ORANI
B16: Konut | O16: =SUM(C16:N16) -> 0 | Q16: =IF($O$22=0,0,O16/$O$22) -> 0
B17: Resmi Kurum | O17: =SUM(C17:N17) -> 0 | Q17: =IF($O$22=0,0,O17/$O$22) -> 0
B18: Ticarethane ve Diğer | O18: =SUM(C18:N18) -> 0 | Q18: =IF($O$22=0,0,O18/$O$22) -> 0
B19: Sanayi Tesisleri | O19: =SUM(C19:N19) -> 0 | Q19: =IF($O$22=0,0,O19/$O$22) -> 0
B20: Organize Sanayi Bölgeleri | O20: =SUM(C20:N20) -> 0 | Q20: =IF($O$22=0,0,O20/$O$22) -> 0
B21: Elektrik Üretim Tesisleri | O21: =SUM(C21:N21) -> 0 | Q21: =IF($O$22=0,0,O21/$O$22) -> 0
B22: TOPLAM | C22: =SUM(C16:C21) -> 0 | D22: =SUM(D16:D21) -> 0 | E22: =SUM(E16:E21) -> 0 | F22: =SUM(F16:F21) -> 0 | G22: =SUM(G16:G21) -> 0 | H22: =SUM(H16:H21) -> 0 | I22: =SUM(I16:I21) -> 0 | J22: =SUM(J16:J21) -> 0 | ... P22: =SUM(P16:P21) -> 0 | Q22: =IF($O$22=0,0,O22/$O$22) -> 0
B24: 100.001-1.000.000 Sm3
B25: 2018 Yılı Tüketim Miktarı (Sm3) | C25: OCAK | D25: ŞUBAT | E25: MART | F25: NİSAN | G25: MAYIS | H25: HAZİRAN | I25: TEMMUZ | J25: AĞUSTOS | K25: EYLÜL | L25: EKİM | M25: KASIM | N25: ARALIK | O25: TOPLAM | P25: SAYAÇ SAYISI | Q25: TÜKETİM ORANI
B26: Konut | O26: =SUM(C26:N26) -> 0 | Q26: =IF($O$32=0,0,O26/$O$32) -> 0
B27: Resmi Kurum | O27: =SUM(C27:N27) -> 0 | Q27: =IF($O$32=0,0,O27/$O$32) -> 0
B28: Ticarethane ve Diğer | O28: =SUM(C28:N28) -> 0 | Q28: =IF($O$32=0,0,O28/$O$32) -> 0
B29: Sanayi Tesisleri | O29: =SUM(C29:N29) -> 0 | Q29: =IF($O$32=0,0,O29/$O$32) -> 0
B30: Organize Sanayi Bölgeleri | O30: =SUM(C30:N30) -> 0 | Q30: =IF($O$32=0,0,O30/$O$32) -> 0
B31: Elektrik Üretim Tesisleri | O31: =SUM(C31:N31) -> 0 | Q31: =IF($O$32=0,0,O31/$O$32) -> 0
B32: TOPLAM | C32: =SUM(C26:C31) -> 0 | D32: =SUM(D26:D31) -> 0 | E32: =SUM(E26:E31) -> 0 | F32: =SUM(F26:F31) -> 0 | G32: =SUM(G26:G31) -> 0 | H32: =SUM(H26:H31) -> 0 | I32: =SUM(I26:I31) -> 0 | J32: =SUM(J26:J31) -> 0 | ... P32: =SUM(P26:P31) -> 0 | Q32: =IF($O$32=0,0,O32/$O$32) -> 0
B34: 1.000.001-10.000.000 Sm3
B35: 2018 Yılı Tüketim Miktarı (Sm3) | C35: OCAK | D35: ŞUBAT | E35: MART | F35: NİSAN | G35: MAYIS | H35: HAZİRAN | I35: TEMMUZ | J35: AĞUSTOS | K35: EYLÜL | L35: EKİM | M35: KASIM | N35: ARALIK | O35: TOPLAM | P35: SAYAÇ SAYISI | Q35: TÜKETİM ORANI
B36: Konut | O36: =SUM(C36:N36) -> 0 | Q36: =IF($O$42=0,0,O36/$O$42) -> 0
B37: Resmi Kurum | O37: =SUM(C37:N37) -> 0 | Q37: =IF($O$42=0,0,O37/$O$42) -> 0
B38: Ticarethane ve Diğer | O38: =SUM(C38:N38) -> 0 | Q38: =IF($O$42=0,0,O38/$O$42) -> 0
B39: Sanayi Tesisleri | O39: =SUM(C39:N39) -> 0 | Q39: =IF($O$42=0,0,O39/$O$42) -> 0
B40: Organize Sanayi Bölgeleri | O40: =SUM(C40:N40) -> 0 | Q40: =IF($O$42=0,0,O40/$O$42) -> 0
B41: Elektrik Üretim Tesisleri | O41: =SUM(C41:N41) -> 0 | Q41: =IF($O$42=0,0,O41/$O$42) -> 0
B42: TOPLAM | C42: =SUM(C36:C41) -> 0 | D42: =SUM(D36:D41) -> 0 | E42: =SUM(E36:E41) -> 0 | F42: =SUM(F36:F41) -> 0 | G42: =SUM(G36:G41) -> 0 | H42: =SUM(H36:H41) -> 0 | I42: =SUM(I36:I41) -> 0 | J42: =SUM(J36:J41) -> 0 | ... P42: =SUM(P36:P41) -> 0 | Q42: =IF($O$42=0,0,O42/$O$42) -> 0
B44: 10.000.001-100.000.000 Sm3
B45: 2018 Yılı Tüketim Miktarı (Sm3) | C45: OCAK | D45: ŞUBAT | E45: MART | F45: NİSAN | G45: MAYIS | H45: HAZİRAN | I45: TEMMUZ | J45: AĞUSTOS | K45: EYLÜL | L45: EKİM | M45: KASIM | N45: ARALIK | O45: TOPLAM | P45: SAYAÇ SAYISI | Q45: TÜKETİM ORANI
B46: Konut | O46: =SUM(C46:N46) -> 0 | Q46: =IF($O$52=0,0,O46/$O$52) -> 0
B47: Resmi Kurum | O47: =SUM(C47:N47) -> 0 | Q47: =IF($O$52=0,0,O47/$O$52) -> 0
B48: Ticarethane ve Diğer | O48: =SUM(C48:N48) -> 0 | Q48: =IF($O$52=0,0,O48/$O$52) -> 0
B49: Sanayi Tesisleri | O49: =SUM(C49:N49) -> 0 | Q49: =IF($O$52=0,0,O49/$O$52) -> 0
B50: Organize Sanayi Bölgeleri | O50: =SUM(C50:N50) -> 0 | Q50: =IF($O$52=0,0,O50/$O$52) -> 0
B51: Elektrik Üretim Tesisleri | O51: =SUM(C51:N51) -> 0 | Q51: =IF($O$52=0,0,O51/$O$52) -> 0
B52: TOPLAM | C52: =SUM(C46:C51) -> 0 | D52: =SUM(D46:D51) -> 0 | E52: =SUM(E46:E51) -> 0 | F52: =SUM(F46:F51) -> 0 | G52: =SUM(G46:G51) -> 0 | H52: =SUM(H46:H51) -> 0 | I52: =SUM(I46:I51) -> 0 | J52: =SUM(J46:J51) -> 0 | ... P52: =SUM(P46:P51) -> 0 | Q52: =IF($O$52=0,0,O52/$O$52) -> 0
B54: 100.000.001 Sm3 ve Üzeri
B55: 2018 Yılı Tüketim Miktarı (Sm3) | C55: OCAK | D55: ŞUBAT | E55: MART | F55: NİSAN | G55: MAYIS | H55: HAZİRAN | I55: TEMMUZ | J55: AĞUSTOS | K55: EYLÜL | L55: EKİM | M55: KASIM | N55: ARALIK | O55: TOPLAM | P55: SAYAÇ SAYISI | Q55: TÜKETİM ORANI
B56: Konut | O56: =SUM(C56:N56) -> 0 | Q56: =IF($O$62=0,0,O56/$O$62) -> 0
B57: Resmi Kurum | O57: =SUM(C57:N57) -> 0 | Q57: =IF($O$62=0,0,O57/$O$62) -> 0
B58: Ticarethane ve Diğer | O58: =SUM(C58:N58) -> 0 | Q58: =IF($O$62=0,0,O58/$O$62) -> 0
B59: Sanayi Tesisleri | O59: =SUM(C59:N59) -> 0 | Q59: =IF($O$62=0,0,O59/$O$62) -> 0
B60: Organize Sanayi Bölgeleri | O60: =SUM(C60:N60) -> 0 | Q60: =IF($O$62=0,0,O60/$O$62) -> 0
B61: Elektrik Üretim Tesisleri | O61: =SUM(C61:N61) -> 0 | Q61: =IF($O$62=0,0,O61/$O$62) -> 0
B62: TOPLAM | C62: =SUM(C56:C61) -> 0 | D62: =SUM(D56:D61) -> 0 | E62: =SUM(E56:E61) -> 0 | F62: =SUM(F56:F61) -> 0 | G62: =SUM(G56:G61) -> 0 | H62: =SUM(H56:H61) -> 0 | I62: =SUM(I56:I61) -> 0 | J62: =SUM(J56:J61) -> 0 | ... P62: =SUM(P56:P61) -> 0 | Q62: =IF($O$62=0,0,O62/$O$62) -> 0
B64: TÜM KADEMELER
B65: 2018 Yılı Tüketim Miktarı (Sm3) | C65: OCAK | D65: ŞUBAT | E65: MART | F65: NİSAN | G65: MAYIS | H65: HAZİRAN | I65: TEMMUZ | J65: AĞUSTOS | K65: EYLÜL | L65: EKİM | M65: KASIM | N65: ARALIK | O65: TOPLAM | P65: SAYAÇ SAYISI | Q65: TÜKETİM ORANI
B66: Konut | C66: =C6+C16+C26+C36+C46+C56 -> 0 | D66: =D6+D16+D26+D36+D46+D56 -> 0 | E66: =E6+E16+E26+E36+E46+E56 -> 0 | F66: =F6+F16+F26+F36+F46+F56 -> 0 | G66: =G6+G16+G26+G36+G46+G56 -> 0 | H66: =H6+H16+H26+H36+H46+H56 -> 0 | I66: =I6+I16+I26+I36+I46+I56 -> 0 | J66: =J6+J16+J26+J36+J46+J56 -> 0 | ... N66: =N6+N16+N26+N36+N46+N56 -> 0 | O66: =SUM(C66:N66) -> 0 | P66: =P6+P16+P26+P36+P46+P56 -> 0 | Q66: =IF($O$72=0,0,O66/$O$72) -> 0
B67: Resmi Kurum | C67: =C7+C17+C27+C37+C47+C57 -> 0 | D67: =D7+D17+D27+D37+D47+D57 -> 0 | E67: =E7+E17+E27+E37+E47+E57 -> 0 | F67: =F7+F17+F27+F37+F47+F57 -> 0 | G67: =G7+G17+G27+G37+G47+G57 -> 0 | H67: =H7+H17+H27+H37+H47+H57 -> 0 | I67: =I7+I17+I27+I37+I47+I57 -> 0 | J67: =J7+J17+J27+J37+J47+J57 -> 0 | ... N67: =N7+N17+N27+N37+N47+N57 -> 0 | O67: =SUM(C67:N67) -> 0 | P67: =P7+P17+P27+P37+P47+P57 -> 0 | Q67: =IF($O$72=0,0,O67/$O$72) -> 0
B68: Ticarethane ve Diğer | C68: =C8+C18+C28+C38+C48+C58 -> 0 | D68: =D8+D18+D28+D38+D48+D58 -> 0 | E68: =E8+E18+E28+E38+E48+E58 -> 0 | F68: =F8+F18+F28+F38+F48+F58 -> 0 | G68: =G8+G18+G28+G38+G48+G58 -> 0 | H68: =H8+H18+H28+H38+H48+H58 -> 0 | I68: =I8+I18+I28+I38+I48+I58 -> 0 | J68: =J8+J18+J28+J38+J48+J58 -> 0 | ... N68: =N8+N18+N28+N38+N48+N58 -> 0 | O68: =SUM(C68:N68) -> 0 | P68: =P8+P18+P28+P38+P48+P58 -> 0 | Q68: =IF($O$72=0,0,O68/$O$72) -> 0
B69: Sanayi Tesisleri | C69: =C9+C19+C29+C39+C49+C59 -> 0 | D69: =D9+D19+D29+D39+D49+D59 -> 0 | E69: =E9+E19+E29+E39+E49+E59 -> 0 | F69: =F9+F19+F29+F39+F49+F59 -> 0 | G69: =G9+G19+G29+G39+G49+G59 -> 0 | H69: =H9+H19+H29+H39+H49+H59 -> 0 | I69: =I9+I19+I29+I39+I49+I59 -> 0 | J69: =J9+J19+J29+J39+J49+J59 -> 0 | ... N69: =N9+N19+N29+N39+N49+N59 -> 0 | O69: =SUM(C69:N69) -> 0 | P69: =P9+P19+P29+P39+P49+P59 -> 0 | Q69: =IF($O$72=0,0,O69/$O$72) -> 0
B70: Organize Sanayi Bölgeleri | C70: =C10+C20+C30+C40+C50+C60 -> 0 | D70: =D10+D20+D30+D40+D50+D60 -> 0 | E70: =E10+E20+E30+E40+E50+E60 -> 0 | F70: =F10+F20+F30+F40+F50+F60 -> 0 | G70: =G10+G20+G30+G40+G50+G60 -> 0 | H70: =H10+H20+H30+H40+H50+H60 -> 0 | I70: =I10+I20+I30+I40+I50+I60 -> 0 | J70: =J10+J20+J30+J40+J50+J60 -> 0 | ... N70: =N10+N20+N30+N40+N50+N60 -> 0 | O70: =SUM(C70:N70) -> 0 | P70: =P10+P20+P30+P40+P50+P60 -> 0 | Q70: =IF($O$72=0,0,O70/$O$72) -> 0
B71: Elektrik Üretim Tesisleri | C71: =C11+C21+C31+C41+C51+C61 -> 0 | D71: =D11+D21+D31+D41+D51+D61 -> 0 | E71: =E11+E21+E31+E41+E51+E61 -> 0 | F71: =F11+F21+F31+F41+F51+F61 -> 0 | G71: =G11+G21+G31+G41+G51+G61 -> 0 | H71: =H11+H21+H31+H41+H51+H61 -> 0 | I71: =I11+I21+I31+I41+I51+I61 -> 0 | J71: =J11+J21+J31+J41+J51+J61 -> 0 | ... N71: =N11+N21+N31+N41+N51+N61 -> 0 | O71: =SUM(C71:N71) -> 0 | P71: =P11+P21+P31+P41+P51+P61 -> 0 | Q71: =IF($O$72=0,0,O71/$O$72) -> 0
B72: TOPLAM | C72: =SUM(C66:C71) -> 0 | D72: =SUM(D66:D71) -> 0 | E72: =SUM(E66:E71) -> 0 | F72: =SUM(F66:F71) -> 0 | G72: =SUM(G66:G71) -> 0 | H72: =SUM(H66:H71) -> 0 | I72: =SUM(I66:I71) -> 0 | J72: =SUM(J66:J71) -> 0 | ... P72: =SUM(P66:P71) -> 0 | Q72: =IF($O$72=0,0,O72/$O$72) -> 0
B76: 0 - 100.000 Sm3
B77: 2018 Yılı Tüketim Miktarı (Sm3) | C77: OCAK | D77: ŞUBAT | E77: MART | F77: NİSAN | G77: MAYIS | H77: HAZİRAN | I77: TEMMUZ | J77: AĞUSTOS | K77: EYLÜL | L77: EKİM | M77: KASIM | N77: ARALIK | O77: TOPLAM | P77: SAYAÇ SAYISI | Q77: TÜKETİM ORANI
B78: Konut | C78: =SUM(C6+C16) -> 0 | D78: =SUM(D6+D16) -> 0 | E78: =SUM(E6+E16) -> 0 | F78: =SUM(F6+F16) -> 0 | G78: =SUM(G6+G16) -> 0 | H78: =SUM(H6+H16) -> 0 | I78: =SUM(I6+I16) -> 0 | J78: =SUM(J6+J16) -> 0 | ... N78: =SUM(N6+N16) -> 0 | O78: =SUM(C78:N78) -> 0 | P78: =SUM(P6+P16) -> 0 | Q78: =IF($O$12=0,0,O78/$O$12) -> 0
B79: Resmi Kurum | C79: =SUM(C7+C17) -> 0 | D79: =SUM(D7+D17) -> 0 | E79: =SUM(E7+E17) -> 0 | F79: =SUM(F7+F17) -> 0 | G79: =SUM(G7+G17) -> 0 | H79: =SUM(H7+H17) -> 0 | I79: =SUM(I7+I17) -> 0 | J79: =SUM(J7+J17) -> 0 | ... N79: =SUM(N7+N17) -> 0 | O79: =SUM(C79:N79) -> 0 | P79: =SUM(P7+P17) -> 0 | Q79: =IF($O$12=0,0,O79/$O$12) -> 0
B80: Ticarethane ve Diğer | C80: =SUM(C8+C18) -> 0 | D80: =SUM(D8+D18) -> 0 | E80: =SUM(E8+E18) -> 0 | F80: =SUM(F8+F18) -> 0 | G80: =SUM(G8+G18) -> 0 | H80: =SUM(H8+H18) -> 0 | I80: =SUM(I8+I18) -> 0 | J80: =SUM(J8+J18) -> 0 | ... N80: =SUM(N8+N18) -> 0 | O80: =SUM(C80:N80) -> 0 | P80: =SUM(P8+P18) -> 0 | Q80: =IF($O$12=0,0,O80/$O$12) -> 0
B81: Sanayi Tesisleri | C81: =SUM(C9+C19) -> 0 | D81: =SUM(D9+D19) -> 0 | E81: =SUM(E9+E19) -> 0 | F81: =SUM(F9+F19) -> 0 | G81: =SUM(G9+G19) -> 0 | H81: =SUM(H9+H19) -> 0 | I81: =SUM(I9+I19) -> 0 | J81: =SUM(J9+J19) -> 0 | ... N81: =SUM(N9+N19) -> 0 | O81: =SUM(C81:N81) -> 0 | P81: =SUM(P9+P19) -> 0 | Q81: =IF($O$12=0,0,O81/$O$12) -> 0
B82: Organize Sanayi Bölgeleri | C82: =SUM(C10+C20) -> 0 | D82: =SUM(D10+D20) -> 0 | E82: =SUM(E10+E20) -> 0 | F82: =SUM(F10+F20) -> 0 | G82: =SUM(G10+G20) -> 0 | H82: =SUM(H10+H20) -> 0 | I82: =SUM(I10+I20) -> 0 | J82: =SUM(J10+J20) -> 0 | ... N82: =SUM(N10+N20) -> 0 | O82: =SUM(C82:N82) -> 0 | P82: =SUM(P10+P20) -> 0 | Q82: =IF($O$12=0,0,O82/$O$12) -> 0
B83: Elektrik Üretim Tesisleri | C83: =SUM(C11+C21) -> 0 | D83: =SUM(D11+D21) -> 0 | E83: =SUM(E11+E21) -> 0 | F83: =SUM(F11+F21) -> 0 | G83: =SUM(G11+G21) -> 0 | H83: =SUM(H11+H21) -> 0 | I83: =SUM(I11+I21) -> 0 | J83: =SUM(J11+J21) -> 0 | ... N83: =SUM(N11+N21) -> 0 | O83: =SUM(C83:N83) -> 0 | P83: =SUM(P11+P21) -> 0 | Q83: =IF($O$12=0,0,O83/$O$12) -> 0
B84: TOPLAM | C84: =SUM(C78:C83) -> 0 | D84: =SUM(D78:D83) -> 0 | E84: =SUM(E78:E83) -> 0 | F84: =SUM(F78:F83) -> 0 | G84: =SUM(G78:G83) -> 0 | H84: =SUM(H78:H83) -> 0 | I84: =SUM(I78:I83) -> 0 | J84: =SUM(J78:J83) -> 0 | ... P84: =SUM(P78:P83) -> 0 | Q84: =IF($O$12=0,0,O84/$O$12) -> 0
