Workbook
Name __fdf1: '[1]#REF'!$B$4
Name __fdf2: '[1]#REF'!$B$5
Name __Lot123: #REF!
Name __Lot123: #REF!
Name __Lot123: #REF!
Name __Lot123: #REF!
Name __tr1: '[1]Travel Rates'!#REF!
Name __tr1: '[1]Travel Rates'!#REF!
Name __tr1: '[1]Travel Rates'!#REF!
Name __tr1: '[1]Travel Rates'!#REF!
Name __tr2: #REF!
Name __tr2: #REF!
Name __tr2: #REF!
Name __tr2: #REF!
Name __tr3: '[1]Travel Rates'!#REF!
Name __tr3: '[1]Travel Rates'!#REF!
Name __tr3: '[1]Travel Rates'!#REF!
Name __tr3: '[1]Travel Rates'!#REF!
Name __tr4: #REF!
Name __tr4: #REF!
Name __tr4: #REF!
Name __tr4: #REF!
Name __tr5: '[1]Travel Rates'!#REF!
Name __tr5: '[1]Travel Rates'!#REF!
Name __tr5: '[1]Travel Rates'!#REF!
Name __tr5: '[1]Travel Rates'!#REF!
Name __TTL4000: '[1]#REF'!$L$16
Name __TTL5000: '[1]#REF'!$N$211
Name __TTL5400: '[1]#REF'!$N$58
Name __TTL6000: '[1]#REF'!$N$102
Name __TTL8000: '[1]#REF'!$N$176
Name __wdf2: '[1]#REF'!$B$7
Name _1Y_0Crite: #REF!
Name _1Y_0Crite: #REF!
Name _1Y_0Crite: #REF!
Name _1Y_0Crite: #REF!
Name _1Y_0Crite: #REF!
Name _1Y_0Crite: #REF!
Name _1Y_0Crite: #REF!
Name _2Y_0Crite: #REF!
Name _2Y_0Crite: #REF!
Name _2Y_0Crite: #REF!
Name _2Y_0Crite: #REF!
Name _2Y_0Crite: #REF!
Name _2Y_0Crite: #REF!
Name _2Y_0Extr: #REF!
Name _2Y_0Extr: #REF!
Name _2Y_0Extr: #REF!
Name _2Y_0Extr: #REF!
Name _3Y__Crite: '[1]Labour Hours'!#REF!
Name _3Y__Crite: '[1]Labour Hours'!#REF!
Name _3Y__Crite: '[1]Labour Hours'!#REF!
Name _3Y__Crite: '[1]Labour Hours'!#REF!
Name _4Y__Extr: '[1]Labour Hours'!#REF!
Name _4Y__Extr: '[1]Labour Hours'!#REF!
Name _4Y__Extr: '[1]Labour Hours'!#REF!
Name _4Y__Extr: '[1]Labour Hours'!#REF!
Name _4Y__Extr: '[1]Labour Hours'!#REF!
Name _4Y__Extr: '[1]Labour Hours'!#REF!
Name _4Y__Extr: '[1]Labour Hours'!#REF!

Sheet Ekler
B2: DAĞITIM ŞİRKETLERİ YILLIK TARİFE TABLOLARI LİSTESİ:
B4: ='Profil ve Lisans Bilgileri'!B2 -> EK-1: FİRMA PROFİLİ VE LİSANS BİLGİLERİ
B5: ='Temel Veriler'!B2 -> EK-2: TEMEL VERİLER
B6: =Bilanço!B2 -> EK-3: YILLIK BİLANÇOLAR
B7: ='Gelir Tablosu'!B2 -> EK-4: YILLIK GELİR TABLOLARI
B8: ='Nakit Akım Tablosu'!B2 -> EK-5: YILLIK NAKİT AKIM TABLOLARI
B9: =Mizanlar!B2 -> EK-6: MİZANLAR
B10: =Alımlar!B2 -> EK-7: DAĞITIM ŞİRKETLERİ DOĞAL GAZ ALIM MİKTAR VE BEDELLERİ
B11: ='Satışlar '!B2 -> EK-8/A: DAĞITIM ŞİRKETLERİ DOĞAL GAZ SATIŞ FİYAT, MİKTAR VE BEDELLERİ
B12: EK-8/B: DAĞITIM ŞİRKETLERİNİN 2021 YILINA KADAR DOĞAL GAZ MİKTAR TAHMİNLERİ (Bu yıl istenmemektedir.)
B13: ='Serbest Tüketiciler'!B2 -> EK-8/C: 100.000 Sm3 ÜZERİ TÜKETEN SERBEST TÜKETİCİLERİN LİSTESİ
B14: EK-8/D: DAĞITIM ŞİRKETLERİNİN GÜNLÜK DOĞAL GAZ ÇEKİŞLERİ (Bu yıl istenmemektedir.)
B15: =Taşıma!B2 -> EK-9: TEDARİKÇİLERDEN DOĞAL GAZ ALAN SERBEST TÜKETİCİLERİN LİSTESİ
B16: EK-10/A: DOĞAL GAZ HİZMET MALİYETİ (Bu yıl istenmemektedir.)
B17: ='İşletme Giderleri'!B2 -> EK-10/B: İŞLETME GİDERLERİ
B18: ='İşletme Gideri Mizan Karşılığı'!B2 -> EK-10/C: İŞLETME GİDERLERİ - MİZAN KARŞILIĞI
B19: ='Bina Kira Giderleri'!B2 -> EK-10/D: GAYRİMENKUL KİRA GİDERLERİ
B20: ='Taşıt Kira Giderleri'!B2 -> EK-10/E: TAŞIT KİRA GİDERLERİ
B21: ='Yazılım Kira Giderleri'!B2 -> EK-10/F: YAZILIM KİRA GİDERLERİ
B22: ='Fatura Bilgileri'!B2 -> EK-10/G: FATURA BİLGİLERİ
B23: EK-11: DOĞAL GAZ HİZMETİNDE KULLANILAN SABİT KIYMETLER (Bu yıl istenmemektedir.)
B24: EK-12: BİRİKMİŞ AMORTİSMAN VE TÜKENME PAYLARI (Bu yıl istenmemektedir.)
B25: =İstihdam!B2 -> EK-13: PERSONEL SAYISI VE PERSONEL GİDERLERİ
B26: EK-14/A: DAĞITIM ŞİRKETLERİNİN ÖNEMLİ BORÇLARI (Bu yıl istenmemektedir.)
B27: =Krediler!B2 -> EK-14/B: DAĞITIM ŞİRKETLERİNİN KREDİLERİ
B28: EK-14/C: DAĞITIM ŞİRKETLERİNİN KREDİ GERİ ÖDEME TABLOSU (Bu yıl istenmemektedir.)
B29: EK-15: DAĞITIM ŞİRKETLERİNİN ÖNEMLİ ALACAKLARI (Bu yıl istenmemektedir.)
B30: EK-16: DAĞITIM ŞİRKETLERİ TARİFE ÖNERİSİ (Şirket üst yazısında sunulacaktır.)
B31: EK-17: VERİMLİLİK (Bu yıl istenmemektedir.)
B32: EK-18: BAĞLANTI BEDELİ MALİYETİ (Bu yıl istenmemektedir.)
B33: ='Hizmet Kalitesi'!B2 -> EK-19: HİZMET KALİTESİ PERFORMANS GÖSTERGELERİ
B34: ='Tüketici Bilgileri'!B2 -> EK-20: TÜKETİCİ SAYISI DETAY TABLOSU
B35: =Yatırımlar!B2 -> EK-21/A1: YATIRIMLAR
B36: ='Servis Hatları'!B2 -> EK-21/A2: SERVİS HATLARI
B37: ='Münferit Hatlar'!B2 -> EK-21/A3: MÜNFERİT HATLAR
B38: EK-21/B: YATIRIM DAĞILIMI (Bu yıl istenmemektedir.)
B39: ='Planlanan Yatırımlar'!B2 -> EK-21/C: PLANLANAN YATIRIMLAR
B40: ='İstasyon Bilgileri'!B2 -> EK-21/D: İSTASYON BİLGİLERİ
B41: ='Deplase Hatlar'!B2 -> EK-21/E: DEPLASE HATLAR
B42: ='Sayaç Bilgileri'!B2 -> EK-21/F: SAYAÇ BİLGİLERİ
...

Sheet Profil ve Lisans Bilgileri
B2: EK-1: FİRMA PROFİLİ VE LİSANS BİLGİLERİ
C3: 1. Kişi | D3: 2. Kişi | E3: 3. Kişi | F3: 4. Kişi | G3: 5. Kişi
B4: Tabloları Düzenleyenler :
B5: Düzenleyenlerin Telefonu :
B6: Düzenleyenlerin E-mail Adresi :
B8: 1. ŞİRKET KİMLİĞİ
B9: 1.1. Şirket Unvanı
B10: 1.2. Kuruluş Tarihi
B12: 2. LİSANS BİLGİLERİ
B13: 2.1. Lisans Tarihi ve Sayısı
B14: 2.2. Lisans Türü
B15: 2.3. Lisans Süresi
B16: 2.4. Tarifeye Esas Faaliyeti
B17: 2.5. Güncel Lisans Bölgesi (01.04.2019 itibariyle)
B18: 2.6. Lisans Bölgesi Genişledi mi? | C18: EVET | E18: EVET
B19: Eğer yukarıdaki soruya verilen cevap "EVET" ise 3 numaralı bölümün doldurulması gerekmektedir. | E19: HAYIR | F19: HAYIR
B21: 3. GENİŞLEME BİLGİLERİ
B22: Genişleme Kurul Karar Tarih ve Sayısı | C22: Lisans Kapsamına Alınan Şehir(ler)
B23: … tarihli ve … sayılı
B24: … tarihli ve … sayılı
B25: … tarihli ve … sayılı
B26: … tarihli ve … sayılı
B27: … tarihli ve … sayılı
B28: … tarihli ve … sayılı
B29: … tarihli ve … sayılı
B30: … tarihli ve … sayılı
B31: … tarihli ve … sayılı
B32: … tarihli ve … sayılı
B33: … tarihli ve … sayılı
B34: … tarihli ve … sayılı
... B46: 4.6. Bağlantı Kurulacak Yetkililer

Sheet Temel Veriler
B2: EK-2: TEMEL VERİLER
B4: 1. TEMEL BİLGİLER | C4: Birim | D4: 2018
B5: 1.1. Nüfus | C5: adet
B6: 1.2. Şehir Sayısı | C6: adet
B7: 1.3. Toplam Bina Sayısı | C7: adet
B8: 1.4. Toplam Daire Sayısı | C8: adet
B9: 1.5. Abone Merkezi Sayısı | C9: adet
B10: 1.6. Acil Müdahale Lokasyon Sayısı | C10: adet
B11: 1.7. Toplam Acil Müdahale Araç Sayısı | C11: adet
B13: 2. ŞEBEKE BİLGİLERİ | C13: Birim | D13: 2014 | E13: 2015 | F13: 2016 | G13: 2017 | H13: 2018
B14: 2.1. Faaliyette bulunulan alan | C14: km2
B15: 2.2. Toplam Boru Hattı Uzunluğu (kümülatif) | C15: metre | D15: =SUM(D16:D18) -> 0 | E15: =SUM(E16:E18) -> 0 | F15: =SUM(F16:F18) -> 0 | G15: =SUM(G16:G18) -> 0 | H15: =SUM(H16:H18) -> 0
B16: 2.2.1. Çelik hat uzunluğu (kümülatif) | C16: metre
B17: 2.2.2. PE hat uzunluğu (kümülatif) | C17: metre
B18: 2.2.3. Servis hattı uzunluğu (kümülatif) | C18: metre
B19: 2.3. Toplam Sayaç Sayısı (Kümülatif) | C19: adet
B20: 2.4. Penetrasyon oranı | C20: %
B21: 2.5. Pik Gün Verileri
B22: 2.5.1. Şebekenin Günlük Gaz Taşıma Kapasitesi | C22: Sm3/gün
B23: 2.5.2. Pik Gün | C23: gg/aa/yyyy
B24: 2.5.3. Şebekenin Pik Gününde Şebekeden Geçen Toplam Gaz Miktarı | C24: Sm3
B25: 2.5.4. Pik Günde Serbest Tüketicilerce Tüketilen Gaz Miktarı (Taşıma Hizmeti verilenler dahil) | C25: Sm3
B26: 2.5.5. Pik Günde Abonelerce Tüketilen Gaz Miktarı | C26: Sm3 | D26: =D24-D25 -> 0 | E26: =E24-E25 -> 0 | F26: =F24-F25 -> 0 | G26: =G24-G25 -> 0 | H26: =H24-H25 -> 0
B28: 3. ABONE BİLGİLERİ | C28: Birim | D28: 2014 | E28: 2015 | F28: 2016 | G28: 2017 | H28: 2018
B29: 3.1. Bağlantı Sözleşmesi Yapılan Tüketici Sayısı (Kümülatif) | C29: adet
B30: 3.2. Gaz Verilen Bina Sayısı (İçinde en az bir abone bulunan) (Kümülatif) | C30: adet
B32: 4. DOĞAL GAZ ALIŞ, SATIŞ VE TAŞIMA BİLGİLERİ | C32: Birim | D32: 2014 | E32: 2015 | F32: 2016 | G32: 2017 | H32: 2018
B33: 4.1. Satın Alınan Doğal Gaz Miktarı | C33: Sm3
B34: 4.2. Satılan Doğal Gaz Miktarı | C34: Sm3
B35: 4.3. Taşınan Gaz Miktarı | C35: Sm3

Sheet Bilanço
B2: EK-3: YILLIK BİLANÇOLAR
C4: (TL)
B5: AKTİF | C5: 43465
B6: I-DÖNEN VARLIKLAR | C6: =+C7+C13+C19+C27+C36+C44+C47+C50 -> 0
B7: A - HAZIR DEĞERLER | C7: =C8+C9+C10-C11+C12 -> 0
B8: 1 - Kasa Hesabı
B9: 2 - Alınan Çekler Hesabı
B10: 3 - Bankalar Hesabı
B11: 4 - Verilen Çekler ve Ödeme Emirleri (-)
B12: 5 - Diğer Hazır Değerler
B13: B - MENKUL KIYMETLER | C13: =C14+C15+C16+C17-C18 -> 0
B14: 1 - Hisse Senetleri
B15: 2 - Özel Kesim Tahvil, Senet ve Bonoları
B16: 3 - Kamu Kesim Tahvil, Senet ve Bonoları
B17: 4 - Diğer Menkul Kıymetler
B18: 5 - Menkul Kıymetler Değer Düşüklüğü Karşılığı Hesabı (-)
B19: C - TİCARİ ALACAKLAR | C19: =+C20+C21-C22+C23+C24+C25-C26 -> 0
B20: 1 - Alıcılar
B21: 2 - Alacak Senetleri
B22: 3 - Alacak Senetleri Reeskontu (-)
B23: 4 - Verilen Depozito ve Teminatlar
B24: 5 - Diğer Ticari Alacaklar
B25: 6 - Şüpheli Ticari Alacaklar
B26: 7 - Şüpheli Ticari Alacaklar Karşılığı (-)
B27: D - DİĞER ALACAKLAR | C27: =C28+C29+C30+C31+C32-C33+C34-C35 -> 0
B28: 1 - Ortaklardan Alacaklar
B29: 2 - İştiraklerden Alacaklar
B30: 3 - Bağlı Ortaklıklardan Alacaklar
B31: 4 - Personelden Alacaklar
B32: 5 - Diğer Çeşitli Alacaklar
B33: 6 - Diğer Alacak Senetleri Reeskontu (-)
B34: 7 - Şüpheli Diğer Alacaklar
B35: 8 - Şüpheli Diğer Alacaklar Karşılığı (-)
B36: E - STOKLAR | C36: =+C37+C38+C39+C40+C41-C42+C43 -> 0
B37: 1 - İlk Madde ve Malzeme Giderleri
B38: 2 - Yarı Mamül Üretim Hesabı
B39: 3 - Mamüller Hesabı
B40: 4 - Ticari Mallar
B41: 5 - Diğer Stoklar Hesabı
B42: 6 - Stok Değer Düşüklüğü Karşılığı (-)
...

Sheet Gelir Tablosu
B2: EK-4: YILLIK GELİR TABLOLARI
C4: (TL)
C5: 43465
B6: A - Brüt Satışlar | C6: =SUM(C7:C9) -> 0
B7: 1 - Yurtiçi Satışlar
B8: 2 - Yurtdışı Satışlar
B9: 3 - Diğer Gelirler
B11: B - Satış İndirimleri (-) | C11: =SUM(C12:C14) -> 0
B12: 1 - Satıştan İadeler (-)
B13: 2 - Satış İskontoları (-)
B14: 3 - Diğer İndirimler (-)
B16: C - NET SATIŞLAR | C16: =+C6-C11 -> 0
B18: D - Satışların Maliyeti (-) | C18: =SUM(C19:C22) -> 0
B19: 1 - Satılan Mamüller Maliyeti (-)
B20: 2 - Satılan Ticari Mallar Maliyeti (-)
B21: 3 - Satılan Hizmet Maliyeti (-)
B22: 4 - Diğer Satışların Maliyeti (-)
B24: BRÜT SATIŞ KARI VEYA ZARARI | C24: =+C16-C18 -> 0
B26: E - Faaliyet Giderleri (-) | C26: =SUM(C27:C29) -> 0
B27: 1 - Araştırma ve Geliştirme Giderleri (-)
B28: 2 - Pazarlama, Satış ve Dağıtım Giderleri (-)
B29: 3 - Genel Yönetim Giderleri (-)
B31: FAALİYET KARI VEYA ZARARI | C31: =+C24-C26 -> 0
B33: F - Diğer Faaliyetlerden Olağan Gelir ve Karlar | C33: =SUM(C34:C42) -> 0
B34: 1 - İştiraklerden Temettü Gelirleri
B35: 2 - Bağlı Ortaklıklardan Temettü Gelirleri
B36: 3 - Faiz Gelirleri
B37: 4 - Komisyon Gelirleri
B38: 5 - Konusu Kalmayan Karşılıklar
B39: 6 - Menkul Kıymet Satış Karları
B40: 7 - Kambiyo Karları
B41: 8 - Reeskont Faiz Gelirleri
B42: 9 - Diğer Olağan Gelir ve Karlar
B44: G - Diğer Faaliyetlerden Olağan Gider ve Zararlar (-) | C44: =SUM(C45:C50) -> 0
B45: 1 - Komisyon Giderleri (-)
B46: 2 - Karşılık Giderleri (-)
B47: 3 - Menkul Kıymet Satış Zararları (-)
B48: 4 - Kambiyo Zararları (-)
B49: 5 - Reeskont Faiz Giderleri (-)
B50: 6 - Diğer Gider ve Zararlar (-)
...

Sheet Nakit Akım Tablosu
B2: EK-5: YILLIK NAKİT AKIM TABLOLARI
C4: (TL)
B5: NAKİT AKIM TABLOSU | C5: 43465
B6: NAKİT GİRİŞLERİ
B7: Dönem Başı Nakit
B8: D.Gaz Satışlarından Tahsilat
B9: Taşıma Hizmeti Gelirlerinden Tahsilat
B10: Bağlantı Gelirlerinden Tahsilat
B11: İç Tesisat İşlemleri
B12: Diğer Gelirler Kapsamındaki Tahsilatlar
B13: Diğer Faaliyetlerden Tahsilatlar
B14: Hissedarlardan Nakit Girişleri
B15: Kredi Girişleri (İşletme)
B16: Kredi Girişleri (Yatırım)
B17: Güvence Bedeli Tahsilatları
B18: Diğer Nakit Girişleri
B19: TOPLAM NAKİT GİRİŞLERİ | C19: =SUM(C7:C18) -> 0
B21: NAKİT ÇIKIŞLARI
B22: D.Gaz Emtia Ödemeleri
B23: İade İşlemleri Kaynaklı Nakit Çıkışları
B24: İlk Madde ve Malzeme Alış Ödemeleri
B25: Yatırım Hakediş Ödemeleri
B26: Vergi ve Fon Ödemeleri
B27: Kredi Ödemeleri (İşletme)
B28: Kredi Ödemeleri (Yatırım)
B29: Hissedara Temettü / Temettüye Mahsuben Avans
B30: Faaliyet Giderleri | C30: =SUM(C31:C33) -> 0
B31: Personel Giderleri Kapsamındaki Ödemeler
B32: Dışarıdan Sağlanan Fayda ve Hizmetler Kapsamındaki Ödemeler
B33: Diğer Faaliyet Giderleri Kapsamındaki Ödemeler
B34: Güvence Bedeli İadeleri
B35: Diğer Nakit Çıkışları
B36: ÇIKIŞLAR TOPLAMI | C36: =SUM(C22:C30,C34:C35) -> 0
B38: DÖNEM SONU NAKİT | C38: =C19-C36 -> 0

Sheet Mizanlar
B2: EK-6: MİZANLAR
B4: AÇIKLAMALAR:
B5: 1- Şirket mizanları detay kalemlerinin anlaşılacak şekilde tam adlarıyla ve bu kalemlere ilişkin açıklamaların aydınlatıcı şekilde verilmesi gerekmektedir.
B6: 2- Şirket mizanlarının excel tablosu şeklinde eklenmesi, fotoğraf veya pdf şeklinde eklenmemesi gerekmektedir.
B9: 2018 YILI İÇİN DETAY MİZANLAR BU TABLODA ELEKTRONİK ORTAMDA,
B10: AYRICA ONAYLI BASILI ÇIKTI OLARAK YAZI EKİNDE SUNULACAKTIR.

Sheet Alımlar
B2: EK-7: DAĞITIM ŞİRKETLERİ DOĞAL GAZ ALIM MİKTAR VE BEDELLERİ
B4: DAĞITIM ŞİRKETLERİNİN 2018 YILI DOĞAL GAZ ALIM MİKTAR VE BEDELLERİ
C5: Ocak | D5: Şubat | E5: Mart | F5: Nisan | G5: Mayıs | H5: Haziran | I5: Temmuz | J5: Ağustos | K5: Eylül | L5: Ekim | M5: Kasım | N5: Aralık | O5: Yıllık
B6: TEDARİKÇİ UNVANI
B7: Abone
B8: Miktar (Sm3) | O8: =SUM(C8:N8) -> 0
B9: ÖTV Dahil KDV Hariç Toplam Alım Bedeli (TL) | O9: =SUM(C9:N9) -> 0
B10: Serbest Tüketici
B11: Elektrik Üretim Amaçlı
B12: Miktar (Sm3) | O12: =SUM(C12:N12) -> 0
B13: ÖTV Dahil KDV Hariç Toplam Alım Bedeli (TL) | O13: =SUM(C13:N13) -> 0
B14: OSB
B15: Miktar (Sm3) | O15: =SUM(C15:N15) -> 0
B16: ÖTV Dahil KDV Hariç Toplam Alım Bedeli (TL) | O16: =SUM(C16:N16) -> 0
B17: Diğer
B18: Miktar (Sm3) | O18: =SUM(C18:N18) -> 0
B19: ÖTV Dahil KDV Hariç Toplam Alım Bedeli (TL) | O19: =SUM(C19:N19) -> 0
B21: TEDARİKÇİ UNVANI
B22: Abone
B23: Miktar (Sm3) | O23: =SUM(C23:N23) -> 0
B24: ÖTV Dahil KDV Hariç Toplam Alım Bedeli (TL) | O24: =SUM(C24:N24) -> 0
B25: Serbest Tüketici
B26: Elektrik Üretim Amaçlı
B27: Miktar (Sm3) | O27: =SUM(C27:N27) -> 0
B28: ÖTV Dahil KDV Hariç Toplam Alım Bedeli (TL) | O28: =SUM(C28:N28) -> 0
B29: OSB
B30: Miktar (Sm3) | O30: =SUM(C30:N30) -> 0
B31: ÖTV Dahil KDV Hariç Toplam Alım Bedeli (TL) | O31: =SUM(C31:N31) -> 0
B32: Diğer
B33: Miktar (Sm3) | O33: =SUM(C33:N33) -> 0
B34: ÖTV Dahil KDV Hariç Toplam Alım Bedeli (TL) | O34: =SUM(C34:N34) -> 0
B35: ……….
B37: TOPLAM ABONE DOĞAL GAZ MİKTARI (Sm3) | O37: =SUM(C37:N37) -> 0
B38: TOPLAM ABONE ALIM BEDELİ (TL) (ÖTV Dahil KDV Hariç) | O38: =SUM(C38:N38) -> 0
B39: TOPLAM ST (EÜA) DOĞAL GAZ MİKTARI (Sm3) | O39: =SUM(C39:N39) -> 0
B40: TOPLAM ST (EÜA) ALIM BEDELİ (TL) (ÖTV Dahil KDV Hariç) | O40: =SUM(C40:N40) -> 0
B41: TOPLAM ST (OSB) DOĞAL GAZ MİKTARI (Sm3) | O41: =SUM(C41:N41) -> 0
B42: TOPLAM ST (OSB) ALIM BEDELİ (TL) (ÖTV Dahil KDV Hariç) | O42: =SUM(C42:N42) -> 0
B43: TOPLAM ST (DİĞER) DOĞAL GAZ MİKTARI (Sm3) | O43: =SUM(C43:N43) -> 0
B44: TOPLAM ST (DİĞER) ALIM BEDELİ (TL) (ÖTV Dahil KDV Hariç) | O44: =SUM(C44:N44) -> 0
...

Sheet Satışlar 
B2: EK-8/A: DAĞITIM ŞİRKETLERİ DOĞAL GAZ SATIŞ FİYAT, MİKTAR VE BEDELLERİ
B4: DAĞITIM ŞİRKETLERİ 2018 YILI DOĞAL GAZ SATIŞ FİYAT, MİKTAR VE BEDELLERİ (Sm3)
C5: Ocak | D5: Şubat | E5: Mart | F5: Nisan | G5: Mayıs | H5: Haziran | I5: Temmuz | J5: Ağustos | K5: Eylül | L5: Ekim | M5: Kasım | N5: Aralık | O5: Yıllık
B6: Abone
B7: ÖTV Dahil KDV Hariç Fiyat (TL/Sm3) | C7: =IF(C8=0,0,C9/C8) -> 0 | D7: =IF(D8=0,0,D9/D8) -> 0 | E7: =IF(E8=0,0,E9/E8) -> 0 | F7: =IF(F8=0,0,F9/F8) -> 0 | G7: =IF(G8=0,0,G9/G8) -> 0 | H7: =IF(H8=0,0,H9/H8) -> 0 | I7: =IF(I8=0,0,I9/I8) -> 0 | J7: =IF(J8=0,0,J9/J8) -> 0 | ... N7: =IF(N8=0,0,N9/N8) -> 0 | O7: =IF(O8=0,0,+O9/O8) -> 0
B8: Tüketim (Sm3) | O8: =SUM(C8:N8) -> 0
B9: Hasılat (TL) | O9: =SUM(C9:N9) -> 0
B10: Müşteri Sayısı (Fatura Kesilen) | O10: =N10 -> 0
B11: Serbest Tüketici
B12: Elektrik Üretim Amaçlı
B13: ÖTV Dahil KDV Hariç Fiyat (TL/Sm3) | C13: =IF(C14=0,0,C15/C14) -> 0 | D13: =IF(D14=0,0,D15/D14) -> 0 | E13: =IF(E14=0,0,E15/E14) -> 0 | F13: =IF(F14=0,0,F15/F14) -> 0 | G13: =IF(G14=0,0,G15/G14) -> 0 | H13: =IF(H14=0,0,H15/H14) -> 0 | I13: =IF(I14=0,0,I15/I14) -> 0 | J13: =IF(J14=0,0,J15/J14) -> 0 | ... N13: =IF(N14=0,0,N15/N14) -> 0 | O13: =IF(O14=0,0,+O15/O14) -> 0
B14: Tüketim (Sm3) | O14: =SUM(C14:N14) -> 0
B15: Hasılat (TL) | O15: =SUM(C15:N15) -> 0
B16: Müşteri Sayısı (Fatura Kesilen) | O16: =N16 -> 0
B17: OSB
B18: ÖTV Dahil KDV Hariç Fiyat (TL/Sm3) | C18: =IF(C19=0,0,C20/C19) -> 0 | D18: =IF(D19=0,0,D20/D19) -> 0 | E18: =IF(E19=0,0,E20/E19) -> 0 | F18: =IF(F19=0,0,F20/F19) -> 0 | G18: =IF(G19=0,0,G20/G19) -> 0 | H18: =IF(H19=0,0,H20/H19) -> 0 | I18: =IF(I19=0,0,I20/I19) -> 0 | J18: =IF(J19=0,0,J20/J19) -> 0 | ... N18: =IF(N19=0,0,N20/N19) -> 0 | O18: =IF(O19=0,0,+O20/O19) -> 0
B19: Tüketim (Sm3) | O19: =SUM(C19:N19) -> 0
B20: Hasılat (TL) | O20: =SUM(C20:N20) -> 0
B21: Müşteri Sayısı (Fatura Kesilen) | O21: =N21 -> 0
B22: CNG Lisansı Sahipleri
B23: ÖTV Dahil KDV Hariç Fiyat (TL/Sm3) | C23: =IF(C24=0,0,C25/C24) -> 0 | D23: =IF(D24=0,0,D25/D24) -> 0 | E23: =IF(E24=0,0,E25/E24) -> 0 | F23: =IF(F24=0,0,F25/F24) -> 0 | G23: =IF(G24=0,0,G25/G24) -> 0 | H23: =IF(H24=0,0,H25/H24) -> 0 | I23: =IF(I24=0,0,I25/I24) -> 0 | J23: =IF(J24=0,0,J25/J24) -> 0 | ... N23: =IF(N24=0,0,N25/N24) -> 0 | O23: =IF(O24=0,0,+O25/O24) -> 0
B24: Tüketim (Sm3) | O24: =SUM(C24:N24) -> 0
B25: Hasılat (TL) | O25: =SUM(C25:N25) -> 0
B26: Müşteri Sayısı (Fatura Kesilen) | O26: =N26 -> 0
B27: Diğer
B28: ÖTV Dahil KDV Hariç Fiyat (TL/Sm3) | C28: =IF(C29=0,0,C30/C29) -> 0 | D28: =IF(D29=0,0,D30/D29) -> 0 | E28: =IF(E29=0,0,E30/E29) -> 0 | F28: =IF(F29=0,0,F30/F29) -> 0 | G28: =IF(G29=0,0,G30/G29) -> 0 | H28: =IF(H29=0,0,H30/H29) -> 0 | I28: =IF(I29=0,0,I30/I29) -> 0 | J28: =IF(J29=0,0,J30/J29) -> 0 | ... N28: =IF(N29=0,0,N30/N29) -> 0 | O28: =IF(O29=0,0,+O30/O29) -> 0
B29: Tüketim (Sm3) | O29: =SUM(C29:N29) -> 0
B30: Hasılat (TL) | O30: =SUM(C30:N30) -> 0
B31: Müşteri Sayısı (Fatura Kesilen) | O31: =N31 -> 0
B32: Isıtma Gazı ve Diğer Amaçlı Kullanım
B33: ÖTV Dahil KDV Hariç Fiyat (TL/Sm3) | C33: =IF(C34=0,0,C35/C34) -> 0 | D33: =IF(D34=0,0,D35/D34) -> 0 | E33: =IF(E34=0,0,E35/E34) -> 0 | F33: =IF(F34=0,0,F35/F34) -> 0 | G33: =IF(G34=0,0,G35/G34) -> 0 | H33: =IF(H34=0,0,H35/H34) -> 0 | I33: =IF(I34=0,0,I35/I34) -> 0 | J33: =IF(J34=0,0,J35/J34) -> 0 | ... N33: =IF(N34=0,0,N35/N34) -> 0 | O33: =IF(O34=0,0,+O35/O34) -> 0
B34: Tüketim (Sm3) | O34: =SUM(C34:N34) -> 0
B35: Gider (TL) | O35: =SUM(C35:N35) -> 0
B36: TOPLAM
B37: Toplam Tüketim (Sm3) | C37: =C19+C14+C8+C29+C24+C34 -> 0 | D37: =D19+D14+D8+D29+D24+D34 -> 0 | E37: =E19+E14+E8+E29+E24+E34 -> 0 | F37: =F19+F14+F8+F29+F24+F34 -> 0 | G37: =G19+G14+G8+G29+G24+G34 -> 0 | H37: =H19+H14+H8+H29+H24+H34 -> 0 | I37: =I19+I14+I8+I29+I24+I34 -> 0 | J37: =J19+J14+J8+J29+J24+J34 -> 0 | ... O37: =O19+O14+O8+O29+O24+O34 -> 0
B38: Toplam Hasılat (TL) | C38: =C20+C15+C9+C30+C25+C35 -> 0 | D38: =D20+D15+D9+D30+D25+D35 -> 0 | E38: =E20+E15+E9+E30+E25+E35 -> 0 | F38: =F20+F15+F9+F30+F25+F35 -> 0 | G38: =G20+G15+G9+G30+G25+G35 -> 0 | H38: =H20+H15+H9+H30+H25+H35 -> 0 | I38: =I20+I15+I9+I30+I25+I35 -> 0 | J38: =J20+J15+J9+J30+J25+J35 -> 0 | ... O38: =O20+O15+O9+O30+O25+O35 -> 0
B39: ÖTV Dahil KDV Hariç Ortalama Fiyat (TL/Sm3) | C39: =IF(C37=0,0,C38/C37) -> 0 | D39: =IF(D37=0,0,D38/D37) -> 0 | E39: =IF(E37=0,0,E38/E37) -> 0 | F39: =IF(F37=0,0,F38/F37) -> 0 | G39: =IF(G37=0,0,G38/G37) -> 0 | H39: =IF(H37=0,0,H38/H37) -> 0 | I39: =IF(I37=0,0,I38/I37) -> 0 | J39: =IF(J37=0,0,J38/J37) -> 0 | ... O39: =IF(O37=0,0,O38/O37) -> 0

Sheet Serbest Tüketiciler
B2: EK-8/C: 100.000 Sm3 ÜZERİ TÜKETEN SERBEST TÜKETİCİLERİN LİSTESİ
B4: Tüketicinin
B5: Sıra No: | C5: Ad/Unvanı | D5: Mevcut Tedarikçisi | E5: Tüketimleri (Sm3)
E6: 2014 | F6: 2015 | G6: 2016 | H6: 2017 | I6: 2018
B7: 1
B8: 2
B9: 3
B10: 4
B11: 5
B12: 6
B13: 7
B14: 8
B15: 9
B16: 10
B17: 11
B18: 12
B19: 13
B20: …

Sheet Taşıma
B2: EK-9: TEDARİKÇİLERDEN DOĞAL GAZ ALAN SERBEST TÜKETİCİLERİN LİSTESİ
B4: 2018 YILINDAKİ MÜŞTERİLER
C5: Ocak | D5: Şubat | E5: Mart | F5: Nisan | G5: Mayıs | H5: Haziran | I5: Temmuz | J5: Ağustos | K5: Eylül | L5: Ekim | M5: Kasım | N5: Aralık | O5: TOPLAM
B6: 1- Tüketici Adı/Unvanı
B7: Tüketim Miktarı (Sm3) | O7: =SUM(C7:N7) -> 0
B8: Uygulanan Sistem Kullanım Bedeli (KDV Hariç)(TL/Sm3) | O8: =IF(O7=0,0,+O9/O7) -> 0
B9: Taşıma Hasılatı | C9: =C7*C8 -> 0 | D9: =D7*D8 -> 0 | E9: =E7*E8 -> 0 | F9: =F7*F8 -> 0 | G9: =G7*G8 -> 0 | H9: =H7*H8 -> 0 | I9: =I7*I8 -> 0 | J9: =J7*J8 -> 0 | ... N9: =N7*N8 -> 0 | O9: =SUM(C9:N9) -> 0
B10: 2- Tüketici Adı/Unvanı
B11: Tüketim Miktarı (Sm3) | O11: =SUM(C11:N11) -> 0
B12: Uygulanan Sistem Kullanım Bedeli (KDV Hariç)(TL/Sm3) | O12: =IF(O11=0,0,+O13/O11) -> 0
B13: Taşıma Hasılatı | C13: =C11*C12 -> 0 | D13: =D11*D12 -> 0 | E13: =E11*E12 -> 0 | F13: =F11*F12 -> 0 | G13: =G11*G12 -> 0 | H13: =H11*H12 -> 0 | I13: =I11*I12 -> 0 | J13: =J11*J12 -> 0 | ... N13: =N11*N12 -> 0 | O13: =SUM(C13:N13) -> 0
B14: 3- …
B15: Tüketim Miktarı (Sm3) | O15: =SUM(C15:N15) -> 0
B16: Uygulanan Sistem Kullanım Bedeli (KDV Hariç)(TL/Sm3) | O16: =IF(O15=0,0,+O17/O15) -> 0
B17: Taşıma Hasılatı | C17: =C15*C16 -> 0 | D17: =D15*D16 -> 0 | E17: =E15*E16 -> 0 | F17: =F15*F16 -> 0 | G17: =G15*G16 -> 0 | H17: =H15*H16 -> 0 | I17: =I15*I16 -> 0 | J17: =J15*J16 -> 0 | ... N17: =N15*N16 -> 0 | O17: =SUM(C17:N17) -> 0
B18: ……..
B20: Toplam Tüketim (Sm3)
B21: Toplam Hasılat (TL)

Sheet İşletme Giderleri
B2: EK-10/B: İŞLETME GİDERLERİ
B4: İŞLETME GİDERLERİ
C5: 43465
B6: Toplam İşletme Giderleri | C6: =C7+C19+C23+C48+C53+C60+C78+C84+C87 -> 0
B7: Personel Ücret ve Giderleri | C7: =SUM(C8:C18) -> 0
B8: 01. Esas Ücretler (Ücrete bağlı vergiler dahil)
B9: 02. Sosyal Yardımlar
B10: 03. Tazminatlar
B11: 04. İşveren Payları
B12: 05. Huzur Haklar
B13: 06. Personel Sağlık Giderleri
B14: 07. Personel Eğitim Giderleri
B15: 08. Personel Yemek Giderleri
B16: 09. Personel Servis Giderleri
B17: 10. Seyahat Giderleri
B18: 11. Diğer Personel Giderleri
B19: İlk Madde ve Malzeme Giderleri | C19: =SUM(C20:C22) -> 0
B20: 01. Dağıtım Hatları
B21: 02. İstasyonlar
B22: 03. Sayaçlar (Periyodik muayene ve kalibrasyon hariç)
B23: Dışarıdan Sağlanan Hizmet Giderleri | C23: =SUM(C24:C34,C41:C42,C45:C47) -> 0
B24: 01. Sayaç Okuma ve Faturalandırma
B25: 02. İhbar Dağıtım Hizmeti
B26: 03. Sayaç Açma Kapama
B27: 04. İç Tesisat İşlemleri
B28: 05. Periyodik Muayene ve Sayaç Kalibrasyonu
B29: 06. Münferit Ölçüm Ekipmanı Muayene Giderleri
B30: 07. Tahsilat Giderleri
B31: 08. Komisyon Giderleri
B32: 09. Güvenlik Hizmeti
B33: 10. Çağrı Merkezi
B34: 11. Bakım Onarım Giderleri | C34: =SUM(C35:C40) -> 0
B35: 11.01. Dağıtım Hatları
B36: 11.02. İstasyonlar
B37: 11.03. Sayaçlar (Periyodik muayene ve kalibrasyon hariç)
B38: 11.04. Bina
B39: 11.05. Araçlar
B40: 11.06. Demirbaşlar
B41: 12. Teknoloji Hizmeti
B42: 13. Danışmanlık ve Müşavirlik Giderleri | C42: =SUM(C43:C44) -> 0
...

Sheet İşletme Gideri Mizan Karşılığı
B2: EK-10/C: İŞLETME GİDERLERİ - MİZAN KARŞILIĞI
B4: İşletme Giderleri - Ana Kalem | C4: İşletme Gider Detay | D4: 2018
D5: Hesap No | E5: Hesap Adı | F5: Tutar
B6: Personel Ücret ve Giderleri | F6: =F8+F10+F12+F14+F16+F18+F20+F22+F24+F26+F28 -> 0
C7: 01. Esas Ücretler (Ücrete bağlı vergiler dahil)
C8: Toplam
C9: 02. Sosyal Yardımlar
C10: Toplam
C11: 03. Tazminatlar
C12: Toplam
C13: 04. İşveren Payları
C14: Toplam
C15: 05. Huzur Haklar
C16: Toplam
C17: 06. Personel Sağlık Giderleri
C18: Toplam
... C28: Toplam
B29: İlk Madde ve Malzeme Giderleri | F29: =F31+F33+F35 -> 0
C30: 01. Dağıtım Hatları
C31: Toplam
C32: 02. İstasyonlar
C33: Toplam
C34: 03. Sayaçlar (Periyodik muayene ve kalibrasyon hariç)
C35: Toplam
B36: Dışarıdan Sağlanan Hizmet Giderleri | F36: =F38+F40+F42+F44+F46+F48+F50+F52+F54+F56+F64+F66+F70+F72+F74+F76 -> 0
C37: 01. Sayaç Okuma ve Faturalandırma
C38: Toplam
C39: 02. İhbar Dağıtım Hizmeti
C40: Toplam
C41: 03. Sayaç Açma Kapama
C42: Toplam
C43: 04. İç Tesisat İşlemleri
C44: Toplam
C45: 05. Periyodik Muayene ve Sayaç Kalibrasyonu
C46: Toplam
C47: 06. Münferit Ölçüm Ekipmanı Muayene Giderleri
C48: Toplam
... C76: Toplam
B77: Kira Giderleri | F77: =F79+F81+F83+F85 -> 0
C78: 01. Gayrimenkul Kira Giderleri
...

Sheet Bina Kira Giderleri
B2: EK-10/D: GAYRİMENKUL KİRA GİDERLERİ
B4: 2018
B5: MEVKİİ | C5: BRÜT ALAN | D5: KİRALAMA TARİHİ | E5: KİRALAMA SÜRESİ (Ay Bazında) | F5: KULLANIM AMACI | G5: İLGİLİ YIL TOPLAM KİRA BEDELİ (TL)
F12: TOPLAM | G12: =SUM(G6:G11) -> 0

Sheet Taşıt Kira Giderleri
B2: EK-10/E: TAŞIT KİRA GİDERLERİ
B4: 2018
B5: PLAKA | C5: MARKA / MODEL | D5: KİRALAMA TARİHİ | E5: KİRALANAN FİRMA | F5: KİRALAMA SÜRESİ (Ay Bazında) | G5: KULLANIM AMACI | H5: İLGİLİ YIL YAPILAN KİLOMETRE | I5: İLGİLİ YIL TOPLAM KİRA BEDELİ (TL)
G12: TOPLAM | H12: =SUM(H6:H11) -> 0 | I12: =SUM(I6:I11) -> 0

Sheet Yazılım Kira Giderleri
B2: EK-10/F: YAZILIM KİRA GİDERLERİ
B4: 2018
B5: YAZILIM TANIMI | C5: EDİNİM TARİHİ | D5: KULLANIM AMACI | E5: ALINAN FİRMA | F5: İLGİLİ YIL TOPLAM KİRA BEDELİ (TL)
E11: TOPLAM | F11: =SUM(F6:F10) -> 0

Sheet Fatura Bilgileri
B2: EK-10/G: FATURA BİLGİLERİ
B4: FATURA BİLGİLERİ (Adet)
B5: Dönem | C5: Okunan Sayaç Sayısı | D5: Kesilen Fatura Sayısı | E5: Dağıtılan İhbarname Sayısı | F5: Fatura Tahsilat Bilgileri
F6: Şirket Tarafından Tahsil Edilen Fatura Sayısı | G6: PTT tarafından Tahsil Edilen Fatura Sayısı | H6: Bankalarca Tahsil Edilen Fatura Sayısı | I6: Diğer (Tahsilat Yolunu Buraya Yazınız) | J6: Tahsil Edilen Toplam Fatura Sayısı
B7: 43101 | J7: =SUM(F7:I7) -> 0
B8: 43132 | J8: =SUM(F8:I8) -> 0
B9: 43160 | J9: =SUM(F9:I9) -> 0
B10: 43191 | J10: =SUM(F10:I10) -> 0
B11: 43221 | J11: =SUM(F11:I11) -> 0
B12: 43252 | J12: =SUM(F12:I12) -> 0
B13: 43282 | J13: =SUM(F13:I13) -> 0
B14: 43313 | J14: =SUM(F14:I14) -> 0
B15: 43344 | J15: =SUM(F15:I15) -> 0
B16: 43374 | J16: =SUM(F16:I16) -> 0
B17: 43405 | J17: =SUM(F17:I17) -> 0
B18: 43435 | J18: =SUM(F18:I18) -> 0
B19: 2018 Toplamı | C19: =SUM(C7:C18) -> 0 | D19: =SUM(D7:D18) -> 0 | E19: =SUM(E7:E18) -> 0 | F19: =SUM(F7:F18) -> 0 | G19: =SUM(G7:G18) -> 0 | H19: =SUM(H7:H18) -> 0 | I19: =SUM(I7:I18) -> 0 | J19: =SUM(J7:J18) -> 0

Sheet İstihdam
B2: EK-13: PERSONEL SAYISI VE PERSONEL GİDERLERİ
B4: PERSONEL SAYISI - PERSONEL GİDERLERİ | C4: 43101 | D4: 43132 | E4: 43160 | F4: 43191 | G4: 43221 | H4: 43252 | I4: 43282 | J4: 43313 | K4: 43344 | L4: 43374 | M4: 43405 | N4: 43435 | O4: TOPLAM
B5: Personel Sayısı | O5: =N5 -> 0
B6: Toplam Personel Giderleri (TL) | O6: =SUM(C6:N6) -> 0
B8: PERSONEL SAYISI DAĞILIMI | O8: TOPLAM
B9: 1. Müşteri Hizmetleri Personeli | C9: =SUM(C10:C12) -> 0 | D9: =SUM(D10:D12) -> 0 | E9: =SUM(E10:E12) -> 0 | F9: =SUM(F10:F12) -> 0 | G9: =SUM(G10:G12) -> 0 | H9: =SUM(H10:H12) -> 0 | I9: =SUM(I10:I12) -> 0 | J9: =SUM(J10:J12) -> 0 | ... O9: =SUM(O10:O12) -> 0
B10: 1.1. Sayaç Okuma ve Faturalandırma Hizmeti | O10: =N10 -> 0
B11: 1.2. Abonelik Hizmeti | O11: =N11 -> 0
B12: 1.3. Tahsilat Hizmeti | O12: =N12 -> 0
B13: 2. Güvenlik Personeli | O13: =N13 -> 0
B14: 3. Teknik Hizmetler Personeli | C14: =SUM(C15:C18) -> 0 | D14: =SUM(D15:D18) -> 0 | E14: =SUM(E15:E18) -> 0 | F14: =SUM(F15:F18) -> 0 | G14: =SUM(G15:G18) -> 0 | H14: =SUM(H15:H18) -> 0 | I14: =SUM(I15:I18) -> 0 | J14: =SUM(J15:J18) -> 0 | ... O14: =SUM(O15:O18) -> 0
B15: 3.1. İç Tesisat | O15: =N15 -> 0
B16: 3.2. Acil Müdahale | O16: =N16 -> 0
B17: 3.3. Bakım Onarım | O17: =N17 -> 0
B18: 3.4. Yapım, Proje ve Etüd | O18: =N18 -> 0
B19: 4. Genel Hizmet Personeli | O19: =N19 -> 0
B20: 5. Pazarlama Personeli | O20: =N20 -> 0
B21: 6. Genel Yönetim Personeli | O21: =N21 -> 0
B22: TOPLAM | C22: =SUM(C9,C13,C14,C19,C20,C21) -> 0 | D22: =SUM(D9,D13,D14,D19,D20,D21) -> 0 | E22: =SUM(E9,E13,E14,E19,E20,E21) -> 0 | F22: =SUM(F9,F13,F14,F19,F20,F21) -> 0 | G22: =SUM(G9,G13,G14,G19,G20,G21) -> 0 | H22: =SUM(H9,H13,H14,H19,H20,H21) -> 0 | I22: =SUM(I9,I13,I14,I19,I20,I21) -> 0 | J22: =SUM(J9,J13,J14,J19,J20,J21) -> 0 | ... O22: =SUM(O9,O13,O14,O19,O20,O21) -> 0
B24: PERSONEL GİDERLERİ DAĞILIMI (TL) | O24: TOPLAM
B25: 1. Müşteri Hizmetleri Personel Gideri | C25: =SUM(C26:C28) -> 0 | D25: =SUM(D26:D28) -> 0 | E25: =SUM(E26:E28) -> 0 | F25: =SUM(F26:F28) -> 0 | G25: =SUM(G26:G28) -> 0 | H25: =SUM(H26:H28) -> 0 | I25: =SUM(I26:I28) -> 0 | J25: =SUM(J26:J28) -> 0 | ... O25: =SUM(O26:O28) -> 0
B26: 1.1. Sayaç Okuma ve Faturalandırma Hizmeti | O26: =SUM(C26:N26) -> 0
B27: 1.2. Abonelik Hizmeti | O27: =SUM(C27:N27) -> 0
B28: 1.3. Tahsilat Hizmeti | O28: =SUM(C28:N28) -> 0
B29: 2. Güvenlik Personel Gideri | O29: =SUM(C29:N29) -> 0
B30: 3. Teknik Hizmetler Personel Gideri | C30: =SUM(C31:C34) -> 0 | D30: =SUM(D31:D34) -> 0 | E30: =SUM(E31:E34) -> 0 | F30: =SUM(F31:F34) -> 0 | G30: =SUM(G31:G34) -> 0 | H30: =SUM(H31:H34) -> 0 | I30: =SUM(I31:I34) -> 0 | J30: =SUM(J31:J34) -> 0 | ... O30: =SUM(O31:O34) -> 0
B31: 3.1. İç Tesisat | O31: =SUM(C31:N31) -> 0
B32: 3.2. Acil Müdahale | O32: =SUM(C32:N32) -> 0
B33: 3.3. Bakım Onarım | O33: =SUM(C33:N33) -> 0
B34: 3.4. Yapım, Proje ve Etüd | O34: =SUM(C34:N34) -> 0
B35: 4. Genel Hizmet Personel Gideri | O35: =SUM(C35:N35) -> 0
B36: 5. Pazarlama Personel Gideri | O36: =SUM(C36:N36) -> 0
B37: 6. Genel Yönetim Personel Gideri | O37: =SUM(C37:N37) -> 0
B38: TOPLAM | C38: =SUM(C25,C29,C30,C35,C36,C37) -> 0 | D38: =SUM(D25,D29,D30,D35,D36,D37) -> 0 | E38: =SUM(E25,E29,E30,E35,E36,E37) -> 0 | F38: =SUM(F25,F29,F30,F35,F36,F37) -> 0 | G38: =SUM(G25,G29,G30,G35,G36,G37) -> 0 | H38: =SUM(H25,H29,H30,H35,H36,H37) -> 0 | I38: =SUM(I25,I29,I30,I35,I36,I37) -> 0 | J38: =SUM(J25,J29,J30,J35,J36,J37) -> 0 | ... O38: =SUM(O25,O29,O30,O35,O36,O37) -> 0

Sheet Krediler
B2: EK-14/B: DAĞITIM ŞİRKETLERİNİN KREDİLERİ
B4: KREDİLER TABLOSU (31.12.2018 TARİHİ İTİBARİYLE)
B5: Kredi No | C5: Kullanıldığı Proje | D5: Krediyi Sağlayan Finans Kurumu | E5: Kredi Başlangıç Tarihi | F5: Kredi Bitiş Tarihi | G5: Para Birimi | H5: Kredi Tutarı | I5: Taksit Periyodu | J5: 31.12.2018 Bakiyesi | K5: Yıllık Faiz Oranı

Sheet Hizmet Kalitesi
B2: EK-19: HİZMET KALİTESİ PERFORMANS GÖSTERGELERİ
B4: HİZMET KALİTESİ PERFORMANS GÖSTERGELERİ
C5: Birim | D5: 43465
B6: I) BAĞLANTI BİLGİLERİ
B7: Bağlantı başvuru sayısı | C7: Adet | D7: =D8+D9 -> 0
B8: Kabul edilen bağlantı talep sayısı | C8: Adet
B9: Reddedilen bağlantı talep sayısı | C9: Adet
B10: Ortalama bağlantı başvurusu sonuçlandırma süresi | C10: Gün
B11: II) GEÇİCİ GAZ KESİNTİSİ NEDENLERİ
B12: Müşterinin talebi | C12: Adet
B13: Fatura bedelinin ödenmemesi | C13: Adet
B14: Mahkeme veya Kurul Kararı | C14: Adet
B15: Kaçak veya usülsüz gaz kullanımı | C15: Adet
B16: Fatura Okunamaması (sayaca ulaşılamaması) | C16: Adet
B17: III) ÖLÇÜMLEME
B18: Ölçüm yapamayan sayaç | C18: Adet
B19: Hatalı ölçüm yapan sayaç | C19: Adet
B20: Sayaç açma-kapama bedeli alınan müşteri sayısı | C20: Adet
B21: Doğal gaz yükleme merkezi sayısı | C21: Adet
B22: Nöbetçi doğal gaz yükleme merkezi sayısı | C22: Adet
B23: IV-a) ŞİKAYET SEBEPLERİ
B24: Sayaç şikayetleri | C24: Adet
B25: Gaz basınç seviyesi şikayetleri | C25: Adet
B26: Gaz kesinti şikayetleri | C26: Adet
B27: Sertfika sahiplerinin şikayetleri | C27: Adet
B28: Diğer şikayetler | C28: Adet
B29: IV-b) ŞİKAYET YÖNTEMLERİ
B30: Yazılı şikayet sayısı | C30: Adet
B31: Telefonla gelen şikayet sayısı | C31: Adet
B32: Fax ile gelen şikayet sayısı | C32: Adet
B33: E-posta ile gelen şikayet sayısı | C33: Adet
B34: Ortalama şikayet giderme süresi | C34: Saat
B35: IV-c) FATURA İTİRAZLARI
B36: Faturaya itiraz sayısı | C36: Adet
B37: Faturaya itirazı kabul edilen müşteri sayısı | C37: Adet
B38: Faturaya itirazı reddedilen müşteri sayısı | C38: Adet
B39: V) TAHSİLAT BİLGİLERİ
B40: Şirkete ait ödeme merkezi sayısı | C40: Adet
B41: Şirkete ait vezne sayısı | C41: Adet
B42: Şirket web sitesi üzerinden fatura ödeme sayısı | C42: Adet
...

Sheet Tüketici Bilgileri
B2: EK-20: TÜKETİCİ SAYISI DETAY TABLOSU
C4: Birim | D4: 42004 | E4: 42369 | F4: 42735 | G4: 43100 | H4: 43465
B5: Faaliyette Bulunulan Alan | C5: km2
B6: Dağıtım Bölgesindeki Potansiyel Tüketici Adedi (Kümülatif) | C6: Adet | D6: =D7+D8 -> 0 | E6: =E7+E8 -> 0 | F6: =F7+F8 -> 0 | G6: =G7+G8 -> 0 | H6: =H7+H8 -> 0
B7: - Konut (Daire bazında) | C7: Adet
B8: - Konut Harici (İşyeri bazında) | C8: Adet
B9: Şebekenin Ulaştığı Potansiyel Tüketici Adedi (Kümülatif) | C9: Adet | D9: =D10+D11 -> 0 | E9: =E10+E11 -> 0 | F9: =F10+F11 -> 0 | G9: =G10+G11 -> 0 | H9: =H10+H11 -> 0
B10: - Konut (Daire bazında) | C10: Adet
B11: - Konut Harici (İşyeri bazında) | C11: Adet
B13: Servis Hattı Yapım Adedi (Kümülatif) | C13: Adet
B14: Tesis Edilen Servis Hatlarının Toplam Uzunluğu (Kümülatif) | C14: Metre
B15: Servis Hatları Toplam Maliyeti (Malzeme ve İşçilik Dahil Toplam Yapım Maliyeti) (KDV Hariç) | C15: TL
B17: Servis Hattıyla Ulaşılan Potansiyel Tüketici Adedi (Kümülatif) | C17: Adet | D17: =D18+D19 -> 0 | E17: =E18+E19 -> 0 | F17: =F18+F19 -> 0 | G17: =G18+G19 -> 0 | H17: =H18+H19 -> 0
B18: - Konut (Daire bazında) | C18: Adet
B19: - Konut Harici (İşyeri bazında) | C19: Adet
B20: Servis Hattıyla Ulaşılan Potansiyel Tüketici (Kümülatif) | C20: BBS | D20: =D21+D22 -> 0 | E20: =E21+E22 -> 0 | F20: =F21+F22 -> 0 | G20: =G21+G22 -> 0 | H20: =H21+H22 -> 0
B21: - Konut (Daire bazında) | C21: BBS
B22: - Konut Harici (İşyeri bazında) | C22: BBS
B24: Bağlantı Sözleşmesi Yapılan Tüketici Adedi (Kümülatif) (Servis Hattıyla Bağlanan - Bağlantı Bedelini BBS üzerinden ödeyen tüketiciler) | C24: Adet | D24: =SUM(D25:D28) -> 0 | E24: =SUM(E25:E28) -> 0 | F24: =SUM(F25:F28) -> 0 | G24: =SUM(G25:G28) -> 0 | H24: =SUM(H25:H28) -> 0
B25: - Konut Bireysel (Merkezi sistem ile ısınmayan) | C25: Adet
B26: - Konut Merkezi | C26: Adet
B27: - Konut Harici Bireysel (Merkezi sistem ile ısınmayan) | C27: Adet
B28: - Konut Harici Merkezi | C28: Adet
B29: Bağlantı Sözleşmesi Yapılan Tüketici (Kümülatif) (Servis Hattıyla Bağlanan - Bağlantı Bedelini BBS üzerinden ödeyen tüketiciler) | C29: BBS | D29: =SUM(D30:D33) -> 0 | E29: =SUM(E30:E33) -> 0 | F29: =SUM(F30:F33) -> 0 | G29: =SUM(G30:G33) -> 0 | H29: =SUM(H30:H33) -> 0
B30: - Konut Bireysel (Merkezi sistem ile ısınmayan) | C30: BBS
B31: - Konut Merkezi | C31: BBS
B32: - Konut Harici Bireysel (Merkezi sistem ile ısınmayan) | C32: BBS
B33: - Konut Harici Merkezi | C33: BBS
B34: Bağlantısı Yapılmış Merkezi Sistem Adedi (Kümülatif) | C34: Adet
B36: İç Tesisat Onayı Yapılan Tüketici Adedi (Kümülatif) | C36: Adet
B37: Gaz Kullanım Sözleşmesi İmzalayan Tüketici Adedi (Kümülatif) | C37: Adet
B38: Gazı Açılan Tüketici Adedi (Yıl içinde gazı ilk kez açılan tüketici) | C38: Adet
B39: Yıl İçinde En Az Bir Kez Fatura Kesilen Tüketici Adedi | C39: Adet
B40: Gaz Verilen Bina Adedi (İçinde en az bir abone bulunan) (Kümülatif) | C40: Adet
B42: Dağıtım Bölgesi Su Abone Sayısı (Kümülatif) | C42: Adet

Sheet Yatırımlar
B2: EK-21/A1: YATIRIMLAR
B4: YATIRIM GİDERLERİ (TL)
D5: 43465
B6: ŞEBEKE UNSURLARI | C6: Birim | D6: Miktar | E6: Birim Malzeme Giderleri (TL/Birim) | F6: Birim İnşaat ve İşçilik Giderleri (TL/Birim) | G6: Toplam Yatırım Giderleri (TL)
B7: TOPLAM YATIRIM TUTARI | G7: =G8+G104+G134+C164 -> 0
B8: 1. DAĞITIM ŞEBEKESİ | G8: =G9+G30+G51+G72+G73+G88 -> 0
B9: 1.1. Dağıtım Hatları | G9: =G10+G23 -> 0
B10: 1.1.1. Çelik Hatlar | G10: =SUM(G11:G22) -> 0
B11: 1-2" | C11: metre | G11: =D11*(E11+F11) -> 0
B12: 3-4" | C12: metre | G12: =D12*(E12+F12) -> 0
B13: 5-6" | C13: metre | G13: =D13*(E13+F13) -> 0
B14: 7-8" | C14: metre | G14: =D14*(E14+F14) -> 0
B15: 9-10" | C15: metre | G15: =D15*(E15+F15) -> 0
B16: 11-12" | C16: metre | G16: =D16*(E16+F16) -> 0
B17: 13-14" | C17: metre | G17: =D17*(E17+F17) -> 0
B18: 15-16" | C18: metre | G18: =D18*(E18+F18) -> 0
B19: 17-20" | C19: metre | G19: =D19*(E19+F19) -> 0
B20: 21-24" | C20: metre | G20: =D20*(E20+F20) -> 0
B21: 25-28" | C21: metre | G21: =D21*(E21+F21) -> 0
B22: 28" üzeri | C22: metre | G22: =D22*(E22+F22) -> 0
B23: 1.1.2. Polietilen Hatlar | G23: =SUM(G24:G29) -> 0
B24: ND 0-40 mm | C24: metre | G24: =D24*(E24+F24) -> 0
B25: ND 63 mm | C25: metre | G25: =D25*(E25+F25) -> 0
B26: ND 90 mm | C26: metre | G26: =D26*(E26+F26) -> 0
B27: ND 110 mm | C27: metre | G27: =D27*(E27+F27) -> 0
B28: ND 125 mm | C28: metre | G28: =D28*(E28+F28) -> 0
B29: ND 125 mm üzeri | C29: metre | G29: =D29*(E29+F29) -> 0
B30: 1.2. Özel Geçiş Dağıtım Hatları | G30: =G31+G44 -> 0
B31: 1.2.1. ÖG Çelik Hatlar | G31: =SUM(G32:G43) -> 0
B32: 1-2" | C32: metre | G32: =D32*(E32+F32) -> 0
B33: 3-4" | C33: metre | G33: =D33*(E33+F33) -> 0
B34: 5-6" | C34: metre | G34: =D34*(E34+F34) -> 0
B35: 7-8" | C35: metre | G35: =D35*(E35+F35) -> 0
B36: 9-10" | C36: metre | G36: =D36*(E36+F36) -> 0
B37: 11-12" | C37: metre | G37: =D37*(E37+F37) -> 0
B38: 13-14" | C38: metre | G38: =D38*(E38+F38) -> 0
B39: 15-16" | C39: metre | G39: =D39*(E39+F39) -> 0
B40: 17-20" | C40: metre | G40: =D40*(E40+F40) -> 0
B41: 21-24" | C41: metre | G41: =D41*(E41+F41) -> 0
B42: 25-28" | C42: metre | G42: =D42*(E42+F42) -> 0
...

Sheet Servis Hatları
B2: EK-21/A2: SERVİS HATLARI
B4: YATIRIM GİDERLERİ (TL)
D5: 43465
C6: Birim | D6: Miktar | E6: Birim Malzeme Giderleri (TL/Birim) | F6: Birim İnşaat ve İşçilik Giderleri (TL/Birim) | G6: Toplam Yatırım Giderleri (TL)
B7: TOPLAM YATIRIM TUTARI | G7: =SUM(G8,G9,G10,C29) -> 0
B8: 1. Servis Hattı | C8: metre | G8: =D8*(E8+F8) -> 0
B9: 2. Servis Kutusu | C9: adet | G9: =D9*(E9+F9) -> 0
B10: 3. Sayaçlar | G10: =SUM(G11,G19) -> 0
B11: 3.1. Mekanik | G11: =SUM(G12:G18) -> 0
B12: G4 Mekanik | C12: adet | G12: =D12*(E12+F12) -> 0
B13: G6 Mekanik | C13: adet | G13: =D13*(E13+F13) -> 0
B14: G10 Mekanik | C14: adet | G14: =D14*(E14+F14) -> 0
B15: G16 Mekanik | C15: adet | G15: =D15*(E15+F15) -> 0
B16: G25 Mekanik | C16: adet | G16: =D16*(E16+F16) -> 0
B17: G40 Mekanik | C17: adet | G17: =D17*(E17+F17) -> 0
B18: G40 Üzeri Mekanik | C18: adet | G18: =D18*(E18+F18) -> 0
B19: 3.2. Elektronik (Ön Ödemeli Modül Sistemi Dahil) | G19: =SUM(G20:G26) -> 0
B20: G4 Elektronik | C20: adet | G20: =D20*(E20+F20) -> 0
B21: G6 Elektronik | C21: adet | G21: =D21*(E21+F21) -> 0
B22: G10 Elektronik | C22: adet | G22: =D22*(E22+F22) -> 0
B23: G16 Elektronik | C23: adet | G23: =D23*(E23+F23) -> 0
B24: G25 Elektronik | C24: adet | G24: =D24*(E24+F24) -> 0
B25: G40 Elektronik | C25: adet | G25: =D25*(E25+F25) -> 0
B26: G40 Üzeri Elektronik | C26: adet | G26: =D26*(E26+F26) -> 0
C28: 43465
B29: 4. DİĞER YATIRIMLAR | C29: =SUM(C30,C37) -> 0
B30: 4.1. Üst Kaplama Giderleri | C30: =C31+C32 -> 0
B31: 4.1.1. Belediye Üst Kaplama Giderleri
B32: 4.1.2. Alt Yüklenici Üst Kaplama Giderleri | C32: =SUM(C33:C36) -> 0
B33: 4.1.2.1. Asfalt Kaplama
B34: 4.1.2.2. Beton Kaplama
B35: 4.1.2.3. Parke Kaplama
B36: 4.1.2.4. Diğer Kaplama
B37: 4.2. Haritalama ve Coğrafi Bilgi Sistemleri | C37: =SUM(C38:C38) -> 0
B38: 4.2.1. Uygulama (As-Built) Yatırımları

Sheet Münferit Hatlar
B2: EK-21/A3: MÜNFERİT HATLAR
B4: YATIRIM GİDERLERİ (TL)
D5: 43465
C6: Birim | D6: Miktar | E6: Birim Malzeme Giderleri (TL/Birim) | F6: Birim İnşaat ve İşçilik Giderleri (TL/Birim) | G6: Toplam Yatırım Giderleri (TL)
B7: TOPLAM YATIRIM TUTARI | G7: =SUM(G8,G29,G32,C37) -> 0
B8: 1. HATLAR | G8: =G9+G22 -> 0
B9: 1.1. Çelik Hatlar | G9: =SUM(G10:G21) -> 0
B10: 1-2" | C10: metre | G10: =D10*(E10+F10) -> 0
B11: 3-4" | C11: metre | G11: =D11*(E11+F11) -> 0
B12: 5-6" | C12: metre | G12: =D12*(E12+F12) -> 0
B13: 7-8" | C13: metre | G13: =D13*(E13+F13) -> 0
B14: 9-10" | C14: metre | G14: =D14*(E14+F14) -> 0
B15: 11-12" | C15: metre | G15: =D15*(E15+F15) -> 0
B16: 13-14" | C16: metre | G16: =D16*(E16+F16) -> 0
B17: 15-16" | C17: metre | G17: =D17*(E17+F17) -> 0
B18: 17-20" | C18: metre | G18: =D18*(E18+F18) -> 0
B19: 21-24" | C19: metre | G19: =D19*(E19+F19) -> 0
B20: 25-28" | C20: metre | G20: =D20*(E20+F20) -> 0
B21: 28" üzeri | C21: metre | G21: =D21*(E21+F21) -> 0
B22: 1.2. Polietilen Hatlar | G22: =SUM(G23:G28) -> 0
B23: ND 0-40 mm | C23: metre | G23: =D23*(E23+F23) -> 0
B24: ND 63 mm | C24: metre | G24: =D24*(E24+F24) -> 0
B25: ND 90 mm | C25: metre | G25: =D25*(E25+F25) -> 0
B26: ND 110 mm | C26: metre | G26: =D26*(E26+F26) -> 0
B27: ND 125 mm | C27: metre | G27: =D27*(E27+F27) -> 0
B28: ND 125 mm üzeri | C28: metre | G28: =D28*(E28+F28) -> 0
B29: 2. İSTASYONLAR | G29: =SUM(G30:G31) -> 0
B30: 2.1. Müşteri İstasyonu | C30: adet | G30: =D30*(E30+F30) -> 0
B31: 2.2. Müşteri Servis Kutusu | C31: adet | G31: =D31*(E31+F31) -> 0
B32: 3. SAYAÇLAR | G32: =SUM(G33:G34) -> 0
B33: 3.1. Sayaçlar | C33: adet | G33: =D33*(E33+F33) -> 0
B34: 3.2. Hacim Düzelticiler | C34: adet | G34: =D34*(E34+F34) -> 0
C36: 43465
B37: 4. DİĞER YATIRIMLAR | C37: =SUM(C38:C43) -> 0
B38: 4.1. Kazı, Ruhsat, Harç Giderleri
B39: 4.2. Kamulaştırma
B40: 4.3. Üst Kaplama Giderleri
B41: 4.4. Katodik Koruma Sistemi
B42: 4.5. SCADA Yatırımları
B43: 4.6. Haritalama ve Coğrafi Bilgi Sistemleri | C43: =SUM(C44:C45) -> 0
...

Sheet Planlanan Yatırımlar
B2: EK-21/C: PLANLANAN YATIRIMLAR
C4: 2019 | E4: 2020 | G4: 2021
B5: YATIRIM KALEMLERİ | C5: Miktar | D5: Tutar | E5: Miktar | F5: Tutar | G5: Miktar | H5: Tutar
B6: 1. Dağıtım Hatları | D6: =D7+D8 -> 0 | F6: =F7+F8 -> 0 | H6: =H7+H8 -> 0
B7: 1.1. Çelik Hatlar (metre)
B8: 1.2. Polietilen Hatlar (metre)
B9: 2. Hat Vanaları ve Vana Odaları | D9: =D10+D11 -> 0 | F9: =F10+F11 -> 0 | H9: =H10+H11 -> 0
B10: 2.1. Çelik Vanalar (adet)
B11: 2.2. Polietilen Vanalar (adet)
B12: 3. Şehir Giriş İstasyonu (adet)
B13: 4. Şehir İçi Bölge İstasyonu (adet)
B14: 5. Şehir Besleme Hatları
B15: 6. Servis Hattı Maliyeti (Sayaçlar Dahil)
B16: 7. Kazı, Ruhsat, Harç Maliyetleri
B17: 8. Kamulaştırma Maliyetleri
B18: 9. Üst Kaplama Maliyetleri
B19: 10. Kontrol Şirketi Maliyetleri
B20: 11. Katodik Koruma Maliyetleri
B21: 12. SCADA Yatırımları
... B25: 16. LNG Yatırımları
B26: TOPLAM | D26: =SUM(D6,D9,D12:D25) -> 0 | F26: =SUM(F6,F9,F12:F25) -> 0 | H26: =SUM(H6,H9,H12:H25) -> 0

Sheet İstasyon Bilgileri
B2: EK-21/D: İSTASYON BİLGİLERİ | M2: Evet
M3: Hayır
C4: Teknik Özellikler | G4: Edinme Tarihi | H4: Edinme Türü | I4: Yatırım Tutarı (TL) | M4: Devir
C5: Kapasite (m3/h) | D5: Giriş Basıncı (bar) | E5: Çıkış Basıncı (bar) | F5: Dağıtım Şirketi Isıtma Gazı Giderine Katlanıyor Mu? | I5: 2018 | M5: Yatırım
I6: İlk Yatırım | J6: İlave Yatırım
B7: 1. Şehir Giriş İstasyonları
B8: İstasyon 1
B9: İstasyon 2
B10: İstasyon 3
B11: İstasyon 4
B12: İstasyon 5
B13: …
B15: 2. Müşteri İstasyonları
B16: İstasyon 1
B17: İstasyon 2
B18: İstasyon 3
B19: İstasyon 4
... B21: …

Sheet Deplase Hatlar
B2: EK-21/E: DEPLASE HATLAR
B4: Deplase Hatlar | E4: Deplase Hat Uzunluğu (metre) | G4: Deplase Hat Maliyeti (TL) | J4: Tahsil Edilen Tutar (TL)
B5: Deplase No | C5: Açıklama | D5: Yıl | E5: Çelik | F5: PE | G5: Çelik (malzeme+işçilik) | H5: PE (malzeme+işçilik) | I5: İşçilik Maliyeti (sadece demontaj)

Sheet Sayaç Bilgileri
B2: EK-21/F: SAYAÇ BİLGİLERİ
B4: Sayaç Türü | C4: Şebekede Kurulu Sayaçlar | L4: Stok Hareketi | T4: Hurda
C5: Dönem Başı | D5: Takılan | H5: Sökülen | K5: Dönem Sonu | L5: Dönem Başı | M5: Stoka Alınan | P5: Stoktan Çıkartılan | S5: Dönem Sonu | T5: 14 Yaşını Doldurmamış | U5: 14 Yaşını Doldurmuş, 20 Yaşını Doldurmamış | V5: 20 Yaşını Doldurmuş
D6: Yeni | G6: Kullanılmış | H6: Damga Süresinin Dolması | I6: Müşteri Talebi | J6: Diğer
D7: Yatırım Tavanı Kapsamında | E7: Abone Bağlantı Bedeli Kapsamında | F7: Diğer | M7: Satın Alınan | N7: Muayeneden Gelen | O7: Sökülerek Doğrudan Stoka Alınan | P7: Takılan | Q7: Stoktan Doğrudan Satış | R7: Diğer
B8: G4 Mekanik | K8: =C8+SUM(D8:G8)-SUM(H8:J8) -> 0 | P8: =SUM(D8:G8) -> 0 | S8: =L8+(M8+N8+O8)-(P8+Q8+R8) -> 0
B9: G6 Mekanik | K9: =C9+SUM(D9:G9)-SUM(H9:J9) -> 0 | P9: =SUM(D9:G9) -> 0 | S9: =L9+M9+N9+O9-P9-Q9-R9 -> 0
B10: G10 Mekanik | K10: =C10+SUM(D10:G10)-SUM(H10:J10) -> 0 | P10: =SUM(D10:G10) -> 0 | S10: =L10+M10+N10+O10-P10-Q10-R10 -> 0
B11: G16 Mekanik | K11: =C11+SUM(D11:G11)-SUM(H11:J11) -> 0 | P11: =SUM(D11:G11) -> 0 | S11: =L11+M11+N11+O11-P11-Q11-R11 -> 0
B12: G25 Mekanik | K12: =C12+SUM(D12:G12)-SUM(H12:J12) -> 0 | P12: =SUM(D12:G12) -> 0 | S12: =L12+M12+N12+O12-P12-Q12-R12 -> 0
B13: G40 Mekanik | K13: =C13+SUM(D13:G13)-SUM(H13:J13) -> 0 | P13: =SUM(D13:G13) -> 0 | S13: =L13+M13+N13+O13-P13-Q13-R13 -> 0
B14: G65 Mekanik | K14: =C14+SUM(D14:G14)-SUM(H14:J14) -> 0 | P14: =SUM(D14:G14) -> 0 | S14: =L14+M14+N14+O14-P14-Q14-R14 -> 0
B15: G100 Mekanik | K15: =C15+SUM(D15:G15)-SUM(H15:J15) -> 0 | P15: =SUM(D15:G15) -> 0 | S15: =L15+M15+N15+O15-P15-Q15-R15 -> 0
B16: G160 Mekanik | K16: =C16+SUM(D16:G16)-SUM(H16:J16) -> 0 | P16: =SUM(D16:G16) -> 0 | S16: =L16+M16+N16+O16-P16-Q16-R16 -> 0
B17: G250 Mekanik | K17: =C17+SUM(D17:G17)-SUM(H17:J17) -> 0 | P17: =SUM(D17:G17) -> 0 | S17: =L17+M17+N17+O17-P17-Q17-R17 -> 0
B18: G400 Mekanik | K18: =C18+SUM(D18:G18)-SUM(H18:J18) -> 0 | P18: =SUM(D18:G18) -> 0 | S18: =L18+M18+N18+O18-P18-Q18-R18 -> 0
B19: G650 Mekanik | K19: =C19+SUM(D19:G19)-SUM(H19:J19) -> 0 | P19: =SUM(D19:G19) -> 0 | S19: =L19+M19+N19+O19-P19-Q19-R19 -> 0
B20: G1000 Mekanik | K20: =C20+SUM(D20:G20)-SUM(H20:J20) -> 0 | P20: =SUM(D20:G20) -> 0 | S20: =L20+M20+N20+O20-P20-Q20-R20 -> 0
... B35: G1000 Üzeri Elektronik | K35: =C35+SUM(D35:G35)-SUM(H35:J35) -> 0 | P35: =SUM(D35:G35) -> 0 | S35: =L35+M35+N35+O35-P35-Q35-R35 -> 0

Sheet Hakedişler
M1: İhale Usulü
B2: EK-22/A: HAKEDİŞLER | M2: Teklif Usulü
M3: Pazarlık Usulü
B4: Sıra No | C4: Hakediş Tarihi | D4: Hakediş | E4: Yüklenici | F4: Tutar | G4: Bölge | H4: Usul | I4: Açıklama | M4: Diğer (Açıklamada belirtiniz)
B5: 1
B6: 2
B7: 3
B8: 4
B9: 5
B10: 6
B11: 7
B12: 8
B13: 9
B14: 10
B15: 11
B16: 12
... B24: 20
B25: …

Sheet Hakediş Metrajları
B2: EK-22/B: HAKEDİŞ METRAJ DETAYI
B4: Sıra No | C4: Hakediş Tarihi | D4: Hakediş | E4: Yüklenici | F4: Yatırım Yılı | G4: Tip | H4: Metraj
B5: 1
B6: 2
B7: 3
B8: 4
B9: 5
B10: 6
B11: 7
B12: 8
B13: 9
B14: 10
B15: 11
B16: 12
... B24: 20
B25: …

Sheet Kaplama Detayları
N1: Parke
B2: EK-22/C: KAPLAMA DETAYLARI | L2: 2017 | M2: Belediye | N2: Beton
L3: 2018 | M3: Alt Yüklenici | N3: Asfalt
B4: Sıra No | C4: Kaplama Türü | D4: Yapan Taraf | E4: Yıl | F4: Birim | G4: Miktar | H4: Tutar (TL) | N4: Diğer
B5: 1 | F5: =IF(C5="Beton","m3",IF(C5="Asfalt","m2",IF(C5="Parke","m2",IF(C5="Diğer","m2",""))))
B6: 2 | F6: =IF(C6="Beton","m3",IF(C6="Asfalt","m2",IF(C6="Parke","m2",IF(C6="Diğer","m2",""))))
B7: 3 | F7: =IF(C7="Beton","m3",IF(C7="Asfalt","m2",IF(C7="Parke","m2",IF(C7="Diğer","m2",""))))
B8: 4 | F8: =IF(C8="Beton","m3",IF(C8="Asfalt","m2",IF(C8="Parke","m2",IF(C8="Diğer","m2",""))))
B9: 5 | F9: =IF(C9="Beton","m3",IF(C9="Asfalt","m2",IF(C9="Parke","m2",IF(C9="Diğer","m2",""))))
B10: 6 | F10: =IF(C10="Beton","m3",IF(C10="Asfalt","m2",IF(C10="Parke","m2",IF(C10="Diğer","m2",""))))
B11: 7 | F11: =IF(C11="Beton","m3",IF(C11="Asfalt","m2",IF(C11="Parke","m2",IF(C11="Diğer","m2",""))))
B12: 8 | F12: =IF(C12="Beton","m3",IF(C12="Asfalt","m2",IF(C12="Parke","m2",IF(C12="Diğer","m2",""))))
B13: 9 | F13: =IF(C13="Beton","m3",IF(C13="Asfalt","m2",IF(C13="Parke","m2",IF(C13="Diğer","m2",""))))
B14: 10 | F14: =IF(C14="Beton","m3",IF(C14="Asfalt","m2",IF(C14="Parke","m2",IF(C14="Diğer","m2",""))))
B15: 11 | F15: =IF(C15="Beton","m3",IF(C15="Asfalt","m2",IF(C15="Parke","m2",IF(C15="Diğer","m2",""))))
B16: 12 | F16: =IF(C16="Beton","m3",IF(C16="Asfalt","m2",IF(C16="Parke","m2",IF(C16="Diğer","m2",""))))
... B54: 50 | F54: =IF(C54="Beton","m3",IF(C54="Asfalt","m2",IF(C54="Parke","m2",IF(C54="Diğer","m2",""))))
B55: … | F55: =IF(C55="Beton","m3",IF(C55="Asfalt","m2",IF(C55="Parke","m2",IF(C55="Diğer","m2",""))))

Sheet ŞHV
B2: EK-23: ŞEBEKE HARİCİ VARLIKLAR
B4: GAYRİMENKULLER | C4: MEVKİ | D4: BRÜT ALAN | E4: EDİNME YILI | F4: EDİNİM BEDELİ | G4: KULLANIM AMACI
B5: Gayrimenkul-1
B6: Gayrimenkul-2
B7: Gayrimenkul-3
B8: …
B10: TAŞITLAR | C10: PLAKA | D10: MARKA / MODEL | E10: EDİNME YILI | F10: EDİNİM BEDELİ | G10: KULLANIM AMACI | H10: ORTALAMA YILLIK KM
B11: Taşıt-1
B12: Taşıt-2
B13: Taşıt-3
B14: …
B16: YAZILIM TANIMI | C16: EDİNME YILI | D16: EDİNİM BEDELİ | E16: KULLANIM AMACI
B17: Yazılım - 1
B18: Yazılım - 2
B19: Yazılım - 3
B20: Yazılım - 4
B21: …

Sheet Faaliyet Gelirleri
B2: EK-24/A: FAALİYET GELİRLERİ
B4: DÖNEMSEL GELİR TABLOSU (TL) (KDV Hariç)
C6: 43465
B7: TOPLAM GELİRLER | C7: =C8+C15+SUM(C20:C26)+C29+C30 -> 0
B8: 1. Sistem Kullanım Gelirleri | C8: =SUM(C9:C14) -> 0
B9: 1.1. 0 - 10.000 Sm3
B10: 1.2. 10.001 - 100.000 Sm3
B11: 1.3. 100.001 - 1.000.000 Sm3
B12: 1.4. 1.000.001 - 10.000.000 Sm3
B13: 1.5. 10.000.001 - 100.000.000 Sm3
B14: 1.6. 100.000.001 Sm3 ve Üzeri
B15: 2. Bağlantı Gelirleri | C15: =C16+C17 -> 0
B16: 2.1. BBS Esaslı Bağlantı Gelirleri
B17: 2.2. Diğer Bağlantı Gelirleri | C17: =C18+C19 -> 0
B18: a. Bağlantı Hattının Dağıtım Şirketince Yapılması
B19: b. Bağlantı Hattının Sertifikalıya Yaptırılması
B20: 3. İç Tesisat İşlem Gelirleri
B21: 4. Sertifika Hizmet Gelirleri
B22: 5. Sayaç Açma Kapama Gelirleri
B23: 6. Deplase Hat Gelirleri
B24: 7. Hasar Gelirleri
B25: 8. Usulsüz Gaz Kullanım Bedeli
B26: 9. Kaçak Gaz Kullanım Bedeli | C26: =C27+C28 -> 0
B27: 9.1. Kaçak Gaz Tüketim Bedeli
B28: 9.2. Kaçak Gaz Ceza Bedeli
B29: 10. Gecikme Gelirleri
B30: 11. Diğer Gelirler | C30: =SUM(C31:C35)+SUM(C38:C56) -> 0
B31: 11.1. Kira Gelirleri
B32: 11.2. Hot-Tap Operasyon Gelirleri
B33: 11.3. Şartname Satış Gelirleri
B34: 11.4. Diğer Hizmet Gelirleri
B35: 11.5. Duran Varlık Satış Gelirleri | C35: =C36+C37 -> 0
B36: 11.5.1. Şebeke Varlık Satış Gelirleri
B37: 11.5.2. Şebeke Harici Varlık Satış Gelirleri
B38: 11.6. Hurda Satış Gelirleri
B39: 11.7. Sigorta Tazmin Gelirleri
B40: 11.8. Sayaç Tamir Gelirleri
B41: 11.9. Reklam Gelirleri
B42: 11.10. İlk Madde ve Malzeme Satış Gelirleri
B43: 11.11. Yan Hizmet Gelirleri
...

Sheet Faaliyet Geliri Mizan Karşılığı
B2: EK-24/B: FAALİYET GELİRLERİ - MİZAN KARŞILIĞI
B4: Faaliyet Gelirleri - Ana Kalem | C4: Faaliyet Geliri Detayı | D4: 2018
D5: Hesap No | E5: Hesap Adı | F5: Tutar
B6: 1. Sistem Kullanım Gelirleri
B7: 2. Bağlantı Gelirleri | F7: =F9+F11 -> 0
C8: 2.1. BBS Esaslı Bağlantı Gelirleri
C9: Toplam
C10: 2.2. Diğer Bağlantı Gelirleri
C11: Toplam
B12: 3. İç Tesisat İşlem Gelirleri
B13: 4. Sertifika Hizmet Gelirleri
B14: 5. Sayaç Açma Kapama Gelirleri
B15: 6. Deplase Hat Gelirleri
B16: 7. Hasar Gelirleri
B17: 8. Usulsüz Gaz Kullanım Bedeli
B18: 9. Kaçak Gaz Kullanım Bedeli
B19: 10. Gecikme Gelirleri
B20: 11. Diğer Gelirler | F20: =F22+F24+F26+F28+F30+F32+F34+F36+F38+F40+F42+F44+F46+F48+F50 -> 0
C21: 11.1. Kira Gelirleri
C22: Toplam
C23: 11.2. Hot-Tap Operasyon Gelirleri
C24: Toplam
C25: 11.3. Şartname Satış Gelirleri
C26: Toplam
C27: 11.4. Diğer Hizmet Gelirleri
C28: Toplam
C29: 11.5. Duran Varlık Satış Gelirleri
C30: Toplam
C31: 11.6. Hurda Satış Gelirleri
C32: Toplam
... C50: Toplam

Sheet Güvence Bedeli
B2: EK-25: GÜVENCE BEDELİ AKIŞ TABLOSU
B4: TAHSİL EDİLEN GÜVENCE BEDELLERİ (TL) | C4: 2018
B5: 1. İlgili Yıl Başı İtibariyle Tahsil Edilmiş Güvence Bedeli Toplamı (Enflasyon Hariç) | C5: =SUM(C6:C7) -> 0
B6: 1.1. Abone
B7: 1.2. Diğer Müşteriler
B8: 2. İlgili Yıl Başı İtibariyle Tahsil Edilmiş Güvence Bedellerinin Dönem Başı İtibariyle Enflasyon Farkı Toplamı | C8: =SUM(C9:C10) -> 0
B9: 2.1. Abone
B10: 2.2. Diğer Müşteriler
B11: 3. İlgili Yıl İçinde Tahsil Edilen Güvence Bedeli Tutarı | C11: =SUM(C12:C13) -> 0
B12: 3.1. Abone
B13: 3.2. Diğer Müşteriler
B14: 4. İlgili Yıl İçinde Abonelik Sonlandırması Sebebiyle Ödenen Güvence Bedellerinin Anapara Toplamı | C14: =SUM(C15:C16) -> 0
B15: 4.1. Abone
B16: 4.2. Diğer Müşteriler
B17: 5. İlgili Yıl İçinde Abonelik Sonlandırması Sebebiyle Ödenen Güvence Bedellerinin Enflasyon Farkı Toplamı | C17: =SUM(C18:C19) -> 0
B18: 5.1. Abone
B19: 5.2. Diğer Müşteriler

Sheet Varlık Satışı
B2: EK-26: VARLIK SATIŞI
B4: A- ŞEBEKE VARLIK SATIŞLARI (2018)
B5: Varlık Adı | C5: Edinme Tarihi (gg/aa/yyyy) | D5: Edinme Değeri (TL) | E5: Satış Tarihi (gg/aa/yyyy) | F5: Satış Değeri (TL) | G5: Satış Tarihindeki Birikmiş Amortisman Tutarı (TL)
B15: B- ŞEBEKE HARİCİ VARLIK SATIŞLARI (2018)
B16: Varlık Adı | C16: Edinme Tarihi (gg/aa/yyyy) | D16: Edinim Değeri (TL) | E16: Satış Tarihi (gg/aa/yyyy) | F16: Satış Değeri (TL) | G16: Satış Tarihindeki Birikmiş Amortisman Tutarı (TL)

Sheet Tüketim Grubu Satış Tablosu_V1
B2: EK-27/A: TÜKETİM GRUBU BAZINDA TÜKETİCİ SAYISI VE TÜKETİM MİKTARLARI (TAŞIMA DAHİL) (V1)
B5: 2014 | C5: Toplam Tüketim Miktarı
B6: Sayaç Tüketim Kademesi (Sm3) | C6: OCAK | D6: ŞUBAT | E6: MART | F6: NİSAN | G6: MAYIS | H6: HAZİRAN | I6: TEMMUZ | J6: AĞUSTOS | K6: EYLÜL | L6: EKİM | M6: KASIM | N6: ARALIK | O6: TOPLAM | P6: Sayaç Sayısı (Gaz Kullanan)
B7: 0 - 10.000 | O7: =SUM(C7:N7) -> 0
B8: 10.001 - 100.000 | O8: =SUM(C8:N8) -> 0
B9: 100.001 - 1.000.000 | O9: =SUM(C9:N9) -> 0
B10: 1.000.001 - 10.000.000 | O10: =SUM(C10:N10) -> 0
B11: 10.000.001 - 100.000.000 | O11: =SUM(C11:N11) -> 0
B12: 100.000.001 ve Üzeri | O12: =SUM(C12:N12) -> 0
B13: Toplam | C13: =SUM(C7:C12) -> 0 | D13: =SUM(D7:D12) -> 0 | E13: =SUM(E7:E12) -> 0 | F13: =SUM(F7:F12) -> 0 | G13: =SUM(G7:G12) -> 0 | H13: =SUM(H7:H12) -> 0 | I13: =SUM(I7:I12) -> 0 | J13: =SUM(J7:J12) -> 0 | ... P13: =SUM(P7:P12) -> 0
B15: 2015 | C15: Toplam Tüketim Miktarı
B16: Sayaç Tüketim Kademesi (Sm3) | C16: OCAK | D16: ŞUBAT | E16: MART | F16: NİSAN | G16: MAYIS | H16: HAZİRAN | I16: TEMMUZ | J16: AĞUSTOS | K16: EYLÜL | L16: EKİM | M16: KASIM | N16: ARALIK | O16: TOPLAM | P16: Sayaç Sayısı (Gaz Kullanan)
B17: 0 - 10.000 | O17: =SUM(C17:N17) -> 0
B18: 10.001 - 100.000 | O18: =SUM(C18:N18) -> 0
B19: 100.001 - 1.000.000 | O19: =SUM(C19:N19) -> 0
B20: 1.000.001 - 10.000.000 | O20: =SUM(C20:N20) -> 0
B21: 10.000.001 - 100.000.000 | O21: =SUM(C21:N21) -> 0
B22: 100.000.001 ve Üzeri | O22: =SUM(C22:N22) -> 0
B23: Toplam | C23: =SUM(C17:C22) -> 0 | D23: =SUM(D17:D22) -> 0 | E23: =SUM(E17:E22) -> 0 | F23: =SUM(F17:F22) -> 0 | G23: =SUM(G17:G22) -> 0 | H23: =SUM(H17:H22) -> 0 | I23: =SUM(I17:I22) -> 0 | J23: =SUM(J17:J22) -> 0 | ... P23: =SUM(P17:P22) -> 0
B25: 2016 | C25: Toplam Tüketim Miktarı
B26: Sayaç Tüketim Kademesi (Sm3) | C26: OCAK | D26: ŞUBAT | E26: MART | F26: NİSAN | G26: MAYIS | H26: HAZİRAN | I26: TEMMUZ | J26: AĞUSTOS | K26: EYLÜL | L26: EKİM | M26: KASIM | N26: ARALIK | O26: TOPLAM | P26: Sayaç Sayısı (Gaz Kullanan)
B27: 0 - 10.000 | O27: =SUM(C27:N27) -> 0
B28: 10.001 - 100.000 | O28: =SUM(C28:N28) -> 0
B29: 100.001 - 1.000.000 | O29: =SUM(C29:N29) -> 0
B30: 1.000.001 - 10.000.000 | O30: =SUM(C30:N30) -> 0
B31: 10.000.001 - 100.000.000 | O31: =SUM(C31:N31) -> 0
B32: 100.000.001 ve Üzeri | O32: =SUM(C32:N32) -> 0
B33: Toplam | C33: =SUM(C27:C32) -> 0 | D33: =SUM(D27:D32) -> 0 | E33: =SUM(E27:E32) -> 0 | F33: =SUM(F27:F32) -> 0 | G33: =SUM(G27:G32) -> 0 | H33: =SUM(H27:H32) -> 0 | I33: =SUM(I27:I32) -> 0 | J33: =SUM(J27:J32) -> 0 | ... P33: =SUM(P27:P32) -> 0
B35: 2017 | C35: Toplam Tüketim Miktarı
B36: Sayaç Tüketim Kademesi (Sm3) | C36: OCAK | D36: ŞUBAT | E36: MART | F36: NİSAN | G36: MAYIS | H36: HAZİRAN | I36: TEMMUZ | J36: AĞUSTOS | K36: EYLÜL | L36: EKİM | M36: KASIM | N36: ARALIK | O36: TOPLAM | P36: Sayaç Sayısı (Gaz Kullanan)
B37: 0 - 10.000 | O37: =SUM(C37:N37) -> 0
B38: 10.001 - 100.000 | O38: =SUM(C38:N38) -> 0
B39: 100.001 - 1.000.000 | O39: =SUM(C39:N39) -> 0
B40: 1.000.001 - 10.000.000 | O40: =SUM(C40:N40) -> 0
B41: 10.000.001 - 100.000.000 | O41: =SUM(C41:N41) -> 0
B42: 100.000.001 ve Üzeri | O42: =SUM(C42:N42) -> 0
B43: Toplam | C43: =SUM(C37:C42) -> 0 | D43: =SUM(D37:D42) -> 0 | E43: =SUM(E37:E42) -> 0 | F43: =SUM(F37:F42) -> 0 | G43: =SUM(G37:G42) -> 0 | H43: =SUM(H37:H42) -> 0 | I43: =SUM(I37:I42) -> 0 | J43: =SUM(J37:J42) -> 0 | ... P43: =SUM(P37:P42) -> 0
B45: 2018 | C45: Toplam Tüketim Miktarı
B46: Sayaç Tüketim Kademesi (Sm3) | C46: OCAK | D46: ŞUBAT | E46: MART | F46: NİSAN | G46: MAYIS | H46: HAZİRAN | I46: TEMMUZ | J46: AĞUSTOS | K46: EYLÜL | L46: EKİM | M46: KASIM | N46: ARALIK | O46: TOPLAM | P46: Sayaç Sayısı (Gaz Kullanan)
B47: 0 - 10.000 | O47: =SUM(C47:N47) -> 0
...

Sheet Tüketim Grubu Satış Tablosu_V2
B2: EK-27/B: TÜKETİM GRUBU BAZINDA TÜKETİCİ SAYISI VE TÜKETİM MİKTARLARI (TAŞIMA DAHİL) (V2)
B4: 2018 | C4: OCAK | E4: ŞUBAT | G4: MART | I4: NİSAN | K4: MAYIS | M4: HAZİRAN | O4: TEMMUZ | Q4: AĞUSTOS | S4: EYLÜL | U4: EKİM | W4: KASIM | Y4: ARALIK | AA4: TOPLAM | AC4: Sayaç Sayısı (Gaz Kullanan)
B5: Sayaç Tüketim Kademesi (Sm3) | C5: Tüketim | D5: Fatura | E5: Tüketim | F5: Fatura | G5: Tüketim | H5: Fatura | I5: Tüketim | J5: Fatura | K5: Tüketim | L5: Fatura | M5: Tüketim | N5: Fatura | O5: Tüketim | P5: Fatura | Q5: Tüketim | R5: Fatura | S5: Tüketim | T5: Fatura | U5: Tüketim | V5: Fatura | W5: Tüketim | X5: Fatura | Y5: Tüketim | Z5: Fatura | AA5: Tüketim | AB5: Fatura
B6: 0 - 10.000 | AA6: =SUM(C6,E6,G6,I6,K6,M6,O6,Q6,S6,U6,W6,Y6) -> 0 | AB6: =SUM(D6,F6,H6,J6,L6,N6,P6,R6,T6,V6,X6,Z6) -> 0
B7: 10.001 - 100.000 | AA7: =SUM(C7,E7,G7,I7,K7,M7,O7,Q7,S7,U7,W7,Y7) -> 0 | AB7: =SUM(D7,F7,H7,J7,L7,N7,P7,R7,T7,V7,X7,Z7) -> 0
B8: 100.001 - 1.000.000 | AA8: =SUM(C8,E8,G8,I8,K8,M8,O8,Q8,S8,U8,W8,Y8) -> 0 | AB8: =SUM(D8,F8,H8,J8,L8,N8,P8,R8,T8,V8,X8,Z8) -> 0
B9: 1.000.001 - 10.000.000 | AA9: =SUM(C9,E9,G9,I9,K9,M9,O9,Q9,S9,U9,W9,Y9) -> 0 | AB9: =SUM(D9,F9,H9,J9,L9,N9,P9,R9,T9,V9,X9,Z9) -> 0
B10: 10.000.001 - 100.000.000 | AA10: =SUM(C10,E10,G10,I10,K10,M10,O10,Q10,S10,U10,W10,Y10) -> 0 | AB10: =SUM(D10,F10,H10,J10,L10,N10,P10,R10,T10,V10,X10,Z10) -> 0
B11: 100.000.001 ve Üzeri | AA11: =SUM(C11,E11,G11,I11,K11,M11,O11,Q11,S11,U11,W11,Y11) -> 0 | AB11: =SUM(D11,F11,H11,J11,L11,N11,P11,R11,T11,V11,X11,Z11) -> 0
B12: Toplam | C12: =SUM(C6:C11) -> 0 | D12: =SUM(D6:D11) -> 0 | E12: =SUM(E6:E11) -> 0 | F12: =SUM(F6:F11) -> 0 | G12: =SUM(G6:G11) -> 0 | H12: =SUM(H6:H11) -> 0 | I12: =SUM(I6:I11) -> 0 | J12: =SUM(J6:J11) -> 0 | ... Z12: =SUM(Z6:Z11) -> 0 | AA12: =SUM(C12,E12,G12,I12,K12,M12,O12,Q12,S12,U12,W12,Y12) -> 0 | AB12: =SUM(D12,F12,H12,J12,L12,N12,P12,R12,T12,V12,X12,Z12) -> 0 | AC12: =SUM(AC6:AC11) -> 0
B18: 2018 | C18: OCAK | D18: ŞUBAT | E18: MART | F18: NİSAN | G18: MAYIS | H18: HAZİRAN | I18: TEMMUZ | J18: AĞUSTOS | K18: EYLÜL | L18: EKİM | M18: KASIM | N18: ARALIK | O18: TOPLAM
B19: Sayaç Tüketim Kademesi (Sm3) | C19: Tüketim | D19: Tüketim | E19: Tüketim | F19: Tüketim | G19: Tüketim | H19: Tüketim | I19: Tüketim | J19: Tüketim | K19: Tüketim | L19: Tüketim | M19: Tüketim | N19: Tüketim | O19: Tüketim
B20: 0 - 10.000 | C20: =C6 -> 0 | D20: =E6 -> 0 | E20: =G6 -> 0 | F20: =I6 -> 0 | G20: =K6 -> 0 | H20: =M6 -> 0 | I20: =O6 -> 0 | J20: =Q6 -> 0 | K20: =S6 -> 0 | L20: =U6 -> 0 | M20: =W6 -> 0 | N20: =Y6 -> 0 | O20: =SUM(C20,D20,E20,F20,G20,H20,I20,J20,K20,L20,M20,N20) -> 0
B21: 10.001 - 100.000 | C21: =C7 -> 0 | D21: =E7 -> 0 | E21: =G7 -> 0 | F21: =I7 -> 0 | G21: =K7 -> 0 | H21: =M7 -> 0 | I21: =O7 -> 0 | J21: =Q7 -> 0 | K21: =S7 -> 0 | L21: =U7 -> 0 | M21: =W7 -> 0 | N21: =Y7 -> 0 | O21: =SUM(C21,D21,E21,F21,G21,H21,I21,J21,K21,L21,M21,N21) -> 0
B22: 100.001 - 1.000.000 | C22: =C8 -> 0 | D22: =E8 -> 0 | E22: =G8 -> 0 | F22: =I8 -> 0 | G22: =K8 -> 0 | H22: =M8 -> 0 | I22: =O8 -> 0 | J22: =Q8 -> 0 | K22: =S8 -> 0 | L22: =U8 -> 0 | M22: =W8 -> 0 | N22: =Y8 -> 0 | O22: =SUM(C22,D22,E22,F22,G22,H22,I22,J22,K22,L22,M22,N22) -> 0
B23: 1.000.001 - 10.000.000 | C23: =C9 -> 0 | D23: =E9 -> 0 | E23: =G9 -> 0 | F23: =I9 -> 0 | G23: =K9 -> 0 | H23: =M9 -> 0 | I23: =O9 -> 0 | J23: =Q9 -> 0 | K23: =S9 -> 0 | L23: =U9 -> 0 | M23: =W9 -> 0 | N23: =Y9 -> 0 | O23: =SUM(C23,D23,E23,F23,G23,H23,I23,J23,K23,L23,M23,N23) -> 0
B24: 10.000.001 - 100.000.000 | C24: =C10 -> 0 | D24: =E10 -> 0 | E24: =G10 -> 0 | F24: =I10 -> 0 | G24: =K10 -> 0 | H24: =M10 -> 0 | I24: =O10 -> 0 | J24: =Q10 -> 0 | K24: =S10 -> 0 | L24: =U10 -> 0 | M24: =W10 -> 0 | N24: =Y10 -> 0 | O24: =SUM(C24,D24,E24,F24,G24,H24,I24,J24,K24,L24,M24,N24) -> 0
B25: 100.000.001 ve Üzeri | C25: =C11 -> 0 | D25: =E11 -> 0 | E25: =G11 -> 0 | F25: =I11 -> 0 | G25: =K11 -> 0 | H25: =M11 -> 0 | I25: =O11 -> 0 | J25: =Q11 -> 0 | K25: =S11 -> 0 | L25: =U11 -> 0 | M25: =W11 -> 0 | N25: =Y11 -> 0 | O25: =SUM(C25,D25,E25,F25,G25,H25,I25,J25,K25,L25,M25,N25) -> 0
B26: Toplam | C26: =SUM(C20:C25) -> 0 | D26: =SUM(D20:D25) -> 0 | E26: =SUM(E20:E25) -> 0 | F26: =SUM(F20:F25) -> 0 | G26: =SUM(G20:G25) -> 0 | H26: =SUM(H20:H25) -> 0 | I26: =SUM(I20:I25) -> 0 | J26: =SUM(J20:J25) -> 0 | ... N26: =SUM(N20:N25) -> 0 | O26: =SUM(C26,D26,E26,F26,G26,H26,I26,J26,K26,L26,M26,N26) -> 0
B29: 2018 | C29: OCAK | D29: ŞUBAT | E29: MART | F29: NİSAN | G29: MAYIS | H29: HAZİRAN | I29: TEMMUZ | J29: AĞUSTOS | K29: EYLÜL | L29: EKİM | M29: KASIM | N29: ARALIK | O29: TOPLAM
