Workbook
Name __fdf1: '[1]#REF'!$B$4
Name __fdf2: '[1]#REF'!$B$5
Name __Lot123: #REF!
Name __tr1: '[1]Travel Rates'!#REF!
Name __tr2: #REF!
Name __tr3: '[1]Travel Rates'!#REF!
Name __tr4: #REF!
Name __tr5: '[1]Travel Rates'!#REF!
Name __TTL4000: '[1]#REF'!$L$16
Name __TTL5000: '[1]#REF'!$N$211
Name __TTL5400: '[1]#REF'!$N$58
Name __TTL6000: '[1]#REF'!$N$102
Name __TTL8000: '[1]#REF'!$N$176
Name __wdf2: '[1]#REF'!$B$7
Name _1Y_0Crite: #REF!
Name _1Y_0Crite: #REF!
Name _1Y_0Crite: #REF!
Name _2Y_0Crite: #REF!
Name _2Y_0Crite: #REF!
Name _2Y_0Extr: #REF!
Name _3Y__Crite: '[1]Labour Hours'!#REF!
Name _3Y_0Extr: #REF!
Name _3Y_0Extr: #REF!
Name _4Y__Extr: '[1]Labour Hours'!#REF!
Name _4Y_0Extr: #REF!
Name _4Y_0Extr: #REF!
Name _5Y__Crite: '[1]Labour Hours'!#REF!
Name _5Y__Crite: '[1]Labour Hours'!#REF!
Name _6Y__Crite: '[1]Labour Hours'!#REF!
Name _6Y__Crite: '[1]Labour Hours'!#REF!
Name _7Y__Extr: '[1]Labour Hours'!#REF!
Name _7Y__Extr: '[1]Labour Hours'!#REF!
Name _8Y__Extr: '[1]Labour Hours'!#REF!
Name _8Y__Extr: '[1]Labour Hours'!#REF!
Name _fdf1: '[1]#REF'!$B$4
Name _fdf2: '[1]#REF'!$B$5
Name _Lot123: #REF!
Name _Lot123: #REF!
Name _tr1: '[1]Travel Rates'!#REF!
Name _tr1: '[1]Travel Rates'!#REF!
Name _tr1: '[1]Travel Rates'!#REF!
Name _tr1: '[1]Travel Rates'!#REF!
Name _tr2: #REF!
Name _tr2: #REF!
Name _tr3: '[1]Travel Rates'!#REF!
Name _tr3: '[1]Travel Rates'!#REF!
Name _tr3: '[1]Travel Rates'!#REF!
Name _tr3: '[1]Travel Rates'!#REF!
Name _tr4: #REF!
Name _tr4: #REF!
Name _tr5: '[1]Travel Rates'!#REF!
Name _tr5: '[1]Travel Rates'!#REF!
Name _tr5: '[1]Travel Rates'!#REF!
Name _tr5: '[1]Travel Rates'!#REF!
Name _TTL4000: '[1]#REF'!$L$16
Name _TTL5000: '[1]#REF'!$N$211
Name _TTL5400: '[1]#REF'!$N$58
Name _TTL6000: '[1]#REF'!$N$102
Name _TTL8000: '[1]#REF'!$N$176
Name _wdf2: '[1]#REF'!$B$7

Sheet Ekler
A2: DAĞITIM ŞİRKETLERİ YILLIK TARİFE TABLOLARI LİSTESİ:
A4: =Profil!B2 -> EK-1: FİRMA PROFİLİ
A5: EK-2: TEMEL VERİLER (Bu Yıl İstenmemektedir.)
A6: ='Yıllık Bilanço'!A1 -> EK-3: YILLIK BİLANÇOLAR
A7: ='Yıllık Gelir Tablosu'!A1 -> EK-4: YILLIK GELİR TABLOLARI
A8: ='Yıllık Nakit Akım'!A1 -> EK-5: YILLIK NAKİT AKIM TABLOLARI
A9: =Mizanlar!A1 -> EK-6: MİZANLAR
A10: =Alımlar!A1 -> EK-7: DAĞITIM ŞİRKETLERİ DOĞAL GAZ ALIM FİYAT, MİKTAR VE BEDELLERİ
A11: ='Satışlar '!A1 -> EK-8/A: DAĞITIM ŞİRKETLERİ DOĞAL GAZ SATIŞ FİYAT, MİKTAR VE BEDELLERİ (Sm³)
A12: ='Satış Tahmini'!A1 -> EK-8/B: DAĞITIM ŞİRKETLERİNİN 2020 YILINA KADAR DOĞAL GAZ MİKTAR TAHMİNLERİ (m³)
A13: ='Serbest Tüketiciler'!A1 -> EK-8/C: 300.000 m3 ÜZERİ TÜKETEN SERBEST TÜKETİCİLERİN LİSTESİ
A14: =Çekişler!A1 -> EK-8/D: DAĞITIM ŞİRKETLERİNİN GÜNLÜK DOĞAL GAZ ÇEKİŞLERİ (sm³)
A15: =Taşıma!A1 -> EK-9: BOTAŞ VE DİĞER TEDARİKÇİLERDEN DOĞAL GAZ ALAN SERBEST TÜKETİCİLERİN LİSTESİ (OSB DAHİL)
A16: EK-10/A: DOĞAL GAZ HİZMET MALİYETİ (Bu yıl istenmeyecektir.)
A17: ='İşletme Giderleri'!A1 -> EK-10/B: İŞLETME GİDERLERİ
A18: ='Fatura Tahsilatı'!A1 -> EK-10/C: FATURA TAHSİLATI
A19: ='Sabit Kıymetler'!A1 -> EK-11: DOĞAL GAZ HİZMETİNDE KULLANILAN SABİT KIYMETLER
A20: =Amortisman!A1 -> EK-12: BİRİKMİŞ AMORTİSMAN VE TÜKENME PAYLARI
A21: =İstihdam!A1 -> EK-13: PERSONEL SAYISI VE TOPLAM GİDERLERİ
A22: =Borçlar!A1 -> EK-14/A: DAĞITIM ŞİRKETLERİNİN ÖNEMLİ BORÇLARI
A23: =Krediler!A1 -> EK-14/B: DAĞITIM ŞİRKETLERİNİN KREDİLERİ
A24: ='Kredi Geri Ödemesi'!A1 -> EK-14/C: DAĞITIM ŞİRKETLERİNİN KREDİ GERİ ÖDEME TABLOSU
A25: =Alacaklar!A1 -> EK-15: DAĞITIM ŞİRKETLERİNİN ÖNEMLİ ALACAKLARI
A26: ='Tarife Önerisi'!A1 -> EK-16: DAĞITIM ŞİRKETLERİ TARİFE ÖNERİSİ (TL/m3)
A27: EK-17: VERİMLİLİK (Bu Yıl İstenmemektedir.)
A28: EK-18: BAĞLANTI BEDELİ MALİYETİ (Bu Yıl İstenmemektedir.)
A29: ='Hizmet Kalitesi'!A1 -> EK-19: HİZMET KALİTESİ PERFORMANS GÖSTERGELERİ
A30: ='Abone Bilgileri'!A1 -> EK-20: TÜKETİCİ SAYISI DETAY TABLOSU
A31: =Yatırımlar!A1 -> EK-21/A: YATIRIMLAR
A32: ='Yatırım Dağılımı'!A1 -> EK-21/B: YATIRIM AYRIŞTIRMASI
A33: ='Planlanan Yatırımlar'!A1 -> EK-21/C: 2015-2016 YILLARI PLANLANAN YATIRIMLAR
A34: =Hakedişler!A1 -> EK-22: HAKEDİŞLER
A35: =ŞHDV!A1 -> EK-23: ŞEBEKE HARİCİ DÜZENLENMİŞ VARLIKLAR
A36: ='Faaliyet Gelirleri'!A1 -> EK-24: FAALİYET GELİRLERİ
A37: ='Güvence Bedeli'!A1 -> EK-25: ABONE GÜVENCE BEDELİ AKIŞ TABLOSU
A38: ='Varlık Satışı'!A1 -> EK-26: VARLIK SATIŞI VE DEPLASE HATLAR
A39: ='Tüketim Grubu Satış Tablosu'!A1 -> EK-27/A: TÜKETİM GRUBU BAZINDA TÜKETİCİ SAYISI VE TÜKETİM MİKTARLARI (TAŞIMA DAHİL)
A40: ='Müşteri Profili'!A1 -> EK-27/B: TÜKETİM KADEMELERİ BAZINDA MÜŞTERİ PROFİLİ

Sheet Profil
B2: EK-1: FİRMA PROFİLİ
C3: 1. Kişi | D3: 2. Kişi | E3: 3. Kişi | F3: 4. Kişi | G3: 5. Kişi
B4: Tabloları Düzenleyenler :
B5: Düzenleyenlerin Telefonu :
B6: Düzenleyenlerin Faksı :
B7: Düzenleyenlerin E-mail Adresi :
B11: FİRMA PROFİLİ
B13: ŞİRKET ADI:
B15: ŞİRKET KİMLİĞİ
B17: Kuruluş Tarihi
B18: Lisans Tarihi ve Sayısı
B19: Lisans Türü
B20: Lisans Süresi
B21: Tarifeye Esas Faaliyeti
... B28: Bağlantı kurulacak sorumlu yetkililer

Sheet Yıllık Bilanço
A1: EK-3: YILLIK BİLANÇOLAR
A4: YILLIK BİLANÇO
D5: (TL)
A6: AKTİF
B7: 41274 | C7: 41639 | D7: 42004
A8: I-DÖNEN VARLIKLAR | B8: =+B9+B15+B21+B29+B38+B46+B49+B52 -> 0 | C8: =+C9+C15+C21+C29+C38+C46+C49+C52 -> 0 | D8: =+D9+D15+D21+D29+D38+D46+D49+D52 -> 0
A9: A - HAZIR DEĞERLER | B9: =B10+B11+B12-B13+B14 -> 0 | C9: =C10+C11+C12-C13+C14 -> 0 | D9: =D10+D11+D12-D13+D14 -> 0
A10: 1 - Kasa Hesabı
A11: 2 - Alınan Çekler Hesabı
A12: 3 - Bankalar Hesabı
A13: 4 - Verilen Çekler ve Ödeme Emirleri (-)
A14: 5 - Diğer Hazır Değerler
A15: B - MENKUL KIYMETLER | B15: =B16+B17+B18+B19-B20 -> 0 | C15: =C16+C17+C18+C19-C20 -> 0 | D15: =D16+D17+D18+D19-D20 -> 0
A16: 1 - Hisse Senetleri
A17: 2 - Özel Kesim Tahvil, Senet ve Bonoları
A18: 3 - Kamu Kesim Tahvil, Senet ve Bonoları
A19: 4 - Diğer Menkul Kıymetler
A20: 5 - Menkul Kıymetler Değer Düşüklüğü Karşılığı Hesabı (-)
A21: C - TİCARİ ALACAKLAR | B21: =+B22+B23-B24+B25+B26+B27-B28 -> 0 | C21: =+C22+C23-C24+C25+C26+C27-C28 -> 0 | D21: =+D22+D23-D24+D25+D26+D27-D28 -> 0
A22: 1 - Alıcılar
A23: 2 - Alacak Senetleri
A24: 3 - Alacak Senetleri Reeskontu (-)
A25: 4 - Verilen Depozito ve Teminatlar
A26: 5 - Diğer Ticari Alacaklar
A27: 6 - Şüpheli Ticari Alacaklar
A28: 7 - Şüpheli Ticari Alacaklar Karşılığı (-)
A29: D - DİĞER ALACAKLAR | B29: =B30+B31+B32+B33+B34-B35+B36-B37 -> 0 | C29: =C30+C31+C32+C33+C34-C35+C36-C37 -> 0 | D29: =D30+D31+D32+D33+D34-D35+D36-D37 -> 0
A30: 1 - Ortaklardan Alacaklar
A31: 2 - İştiraklerden Alacaklar
A32: 3 - Bağlı Ortaklıklardan Alacaklar
A33: 4 - Personelden Alacaklar
A34: 5 - Diğer Çeşitli Alacaklar
A35: 6 - Diğer Alacak Senetleri Reeskontu (-)
A36: 7 - Şüpheli Diğer Alacaklar
A37: 8 - Şüpheli Diğer Alacaklar Karşılığı (-)
A38: E - STOKLAR | B38: =+B39+B40+B41+B42+B43-B44+B45 -> 0 | C38: =+C39+C40+C41+C42+C43-C44+C45 -> 0 | D38: =+D39+D40+D41+D42+D43-D44+D45 -> 0
A39: 1 - İlk Madde ve Malzeme Giderleri
A40: 2 - Yarı Mamül Üretim Hesabı
A41: 3 - Mamüller Hesabı
A42: 4 - Ticari Mallar
...

Sheet Yıllık Gelir Tablosu
A1: EK-4: YILLIK GELİR TABLOLARI
A4: YILLIK GELİR TABLOSU
D5: (TL)
B7: 41274 | C7: 41639 | D7: 42004
A9: A - Brüt Satışlar | B9: =SUM(B10:B12) -> 0 | C9: =SUM(C10:C12) -> 0 | D9: =SUM(D10:D12) -> 0
A10: 1 - Yurtiçi Satışlar
A11: 2 - Yurtdışı Satışlar
A12: 3 - Diğer Gelirler
A14: B - Satış İndirimleri (-) | B14: =SUM(B15:B17) -> 0 | C14: =SUM(C15:C17) -> 0 | D14: =SUM(D15:D17) -> 0
A15: 1 - Satıştan İadeler (-)
A16: 2 - Satış İskontoları (-)
A17: 3 - Diğer İndirimler (-)
A19: C - NET SATIŞLAR | B19: =+B9-B14 -> 0 | C19: =+C9-C14 -> 0 | D19: =+D9-D14 -> 0
A21: D - Satışların Maliyeti (-) | B21: =SUM(B22:B25) -> 0 | C21: =SUM(C22:C25) -> 0 | D21: =SUM(D22:D25) -> 0
A22: 1 - Satılan Mamüller Maliyeti (-)
A23: 2 - Satılan Ticari Mallar Maliyeti (-)
A24: 3 - Satılan Hizmet Maliyeti (-)
A25: 4 - Diğer Satışların Maliyeti (-)
A27: BRÜT SATIŞ KARI VEYA ZARARI | B27: =+B19-B21 -> 0 | C27: =+C19-C21 -> 0 | D27: =+D19-D21 -> 0
A29: E - Faaliyet Giderleri (-) | B29: =SUM(B30:B32) -> 0 | C29: =SUM(C30:C32) -> 0 | D29: =SUM(D30:D32) -> 0
A30: 1 - Araştırma ve Geliştirme Giderleri (-)
A31: 2 - Pazarlama, Satış ve Dağıtım Giderleri (-)
A32: 3 - Genel Yönetim Giderleri (-)
A34: FAALİYET KARI VEYA ZARARI | B34: =+B27-B29 -> 0 | C34: =+C27-C29 -> 0 | D34: =+D27-D29 -> 0
A36: F - Diğer Faaliyetlerden Olağan Gelir ve Karlar | B36: =SUM(B37:B45) -> 0 | C36: =SUM(C37:C45) -> 0 | D36: =SUM(D37:D45) -> 0
A37: 1 - İştiraklerden Temettü Gelirleri
A38: 2 - Bağlı Ortaklıklardan Temettü Gelirleri
A39: 3 - Faiz Gelirleri
A40: 4 - Komisyon Gelirleri
A41: 5 - Konusu Kalmayan Karşılıklar
A42: 6 - Menkul Kıymet Satış Karları
A43: 7 - Kambiyo Karları
A44: 8 - Reeskont Faiz Gelirleri
A45: 9 - Diğer Olağan Gelir ve Karlar
A47: G - Diğer Faaliyetlerden Olağan Gider ve Zararlar (-) | B47: =SUM(B48:B53) -> 0 | C47: =SUM(C48:C53) -> 0 | D47: =SUM(D48:D53) -> 0
A48: 1 - Komisyon Giderleri (-)
A49: 2 - Karşılık Giderleri (-)
A50: 3 - Menkul Kıymet Satış Zararları (-)
A51: 4 - Kambiyo Zararları (-)
A52: 5 - Reeskont Faiz Giderleri (-)
...

Sheet Yıllık Nakit Akım
A1: EK-5: YILLIK NAKİT AKIM TABLOLARI
A4: YILLIK NAKİT AKIM TABLOSU
D5: (TL)
B6: 41274 | C6: 41639 | D6: 42004
A7: A - DÖNEM BAŞI NAKİT MEVCUDU
A9: B - DÖNEM İÇİ NAKİT GİRİŞLERİ | B9: =B10+B14+B15+B16+B20+B24+B25+B26 -> 0 | C9: =C10+C14+C15+C16+C20+C24+C25+C26 -> 0 | D9: =D10+D14+D15+D16+D20+D24+D25+D26 -> 0
A10: 1 - Satışlardan Elde Edilen Nakit | B10: =B11+B12-B13 -> 0 | C10: =C11+C12-C13 -> 0 | D10: =D11+D12-D13 -> 0
A11: a) Net Satışlar
A12: b) Ticari Alacaklardaki Azalışlar
A13: c) Ticari Alacaklardaki Artışlar (-)
A14: 2 - Diğer Faaliyetlerden Olağan Gelir ve Karlardan Dolayı Sağlanan Nakit
A15: 3 - Olağandışı Gelir ve Karlardan Sağlanan Nakit
A16: 4 - Kısa Vadeli Yabancı Kaynaklardaki Artışlardan Sağlanan Nakit (Alımlarla İlgili Olmayan) | B16: =B17+B18+B19 -> 0 | C16: =C17+C18+C19 -> 0 | D16: =D17+D18+D19 -> 0
A17: a) Menkul Kıymet İhraçlarından
A18: b) Alınan Krediler
A19: c) Diğer Artışlar
A20: 5 - Uzun Vadeli Yabancı Kaynaklardaki Artışlardan Sağlanan Nakit (Alımlarla İlgili Olmayan) | B20: =B21+B22+B23 -> 0 | C20: =C21+C22+C23 -> 0 | D20: =D21+D22+D23 -> 0
A21: a) Menkul Kıymet İhraçlarından
A22: b) Alınan Krediler
A23: c) Diğer Artışlar
A24: 6 - Sermaye Artışlarından Sağlanan Nakit
A25: 7 - Hisse Senedi İhraç Primlerinden Sağlanan Nakit
A26: 8 - Diğer Nakit Girişleri
A28: C - DÖNEM İÇİ NAKİT ÇIKIŞLAR | B28: =B29+B36+B41+B44+B45+B48+B49+B53+B57+B58+B59 -> 0 | C28: =C29+C36+C41+C44+C45+C48+C49+C53+C57+C58+C59 -> 0 | D28: =D29+D36+D41+D44+D45+D48+D49+D53+D57+D58+D59 -> 0
A29: 1 - Maliyetlerden Kaynaklanan Nakit Çıkışlar | B29: =B30+B31+B32-B33-B34-B35 -> 0 | C29: =C30+C31+C32-C33-C34-C35 -> 0 | D29: =D30+D31+D32-D33-D34-D35 -> 0
A30: a) Satışların Maliyeti
A31: b) Stoklardaki Artışlar
A32: c) Ticari Borçlardaki (Alımlardan Kaynaklanan) Azalışlar
A33: d) Ticari Borçlardaki (Alımlardan Kaynaklanan) Artışlar (-)
A34: e) Amortisman ve Nakit Çıkışı Gerektirmeyen Diğer Giderler (-)
A35: f) Stoklardaki Azalışlar (-)
A36: 2 - Faaliyet Giderlerine İlişkin Nakit Çıkışları | B36: =B37+B38+B39-B40 -> 0 | C36: =C37+C38+C39-C40 -> 0 | D36: =D37+D38+D39-D40 -> 0
A37: a) Araştırma ve Geliştirme Giderleri
A38: b) Pazarlama, Satış ve Dağıtım Giderleri
A39: c) Genel Yönetim Giderleri
A40: d) Amortisman ve Nakit Çıkışı Gerektirmeyen Diğer Giderler (-)
A41: 3 - Diğer Faaliyetlerden Olağan Gider ve Zararlara İlişkin Nakit Çıkışları | B41: =B42-B43 -> 0 | C41: =C42-C43 -> 0 | D41: =D42-D43 -> 0
A42: a) Diğer Faaliyetlerle İlgili Olağan Gider ve Zararlar
A43: b) Amortisman ve Nakit Çıkışı Gerektirmeyen Diğer Gider ve Zararlar (-)
A44: 4 - Finansman Giderlerinden Dolayı Nakit Çıkışları
...

Sheet Mizanlar
A1: EK-6: MİZANLAR
A3: AÇIKLAMALAR:
A4: 1- Şirket mizanları detay kalemlerinin anlaşılacak şekilde tam adlarıyla ve bu kalemlere ilişkin açıklamaların aydınlatıcı şekilde verilmesi gerekmektedir.
A5: 2- Şirket mizanlarının excel tablosu şeklinde eklenmesi, fotoğraf veya pdf şeklinde eklenmemesi gerekmektedir.
A8: 2012-2014 YILLARI İÇİN DETAY MİZANLAR BU TABLODA ELEKTRONİK ORTAMDA,
A9: AYRICA ONAYLI BASILI ÇIKTI OLARAK YAZI EKİNDE SUNULACAKTIR.

Sheet Alımlar
A1: EK-7: DAĞITIM ŞİRKETLERİ DOĞAL GAZ ALIM FİYAT, MİKTAR VE BEDELLERİ
A3: AÇIKLAMALAR:
A4: 1- Bu tabloda, Serbest Tüketici ve Organize Sanayi Bölgesi (OSB) abonelerinden gaz tedarikini dağıtım şirketinden yapan tüketiciler için yapılan alımlar gösterilir.
A5: 2- Bu tablodaki veriler, ilgili aylar için faturalanan miktar ve tutarlar dikkate alınarak doldurulacaktır. (Tahakkuk esası)
A6: 3- Bu tablo satır eklemek suretiyle her tedarikçi için ayrı ayrı doldurulacaktır.
A8: DAĞITIM ŞİRKETLERİNİN 2014 YILI DOĞAL GAZ ALIM FİYAT, MİKTAR VE BEDELLERİ
B9: Ocak | C9: Şubat | D9: Mart | E9: Nisan | F9: Mayıs | G9: Haziran | H9: Temmuz | I9: Ağustos | J9: Eylül | K9: Ekim | L9: Kasım | M9: Aralık | N9: Yıllık
A10: TEDARİKÇİ - 1
A11: Abone
A12: ÖTV Dahil KDV Hariç Fiyat (TL/sm3) | N12: =IF(N13=0,0,+N14/N13) -> 0
A13: Miktar (sm3) | N13: =SUM(B13:M13) -> 0
A14: Alım Bedeli (TL) | B14: =B12*B13 -> 0 | C14: =C12*C13 -> 0 | D14: =D12*D13 -> 0 | E14: =E12*E13 -> 0 | F14: =F12*F13 -> 0 | G14: =G12*G13 -> 0 | H14: =H12*H13 -> 0 | I14: =I12*I13 -> 0 | ... M14: =M12*M13 -> 0 | N14: =SUM(B14:M14) -> 0
A15: 300.000 m3 altı tüketen Serbest Tüketiciler
A16: ÖTV Dahil KDV Hariç Fiyat (TL/sm3) | N16: =IF(N17=0,0,+N18/N17) -> 0
A17: Miktar (sm3) | N17: =SUM(B17:M17) -> 0
A18: Alım Bedeli (TL) | B18: =B16*B17 -> 0 | C18: =C16*C17 -> 0 | D18: =D16*D17 -> 0 | E18: =E16*E17 -> 0 | F18: =F16*F17 -> 0 | G18: =G16*G17 -> 0 | H18: =H16*H17 -> 0 | I18: =I16*I17 -> 0 | ... M18: =M16*M17 -> 0 | N18: =SUM(B18:M18) -> 0
A19: 300.000 m3 üzeri tüketen Serbest Tüketiciler
A20: ÖTV Dahil KDV Hariç Fiyat (TL/sm3) | N20: =IF(N21=0,0,+N22/N21) -> 0
A21: Miktar (sm3) | N21: =SUM(B21:M21) -> 0
A22: Alım Bedeli (TL) | B22: =B20*B21 -> 0 | C22: =C20*C21 -> 0 | D22: =D20*D21 -> 0 | E22: =E20*E21 -> 0 | F22: =F20*F21 -> 0 | G22: =G20*G21 -> 0 | H22: =H20*H21 -> 0 | I22: =I20*I21 -> 0 | ... M22: =M20*M21 -> 0 | N22: =SUM(B22:M22) -> 0
A23: OSB
A24: ÖTV Dahil KDV Hariç Fiyat (TL/sm3) | N24: =IF(N25=0,0,+N26/N25) -> 0
A25: Miktar (sm3) | N25: =SUM(B25:M25) -> 0
A26: Alım Bedeli (TL) | B26: =B24*B25 -> 0 | C26: =C24*C25 -> 0 | D26: =D24*D25 -> 0 | E26: =E24*E25 -> 0 | F26: =F24*F25 -> 0 | G26: =G24*G25 -> 0 | H26: =H24*H25 -> 0 | I26: =I24*I25 -> 0 | ... M26: =M24*M25 -> 0 | N26: =SUM(B26:M26) -> 0
A28: TEDARİKÇİ - 2
A29: Abone
A30: ÖTV Dahil KDV Hariç Fiyat (TL/sm3) | N30: =IF(N31=0,0,+N32/N31) -> 0
A31: Miktar (sm3) | N31: =SUM(B31:M31) -> 0
A32: Alım Bedeli (TL) | B32: =B30*B31 -> 0 | C32: =C30*C31 -> 0 | D32: =D30*D31 -> 0 | E32: =E30*E31 -> 0 | F32: =F30*F31 -> 0 | G32: =G30*G31 -> 0 | H32: =H30*H31 -> 0 | I32: =I30*I31 -> 0 | ... M32: =M30*M31 -> 0 | N32: =SUM(B32:M32) -> 0
A33: 300.000 m3 altı tüketen Serbest Tüketiciler
A34: ÖTV Dahil KDV Hariç Fiyat (TL/sm3) | N34: =IF(N35=0,0,+N36/N35) -> 0
A35: Miktar (sm3) | N35: =SUM(B35:M35) -> 0
A36: Alım Bedeli (TL) | B36: =B34*B35 -> 0 | C36: =C34*C35 -> 0 | D36: =D34*D35 -> 0 | E36: =E34*E35 -> 0 | F36: =F34*F35 -> 0 | G36: =G34*G35 -> 0 | H36: =H34*H35 -> 0 | I36: =I34*I35 -> 0 | ... M36: =M34*M35 -> 0 | N36: =SUM(B36:M36) -> 0
A37: 300.000 m3 üzeri tüketen Serbest Tüketiciler
A38: ÖTV Dahil KDV Hariç Fiyat (TL/sm3) | N38: =IF(N39=0,0,+N40/N39) -> 0
A39: Miktar (sm3) | N39: =SUM(B39:M39) -> 0
A40: Alım Bedeli (TL) | B40: =B38*B39 -> 0 | C40: =C38*C39 -> 0 | D40: =D38*D39 -> 0 | E40: =E38*E39 -> 0 | F40: =F38*F39 -> 0 | G40: =G38*G39 -> 0 | H40: =H38*H39 -> 0 | I40: =I38*I39 -> 0 | ... M40: =M38*M39 -> 0 | N40: =SUM(B40:M40) -> 0
A41: OSB
A42: ÖTV Dahil KDV Hariç Fiyat (TL/sm3) | N42: =IF(N43=0,0,+N44/N43) -> 0
A43: Miktar (sm3) | N43: =SUM(B43:M43) -> 0
...

Sheet Satışlar 
A1: EK-8/A: DAĞITIM ŞİRKETLERİ DOĞAL GAZ SATIŞ FİYAT, MİKTAR VE BEDELLERİ (Sm³)
A3: AÇIKLAMALAR:
A4: 1- Bu tablodaki Serbest Tüketiciler, Dağıtım Şirketinden (Organize Sanayi Bölgeleri tüzel kişilikleri hariç, OSB içindeki münferit serbest tüketiciler dahil) doğal gaz satın alan müşterileri ifade eder. Dağıtım şirketinden sadece taşıma hizmeti alan Serbest Tüketiciler bu tabloda gösterilmeyecektir.
A6: 2- Bu tablodaki veriler, ilgili aylar için faturalanan miktar ve tutarlar dikkate alınarak doldurulacaktır.
A7: 3- Muhasebe dengesinin sağlanması için dağıtım şirketleri tarafından yapılan muhasebesel tahakkuk miktarları göz önüne alınmayacaktır.
A8: 4- CNG lisansı sahiplerine yapılan doğal gaz satışları "CNG Lisansı Sahiplerine Satış" altında yer alacaktır.
A9: 5- "Isıtma Gazı ve Diğer Amaçlı Kullanım" bölümünde, istasyonlarda kullanılan ısıtma gazı ile çalışma alanlarında ısınma amaçlı kullanılan doğal gaz tüketimlerine yer verilecektir.
A10: 6- "Isıtma Gazı ve Diğer Amaçlı Kullanım" bölümü, ilgili tüketim faturalandırılmakta ise faturaya esas miktar, doğrudan giderleştirilmiş ise giderleştirilen miktar üzerinden doldurulacaktır.
A12: DAĞITIM ŞİRKETLERİ 2014 YILI DOĞAL GAZ SATIŞ FİYAT, MİKTAR VE BEDELLERİ (sm3)
B13: Ocak | C13: Şubat | D13: Mart | E13: Nisan | F13: Mayıs | G13: Haziran | H13: Temmuz | I13: Ağustos | J13: Eylül | K13: Ekim | L13: Kasım | M13: Aralık | N13: Yıllık
A14: Abone
A15: ÖTV Dahil KDV Hariç Fiyat (TL/sm3) | N15: =IF(N16=0,0,+N17/N16) -> 0
A16: Tüketim (sm3) | N16: =SUM(B16:M16) -> 0
A17: Hasılat (TL) | B17: =B15*B16 -> 0 | C17: =C15*C16 -> 0 | D17: =D15*D16 -> 0 | E17: =E15*E16 -> 0 | F17: =F15*F16 -> 0 | G17: =G15*G16 -> 0 | H17: =H15*H16 -> 0 | I17: =I15*I16 -> 0 | ... M17: =M15*M16 -> 0 | N17: =SUM(B17:M17) -> 0
A18: Müşteri Sayısı (Fatura Kesilen)
A19: 300.000 m3 altı tüketen Serbest Tüketici (OSB Hariç)
A20: ÖTV Dahil KDV Hariç Fiyat (TL/sm3) | N20: =IF(N21=0,0,+N22/N21) -> 0
A21: Tüketim (sm3) | N21: =SUM(B21:M21) -> 0
A22: Hasılat (TL) | B22: =B20*B21 -> 0 | C22: =C20*C21 -> 0 | D22: =D20*D21 -> 0 | E22: =E20*E21 -> 0 | F22: =F20*F21 -> 0 | G22: =G20*G21 -> 0 | H22: =H20*H21 -> 0 | I22: =I20*I21 -> 0 | ... M22: =M20*M21 -> 0 | N22: =SUM(B22:M22) -> 0
A23: Müşteri Sayısı (Fatura Kesilen)
A24: 300.000 m3 üzeri tüketen Serbest Tüketici (OSB Hariç)
A25: ÖTV Dahil KDV Hariç Fiyat (TL/sm3) | N25: =IF(N26=0,0,+N27/N26) -> 0
A26: Tüketim (sm3) | N26: =SUM(B26:M26) -> 0
A27: Hasılat (TL) | B27: =B25*B26 -> 0 | C27: =C25*C26 -> 0 | D27: =D25*D26 -> 0 | E27: =E25*E26 -> 0 | F27: =F25*F26 -> 0 | G27: =G25*G26 -> 0 | H27: =H25*H26 -> 0 | I27: =I25*I26 -> 0 | ... M27: =M25*M26 -> 0 | N27: =SUM(B27:M27) -> 0
A28: Müşteri Sayısı (Fatura Kesilen)
A29: OSB
A30: ÖTV Dahil KDV Hariç Fiyat (TL/sm3) | N30: =IF(N31=0,0,+N32/N31) -> 0
A31: Tüketim (sm3) | N31: =SUM(B31:M31) -> 0
A32: Hasılat (TL) | B32: =B30*B31 -> 0 | C32: =C30*C31 -> 0 | D32: =D30*D31 -> 0 | E32: =E30*E31 -> 0 | F32: =F30*F31 -> 0 | G32: =G30*G31 -> 0 | H32: =H30*H31 -> 0 | I32: =I30*I31 -> 0 | ... M32: =M30*M31 -> 0 | N32: =SUM(B32:M32) -> 0
A33: Müşteri Sayısı (Fatura Kesilen)
A34: CNG Lisansı Sahiplerine Satış
A35: ÖTV Dahil KDV Hariç Fiyat (TL/sm3) | N35: =IF(N36=0,0,+N37/N36) -> 0
A36: Tüketim (sm3) | N36: =SUM(B36:M36) -> 0
A37: Hasılat (TL) | B37: =B35*B36 -> 0 | C37: =C35*C36 -> 0 | D37: =D35*D36 -> 0 | E37: =E35*E36 -> 0 | F37: =F35*F36 -> 0 | G37: =G35*G36 -> 0 | H37: =H35*H36 -> 0 | I37: =I35*I36 -> 0 | ... M37: =M35*M36 -> 0 | N37: =SUM(B37:M37) -> 0
A38: Müşteri Sayısı (Fatura Kesilen)
A39: Isıtma Gazı ve Diğer Amaçlı Kullanım
A40: ÖTV Dahil KDV Hariç Fiyat (TL/sm3) | N40: =IF(N41=0,0,+N42/N41) -> 0
A41: Tüketim (sm3) | N41: =SUM(B41:M41) -> 0
A42: Gider (TL) | B42: =B40*B41 -> 0 | C42: =C40*C41 -> 0 | D42: =D40*D41 -> 0 | E42: =E40*E41 -> 0 | F42: =F40*F41 -> 0 | G42: =G40*G41 -> 0 | H42: =H40*H41 -> 0 | I42: =I40*I41 -> 0 | ... M42: =M40*M41 -> 0 | N42: =SUM(B42:M42) -> 0
A43: TOPLAM
...

Sheet Satış Tahmini
A1: EK-8/B: DAĞITIM ŞİRKETLERİNİN 2020 YILINA KADAR DOĞAL GAZ MİKTAR TAHMİNLERİ (m³)
A3: AÇIKLAMALAR:
A4: 1- Bu tabloya, taşıma dahil dağıtım bölgesi tüketim tahminine yer verilecektir.
A5: 2- 10.000.000 m3 sınırına ilişkin kademe ayrışımında 2014 takvim yılı gerçekleşmesi dikkate alınacaktır.
A7: 2020 YILINA KADAR DOĞAL GAZ TÜKETİM TAHMİNİ (TAŞIMA DAHİL)
A8: Yıl | B8: 0 - 10.000.000 m3 Arası Tüketim (sm³) | C8: 10.000.000 m3 Üzeri Tüketim (sm³) | D8: Toplam Miktar (sm³)
A9: 2014 | D9: =SUM(B9:C9) -> 0
A10: =$A$9+1&" (P)" -> 2015 (P) | D10: =SUM(B10:C10) -> 0
A11: =$A$9+2&" (P)" -> 2016 (P) | D11: =SUM(B11:C11) -> 0
A12: =$A$9+3&" (P)" -> 2017 (P) | D12: =SUM(B12:C12) -> 0
A13: =$A$9+4&" (P)" -> 2018 (P) | D13: =SUM(B13:C13) -> 0
A14: =$A$9+5&" (P)" -> 2019 (P) | D14: =SUM(B14:C14) -> 0
A15: =$A$9+6&" (P)" -> 2020 (P) | D15: =SUM(B15:C15) -> 0
A16: (P): Program

Sheet Serbest Tüketiciler
A1: EK-8/C: 300.000 m3 ÜZERİ TÜKETEN SERBEST TÜKETİCİLERİN LİSTESİ
A3: AÇIKLAMALAR:
A4: 1- Bu tabloda, hem doğal gazı dağıtım şirketinden alan serbest tüketiciler hem de diğer tedarikçilerden doğal gaz satın alan tüketiciler yer alacaktır.
A6: 2- 300.000 m3 sınırına ilişkin kademe ayrışımında 2014 takvim yılı gerçekleşmesi dikkate alınacaktır.
A8: Tüketicinin
A9: Sıralaması | B9: Adı | C9: Mevcut Tedarikçisi | D9: 2014 Tüketimi (sm3)

Sheet Çekişler
A1: EK-8/D: DAĞITIM ŞİRKETLERİNİN GÜNLÜK DOĞAL GAZ ÇEKİŞLERİ (sm³)
A3: GÜNLÜK BAZDA ÇEKİŞ MİKTARLARI
A4: TARİH | B4: Şebekenin Günlük Gaz Taşıma Kapasitesi | C4: Dağıtım Bölgesine Giren Toplam Gaz Miktarı | D4: Dağıtım Şirketi Müşterisi Olup Sayacı Günlük Okunan Serbest Tüketicilerin Tüketim Miktarı | E4: Dağıtım Şirketi Müşterisi Olmayan Serbest Tüketiciler İçin Taşıma Miktarı | F4: Diğer Tüketiciler Çekiş Miktarı
A5: 41640 | F5: =C5-D5-E5 -> 0
A6: 41641 | F6: =C6-D6-E6 -> 0
A7: 41642 | F7: =C7-D7-E7 -> 0
A8: 41643 | F8: =C8-D8-E8 -> 0
A9: 41644 | F9: =C9-D9-E9 -> 0
A10: 41645 | F10: =C10-D10-E10 -> 0
A11: 41646 | F11: =C11-D11-E11 -> 0
A12: 41647 | F12: =C12-D12-E12 -> 0
A13: 41648 | F13: =C13-D13-E13 -> 0
A14: 41649 | F14: =C14-D14-E14 -> 0
A15: 41650 | F15: =C15-D15-E15 -> 0
A16: 41651 | F16: =C16-D16-E16 -> 0
... A369: 42004 | F369: =C369-D369-E369 -> 0
A371: NOT: Bu tablo 01.01.2014 / 31.12.2014 tarihleri arasındaki her gün için doldurulacaktır.

Sheet Taşıma
A1: EK-9: BOTAŞ VE DİĞER TEDARİKÇİLERDEN DOĞAL GAZ ALAN SERBEST TÜKETİCİLERİN LİSTESİ (OSB DAHİL)
A3: AÇIKLAMALAR:
A4: 1- Dağıtım şirketinden sadece taşıma hizmeti alan Serbest Tüketiciler bu tabloda gösterilecektir.
A5: 2- Bu tablo satır eklemek suretiyle her serbest tüketici için ayrı ayrı doldurulacaktır.
A7: 2014 YILINDAKİ MÜŞTERİLER
B8: Ocak | C8: Şubat | D8: Mart | E8: Nisan | F8: Mayıs | G8: Haziran | H8: Temmuz | I8: Ağustos | J8: Eylül | K8: Ekim | L8: Kasım | M8: Aralık | N8: Yıllık Toplam
A9: 1- Tüketici Adı
A10: Tüketim Miktarı (sm3) | N10: =SUM(B10:M10) -> 0
A11: Uygulanan Sistem Kullanım Bedeli (KDV Hariç)(TL/sm3) | N11: =IF(N10=0,0,+N12/N10) -> 0
A12: Taşıma Hasılatı | B12: =B10*B11 -> 0 | C12: =C10*C11 -> 0 | D12: =D10*D11 -> 0 | E12: =E10*E11 -> 0 | F12: =F10*F11 -> 0 | G12: =G10*G11 -> 0 | H12: =H10*H11 -> 0 | I12: =I10*I11 -> 0 | ... M12: =M10*M11 -> 0 | N12: =SUM(B12:M12) -> 0
A13: 2- Tüketici Adı
A14: Tüketim Miktarı (sm3) | N14: =SUM(B14:M14) -> 0
A15: Uygulanan Sistem Kullanım Bedeli (KDV Hariç)(TL/sm3) | N15: =IF(N14=0,0,+N16/N14) -> 0
A16: Taşıma Hasılatı | B16: =B14*B15 -> 0 | C16: =C14*C15 -> 0 | D16: =D14*D15 -> 0 | E16: =E14*E15 -> 0 | F16: =F14*F15 -> 0 | G16: =G14*G15 -> 0 | H16: =H14*H15 -> 0 | I16: =I14*I15 -> 0 | ... M16: =M14*M15 -> 0 | N16: =SUM(B16:M16) -> 0
A17: 3- …
A18: Tüketim Miktarı (sm3) | N18: =SUM(B18:M18) -> 0
A19: Uygulanan Sistem Kullanım Bedeli (KDV Hariç)(TL/sm3) | N19: =IF(N18=0,0,+N20/N18) -> 0
A20: Taşıma Hasılatı | B20: =B18*B19 -> 0 | C20: =C18*C19 -> 0 | D20: =D18*D19 -> 0 | E20: =E18*E19 -> 0 | F20: =F18*F19 -> 0 | G20: =G18*G19 -> 0 | H20: =H18*H19 -> 0 | I20: =I18*I19 -> 0 | ... M20: =M18*M19 -> 0 | N20: =SUM(B20:M20) -> 0
A22: ……..
A24: Toplam Tüketim (sm3)
A25: Toplam Hasılat (TL)

Sheet İşletme Giderleri
A1: EK-10/B: İŞLETME GİDERLERİ
A3: AÇIKLAMALAR:
A4: 1- Bu tabloda, işletme giderleri gider kalemleri (personel, araç yakıt, haberleşme vb.) bazında detaylandırılacak olup
A5: dışarıdan hizmet alımı yapılma durumu hariç alt faaliyet bazında (sayaç okuma, abonelik işlemleri, tahsilat vb.) gider sınıflandırılması yapılmamaktadır.
A6: 2- Müşterilerin gaz faturalarını ödememeleri durumunda oluşan zararlara bu tabloda yer verilmeyecektir.
A7: 3- Bu tabloda karşılık giderlerine (kıdem tazminatı, güvence bedeli, şüpheli alacak karşılığı vb.) yer verilmeyecektir.
A8: 4- Bu tabloda amortisman giderlerine ve finansman giderlerine yer verilmeyecektir.
A9: 5- Bu tabloda belgelendirilemeyen giderlere yer verilmeyecektir.
A10: 6- Bu tabloda birden çok kalemi ilgilendiren bir gider sadece bir kalem altında yer alacaktır. Aynı gider birden fazla kalem altında tekraren yazılmayacaktır.
A11: 7- EK-21/A tablosunda yer verilen bir gider kalemine, işbu tabloda yer verilmeyecektir. (Örneğin kamulaştırma işlemleri için alınan avukatlık hizmeti karşılığı ödenen bir bedelin
A12: EK-21/A’da yer alan Kamulaştırma gideri altında yer alması gerekmekte olup, bu bedele hiç bir suretle işbu tabloda yer verilmemesi gerekmektedir.)
A13: 8- Bu tabloda, şirketin personel ile ilgili giderleri sadece personel ücret ve giderleri kaleminde yer alacak bunun dışındaki kalemlerde personel giderlerine yer verilmeyecektir.
... A22: İŞLETME GİDERLERİ
B23: 41274 | C23: 41639 | D23: 42004
A24: Toplam İşletme Giderleri | B24: =B25+B34+B41+B51+B55+B62+B73+B77+B80 -> 0 | C24: =C25+C34+C41+C51+C55+C62+C73+C77+C80 -> 0 | D24: =D25+D34+D41+D51+D55+D62+D73+D77+D80 -> 0
A25: Personel Ücret ve Giderleri * | B25: =SUM(B26:B33) -> 0 | C25: =SUM(C26:C33) -> 0 | D25: =SUM(D26:D33) -> 0
A26: 01. Normal Ücret (Ücrete bağlı vergiler dahil)
A27: 02. Fazla Mesai Ücreti (Ücrete bağlı vergiler dahil)
A28: 03. Kıdem Tazminatı
A29: 04. Huzur Hakkı
A30: 05. Eğitim
A31: 06. Servis
A32: 07. Yemek
A33: 08. Görevlendirme
A34: Bakım Onarım Giderleri | B34: =SUM(B35:B40) -> 0 | C34: =SUM(C35:C40) -> 0 | D34: =SUM(D35:D40) -> 0
A35: 01. Dağıtım Hatları
A36: 02. İstasyonlar
A37: 03. Sayaçlar (Periyodik muayene ve kalibrasyon hariç)
A38: 04. Araç ve Demirbaşlar
A39: 05. Bina
A40: 06. Yazılım
A41: Dışarıdan Sağlanan Hizmet Giderleri | B41: =SUM(B42:B50) -> 0 | C41: =SUM(C42:C50) -> 0 | D41: =SUM(D42:D50) -> 0
A42: 01. Sayaç Okuma ve Faturalandırma
A43: 02. Sayaç Açma Kapama
A44: 03. İç Tesisat Proje Onay, Kontrolörlük, Test ve İşletmeye Alma
A45: 04. Periyodik Muayene ve Sayaç Kalibrasyon
A46: 05. Tahsilat
A47: 06. Güvenlik Hizmetleri
A48: 07. Temizlik
A49: 08. Çağrı Merkezi
...

Sheet Fatura Tahsilatı
A1: EK-10/C: FATURA TAHSİLATI
A4: FATURA TAHSİLATI
A5: TARİH | B5: Şirket Tarafından Tahsil Edilen Fatura Sayısı | C5: PTT lerde Tahsil Edilen Fatura Sayısı | D5: Bankalarca Tahsil Edilen Fatura Sayısı | E5: Diğer (Tahsilat Yolunu Belirtiniz) | F5: Toplam Fatura Tahsilat Sayısı
A6: 41640 | F6: =SUM(B6:E6) -> 0
A7: 41671 | F7: =SUM(B7:E7) -> 0
A8: 41699 | F8: =SUM(B8:E8) -> 0
A9: 41730 | F9: =SUM(B9:E9) -> 0
A10: 41760 | F10: =SUM(B10:E10) -> 0
A11: 41791 | F11: =SUM(B11:E11) -> 0
A12: 41821 | F12: =SUM(B12:E12) -> 0
A13: 41852 | F13: =SUM(B13:E13) -> 0
A14: 41883 | F14: =SUM(B14:E14) -> 0
A15: 41913 | F15: =SUM(B15:E15) -> 0
A16: 41944 | F16: =SUM(B16:E16) -> 0
A17: 41974 | F17: =SUM(B17:E17) -> 0
A18: 2014 Toplam | B18: =SUM(B6:B17) -> 0 | C18: =SUM(C6:C17) -> 0 | D18: =SUM(D6:D17) -> 0 | E18: =SUM(E6:E17) -> 0 | F18: =SUM(F6:F17) -> 0

Sheet Sabit Kıymetler
A1: EK-11: DOĞAL GAZ HİZMETİNDE KULLANILAN SABİT KIYMETLER
A3: AÇIKLAMALAR:
A4: 1- Amortisman ömrünü tamamlayan sabit kıymetlere yer verilmeyecektir.
A5: 2- Bu tablolarda aktifleştirilen tüm sabit kıymetler belirtilecektir. Sabit Kıymet Türü, söz konusu sabit kıymetin karakteristiğini yansıtacaktır (Boru Hattı, Kompresör İstasyonu, Bina vs. gibi).
A6: 3- Boru hatları için uzunluk ve boru çapı da bu haneye eklenecektir. Sabit Kıymetlere Aktarıldığı Tarih, söz konusu varlığın amoırtismana tabi tutulmaya başlandığı tarihi ifade etmektedir.
A8: 2014 YILI SONU İTİBARIYLA DOĞAL GAZ HİZMETİNDE KULLANILAN SABİT KIYMETLER TABLOSU
A9: SIRA | B9: SABİT KIYMET TÜRÜ VE ADI | C9: SABİT KIYMETLERE AKTARILDIĞI TARİH | D9: EDİNME DEĞERİ (TL) | E9: TOPLAM YENİDEN DEĞERLEME (TL) | F9: AMORTİSMAN YÖNTEMİ | G9: AMORTİSMAN SÜRESİ | H9: AMORTİSMAN ORANI | I9: TOPLAM BİRİKMİŞ AMORTİSMAN (TL)
A17: 2014 Yıl Sonu İtibariyle Toplam Sabit Kıymet Tutarı

Sheet Amortisman
A1: EK-12: BİRİKMİŞ AMORTİSMAN VE TÜKENME PAYLARI
F3: (TL)
A4: 2014 YILI BİRİKMİŞ AMORTİSMAN VE TÜKENME PAYLARI TABLOSU
A5: DURAN VARLIKLAR | B5: Maddi Duran Varlıklar Birikmiş Amort. (257) | C5: Maddi Olmayan Duran Varlıklar Birikmiş Amort. (268) | D5: Özel Tükenmeye Tabi Varlıklar Birikmiş Amort. (278) | E5: Diğer Duran Varlıklar Birikmiş Amort. (299) | F5: TOPLAM (257+268+278+299)
A6: 1 - DÖNEM BAŞI | F6: =SUM(B6:E6) -> 0
A7: 2 - CARİ DÖNEM AMORT. VE TÜKENME PAYLARI | B7: =SUM(B8:B11) -> 0 | C7: =SUM(C8:C11) -> 0 | D7: =SUM(D8:D11) -> 0 | E7: =SUM(E8:E11) -> 0 | F7: =SUM(B7:E7) -> 0
A8: a - Hizmet Üretim Masraflarına Giden | F8: =SUM(B8:E8) -> 0
A9: b - Faaliyet Giderlerine Giden | F9: =SUM(B9:E9) -> 0
A10: c - Diğer Faaliyetlerden Olağan Gider ve Zararlara Giden | F10: =SUM(B10:E10) -> 0
A11: d - Olağandışı Gider ve Zararlara Giden | F11: =SUM(B11:E11) -> 0
A12: 3 - YENİDEN DEĞERLEME ARTIŞI | F12: =SUM(B12:E12) -> 0
A13: 4 - DİĞER ARTIŞLAR | F13: =SUM(B13:E13) -> 0
A14: 5 - ÇIKIŞLAR | F14: =SUM(B14:E14) -> 0
A15: 6 - DÖNEM SONU (1+2+3+4-5) | B15: =B6+B7+B12+B13-B14 -> 0 | C15: =C6+C7+C12+C13-C14 -> 0 | D15: =D6+D7+D12+D13-D14 -> 0 | E15: =E6+E7+E12+E13-E14 -> 0 | F15: =SUM(B15:E15) -> 0

Sheet İstihdam
A1: EK-13: PERSONEL SAYISI VE TOPLAM GİDERLERİ
A3: AÇIKLAMALAR:
A4: 1- Bu tabloda, "Ek-10/B: İşletme Giderleri" tablosundaki "Personel Ücret ve Giderleri" kaleminin dağıtımı verilecektir.
A5: 2- Personel sayısının dağılımı alt tablosunda, birden fazla iş tanımı altında çalışan personel olması durumunda, söz konusu personel gerçeği yansıtacak bir dağıtım anahtarı kullanılarak ilgili iş tanımlarına dağıtılacaktır. Bu kalemlerde küsuratlı sayı bulunabilir.
A8: PERSONEL SAYISI VE GİDERLERİ TABLOSU
A10: PERSONEL SAYISI - PERSONEL GİDERLERİ | B10: 41274 | C10: 41639 | D10: 42004
A11: Dönem Başı Personel Sayısı
A12: Dönem İçi Personel Sayısındaki Artış
A13: Dönem İçi Personel Sayısındaki Azalış
A14: Dönem Sonu Personel Sayısı
A15: Toplam Personel Giderleri (TL) | B15: ='İşletme Giderleri'!B25 -> 0 | C15: ='İşletme Giderleri'!C25 -> 0 | D15: ='İşletme Giderleri'!D25 -> 0
A17: PERSONEL SAYISI DAĞILIMI | B17: 41274 | C17: 41639 | D17: 42004
A18: Faturalandırma Hizmetinde Çalışan Sayısı (Sayaç Okuma Dahil)
A19: Abonelik İşleri Personeli
A20: Tahsilat Hizmetinde Çalışan Sayısı
A21: Güvenlik Personeli
A22: Temizlik İşleri Personeli
A23: İç Tesisat Proje Onay Personeli
A24: Genel Yönetim Personeli
A25: …
A27: PERSONEL GİDERLERİ DAĞILIMI (TL) | B27: 41274 | C27: 41639 | D27: 42004
A28: Faturalandırma Hizmetinde Çalışan Personel Giderleri (Sayaç Okuma Dahil)
A29: Abonelik İşleri Personel Giderleri
A30: Tahsilat Hizmetinde Çalışan Personel Giderleri
A31: Güvenlik Personel Giderleri
A32: Temizlik İşleri Personel Giderleri
A33: İç Tesisat Proje Onay Personel Giderleri
A34: Genel Yönetim Personel Giderleri
A35: …

Sheet Borçlar
A1: EK-14/A: DAĞITIM ŞİRKETLERİNİN ÖNEMLİ BORÇLARI
A4: DAĞITIM ŞİRKETLERİNİN ÖNEMLİ BORÇLARI (TL)
B6: 42004
B7: Tümü | C7: Vadesi Geçen | D7: Vade | E7: Faiz Oranı
A8: I.TOPTAN SATICILARA BORÇLAR
A9: a) Anapara
A10: b) Faiz
A12: II.YATIRIM KREDİSİ BORÇLARI
A13: a) Yurtdışı *
A14: aa) Anapara
A15: ab) Faiz
A16: ac) Kur Farkı
A18: b) Yurtiçi
A19: ba) Anapara
A20: bb) faiz
A22: III.VERGİ BORÇLARI
... A38: * Dış borçların ABD doları bazında tutarı kullanılan dönem sonu kurları dipnotlarda belirtilecektir.

Sheet Krediler
A1: EK-14/B: DAĞITIM ŞİRKETLERİNİN KREDİLERİ
A3: AÇIKLAMALAR:
A4: 1- Ödemesi ilgili yıl itibarıyla tamamlanmış kredilere bu tabloda yer verilmeyecektir.
A7: KREDİLER TABLOSU (31.12.2014 TARİHİ İTİBARIYLA)
A8: Kredi No | B8: Kullanıldığı Proje | C8: Krediyi Sağlayan Finans Kurumu | D8: Kredi Başlangıç Tarihi | E8: Kredi Bitiş Tarihi | F8: Para Birimi | G8: Kredi Tutarı | H8: 31.12.2014 Bakiyesi | I8: Yıllık Faiz Oranı*
A18: * Değişken faizli kredilerde gerçekleşen dönemlerde uygulanan faiz oranları yıl bazında ayrı ayrı belirtilecektir.

Sheet Kredi Geri Ödemesi
A1: EK-14/C: DAĞITIM ŞİRKETLERİNİN KREDİ GERİ ÖDEME TABLOSU
A3: AÇIKLAMALAR:
A4: 1- Ödemesi ilgili yıl itibarıyla tamamlanmamış kredilere ilişkin ödeme tablosu verilecektir.
A5: 2- Bu tablolar, her bir kredi için ayrı ayrı doldurulacaktır.
A7: … KREDİSİ ÖDEME TABLOSU
A8: Tarih | B8: Ödenen Kredi Taksiti | C8: Ödenen Anapara | D8: Ödenen Faiz | E8: Kalan Anapara | F8: Kalan Faizli Tutar
A18: … KREDİSİ ÖDEME TABLOSU
A19: Tarih | B19: Ödenen Kredi Taksiti | C19: Ödenen Anapara | D19: Ödenen Faiz | E19: Kalan Anapara | F19: Kalan Faizli Tutar

Sheet Alacaklar
A1: EK-15: DAĞITIM ŞİRKETLERİNİN ÖNEMLİ ALACAKLARI
B4: 42004
B5: Tümü | C5: Vadesi Geçen | D5: Vade | E5: Faiz Oranı
A6: I.ABONELERDEN ALACAKLAR
A7: II.SERBEST TÜKETİCİLERDEN ALACAKLAR
A8: III.TEDARİKÇİLERDEN ALACAKLAR
A9: III.DİĞER ALACAKLAR (Alacak Türü Belirtilecektir)
A10: TOPLAM
A11: Anapara
A12: Faiz

Sheet Tarife Önerisi
A1: EK-16: DAĞITIM ŞİRKETLERİ TARİFE ÖNERİSİ (TL/m3)
A4: SİSTEM KULLANIM BEDELLERİ TARİFE TEKLİFİ (TL/m3)
A5: Kurum tarafından belirtilen kademeler ve Doğal Gaz Dağıtım Şirketleri Tarife Hesaplama Usul ve Esasları kapsamında hazırlanacak sistem kullanım bedelleri tarife teklifine ilişkin hesaplamalar bu bölümde mutlaka belirtilecektir.

Sheet Hizmet Kalitesi
A1: EK-19: HİZMET KALİTESİ PERFORMANS GÖSTERGELERİ
A4: HİZMET KALİTESİ PERFORMANS GÖSTERGELERİ
B5: Birim | C5: 42004
A6: I) BAĞLANTI BİLGİLERİ
A7: Kabul edilen bağlantı talepleri | B7: Adet
A8: Reddedilen bağlantı talepleri | B8: Adet
A9: Sözleşme sonlandırma talepleri | B9: Adet
A10: II) GEÇİCİ GAZ KESİNTİSİ NEDENLERİ
A11: Müşterinin talebi | B11: Adet
A12: Fatura bedelinin ödenmemesi | B12: Adet
A13: Mahkeme veya Kurul Kararı | B13: Adet
A14: Kaçak veya usülsüz gaz kullanımı | B14: Adet
A15: III) ÖLÇÜMLEME
A16: Ölçüm yapamayan sayaç | B16: Adet
A17: Hatalı ölçüm yapan sayaç | B17: Adet
A18: Sayaç açma-kapama bedeli alınan müşteri sayısı | B18: Adet
A19: Doğal gaz yükleme merkezi sayısı | B19: Adet
A20: Nöbetçi doğal gaz yükleme merkezi sayısı | B20: Adet
A21: IV-a) ŞİKAYET SEBEPLERİ
A22: Sayaç şikayetleri | B22: Adet
A23: Gaz basınç seviyesi şikayetleri | B23: Adet
A24: Gaz kesinti şikayetleri | B24: Adet
A25: Sertfika sahiplerinin şikayetleri | B25: Adet
A26: Diğer şikayetler | B26: Adet
A27: IV-b) ŞİKAYET YÖNTEMLERİ
A28: Yazılı şikayet sayısı | B28: Adet
A29: Telefonla gelen şikayet sayısı | B29: Adet
A30: Fax ile gelen şikayet sayısı | B30: Adet
A31: E-posta ile gelen şikayet sayısı | B31: Adet
A32: Ortalama şikayet giderme süresi | B32: Saat
A33: IV-c) FATURA İTİRAZLARI
A34: Faturaya itiraz sayısı | B34: Adet
A35: Faturaya itirazı kabul edilen müşteri sayısı | B35: Adet
A36: Faturaya itirazı reddedilen müşteri sayısı | B36: Adet
A37: V) TAHSİLAT BİLGİLERİ
A38: Şirkete Ait Ödeme Merkezi Sayısı | B38: Adet
A39: Şirkete Ait Vezne Sayısı | B39: Adet
A40: Şirket Web Sitesi Üzerinden Fatura Ödeme Sayısı | B40: Adet
A41: Toplam Fatura Sayısı | B41: Adet
A42: Uzaktan Okuma Yapılan Sayaç Sayısı | B42: Adet
...

Sheet Abone Bilgileri
A1: EK-20: TÜKETİCİ SAYISI DETAY TABLOSU
A3: AÇIKLAMALAR:
A4: 1- Bu tabloda, aksi belirtilmedikçe belirtilen yıl sonuna kadar dağıtım bölgesi toplamındaki abone sayılarının girilmesi gerekmektedir.
A5: 2- Bu tabloda, potansiyel kelimesi sisteme bağlantısı yapılan tüketicileri de kapsamaktadır.
B8: Birimi | C8: 40178 | D8: 40543 | E8: 40908 | F8: 41274 | G8: 41639 | H8: 42004
A9: Faaliyette Bulunulan Alan | B9: km2
A10: Dağıtım Bölgesindeki Potansiyel Tüketici Adedi (Kümülatif) | B10: Adet | C10: =C11+C12 -> 0 | D10: =D11+D12 -> 0 | E10: =E11+E12 -> 0 | F10: =F11+F12 -> 0 | G10: =G11+G12 -> 0 | H10: =H11+H12 -> 0
A11: - Konut (Daire bazında) | B11: Adet
A12: - Konut Harici (İşyeri bazında) | B12: Adet
A13: Şebekenin Ulaştığı Potansiyel Tüketici Adedi (Kümülatif) | B13: Adet | C13: =C14+C15 -> 0 | D13: =D14+D15 -> 0 | E13: =E14+E15 -> 0 | F13: =F14+F15 -> 0 | G13: =G14+G15 -> 0 | H13: =H14+H15 -> 0
A14: - Konut (Daire bazında) | B14: Adet
A15: - Konut Harici (İşyeri bazında) | B15: Adet
A17: Servis Hattı Yapım Adedi (Kümülatif) * | B17: Adet
A18: Tesis Edilen Servis Hatlarının Toplam Uzunluğu (Kümülatif) * | B18: Metre
A19: Servis Hatları Toplam Maliyeti (Malzeme ve İşçilik Dahil Toplam Yapım Maliyeti) (KDV Hariç - Muhasebe Kayıtlarındaki Değerler) * | B19: TL
A20: Servis Hattıyla Ulaşılan Potansiyel Tüketici Adedi (Kümülatif) * | B20: Adet | C20: =C21+C22 -> 0 | D20: =D21+D22 -> 0 | E20: =E21+E22 -> 0 | F20: =F21+F22 -> 0 | G20: =G21+G22 -> 0 | H20: =H21+H22 -> 0
A21: - Konut (Daire bazında) | B21: Adet
A22: - Konut Harici (İşyeri bazında) | B22: Adet
A23: Servis Hattıyla Ulaşılan Potansiyel Tüketici (Kümülatif) * | B23: BBS | C23: =C24+C25 -> 0 | D23: =D24+D25 -> 0 | E23: =E24+E25 -> 0 | F23: =F24+F25 -> 0 | G23: =G24+G25 -> 0 | H23: =H24+H25 -> 0
A24: - Konut (Daire bazında) | B24: BBS
A25: - Konut Harici (İşyeri bazında) | B25: BBS
A27: Bağlantı Sözleşmesi Yapılan Tüketici Adedi (Kümülatif) (Servis Hattıyla Bağlanan - Bağlantı Bedelini BBS üzerinden ödeyen tüketiciler) | B27: Adet | C27: =SUM(C28:C31) -> 0 | D27: =SUM(D28:D31) -> 0 | E27: =SUM(E28:E31) -> 0 | F27: =SUM(F28:F31) -> 0 | G27: =SUM(G28:G31) -> 0 | H27: =SUM(H28:H31) -> 0
A28: - Konut Bireysel (Merkezi sistem ile ısınmayan) | B28: Adet
A29: - Konut Merkezi ** | B29: Adet
A30: - Konut Harici Bireysel (Merkezi sistem ile ısınmayan) | B30: Adet
A31: - Konut Harici Merkezi *** | B31: Adet
A32: Bağlantı Sözleşmesi Yapılan Tüketici (Kümülatif) (Servis Hattıyla Bağlanan - Bağlantı Bedelini BBS üzerinden ödeyen tüketiciler) | B32: BBS | C32: =SUM(C33:C36) -> 0 | D32: =SUM(D33:D36) -> 0 | E32: =SUM(E33:E36) -> 0 | F32: =SUM(F33:F36) -> 0 | G32: =SUM(G33:G36) -> 0 | H32: =SUM(H33:H36) -> 0
A33: - Konut Bireysel (Merkezi sistem ile ısınmayan) | B33: BBS
A34: - Konut Merkezi ** | B34: BBS
A35: - Konut Harici Bireysel (Merkezi sistem ile ısınmayan) | B35: BBS
A36: - Konut Harici Merkezi *** | B36: BBS
A37: Bağlantısı Yapılmış Merkezi Sistem Adedi (Kümülatif) | B37: Adet
A39: Abonelik Sözleşmesi (Gaz Kullanım Sözleşmesi) İmzalayan Abone Adedi (Kümülatif) **** | B39: Adet
A40: İç Tesisat Onayı Yapılan Abone Adedi (Kümülatif) **** | B40: Adet
A41: Gazı Açılan Abone Adedi (Yıl içinde gazı ilk kez açılan tüketici) **** | B41: Adet
A42: Fatura Kesilen Abone Adedi (Yıl içinde en az bir kez fatura kesilen tüketici) **** | B42: Adet
A43: Gaz Verilen Bina Adedi (İçinde en az bir abone bulunan) (Kümülatif) **** | B43: Adet
A45: * Servis hattı ile kasıt, dağıtım şebekesini konuta bağlayan hat olup bir hattın ucunda hem konut hem de konut harici tüketici bulunması durumunda da bu hat servis hattı addedilir.
A46: ** Bu kalemde, merkezi abonelik yapılan bir bina için o binadaki konut amaçlı dairelerin sayısı yer alacaktır.
A47: *** Bu kalemde, merkezi abonelik yapılan bir bina için o binadaki konut harici tüketicilerin sayısı yer alacaktır.
...

Sheet Yatırımlar
A1: EK-21/A: YATIRIMLAR
A3: AÇIKLAMALAR:
A4: 1- Yatırımlar tablosu tahakkuk ettirilmiş hakedişler çerçevesinde doldurulacaktır.
A5: 2- Miktar sütununda işin miktarı belirtilecektir.
A6: 3- Bu tabloda edinme değerleri (nominal değerler) verilecektir. Kur farkları ve finansman giderleri edinme değerine dahil edilmeyecektir.
A7: 4- Leasing yöntemi ile edinilen şebeke varlıklarının varlık değerine bu tabloda yer verilecektir. Ancak finansman maliyeti niteliğindeki giderlere yer verilmeyecektir. Örneğin varlık değeri 2 milyon TL olan bir istasyon için leasing süresince 5 milyon TL ödenecek ise bu tabloda sadece 2 milyon TL'ye yer verilecektir.
A8: 5- Leasing yolu ile edinilen varlıklara ilişkin leasing sözleşmelerinin ve ödemelerinin örneği ekte sunulur.
A9: 6- Maliyetleri ortak olan şebeke unsurları için ortak maliyetler dağıtım anahtarlarıyla ilgili şebeke unsurlarına dağıtılacaktır. Bu dağıtım anahtarlarına ilişkin detaylar belirtilecektir.
A10: 7- Deplase hat maliyetleri de bu tabloda yer alacaktır.
A11: 8- "Diğer Yatırımlar" başlıklı tabloda belirtilen kalemlere ilişkin unsurlar doldurulacaktır.
A12: 9- Bu tabloda belgelendirilemeyen giderlere yer verilmeyecektir.
A13: 10- Giderler KDV hariç olacaktır.
... A16: YATIRIM GİDERLERİ (TL)
C17: 38352 | G17: 38717 | K17: 39082 | O17: 39447 | S17: 39813 | W17: 40178 | AA17: 40543 | AE17: 40908 | AI17: 41274 | AM17: 41639 | AQ17: 42004
A18: ŞEBEKE UNSURLARI | B18: Birim | C18: Miktar | D18: Birim Malzeme Giderleri (TL/Birim) | E18: Birim İnşaat ve İşçilik Giderleri (TL/Birim) | F18: Toplam Yatırım Giderleri (TL) | G18: Miktar | H18: Birim Malzeme Giderleri (TL/Birim) | I18: Birim İnşaat ve İşçilik Giderleri (TL/Birim) | J18: Toplam Yatırım Giderleri (TL) | K18: Miktar | L18: Birim Malzeme Giderleri (TL/Birim) | M18: Birim İnşaat ve İşçilik Giderleri (TL/Birim) | N18: Toplam Yatırım Giderleri (TL) | O18: Miktar | P18: Birim Malzeme Giderleri (TL/Birim) | Q18: Birim İnşaat ve İşçilik Giderleri (TL/Birim) | R18: Toplam Yatırım Giderleri (TL) | S18: Miktar | T18: Birim Malzeme Giderleri (TL/Birim) | U18: Birim İnşaat ve İşçilik Giderleri (TL/Birim) | V18: Toplam Yatırım Giderleri (TL) | W18: Miktar | X18: Birim Malzeme Giderleri (TL/Birim) | Y18: Birim İnşaat ve İşçilik Giderleri (TL/Birim) | Z18: Toplam Yatırım Giderleri (TL) | AA18: Miktar | AB18: Birim Malzeme Giderleri (TL/Birim) | AC18: Birim İnşaat ve İşçilik Giderleri (TL/Birim) | AD18: Toplam Yatırım Giderleri (TL) | AE18: Miktar | AF18: Birim Malzeme Giderleri (TL/Birim) | AG18: Birim İnşaat ve İşçilik Giderleri (TL/Birim) | AH18: Toplam Yatırım Giderleri (TL) | AI18: Miktar | AJ18: Birim Malzeme Giderleri (TL/Birim) | AK18: Birim İnşaat ve İşçilik Giderleri (TL/Birim) | AL18: Toplam Yatırım Giderleri (TL) | AM18: Miktar | AN18: Birim Malzeme Giderleri (TL/Birim) | AO18: Birim İnşaat ve İşçilik Giderleri (TL/Birim) | AP18: Toplam Yatırım Giderleri (TL) | AQ18: Miktar | AR18: Birim Malzeme Giderleri (TL/Birim) | AS18: Birim İnşaat ve İşçilik Giderleri (TL/Birim) | AT18: Toplam Yatırım Giderleri (TL)
A19: 1. DAĞITIM ŞEBEKESİ | F19: =F20+F41+F62+F83+F104+F125+F146+F152 -> 0 | J19: =J20+J41+J62+J83+J104+J125+J146+J152 -> 0 | N19: =N20+N41+N62+N83+N104+N125+N146+N152 -> 0 | R19: =R20+R41+R62+R83+R104+R125+R146+R152 -> 0 | V19: =V20+V41+V62+V83+V104+V125+V146+V152 -> 0 | Z19: =Z20+Z41+Z62+Z83+Z104+Z125+Z146+Z152 -> 0 | AD19: =AD20+AD41+AD62+AD83+AD104+AD125+AD146+AD152 -> 0 | AH19: =AH20+AH41+AH62+AH83+AH104+AH125+AH146+AH152 -> 0 | AL19: =AL20+AL41+AL62+AL83+AL104+AL125+AL146+AL152 -> 0 | AP19: =AP20+AP41+AP62+AP83+AP104+AP125+AP146+AP152 -> 0 | AT19: =AT20+AT41+AT62+AT83+AT104+AT125+AT146+AT152 -> 0
A20: 1.1. Dağıtım Hatları | F20: =F21+F34 -> 0 | J20: =J21+J34 -> 0 | N20: =N21+N34 -> 0 | R20: =R21+R34 -> 0 | V20: =V21+V34 -> 0 | Z20: =Z21+Z34 -> 0 | AD20: =AD21+AD34 -> 0 | AH20: =AH21+AH34 -> 0 | AL20: =AL21+AL34 -> 0 | AP20: =AP21+AP34 -> 0 | AT20: =AT21+AT34 -> 0
A21: 1.1.1. Çelik Hatlar | F21: =SUM(F22:F33) -> 0 | J21: =SUM(J22:J33) -> 0 | N21: =SUM(N22:N33) -> 0 | R21: =SUM(R22:R33) -> 0 | V21: =SUM(V22:V33) -> 0 | Z21: =SUM(Z22:Z33) -> 0 | AD21: =SUM(AD22:AD33) -> 0 | AH21: =SUM(AH22:AH33) -> 0 | AL21: =SUM(AL22:AL33) -> 0 | AP21: =SUM(AP22:AP33) -> 0 | AT21: =SUM(AT22:AT33) -> 0
A22: 1-2" | B22: metre | F22: =C22*(D22+E22) -> 0 | J22: =G22*(H22+I22) -> 0 | N22: =K22*(L22+M22) -> 0 | R22: =O22*(P22+Q22) -> 0 | V22: =S22*(T22+U22) -> 0 | Z22: =W22*(X22+Y22) -> 0 | AD22: =AA22*(AB22+AC22) -> 0 | AH22: =AE22*(AF22+AG22) -> 0 | AL22: =AI22*(AJ22+AK22) -> 0 | AP22: =AM22*(AN22+AO22) -> 0 | AT22: =AQ22*(AR22+AS22) -> 0
A23: 3-4" | B23: metre | F23: =C23*(D23+E23) -> 0 | J23: =G23*(H23+I23) -> 0 | N23: =K23*(L23+M23) -> 0 | R23: =O23*(P23+Q23) -> 0 | V23: =S23*(T23+U23) -> 0 | Z23: =W23*(X23+Y23) -> 0 | AD23: =AA23*(AB23+AC23) -> 0 | AH23: =AE23*(AF23+AG23) -> 0 | AL23: =AI23*(AJ23+AK23) -> 0 | AP23: =AM23*(AN23+AO23) -> 0 | AT23: =AQ23*(AR23+AS23) -> 0
A24: 5-6" | B24: metre | F24: =C24*(D24+E24) -> 0 | J24: =G24*(H24+I24) -> 0 | N24: =K24*(L24+M24) -> 0 | R24: =O24*(P24+Q24) -> 0 | V24: =S24*(T24+U24) -> 0 | Z24: =W24*(X24+Y24) -> 0 | AD24: =AA24*(AB24+AC24) -> 0 | AH24: =AE24*(AF24+AG24) -> 0 | AL24: =AI24*(AJ24+AK24) -> 0 | AP24: =AM24*(AN24+AO24) -> 0 | AT24: =AQ24*(AR24+AS24) -> 0
A25: 7-8" | B25: metre | F25: =C25*(D25+E25) -> 0 | J25: =G25*(H25+I25) -> 0 | N25: =K25*(L25+M25) -> 0 | R25: =O25*(P25+Q25) -> 0 | V25: =S25*(T25+U25) -> 0 | Z25: =W25*(X25+Y25) -> 0 | AD25: =AA25*(AB25+AC25) -> 0 | AH25: =AE25*(AF25+AG25) -> 0 | AL25: =AI25*(AJ25+AK25) -> 0 | AP25: =AM25*(AN25+AO25) -> 0 | AT25: =AQ25*(AR25+AS25) -> 0
A26: 9-10" | B26: metre | F26: =C26*(D26+E26) -> 0 | J26: =G26*(H26+I26) -> 0 | N26: =K26*(L26+M26) -> 0 | R26: =O26*(P26+Q26) -> 0 | V26: =S26*(T26+U26) -> 0 | Z26: =W26*(X26+Y26) -> 0 | AD26: =AA26*(AB26+AC26) -> 0 | AH26: =AE26*(AF26+AG26) -> 0 | AL26: =AI26*(AJ26+AK26) -> 0 | AP26: =AM26*(AN26+AO26) -> 0 | AT26: =AQ26*(AR26+AS26) -> 0
A27: 11-12" | B27: metre | F27: =C27*(D27+E27) -> 0 | J27: =G27*(H27+I27) -> 0 | N27: =K27*(L27+M27) -> 0 | R27: =O27*(P27+Q27) -> 0 | V27: =S27*(T27+U27) -> 0 | Z27: =W27*(X27+Y27) -> 0 | AD27: =AA27*(AB27+AC27) -> 0 | AH27: =AE27*(AF27+AG27) -> 0 | AL27: =AI27*(AJ27+AK27) -> 0 | AP27: =AM27*(AN27+AO27) -> 0 | AT27: =AQ27*(AR27+AS27) -> 0
A28: 13-14" | B28: metre | F28: =C28*(D28+E28) -> 0 | J28: =G28*(H28+I28) -> 0 | N28: =K28*(L28+M28) -> 0 | R28: =O28*(P28+Q28) -> 0 | V28: =S28*(T28+U28) -> 0 | Z28: =W28*(X28+Y28) -> 0 | AD28: =AA28*(AB28+AC28) -> 0 | AH28: =AE28*(AF28+AG28) -> 0 | AL28: =AI28*(AJ28+AK28) -> 0 | AP28: =AM28*(AN28+AO28) -> 0 | AT28: =AQ28*(AR28+AS28) -> 0
A29: 15-16" | B29: metre | F29: =C29*(D29+E29) -> 0 | J29: =G29*(H29+I29) -> 0 | N29: =K29*(L29+M29) -> 0 | R29: =O29*(P29+Q29) -> 0 | V29: =S29*(T29+U29) -> 0 | Z29: =W29*(X29+Y29) -> 0 | AD29: =AA29*(AB29+AC29) -> 0 | AH29: =AE29*(AF29+AG29) -> 0 | AL29: =AI29*(AJ29+AK29) -> 0 | AP29: =AM29*(AN29+AO29) -> 0 | AT29: =AQ29*(AR29+AS29) -> 0
A30: 17-20" | B30: metre | F30: =C30*(D30+E30) -> 0 | J30: =G30*(H30+I30) -> 0 | N30: =K30*(L30+M30) -> 0 | R30: =O30*(P30+Q30) -> 0 | V30: =S30*(T30+U30) -> 0 | Z30: =W30*(X30+Y30) -> 0 | AD30: =AA30*(AB30+AC30) -> 0 | AH30: =AE30*(AF30+AG30) -> 0 | AL30: =AI30*(AJ30+AK30) -> 0 | AP30: =AM30*(AN30+AO30) -> 0 | AT30: =AQ30*(AR30+AS30) -> 0
A31: 21-24" | B31: metre | F31: =C31*(D31+E31) -> 0 | J31: =G31*(H31+I31) -> 0 | N31: =K31*(L31+M31) -> 0 | R31: =O31*(P31+Q31) -> 0 | V31: =S31*(T31+U31) -> 0 | Z31: =W31*(X31+Y31) -> 0 | AD31: =AA31*(AB31+AC31) -> 0 | AH31: =AE31*(AF31+AG31) -> 0 | AL31: =AI31*(AJ31+AK31) -> 0 | AP31: =AM31*(AN31+AO31) -> 0 | AT31: =AQ31*(AR31+AS31) -> 0
A32: 25-28" | B32: metre | F32: =C32*(D32+E32) -> 0 | J32: =G32*(H32+I32) -> 0 | N32: =K32*(L32+M32) -> 0 | R32: =O32*(P32+Q32) -> 0 | V32: =S32*(T32+U32) -> 0 | Z32: =W32*(X32+Y32) -> 0 | AD32: =AA32*(AB32+AC32) -> 0 | AH32: =AE32*(AF32+AG32) -> 0 | AL32: =AI32*(AJ32+AK32) -> 0 | AP32: =AM32*(AN32+AO32) -> 0 | AT32: =AQ32*(AR32+AS32) -> 0
A33: 28" üzeri | B33: metre | F33: =C33*(D33+E33) -> 0 | J33: =G33*(H33+I33) -> 0 | N33: =K33*(L33+M33) -> 0 | R33: =O33*(P33+Q33) -> 0 | V33: =S33*(T33+U33) -> 0 | Z33: =W33*(X33+Y33) -> 0 | AD33: =AA33*(AB33+AC33) -> 0 | AH33: =AE33*(AF33+AG33) -> 0 | AL33: =AI33*(AJ33+AK33) -> 0 | AP33: =AM33*(AN33+AO33) -> 0 | AT33: =AQ33*(AR33+AS33) -> 0
A34: 1.1.2. Polietilen Hatlar | F34: =SUM(F35:F40) -> 0 | J34: =SUM(J35:J40) -> 0 | N34: =SUM(N35:N40) -> 0 | R34: =SUM(R35:R40) -> 0 | V34: =SUM(V35:V40) -> 0 | Z34: =SUM(Z35:Z40) -> 0 | AD34: =SUM(AD35:AD40) -> 0 | AH34: =SUM(AH35:AH40) -> 0 | AL34: =SUM(AL35:AL40) -> 0 | AP34: =SUM(AP35:AP40) -> 0 | AT34: =SUM(AT35:AT40) -> 0
A35: ND 0-40 mm | B35: metre | F35: =C35*(D35+E35) -> 0 | J35: =G35*(H35+I35) -> 0 | N35: =K35*(L35+M35) -> 0 | R35: =O35*(P35+Q35) -> 0 | V35: =S35*(T35+U35) -> 0 | Z35: =W35*(X35+Y35) -> 0 | AD35: =AA35*(AB35+AC35) -> 0 | AH35: =AE35*(AF35+AG35) -> 0 | AL35: =AI35*(AJ35+AK35) -> 0 | AP35: =AM35*(AN35+AO35) -> 0 | AT35: =AQ35*(AR35+AS35) -> 0
A36: ND 63 mm | B36: metre | F36: =C36*(D36+E36) -> 0 | J36: =G36*(H36+I36) -> 0 | N36: =K36*(L36+M36) -> 0 | R36: =O36*(P36+Q36) -> 0 | V36: =S36*(T36+U36) -> 0 | Z36: =W36*(X36+Y36) -> 0 | AD36: =AA36*(AB36+AC36) -> 0 | AH36: =AE36*(AF36+AG36) -> 0 | AL36: =AI36*(AJ36+AK36) -> 0 | AP36: =AM36*(AN36+AO36) -> 0 | AT36: =AQ36*(AR36+AS36) -> 0
A37: ND 90 mm | B37: metre | F37: =C37*(D37+E37) -> 0 | J37: =G37*(H37+I37) -> 0 | N37: =K37*(L37+M37) -> 0 | R37: =O37*(P37+Q37) -> 0 | V37: =S37*(T37+U37) -> 0 | Z37: =W37*(X37+Y37) -> 0 | AD37: =AA37*(AB37+AC37) -> 0 | AH37: =AE37*(AF37+AG37) -> 0 | AL37: =AI37*(AJ37+AK37) -> 0 | AP37: =AM37*(AN37+AO37) -> 0 | AT37: =AQ37*(AR37+AS37) -> 0
A38: ND 110 mm | B38: metre | F38: =C38*(D38+E38) -> 0 | J38: =G38*(H38+I38) -> 0 | N38: =K38*(L38+M38) -> 0 | R38: =O38*(P38+Q38) -> 0 | V38: =S38*(T38+U38) -> 0 | Z38: =W38*(X38+Y38) -> 0 | AD38: =AA38*(AB38+AC38) -> 0 | AH38: =AE38*(AF38+AG38) -> 0 | AL38: =AI38*(AJ38+AK38) -> 0 | AP38: =AM38*(AN38+AO38) -> 0 | AT38: =AQ38*(AR38+AS38) -> 0
A39: ND 125 mm | B39: metre | F39: =C39*(D39+E39) -> 0 | J39: =G39*(H39+I39) -> 0 | N39: =K39*(L39+M39) -> 0 | R39: =O39*(P39+Q39) -> 0 | V39: =S39*(T39+U39) -> 0 | Z39: =W39*(X39+Y39) -> 0 | AD39: =AA39*(AB39+AC39) -> 0 | AH39: =AE39*(AF39+AG39) -> 0 | AL39: =AI39*(AJ39+AK39) -> 0 | AP39: =AM39*(AN39+AO39) -> 0 | AT39: =AQ39*(AR39+AS39) -> 0
A40: ND 125 mm üzeri | B40: metre | F40: =C40*(D40+E40) -> 0 | J40: =G40*(H40+I40) -> 0 | N40: =K40*(L40+M40) -> 0 | R40: =O40*(P40+Q40) -> 0 | V40: =S40*(T40+U40) -> 0 | Z40: =W40*(X40+Y40) -> 0 | AD40: =AA40*(AB40+AC40) -> 0 | AH40: =AE40*(AF40+AG40) -> 0 | AL40: =AI40*(AJ40+AK40) -> 0 | AP40: =AM40*(AN40+AO40) -> 0 | AT40: =AQ40*(AR40+AS40) -> 0
A41: 1.2. Özel Geçiş Dağıtım Hatları | F41: =F42+F55 -> 0 | J41: =J42+J55 -> 0 | N41: =N42+N55 -> 0 | R41: =R42+R55 -> 0 | V41: =V42+V55 -> 0 | Z41: =Z42+Z55 -> 0 | AD41: =AD42+AD55 -> 0 | AH41: =AH42+AH55 -> 0 | AL41: =AL42+AL55 -> 0 | AP41: =AP42+AP55 -> 0 | AT41: =AT42+AT55 -> 0
A42: 1.2.1. ÖG Çelik Hatlar | F42: =SUM(F43:F54) -> 0 | J42: =SUM(J43:J54) -> 0 | N42: =SUM(N43:N54) -> 0 | R42: =SUM(R43:R54) -> 0 | V42: =SUM(V43:V54) -> 0 | Z42: =SUM(Z43:Z54) -> 0 | AD42: =SUM(AD43:AD54) -> 0 | AH42: =SUM(AH43:AH54) -> 0 | AL42: =SUM(AL43:AL54) -> 0 | AP42: =SUM(AP43:AP54) -> 0 | AT42: =SUM(AT43:AT54) -> 0
A43: 1-2" | B43: metre | F43: =C43*(D43+E43) -> 0 | J43: =G43*(H43+I43) -> 0 | N43: =K43*(L43+M43) -> 0 | R43: =O43*(P43+Q43) -> 0 | V43: =S43*(T43+U43) -> 0 | Z43: =W43*(X43+Y43) -> 0 | AD43: =AA43*(AB43+AC43) -> 0 | AH43: =AE43*(AF43+AG43) -> 0 | AL43: =AI43*(AJ43+AK43) -> 0 | AP43: =AM43*(AN43+AO43) -> 0 | AT43: =AQ43*(AR43+AS43) -> 0
...

Sheet Yatırım Dağılımı
A1: EK-21/B: YATIRIM AYRIŞTIRMASI
A3: AÇIKLAMALAR:
A4: 1- Bu tablo, sistem kullanım bedelleri 3580 sayılı Metodoloji kapsamında belirlenmiş olan ihaleli şirketler tarafından doldurulacaktır. İhaleli şirketler, yeni tarife kararı kapsamında yatırım tavanı belirlenen her bir yılın gerçekleşmeleri için bu tabloları dolduracaktır.
A6: 2- Ek-21/A'da yer verilen yatırımların toplam maliyetler üzerinden ilgili kategorilere ayrıştırılmış hali verilecektir.
A8: 2012 YILI YATIRIMLARI | B8: 5 Yıl Yatırım Yükümlülüğünde Olup Mücbir Sebep Nedeniyle Yapılamamış Yatırımlar * | F8: 5 Yıl Yatırım Yükümlülüğü Kapsamında Olup Yapılmamış Yatırımlar ** | J8: Yatırım Tavanı Kapsamında Olan Yatırımlar ***
B9: 2012 Yılı Yatırımları | C9: Birim | D9: Tutar | F9: 2012 Yılı Yatırımları | G9: Birim | H9: Tutar | J9: 2012 Yılı Yatırımları | K9: Birim | L9: Tutar
B10: Çelik Şebeke (Metre) | F10: Çelik Şebeke (Metre) | J10: Çelik Şebeke (Metre)
B11: Polietilen Şebeke (Bağlantı ve Servis Hattı Hariç) (Metre) | F11: Polietilen Şebeke (Bağlantı ve Servis Hattı Hariç) (Metre) | J11: Polietilen Şebeke (Bağlantı ve Servis Hattı Hariç) (Metre)
B12: Şehir Giriş İstasyonu (Adet) | F12: Şehir Giriş İstasyonu (Adet) | J12: Şehir Giriş İstasyonu (Adet)
B13: Şehir İçi Bölge İstasyonu (Adet) | F13: Şehir İçi Bölge İstasyonu (Adet) | J13: Şehir İçi Bölge İstasyonu (Adet)
B14: Serbest Tüketici Bağlantı Maliyeti (Adet) | F14: Serbest Tüketici Bağlantı Maliyeti (Adet) | J14: Serbest Tüketici Bağlantı Maliyeti (Adet)
B15: Mal ve Hizmet Üretim Amaçlı Münferit Hat Maliyeti (Adet) | F15: Mal ve Hizmet Üretim Amaçlı Münferit Hat Maliyeti (Adet) | J15: Mal ve Hizmet Üretim Amaçlı Münferit Hat Maliyeti (Adet)
B16: Servis Hattı Maliyeti (Adet) | F16: Servis Hattı Maliyeti (Adet) | J16: Servis Hattı Maliyeti (Adet)
B17: Kazı, Ruhsat, Harç Maliyetleri | F17: Kazı, Ruhsat, Harç Maliyetleri | J17: Kazı, Ruhsat, Harç Maliyetleri
B18: Kamulaştırma Maliyetleri | F18: Kamulaştırma Maliyetleri | J18: Kamulaştırma Maliyetleri
B19: Kaplama Maliyetleri | F19: Kaplama Maliyetleri | J19: Kaplama Maliyetleri
B20: Kontrol Şirketi Maliyetleri | F20: Kontrol Şirketi Maliyetleri | J20: Kontrol Şirketi Maliyetleri
B21: Katodik Koruma Maliyetleri | F21: Katodik Koruma Maliyetleri | J21: Katodik Koruma Maliyetleri
... B23: Coğrafi Bilgi Sistemi (Harita) Maliyetleri | F23: Coğrafi Bilgi Sistemi (Harita) Maliyetleri | J23: Coğrafi Bilgi Sistemi (Harita) Maliyetleri
B24: TOPLAM | D24: =SUM(D10:D23) -> 0 | F24: TOPLAM | H24: =SUM(H10:H23) -> 0 | J24: Devralınan Hat ve Tesisler
J25: TOPLAM | L25: =SUM(L10:L24) -> 0
A27: 2013 YILI YATIRIMLARI | B27: 5 Yıl Yatırım Yükümlülüğünde Olup Mücbir Sebep Nedeniyle Yapılamamış Yatırımlar * | F27: 5 Yıl Yatırım Yükümlülüğü Kapsamında Olup Yapılmamış Yatırımlar ** | J27: Yatırım Tavanı Kapsamında Olan Yatırımlar ***
B28: 2013 Yılı Yatırımları | C28: Birim | D28: Tutar | F28: 2013 Yılı Yatırımları | G28: Birim | H28: Tutar | J28: 2013 Yılı Yatırımları | K28: Birim | L28: Tutar
B29: Çelik Şebeke (Metre) | F29: Çelik Şebeke (Metre) | J29: Çelik Şebeke (Metre)
B30: Polietilen Şebeke (Bağlantı ve Servis Hattı Hariç) (Metre) | F30: Polietilen Şebeke (Bağlantı ve Servis Hattı Hariç) (Metre) | J30: Polietilen Şebeke (Bağlantı ve Servis Hattı Hariç) (Metre)
B31: Şehir Giriş İstasyonu (Adet) | F31: Şehir Giriş İstasyonu (Adet) | J31: Şehir Giriş İstasyonu (Adet)
B32: Şehir İçi Bölge İstasyonu (Adet) | F32: Şehir İçi Bölge İstasyonu (Adet) | J32: Şehir İçi Bölge İstasyonu (Adet)
B33: Serbest Tüketici Bağlantı Maliyeti (Adet) | F33: Serbest Tüketici Bağlantı Maliyeti (Adet) | J33: Serbest Tüketici Bağlantı Maliyeti (Adet)
B34: Mal ve Hizmet Üretim Amaçlı Münferit Hat Maliyeti (Adet) | F34: Mal ve Hizmet Üretim Amaçlı Münferit Hat Maliyeti (Adet) | J34: Mal ve Hizmet Üretim Amaçlı Münferit Hat Maliyeti (Adet)
B35: Servis Hattı Maliyeti (Adet) | F35: Servis Hattı Maliyeti (Adet) | J35: Servis Hattı Maliyeti (Adet)
B36: Kazı, Ruhsat, Harç Maliyetleri | F36: Kazı, Ruhsat, Harç Maliyetleri | J36: Kazı, Ruhsat, Harç Maliyetleri
B37: Kamulaştırma Maliyetleri | F37: Kamulaştırma Maliyetleri | J37: Kamulaştırma Maliyetleri
B38: Kaplama Maliyetleri | F38: Kaplama Maliyetleri | J38: Kaplama Maliyetleri
B39: Kontrol Şirketi Maliyetleri | F39: Kontrol Şirketi Maliyetleri | J39: Kontrol Şirketi Maliyetleri
B40: Katodik Koruma Maliyetleri | F40: Katodik Koruma Maliyetleri | J40: Katodik Koruma Maliyetleri
... B42: Coğrafi Bilgi Sistemi (Harita) Maliyetleri | F42: Coğrafi Bilgi Sistemi (Harita) Maliyetleri | J42: Coğrafi Bilgi Sistemi (Harita) Maliyetleri
B43: TOPLAM | D43: =SUM(D29:D42) -> 0 | F43: TOPLAM | H43: =SUM(H29:H42) -> 0 | J43: Devralınan Hat ve Tesisler
J44: TOPLAM | L44: =SUM(L29:L43) -> 0
A46: 2014 YILI YATIRIMLARI | B46: 5 Yıl Yatırım Yükümlülüğünde Olup Mücbir Sebep Nedeniyle Yapılamamış Yatırımlar * | F46: 5 Yıl Yatırım Yükümlülüğü Kapsamında Olup Yapılmamış Yatırımlar ** | J46: Yatırım Tavanı Kapsamında Olan Yatırımlar ***
B47: 2014 Yılı Yatırımları | C47: Birim | D47: Tutar | F47: 2014 Yılı Yatırımları | G47: Birim | H47: Tutar | J47: 2014 Yılı Yatırımları | K47: Birim | L47: Tutar
...

Sheet Planlanan Yatırımlar
A1: EK-21/C: 2015-2016 YILLARI PLANLANAN YATIRIMLAR
A3: AÇIKLAMALAR:
A4: 1- Planlanan yatırımlar tablolarının, 3580 sayılı Kurul Kararı çerçevesinde üç ayrı kalem altında doldurulması gerekmektedir.
A5: 2- 3580 sayılı Kurul Kararı uyarınca perakende satış tarifesi düzenlenmiş olan şirketlerin bu tabloyu doldurmasına ihtiyaç bulunmamaktadır.
A7: YAPILMASI ÖNGÖRÜLEN ŞEBEKE YATIRIMI | C7: 2015-2016 TOPLAM | F7: YAPILMASI ÖNGÖRÜLEN ŞEBEKE YATIRIMI | H7: 2015-2016 TOPLAM | K7: YAPILMASI ÖNGÖRÜLEN ŞEBEKE YATIRIMI | M7: 2015-2016 TOPLAM
C8: Birim | D8: Tutar | H8: Birim | I8: Tutar | M8: Birim | N8: Tutar
A9: 5 Yıl Yatırım Yükümlülüğünde Olup Mücbir Sebep Nedeniyle Yapılamamış Yatırımlar * | B9: Çelik Şebeke (Metre) | F9: 5 Yıl Yatırım Yükümlülüğü Kapsamında Olup Yapılmamış Yatırımlar ** | G9: Çelik Şebeke (Metre) | K9: Yatırım Tavanı Kapsamında Olan Yatırımlar *** | L9: Çelik Şebeke (Metre)
B10: Polietilen Şebeke (Bağlantı ve Servis Hattı Hariç) (Metre) | G10: Polietilen Şebeke (Bağlantı ve Servis Hattı Hariç) (Metre) | L10: Polietilen Şebeke (Bağlantı ve Servis Hattı Hariç) (Metre)
B11: Şehir Giriş İstasyonu (Adet) | G11: Şehir Giriş İstasyonu (Adet) | L11: Şehir Giriş İstasyonu (Adet)
B12: Şehir İçi Bölge İstasyonu (Adet) | G12: Şehir İçi Bölge İstasyonu (Adet) | L12: Şehir İçi Bölge İstasyonu (Adet)
B13: Serbest Tüketici Bağlantı Maliyeti (Adet) | G13: Serbest Tüketici Bağlantı Maliyeti (Adet) | L13: Serbest Tüketici Bağlantı Maliyeti (Adet)
B14: Mal ve Hizmet Üretim Amaçlı Münferit Hat Maliyeti (Adet) | G14: Mal ve Hizmet Üretim Amaçlı Münferit Hat Maliyeti (Adet) | L14: Mal ve Hizmet Üretim Amaçlı Münferit Hat Maliyeti (Adet)
B15: Servis Hattı Maliyeti (Adet) | G15: Servis Hattı Maliyeti (Adet) | L15: Servis Hattı Maliyeti (Adet)
B16: Kazı, Ruhsat, Harç Maliyetleri | G16: Kazı, Ruhsat, Harç Maliyetleri | L16: Kazı, Ruhsat, Harç Maliyetleri
B17: Kamulaştırma Maliyetleri | G17: Kamulaştırma Maliyetleri | L17: Kamulaştırma Maliyetleri
B18: Kaplama Maliyetleri | G18: Kaplama Maliyetleri | L18: Kaplama Maliyetleri
B19: Kontrol Şirketi Maliyetleri | G19: Kontrol Şirketi Maliyetleri | L19: Kontrol Şirketi Maliyetleri
B20: Katodik Koruma Maliyetleri | G20: Katodik Koruma Maliyetleri | L20: Katodik Koruma Maliyetleri
B21: SCADA ve Telekom Sistemi Maliyetleri | G21: SCADA ve Telekom Sistemi Maliyetleri | L21: SCADA ve Telekom Sistemi Maliyetleri
... B23: TOPLAM | G23: TOPLAM | L23: TOPLAM
A25: * Mücbir sebep nedeniyle yapılamamış yatırımlardan mücbir sebeplerin ilgili yılda kalkmasına müteakip yapılmış olanlarına ilişkin doldurulacaktır.
A26: ** 5 yıl yatırım yükümlülüğü kapsamında olan; ancak mücbir sebep olmaksızın yapılmamış yatırımlardan ilgili yıl içerisinde yapılmış bulunanlar için doldurulacaktır.
A27: *** Yatırım Tavanı çerçevesinde verilmekte olan yatırımlara ilişkin olarak ilgili yılda yapılmış olan yatırım tutarları girilecektir.

Sheet Hakedişler
A1: EK-22: HAKEDİŞLER
A3: AÇIKLAMALAR:
A4: 1- Bu tablo, sadece hakediş faturalarına göre ve detayı "Ek-21 Yatırımlar" tablosunda verilen şebeke yatırımlarına (servis hatları dahil) ilişkin düzenlenecektir.
A5: 2- Bu tablo, 2004 yılından bu yana tüm hakedişleri kapsayacaktır.
G6: İhale Usulü
G7: Teklif Usulü
G8: Pazarlık Usulü
G9: Diğer (Açıklamada belirtiniz)
B10: Hakediş | C10: Yüklenici | D10: Tarih | E10: Tutar | F10: Bölge | G10: Usul | H10: Açıklama
A11: 1
A12: 2
A13: 3
A14: 4
A15: 5
A16: 6
A17: 7
A18: 8
A19: 9
A20: 10
A21: 11
A22: 12
... A59: 49
A61: …..

Sheet ŞHDV
A1: EK-23: ŞEBEKE HARİCİ DÜZENLENMİŞ VARLIKLAR
A3: AÇIKLAMALAR:
A4: 1- Bu tablo, ilgili yıl sonu itibarıyla mülkiyeti ya da kullanım hakkı dağıtım şirketinde bulunan varlıklar için doldurulacaktır.
A5: 2- Bu tablodaki bedeller KDV hariç olarak girilecektir.
A6: 3- Kira olarak yıllık toplam kira gideri yazılacaktır.
