Workbook
Name __fdf1: '[1]#REF'!$B$4
Name __fdf2: '[1]#REF'!$B$5
Name __Lot123: #REF!
Name __tr1: '[1]Travel Rates'!#REF!
Name __tr2: #REF!
Name __tr3: '[1]Travel Rates'!#REF!
Name __tr4: #REF!
Name __tr5: '[1]Travel Rates'!#REF!
Name __TTL4000: '[1]#REF'!$L$16
Name __TTL5000: '[1]#REF'!$N$211
Name __TTL5400: '[1]#REF'!$N$58
Name __TTL6000: '[1]#REF'!$N$102
Name __TTL8000: '[1]#REF'!$N$176
Name __wdf2: '[1]#REF'!$B$7
Name _1Y_0Crite: #REF!
Name _1Y_0Crite: #REF!
Name _1Y_0Crite: #REF!
Name _2Y_0Crite: #REF!
Name _2Y_0Crite: #REF!
Name _2Y_0Extr: #REF!
Name _3Y__Crite: '[1]Labour Hours'!#REF!
Name _3Y_0Extr: #REF!
Name _3Y_0Extr: #REF!
Name _4Y__Extr: '[1]Labour Hours'!#REF!
Name _4Y_0Extr: #REF!
Name _4Y_0Extr: #REF!
Name _5Y__Crite: '[1]Labour Hours'!#REF!
Name _5Y__Crite: '[1]Labour Hours'!#REF!
Name _6Y__Crite: '[1]Labour Hours'!#REF!
Name _6Y__Crite: '[1]Labour Hours'!#REF!
Name _7Y__Extr: '[1]Labour Hours'!#REF!
Name _7Y__Extr: '[1]Labour Hours'!#REF!
Name _8Y__Extr: '[1]Labour Hours'!#REF!
Name _8Y__Extr: '[1]Labour Hours'!#REF!
Name _fdf1: '[1]#REF'!$B$4
Name _fdf2: '[1]#REF'!$B$5
Name _Lot123: #REF!
Name _Lot123: #REF!
Name _tr1: '[1]Travel Rates'!#REF!
Name _tr1: '[1]Travel Rates'!#REF!
Name _tr1: '[1]Travel Rates'!#REF!
Name _tr1: '[1]Travel Rates'!#REF!
Name _tr2: #REF!
Name _tr2: #REF!
Name _tr3: '[1]Travel Rates'!#REF!
Name _tr3: '[1]Travel Rates'!#REF!
Name _tr3: '[1]Travel Rates'!#REF!
Name _tr3: '[1]Travel Rates'!#REF!
Name _tr4: #REF!
Name _tr4: #REF!
Name _tr5: '[1]Travel Rates'!#REF!
Name _tr5: '[1]Travel Rates'!#REF!
Name _tr5: '[1]Travel Rates'!#REF!
Name _tr5: '[1]Travel Rates'!#REF!
Name _TTL4000: '[1]#REF'!$L$16
Name _TTL5000: '[1]#REF'!$N$211
Name _TTL5400: '[1]#REF'!$N$58
Name _TTL6000: '[1]#REF'!$N$102
Name _TTL8000: '[1]#REF'!$N$176
Name _wdf2: '[1]#REF'!$B$7

Sheet Ekler
A2: DAĞITIM ŞİRKETLERİ YILLIK TARİFE TABLOLARI LİSTESİ:
A4: =Profil!B2 -> EK-1: FİRMA PROFİLİ
A5: EK-2: TEMEL VERİLER (Bu Yıl İstenmemektedir.)
A6: ='Yıllık Bilanço'!A1 -> EK-3: YILLIK BİLANÇOLAR
A7: ='Yıllık Gelir Tablosu'!A1 -> EK-4: YILLIK GELİR TABLOLARI
A8: ='Yıllık Nakit Akım'!A1 -> EK-5: YILLIK NAKİT AKIM TABLOLARI
A9: =Mizanlar!A1 -> EK-6: MİZANLAR
A10: =Alımlar!A1 -> EK-7: DAĞITIM ŞİRKETLERİ DOĞAL GAZ ALIM FİYAT, MİKTAR VE BEDELLERİ
A11: ='Satışlar '!A1 -> EK-8/A: DAĞITIM ŞİRKETLERİ DOĞAL GAZ SATIŞ FİYAT, MİKTAR VE BEDELLERİ (Sm³)
A12: ='Satış Tahmini'!A1 -> EK-8/B: DAĞITIM ŞİRKETLERİNİN 2020 YILINA KADAR DOĞAL GAZ MİKTAR TAHMİNLERİ (m³)
A13: ='Serbest Tüketiciler'!A1 -> EK-8/C: 300.000 m3 ÜZERİ TÜKETEN SERBEST TÜKETİCİLERİN LİSTESİ
A14: =Çekişler!A1 -> EK-8/D: DAĞITIM ŞİRKETLERİNİN GÜNLÜK DOĞAL GAZ ÇEKİŞLERİ (sm³)
A15: =Taşıma!A1 -> EK-9: BOTAŞ VE DİĞER TEDARİKÇİLERDEN DOĞAL GAZ ALAN SERBEST TÜKETİCİLERİN LİSTESİ (OSB DAHİL)
A16: EK-10/A: DOĞAL GAZ HİZMET MALİYETİ (Bu yıl istenmeyecektir.)
A17: ='İşletme Giderleri'!A1 -> EK-10/B: İŞLETME GİDERLERİ
A18: ='Fatura Tahsilatı'!A1 -> EK-10/C: FATURA TAHSİLATI
A19: ='Sabit Kıymetler'!A1 -> EK-11: DOĞAL GAZ HİZMETİNDE KULLANILAN SABİT KIYMETLER
A20: =Amortisman!A1 -> EK-12: BİRİKMİŞ AMORTİSMAN VE TÜKENME PAYLARI
A21: =İstihdam!A1 -> EK-13: PERSONEL SAYISI VE TOPLAM GİDERLERİ
A22: =Borçlar!A1 -> EK-14/A: DAĞITIM ŞİRKETLERİNİN ÖNEMLİ BORÇLARI
A23: =Krediler!A1 -> EK-14/B: DAĞITIM ŞİRKETLERİNİN KREDİLERİ
A24: ='Kredi Geri Ödemesi'!A1 -> EK-14/C: DAĞITIM ŞİRKETLERİNİN KREDİ GERİ ÖDEME TABLOSU
A25: =Alacaklar!A1 -> EK-15: DAĞITIM ŞİRKETLERİNİN ÖNEMLİ ALACAKLARI
A26: ='Tarife Önerisi'!A1 -> EK-16: DAĞITIM ŞİRKETLERİ TARİFE ÖNERİSİ (TL/m3)
A27: EK-17: VERİMLİLİK (Bu Yıl İstenmemektedir.)
A28: EK-18: BAĞLANTI BEDELİ MALİYETİ (Bu Yıl İstenmemektedir.)
A29: ='Hizmet Kalitesi'!A1 -> EK-19: HİZMET KALİTESİ PERFORMANS GÖSTERGELERİ
A30: ='Abone Bilgileri'!A1 -> EK-20: TÜKETİCİ SAYISI DETAY TABLOSU
A31: =Yatırımlar!A1 -> EK-21/A: YATIRIMLAR
A32: ='Yatırım Dağılımı'!A1 -> EK-21/B: YATIRIM AYRIŞTIRMASI
A33: ='Planlanan Yatırımlar'!A1 -> EK-21/C: 2015-2016 YILLARI PLANLANAN YATIRIMLAR
A34: =Hakedişler!A1 -> EK-22: HAKEDİŞLER
A35: =ŞHDV!A1 -> EK-23: ŞEBEKE HARİCİ DÜZENLENMİŞ VARLIKLAR
A36: ='Faaliyet Gelirleri'!A1 -> EK-24: FAALİYET GELİRLERİ
A37: ='Güvence Bedeli'!A1 -> EK-25: ABONE GÜVENCE BEDELİ AKIŞ TABLOSU
A38: ='Varlık Satışı'!A1 -> EK-26: VARLIK SATIŞI VE DEPLASE HATLAR
A39: ='Tüketim Grubu Satış Tablosu'!A1 -> EK-27/A: TÜKETİM GRUBU BAZINDA TÜKETİCİ SAYISI VE TÜKETİM MİKTARLARI (TAŞIMA DAHİL)
A40: ='Müşteri Profili'!A1 -> EK-27/B: TÜKETİM KADEMELERİ BAZINDA MÜŞTERİ PROFİLİ

Sheet Profil
B2: EK-1: FİRMA PROFİLİ
C3: 1. Kişi | D3: 2. Kişi | E3: 3. Kişi | F3: 4. Kişi | G3: 5. Kişi
B4: Tabloları Düzenleyenler :
B5: Düzenleyenlerin Telefonu :
B6: Düzenleyenlerin Faksı :
B7: Düzenleyenlerin E-mail Adresi :
B11: FİRMA PROFİLİ
B13: ŞİRKET ADI:
B15: ŞİRKET KİMLİĞİ
B17: Kuruluş Tarihi
B18: Lisans Tarihi ve Sayısı
B19: Lisans Türü
B20: Lisans Süresi
B21: Tarifeye Esas Faaliyeti
... B28: Bağlantı kurulacak sorumlu yetkililer

Sheet Yıllık Bilanço
A1: EK-3: YILLIK BİLANÇOLAR
A4: YILLIK BİLANÇO
D5: (TL)
A6: AKTİF
B7: 41274 | C7: 41639 | D7: 42004
A8: I-DÖNEN VARLIKLAR | B8: =+B9+B15+B21+B29+B38+B46+B49+B52 -> 0 | C8: =+C9+C15+C21+C29+C38+C46+C49+C52 -> 0 | D8: =+D9+D15+D21+D29+D38+D46+D49+D52 -> 0
A9: A - HAZIR DEĞERLER | B9: =B10+B11+B12-B13+B14 -> 0 | C9: =C10+C11+C12-C13+C14 -> 0 | D9: =D10+D11+D12-D13+D14 -> 0
A10: 1 - Kasa Hesabı
A11: 2 - Alınan Çekler Hesabı
A12: 3 - Bankalar Hesabı
A13: 4 - Verilen Çekler ve Ödeme Emirleri (-)
A14: 5 - Diğer Hazır Değerler
A15: B - MENKUL KIYMETLER | B15: =B16+B17+B18+B19-B20 -> 0 | C15: =C16+C17+C18+C19-C20 -> 0 | D15: =D16+D17+D18+D19-D20 -> 0
A16: 1 - Hisse Senetleri
A17: 2 - Özel Kesim Tahvil, Senet ve Bonoları
A18: 3 - Kamu Kesim Tahvil, Senet ve Bonoları
A19: 4 - Diğer Menkul Kıymetler
A20: 5 - Menkul Kıymetler Değer Düşüklüğü Karşılığı Hesabı (-)
A21: C - TİCARİ ALACAKLAR | B21: =+B22+B23-B24+B25+B26+B27-B28 -> 0 | C21: =+C22+C23-C24+C25+C26+C27-C28 -> 0 | D21: =+D22+D23-D24+D25+D26+D27-D28 -> 0
A22: 1 - Alıcılar
A23: 2 - Alacak Senetleri
A24: 3 - Alacak Senetleri Reeskontu (-)
A25: 4 - Verilen Depozito ve Teminatlar
A26: 5 - Diğer Ticari Alacaklar
A27: 6 - Şüpheli Ticari Alacaklar
A28: 7 - Şüpheli Ticari Alacaklar Karşılığı (-)
A29: D - DİĞER ALACAKLAR | B29: =B30+B31+B32+B33+B34-B35+B36-B37 -> 0 | C29: =C30+C31+C32+C33+C34-C35+C36-C37 -> 0 | D29: =D30+D31+D32+D33+D34-D35+D36-D37 -> 0
A30: 1 - Ortaklardan Alacaklar
A31: 2 - İştiraklerden Alacaklar
A32: 3 - Bağlı Ortaklıklardan Alacaklar
A33: 4 - Personelden Alacaklar
A34: 5 - Diğer Çeşitli Alacaklar
A35: 6 - Diğer Alacak Senetleri Reeskontu (-)
A36: 7 - Şüpheli Diğer Alacaklar
A37: 8 - Şüpheli Diğer Alacaklar Karşılığı (-)
A38: E - STOKLAR | B38: =+B39+B40+B41+B42+B43-B44+B45 -> 0 | C38: =+C39+C40+C41+C42+C43-C44+C45 -> 0 | D38: =+D39+D40+D41+D42+D43-D44+D45 -> 0
A39: 1 - İlk Madde ve Malzeme Giderleri
A40: 2 - Yarı Mamül Üretim Hesabı
A41: 3 - Mamüller Hesabı
A42: 4 - Ticari Mallar
A43: 5 - Diğer Stoklar Hesabı
A44: 6 - Stok Değer Düşüklüğü Karşılığı (-)
A45: 7 - Verilen Sipariş Avansları
A46: F - YILLARA YAYGIN İNŞAAT VE ONARIM MALİYETLERİ | B46: =SUM(B47:B48) -> 0 | C46: =SUM(C47:C48) -> 0 | D46: =SUM(D47:D48) -> 0
A47: 1 - Yıllara Yaygın İnşaat ve Onarım Maliyetleri
A48: 2 - Taşeronlara Verilen Avanslar Hesabı
A49: G - GELECEK AYLARA AİT GİDERLER VE GELİR TAHAKKUKLARI | B49: =SUM(B50:B51) -> 0 | C49: =SUM(C50:C51) -> 0 | D49: =SUM(D50:D51) -> 0
A50: 1 - Gelecek Aylara Ait Giderler
A51: 2 - Gelir Tahakkukları
A52: H - DİĞER DÖNEN VARLIKLAR | B52: =SUM(B53:B60)-B61 -> 0 | C52: =SUM(C53:C60)-C61 -> 0 | D52: =SUM(D53:D60)-D61 -> 0
A53: 1 - Devreden KDV
A54: 2 - İndirilecek KDV
A55: 3 - Diğer KDV
A56: 4 - Peşin Ödenen Vergiler ve Fonlar
A57: 5 - İş Avansları
A58: 6 - Personel Avansları
A59: 7 - Sayım ve Tesellüm Noksanları
A60: 8 - Diğer Çeşitli Dönen Varlıklar
A61: 9 - Diğer Dönen Varlıklar Karşılığı (-)
A62: AKTİF
B63: 41274 | C63: 41639 | D63: 42004
A65: II-DURAN VARLIKLAR | B65: =+B66+B72+B80+B91+B102+B111+B117+B120 -> 0 | C65: =+C66+C72+C80+C91+C102+C111+C117+C120 -> 0 | D65: =+D66+D72+D80+D91+D102+D111+D117+D120 -> 0
A66: A - TİCARİ ALACAKLAR | B66: =B67+B68-B69+B70-B71 -> 0 | C66: =C67+C68-C69+C70-C71 -> 0 | D66: =D67+D68-D69+D70-D71 -> 0
A67: 1 - Alıcılar
A68: 2 - Alacak Senetleri
A69: 3 - Alacak Senetleri Reeskontu Hesabı (-)
A70: 4 - Verilen Depozito ve Teminatlar
A71: 5 - Şüpheli Alacaklar Karşılığı (-)
A72: B - DİĞER ALACAKLAR | B72: =SUM(B73:B77)-B78-B79 -> 0 | C72: =SUM(C73:C77)-C78-C79 -> 0 | D72: =SUM(D73:D77)-D78-D79 -> 0
A73: 1 - Ortaklardan Alacaklar
A74: 2 - İştiraklerden Alacaklar
A75: 3 - Bağlı Ortaklıklardan Alacaklar
A76: 4 - Personelden Alacaklar
A77: 5 - Diğer Çeşitli Alacaklar
A78: 6 - Diğer Alacak Senetleri Reeskontu (-)
A79: 7 - Şüpheli Diğer Alacaklar Karşılığı (-)
A80: C - MALİ DURAN VARLIKLAR | B80: =+B81-B82+B83-B84-B85+B86-B87-B88+B89-B90 -> 0 | C80: =+C81-C82+C83-C84-C85+C86-C87-C88+C89-C90 -> 0 | D80: =+D81-D82+D83-D84-D85+D86-D87-D88+D89-D90 -> 0
A81: 1 - Bağlı Menkul Kıymetler
A82: 2 - Bağlı Menkul Kıymetler Değer Düşüklüğü Karşılığı (-)
A83: 3 - İştirakler
A84: 4 - İştiraklere Sermaye Taahhütleri (-)
A85: 5 - İştirakler Sermaye Payları Değer Düşüklüğü Karşılığı (-)
A86: 6 - Bağlı Ortaklıklar
A87: 7 - Bağlı Ortaklıklara Sermaye Taahhütleri (-)
A88: 8 - Bağlı Ortaklıklar Sermaye Payları Değer Düşüklüğü Karşılığı (-)
A89: 9 - Diğer Mali Duran Varlıklar
A90: 10 - Diğer Mali Duran Varlıklar Karşılığı (-)
A91: D - MADDİ DURAN VARLIKLAR | B91: =SUM(B92:B98)-B99+B100+B101 -> 0 | C91: =SUM(C92:C98)-C99+C100+C101 -> 0 | D91: =SUM(D92:D98)-D99+D100+D101 -> 0
A92: 1 - Arazi ve Arsalar
A93: 2 - Yeraltı ve Yerüstü Düzenleri
A94: 3 - Binalar
A95: 4 - Tesis, Makine ve Cihazlar
A96: 5 - Taşıtlar
A97: 6 - Demirbaşlar
A98: 7 - Diğer Maddi Duran Varlıklar
A99: 8 - Birikmiş Amortismanlar (-)
A100: 9 - Yapılmakta Olan Yatırımlar
A101: 10 - Verilen Avanslar
A102: E - MADDİ OLMAYAN DURAN VARLIKLAR | B102: =SUM(B103:B108)-B109+B110 -> 0 | C102: =SUM(C103:C108)-C109+C110 -> 0 | D102: =SUM(D103:D108)-D109+D110 -> 0
A103: 1 - Haklar
...

Sheet Yıllık Gelir Tablosu
A1: EK-4: YILLIK GELİR TABLOLARI
A4: YILLIK GELİR TABLOSU
D5: (TL)
B7: 41274 | C7: 41639 | D7: 42004
A9: A - Brüt Satışlar | B9: =SUM(B10:B12) -> 0 | C9: =SUM(C10:C12) -> 0 | D9: =SUM(D10:D12) -> 0
A10: 1 - Yurtiçi Satışlar
A11: 2 - Yurtdışı Satışlar
A12: 3 - Diğer Gelirler
A14: B - Satış İndirimleri (-) | B14: =SUM(B15:B17) -> 0 | C14: =SUM(C15:C17) -> 0 | D14: =SUM(D15:D17) -> 0
A15: 1 - Satıştan İadeler (-)
A16: 2 - Satış İskontoları (-)
A17: 3 - Diğer İndirimler (-)
A19: C - NET SATIŞLAR | B19: =+B9-B14 -> 0 | C19: =+C9-C14 -> 0 | D19: =+D9-D14 -> 0
A21: D - Satışların Maliyeti (-) | B21: =SUM(B22:B25) -> 0 | C21: =SUM(C22:C25) -> 0 | D21: =SUM(D22:D25) -> 0
A22: 1 - Satılan Mamüller Maliyeti (-)
A23: 2 - Satılan Ticari Mallar Maliyeti (-)
A24: 3 - Satılan Hizmet Maliyeti (-)
A25: 4 - Diğer Satışların Maliyeti (-)
A27: BRÜT SATIŞ KARI VEYA ZARARI | B27: =+B19-B21 -> 0 | C27: =+C19-C21 -> 0 | D27: =+D19-D21 -> 0
A29: E - Faaliyet Giderleri (-) | B29: =SUM(B30:B32) -> 0 | C29: =SUM(C30:C32) -> 0 | D29: =SUM(D30:D32) -> 0
A30: 1 - Araştırma ve Geliştirme Giderleri (-)
A31: 2 - Pazarlama, Satış ve Dağıtım Giderleri (-)
A32: 3 - Genel Yönetim Giderleri (-)
A34: FAALİYET KARI VEYA ZARARI | B34: =+B27-B29 -> 0 | C34: =+C27-C29 -> 0 | D34: =+D27-D29 -> 0
A36: F - Diğer Faaliyetlerden Olağan Gelir ve Karlar | B36: =SUM(B37:B45) -> 0 | C36: =SUM(C37:C45) -> 0 | D36: =SUM(D37:D45) -> 0
A37: 1 - İştiraklerden Temettü Gelirleri
A38: 2 - Bağlı Ortaklıklardan Temettü Gelirleri
A39: 3 - Faiz Gelirleri
A40: 4 - Komisyon Gelirleri
A41: 5 - Konusu Kalmayan Karşılıklar
A42: 6 - Menkul Kıymet Satış Karları
A43: 7 - Kambiyo Karları
A44: 8 - Reeskont Faiz Gelirleri
A45: 9 - Diğer Olağan Gelir ve Karlar
A47: G - Diğer Faaliyetlerden Olağan Gider ve Zararlar (-) | B47: =SUM(B48:B53) -> 0 | C47: =SUM(C48:C53) -> 0 | D47: =SUM(D48:D53) -> 0
A48: 1 - Komisyon Giderleri (-)
A49: 2 - Karşılık Giderleri (-)
A50: 3 - Menkul Kıymet Satış Zararları (-)
A51: 4 - Kambiyo Zararları (-)
A52: 5 - Reeskont Faiz Giderleri (-)
A53: 6 - Diğer Gider ve Zararlar (-)
A55: H - Finansman Giderleri (-) | B55: =SUM(B56:B57) -> 0 | C55: =SUM(C56:C57) -> 0 | D55: =SUM(D56:D57) -> 0
A56: 1 - Kısa Vadeli Borçlanma Giderleri (-)
A57: 2 - Uzun Vadeli Borçlanma Giderleri (-)
A59: OLAĞAN KAR VEYA ZARAR | B59: =+B34+B36-B47-B55 -> 0 | C59: =+C34+C36-C47-C55 -> 0 | D59: =+D34+D36-D47-D55 -> 0
A61: I - Olağandışı Gelir ve Karlar | B61: =SUM(B62:B63) -> 0 | C61: =SUM(C62:C63) -> 0 | D61: =SUM(D62:D63) -> 0
A62: 1 - Önceki Dönem Gelir ve Karları
A63: 2 - Diğer Olağandışı Gelir ve Karlar
A65: J - Olağandışı Gider ve Zararlar (-) | B65: =SUM(B66:B68) -> 0 | C65: =SUM(C66:C68) -> 0 | D65: =SUM(D66:D68) -> 0
A66: 1 - Çalışmayan Kısım Gider ve Zararları (-)
A67: 2 - Önceki Dönem Gider ve Zararları (-)
A68: 3 - Diğer Olağandışı Gider ve Zararlar (-)
A70: DÖNEM KARI VEYA ZARARI | B70: =+B59+B61-B65 -> 0 | C70: =+C59+C61-C65 -> 0 | D70: =+D59+D61-D65 -> 0
A72: K - Dönem Karı Vergi ve Diğer Yasal Yükümlülükler Karşılıkları (-)
A74: DÖNEM NET KARI VEYA ZARARI | B74: =+B70-B72 -> 0 | C74: =+C70-C72 -> 0 | D74: =+D70-D72 -> 0

Sheet Yıllık Nakit Akım
A1: EK-5: YILLIK NAKİT AKIM TABLOLARI
A4: YILLIK NAKİT AKIM TABLOSU
D5: (TL)
B6: 41274 | C6: 41639 | D6: 42004
A7: A - DÖNEM BAŞI NAKİT MEVCUDU
A9: B - DÖNEM İÇİ NAKİT GİRİŞLERİ | B9: =B10+B14+B15+B16+B20+B24+B25+B26 -> 0 | C9: =C10+C14+C15+C16+C20+C24+C25+C26 -> 0 | D9: =D10+D14+D15+D16+D20+D24+D25+D26 -> 0
A10: 1 - Satışlardan Elde Edilen Nakit | B10: =B11+B12-B13 -> 0 | C10: =C11+C12-C13 -> 0 | D10: =D11+D12-D13 -> 0
A11: a) Net Satışlar
A12: b) Ticari Alacaklardaki Azalışlar
A13: c) Ticari Alacaklardaki Artışlar (-)
A14: 2 - Diğer Faaliyetlerden Olağan Gelir ve Karlardan Dolayı Sağlanan Nakit
A15: 3 - Olağandışı Gelir ve Karlardan Sağlanan Nakit
A16: 4 - Kısa Vadeli Yabancı Kaynaklardaki Artışlardan Sağlanan Nakit (Alımlarla İlgili Olmayan) | B16: =B17+B18+B19 -> 0 | C16: =C17+C18+C19 -> 0 | D16: =D17+D18+D19 -> 0
A17: a) Menkul Kıymet İhraçlarından
A18: b) Alınan Krediler
A19: c) Diğer Artışlar
A20: 5 - Uzun Vadeli Yabancı Kaynaklardaki Artışlardan Sağlanan Nakit (Alımlarla İlgili Olmayan) | B20: =B21+B22+B23 -> 0 | C20: =C21+C22+C23 -> 0 | D20: =D21+D22+D23 -> 0
A21: a) Menkul Kıymet İhraçlarından
A22: b) Alınan Krediler
A23: c) Diğer Artışlar
A24: 6 - Sermaye Artışlarından Sağlanan Nakit
A25: 7 - Hisse Senedi İhraç Primlerinden Sağlanan Nakit
A26: 8 - Diğer Nakit Girişleri
A28: C - DÖNEM İÇİ NAKİT ÇIKIŞLAR | B28: =B29+B36+B41+B44+B45+B48+B49+B53+B57+B58+B59 -> 0 | C28: =C29+C36+C41+C44+C45+C48+C49+C53+C57+C58+C59 -> 0 | D28: =D29+D36+D41+D44+D45+D48+D49+D53+D57+D58+D59 -> 0
A29: 1 - Maliyetlerden Kaynaklanan Nakit Çıkışlar | B29: =B30+B31+B32-B33-B34-B35 -> 0 | C29: =C30+C31+C32-C33-C34-C35 -> 0 | D29: =D30+D31+D32-D33-D34-D35 -> 0
A30: a) Satışların Maliyeti
A31: b) Stoklardaki Artışlar
A32: c) Ticari Borçlardaki (Alımlardan Kaynaklanan) Azalışlar
A33: d) Ticari Borçlardaki (Alımlardan Kaynaklanan) Artışlar (-)
A34: e) Amortisman ve Nakit Çıkışı Gerektirmeyen Diğer Giderler (-)
A35: f) Stoklardaki Azalışlar (-)
A36: 2 - Faaliyet Giderlerine İlişkin Nakit Çıkışları | B36: =B37+B38+B39-B40 -> 0 | C36: =C37+C38+C39-C40 -> 0 | D36: =D37+D38+D39-D40 -> 0
A37: a) Araştırma ve Geliştirme Giderleri
A38: b) Pazarlama, Satış ve Dağıtım Giderleri
A39: c) Genel Yönetim Giderleri
A40: d) Amortisman ve Nakit Çıkışı Gerektirmeyen Diğer Giderler (-)
A41: 3 - Diğer Faaliyetlerden Olağan Gider ve Zararlara İlişkin Nakit Çıkışları | B41: =B42-B43 -> 0 | C41: =C42-C43 -> 0 | D41: =D42-D43 -> 0
A42: a) Diğer Faaliyetlerle İlgili Olağan Gider ve Zararlar
A43: b) Amortisman ve Nakit Çıkışı Gerektirmeyen Diğer Gider ve Zararlar (-)
A44: 4 - Finansman Giderlerinden Dolayı Nakit Çıkışları
A45: 5 - Olağandışı Gider ve Zararlardan Dolayı Nakit Çıkışları | B45: =B46-B47 -> 0 | C45: =C46-C47 -> 0 | D45: =D46-D47 -> 0
A46: a) Olağandışı Gider ve Zararlar
A47: b) Amortisman ve Nakit Çıkışı Gerektirmeyen Diğer Gider ve Zararlar (-)
A48: 6 - Duran Varlık Yatırımlarına İlişkin Nakit Çıkışları
A49: 7 - Kısa Vadeli Yabancı Kaynak Ödemeleri (Alımlarla İlgili Olmayan) | B49: =B50+B51+B52 -> 0 | C49: =C50+C51+C52 -> 0 | D49: =D50+D51+D52 -> 0
A50: a) Menkul Kıymetler Anapara Ödemeleri
A51: b) Alınan Krediler Anapara Ödemeleri
A52: c) Diğer Ödemeler
A53: 8 - Uzun Vadeli Yabancı Kaynak Ödemeleri (Alımlarla İlgili Olmayan) | B53: =B54+B55+B56 -> 0 | C53: =C54+C55+C56 -> 0 | D53: =D54+D55+D56 -> 0
A54: a) Menkul Kıymetler Anapara Ödemeleri
A55: b) Alınan Krediler Anapara Ödemeleri
A56: c) Diğer Ödemeler
A57: 9 - Ödenen Vergi ve Benzerleri
A58: 10 - Ödenen Temettüler
A59: 11 - Diğer Nakit Çıkışları
A61: D - DÖNEM SONU NAKİT MEVCUDU (A + B - C) | B61: =B7+B9-B28 -> 0 | C61: =C7+C9-C28 -> 0 | D61: =D7+D9-D28 -> 0
A63: E - NAKİT ARTIŞ VEYA AZALIŞ (B - C) | B63: =B9-B28 -> 0 | C63: =C9-C28 -> 0 | D63: =D9-D28 -> 0

Sheet Mizanlar
A1: EK-6: MİZANLAR
A3: AÇIKLAMALAR:
A4: 1- Şirket mizanları detay kalemlerinin anlaşılacak şekilde tam adlarıyla ve bu kalemlere ilişkin açıklamaların aydınlatıcı şekilde verilmesi gerekmektedir.
A5: 2- Şirket mizanlarının excel tablosu şeklinde eklenmesi, fotoğraf veya pdf şeklinde eklenmemesi gerekmektedir.
A8: 2012-2014 YILLARI İÇİN DETAY MİZANLAR BU TABLODA ELEKTRONİK ORTAMDA,
A9: AYRICA ONAYLI BASILI ÇIKTI OLARAK YAZI EKİNDE SUNULACAKTIR.

Sheet Alımlar
A1: EK-7: DAĞITIM ŞİRKETLERİ DOĞAL GAZ ALIM FİYAT, MİKTAR VE BEDELLERİ
A3: AÇIKLAMALAR:
A4: 1- Bu tabloda, Serbest Tüketici ve Organize Sanayi Bölgesi (OSB) abonelerinden gaz tedarikini dağıtım şirketinden yapan tüketiciler için yapılan alımlar gösterilir.
A5: 2- Bu tablodaki veriler, ilgili aylar için faturalanan miktar ve tutarlar dikkate alınarak doldurulacaktır. (Tahakkuk esası)
A6: 3- Bu tablo satır eklemek suretiyle her tedarikçi için ayrı ayrı doldurulacaktır.
A8: DAĞITIM ŞİRKETLERİNİN 2014 YILI DOĞAL GAZ ALIM FİYAT, MİKTAR VE BEDELLERİ
B9: Ocak | C9: Şubat | D9: Mart | E9: Nisan | F9: Mayıs | G9: Haziran | H9: Temmuz | I9: Ağustos | J9: Eylül | K9: Ekim | L9: Kasım | M9: Aralık | N9: Yıllık
A10: TEDARİKÇİ - 1
A11: Abone
A12: ÖTV Dahil KDV Hariç Fiyat (TL/sm3) | N12: =IF(N13=0,0,+N14/N13) -> 0
A13: Miktar (sm3) | N13: =SUM(B13:M13) -> 0
A14: Alım Bedeli (TL) | B14: =B12*B13 -> 0 | C14: =C12*C13 -> 0 | D14: =D12*D13 -> 0 | E14: =E12*E13 -> 0 | F14: =F12*F13 -> 0 | G14: =G12*G13 -> 0 | H14: =H12*H13 -> 0 | I14: =I12*I13 -> 0 | ... M14: =M12*M13 -> 0 | N14: =SUM(B14:M14) -> 0
A15: 300.000 m3 altı tüketen Serbest Tüketiciler
A16: ÖTV Dahil KDV Hariç Fiyat (TL/sm3) | N16: =IF(N17=0,0,+N18/N17) -> 0
A17: Miktar (sm3) | N17: =SUM(B17:M17) -> 0
A18: Alım Bedeli (TL) | B18: =B16*B17 -> 0 | C18: =C16*C17 -> 0 | D18: =D16*D17 -> 0 | E18: =E16*E17 -> 0 | F18: =F16*F17 -> 0 | G18: =G16*G17 -> 0 | H18: =H16*H17 -> 0 | I18: =I16*I17 -> 0 | ... M18: =M16*M17 -> 0 | N18: =SUM(B18:M18) -> 0
A19: 300.000 m3 üzeri tüketen Serbest Tüketiciler
A20: ÖTV Dahil KDV Hariç Fiyat (TL/sm3) | N20: =IF(N21=0,0,+N22/N21) -> 0
A21: Miktar (sm3) | N21: =SUM(B21:M21) -> 0
A22: Alım Bedeli (TL) | B22: =B20*B21 -> 0 | C22: =C20*C21 -> 0 | D22: =D20*D21 -> 0 | E22: =E20*E21 -> 0 | F22: =F20*F21 -> 0 | G22: =G20*G21 -> 0 | H22: =H20*H21 -> 0 | I22: =I20*I21 -> 0 | ... M22: =M20*M21 -> 0 | N22: =SUM(B22:M22) -> 0
A23: OSB
A24: ÖTV Dahil KDV Hariç Fiyat (TL/sm3) | N24: =IF(N25=0,0,+N26/N25) -> 0
A25: Miktar (sm3) | N25: =SUM(B25:M25) -> 0
A26: Alım Bedeli (TL) | B26: =B24*B25 -> 0 | C26: =C24*C25 -> 0 | D26: =D24*D25 -> 0 | E26: =E24*E25 -> 0 | F26: =F24*F25 -> 0 | G26: =G24*G25 -> 0 | H26: =H24*H25 -> 0 | I26: =I24*I25 -> 0 | ... M26: =M24*M25 -> 0 | N26: =SUM(B26:M26) -> 0
A28: TEDARİKÇİ - 2
A29: Abone
A30: ÖTV Dahil KDV Hariç Fiyat (TL/sm3) | N30: =IF(N31=0,0,+N32/N31) -> 0
A31: Miktar (sm3) | N31: =SUM(B31:M31) -> 0
A32: Alım Bedeli (TL) | B32: =B30*B31 -> 0 | C32: =C30*C31 -> 0 | D32: =D30*D31 -> 0 | E32: =E30*E31 -> 0 | F32: =F30*F31 -> 0 | G32: =G30*G31 -> 0 | H32: =H30*H31 -> 0 | I32: =I30*I31 -> 0 | ... M32: =M30*M31 -> 0 | N32: =SUM(B32:M32) -> 0
A33: 300.000 m3 altı tüketen Serbest Tüketiciler
A34: ÖTV Dahil KDV Hariç Fiyat (TL/sm3) | N34: =IF(N35=0,0,+N36/N35) -> 0
A35: Miktar (sm3) | N35: =SUM(B35:M35) -> 0
A36: Alım Bedeli (TL) | B36: =B34*B35 -> 0 | C36: =C34*C35 -> 0 | D36: =D34*D35 -> 0 | E36: =E34*E35 -> 0 | F36: =F34*F35 -> 0 | G36: =G34*G35 -> 0 | H36: =H34*H35 -> 0 | I36: =I34*I35 -> 0 | ... M36: =M34*M35 -> 0 | N36: =SUM(B36:M36) -> 0
A37: 300.000 m3 üzeri tüketen Serbest Tüketiciler
A38: ÖTV Dahil KDV Hariç Fiyat (TL/sm3) | N38: =IF(N39=0,0,+N40/N39) -> 0
A39: Miktar (sm3) | N39: =SUM(B39:M39) -> 0
A40: Alım Bedeli (TL) | B40: =B38*B39 -> 0 | C40: =C38*C39 -> 0 | D40: =D38*D39 -> 0 | E40: =E38*E39 -> 0 | F40: =F38*F39 -> 0 | G40: =G38*G39 -> 0 | H40: =H38*H39 -> 0 | I40: =I38*I39 -> 0 | ... M40: =M38*M39 -> 0 | N40: =SUM(B40:M40) -> 0
A41: OSB
A42: ÖTV Dahil KDV Hariç Fiyat (TL/sm3) | N42: =IF(N43=0,0,+N44/N43) -> 0
A43: Miktar (sm3) | N43: =SUM(B43:M43) -> 0
A44: Alım Bedeli (TL) | B44: =B42*B43 -> 0 | C44: =C42*C43 -> 0 | D44: =D42*D43 -> 0 | E44: =E42*E43 -> 0 | F44: =F42*F43 -> 0 | G44: =G42*G43 -> 0 | H44: =H42*H43 -> 0 | I44: =I42*I43 -> 0 | ... M44: =M42*M43 -> 0 | N44: =SUM(B44:M44) -> 0
A45: ……….
A47: TOPLAM ABONE DOĞAL GAZ MİKTARI (sm3)
A48: ORTALAMA ABONE SATIŞ FİYATI (TL/sm3) (KDV Hariç)
A49: TOPLAM ST DOĞAL GAZ MİKTARI (sm3)
A50: ORTALAMA ST SATIŞ FİYATI (TL/sm3) (KDV Hariç)
A51: TOPLAM OSB DOĞAL GAZ MİKTARI (sm3)
A52: ORTALAMA OSB SATIŞ FİYATI (TL/sm3) (KDV Hariç)
A53: GENEL TOPLAM (sm3)

Sheet Satışlar 
A1: EK-8/A: DAĞITIM ŞİRKETLERİ DOĞAL GAZ SATIŞ FİYAT, MİKTAR VE BEDELLERİ (Sm³)
A3: AÇIKLAMALAR:
A4: 1- Bu tablodaki Serbest Tüketiciler, Dağıtım Şirketinden (Organize Sanayi Bölgeleri tüzel kişilikleri hariç, OSB içindeki münferit serbest tüketiciler dahil) doğal gaz satın alan müşterileri ifade eder. Dağıtım şirketinden sadece taşıma hizmeti alan Serbest Tüketiciler bu tabloda gösterilmeyecektir.
A6: 2- Bu tablodaki veriler, ilgili aylar için faturalanan miktar ve tutarlar dikkate alınarak doldurulacaktır.
A7: 3- Muhasebe dengesinin sağlanması için dağıtım şirketleri tarafından yapılan muhasebesel tahakkuk miktarları göz önüne alınmayacaktır.
A8: 4- CNG lisansı sahiplerine yapılan doğal gaz satışları "CNG Lisansı Sahiplerine Satış" altında yer alacaktır.
A9: 5- "Isıtma Gazı ve Diğer Amaçlı Kullanım" bölümünde, istasyonlarda kullanılan ısıtma gazı ile çalışma alanlarında ısınma amaçlı kullanılan doğal gaz tüketimlerine yer verilecektir.
A10: 6- "Isıtma Gazı ve Diğer Amaçlı Kullanım" bölümü, ilgili tüketim faturalandırılmakta ise faturaya esas miktar, doğrudan giderleştirilmiş ise giderleştirilen miktar üzerinden doldurulacaktır.
A12: DAĞITIM ŞİRKETLERİ 2014 YILI DOĞAL GAZ SATIŞ FİYAT, MİKTAR VE BEDELLERİ (sm3)
B13: Ocak | C13: Şubat | D13: Mart | E13: Nisan | F13: Mayıs | G13: Haziran | H13: Temmuz | I13: Ağustos | J13: Eylül | K13: Ekim | L13: Kasım | M13: Aralık | N13: Yıllık
A14: Abone
A15: ÖTV Dahil KDV Hariç Fiyat (TL/sm3) | N15: =IF(N16=0,0,+N17/N16) -> 0
A16: Tüketim (sm3) | N16: =SUM(B16:M16) -> 0
A17: Hasılat (TL) | B17: =B15*B16 -> 0 | C17: =C15*C16 -> 0 | D17: =D15*D16 -> 0 | E17: =E15*E16 -> 0 | F17: =F15*F16 -> 0 | G17: =G15*G16 -> 0 | H17: =H15*H16 -> 0 | I17: =I15*I16 -> 0 | ... M17: =M15*M16 -> 0 | N17: =SUM(B17:M17) -> 0
A18: Müşteri Sayısı (Fatura Kesilen)
A19: 300.000 m3 altı tüketen Serbest Tüketici (OSB Hariç)
A20: ÖTV Dahil KDV Hariç Fiyat (TL/sm3) | N20: =IF(N21=0,0,+N22/N21) -> 0
A21: Tüketim (sm3) | N21: =SUM(B21:M21) -> 0
A22: Hasılat (TL) | B22: =B20*B21 -> 0 | C22: =C20*C21 -> 0 | D22: =D20*D21 -> 0 | E22: =E20*E21 -> 0 | F22: =F20*F21 -> 0 | G22: =G20*G21 -> 0 | H22: =H20*H21 -> 0 | I22: =I20*I21 -> 0 | ... M22: =M20*M21 -> 0 | N22: =SUM(B22:M22) -> 0
A23: Müşteri Sayısı (Fatura Kesilen)
A24: 300.000 m3 üzeri tüketen Serbest Tüketici (OSB Hariç)
A25: ÖTV Dahil KDV Hariç Fiyat (TL/sm3) | N25: =IF(N26=0,0,+N27/N26) -> 0
A26: Tüketim (sm3) | N26: =SUM(B26:M26) -> 0
A27: Hasılat (TL) | B27: =B25*B26 -> 0 | C27: =C25*C26 -> 0 | D27: =D25*D26 -> 0 | E27: =E25*E26 -> 0 | F27: =F25*F26 -> 0 | G27: =G25*G26 -> 0 | H27: =H25*H26 -> 0 | I27: =I25*I26 -> 0 | ... M27: =M25*M26 -> 0 | N27: =SUM(B27:M27) -> 0
A28: Müşteri Sayısı (Fatura Kesilen)
A29: OSB
A30: ÖTV Dahil KDV Hariç Fiyat (TL/sm3) | N30: =IF(N31=0,0,+N32/N31) -> 0
A31: Tüketim (sm3) | N31: =SUM(B31:M31) -> 0
A32: Hasılat (TL) | B32: =B30*B31 -> 0 | C32: =C30*C31 -> 0 | D32: =D30*D31 -> 0 | E32: =E30*E31 -> 0 | F32: =F30*F31 -> 0 | G32: =G30*G31 -> 0 | H32: =H30*H31 -> 0 | I32: =I30*I31 -> 0 | ... M32: =M30*M31 -> 0 | N32: =SUM(B32:M32) -> 0
A33: Müşteri Sayısı (Fatura Kesilen)
A34: CNG Lisansı Sahiplerine Satış
A35: ÖTV Dahil KDV Hariç Fiyat (TL/sm3) | N35: =IF(N36=0,0,+N37/N36) -> 0
A36: Tüketim (sm3) | N36: =SUM(B36:M36) -> 0
A37: Hasılat (TL) | B37: =B35*B36 -> 0 | C37: =C35*C36 -> 0 | D37: =D35*D36 -> 0 | E37: =E35*E36 -> 0 | F37: =F35*F36 -> 0 | G37: =G35*G36 -> 0 | H37: =H35*H36 -> 0 | I37: =I35*I36 -> 0 | ... M37: =M35*M36 -> 0 | N37: =SUM(B37:M37) -> 0
A38: Müşteri Sayısı (Fatura Kesilen)
A39: Isıtma Gazı ve Diğer Amaçlı Kullanım
A40: ÖTV Dahil KDV Hariç Fiyat (TL/sm3) | N40: =IF(N41=0,0,+N42/N41) -> 0
A41: Tüketim (sm3) | N41: =SUM(B41:M41) -> 0
A42: Gider (TL) | B42: =B40*B41 -> 0 | C42: =C40*C41 -> 0 | D42: =D40*D41 -> 0 | E42: =E40*E41 -> 0 | F42: =F40*F41 -> 0 | G42: =G40*G41 -> 0 | H42: =H40*H41 -> 0 | I42: =I40*I41 -> 0 | ... M42: =M40*M41 -> 0 | N42: =SUM(B42:M42) -> 0
A43: TOPLAM
A44: Toplam Tüketim (sm3) | B44: =B26+B21+B16+B31+B36+B41 -> 0 | C44: =C26+C21+C16+C31+C36+C41 -> 0 | D44: =D26+D21+D16+D31+D36+D41 -> 0 | E44: =E26+E21+E16+E31+E36+E41 -> 0 | F44: =F26+F21+F16+F31+F36+F41 -> 0 | G44: =G26+G21+G16+G31+G36+G41 -> 0 | H44: =H26+H21+H16+H31+H36+H41 -> 0 | I44: =I26+I21+I16+I31+I36+I41 -> 0 | ... N44: =N26+N21+N16+N31+N36+N41 -> 0
A45: Toplam Hasılat (TL) | B45: =B27+B22+B17+B32+B37+B42 -> 0 | C45: =C27+C22+C17+C32+C37+C42 -> 0 | D45: =D27+D22+D17+D32+D37+D42 -> 0 | E45: =E27+E22+E17+E32+E37+E42 -> 0 | F45: =F27+F22+F17+F32+F37+F42 -> 0 | G45: =G27+G22+G17+G32+G37+G42 -> 0 | H45: =H27+H22+H17+H32+H37+H42 -> 0 | I45: =I27+I22+I17+I32+I37+I42 -> 0 | ... N45: =N27+N22+N17+N32+N37+N42 -> 0
A46: ÖTV Dahil KDV Hariç Ortalama Fiyat (TL/sm3) | B46: =IF(B44=0,0,B45/B44) -> 0 | C46: =IF(C44=0,0,C45/C44) -> 0 | D46: =IF(D44=0,0,D45/D44) -> 0 | E46: =IF(E44=0,0,E45/E44) -> 0 | F46: =IF(F44=0,0,F45/F44) -> 0 | G46: =IF(G44=0,0,G45/G44) -> 0 | H46: =IF(H44=0,0,H45/H44) -> 0 | I46: =IF(I44=0,0,I45/I44) -> 0 | ... N46: =IF(N44=0,0,N45/N44) -> 0

Sheet Satış Tahmini
A1: EK-8/B: DAĞITIM ŞİRKETLERİNİN 2020 YILINA KADAR DOĞAL GAZ MİKTAR TAHMİNLERİ (m³)
A3: AÇIKLAMALAR:
A4: 1- Bu tabloya, taşıma dahil dağıtım bölgesi tüketim tahminine yer verilecektir.
A5: 2- 10.000.000 m3 sınırına ilişkin kademe ayrışımında 2014 takvim yılı gerçekleşmesi dikkate alınacaktır.
A7: 2020 YILINA KADAR DOĞAL GAZ TÜKETİM TAHMİNİ (TAŞIMA DAHİL)
A8: Yıl | B8: 0 - 10.000.000 m3 Arası Tüketim (sm³) | C8: 10.000.000 m3 Üzeri Tüketim (sm³) | D8: Toplam Miktar (sm³)
A9: 2014 | D9: =SUM(B9:C9) -> 0
A10: =$A$9+1&" (P)" -> 2015 (P) | D10: =SUM(B10:C10) -> 0
A11: =$A$9+2&" (P)" -> 2016 (P) | D11: =SUM(B11:C11) -> 0
A12: =$A$9+3&" (P)" -> 2017 (P) | D12: =SUM(B12:C12) -> 0
A13: =$A$9+4&" (P)" -> 2018 (P) | D13: =SUM(B13:C13) -> 0
A14: =$A$9+5&" (P)" -> 2019 (P) | D14: =SUM(B14:C14) -> 0
A15: =$A$9+6&" (P)" -> 2020 (P) | D15: =SUM(B15:C15) -> 0
A16: (P): Program

Sheet Serbest Tüketiciler
A1: EK-8/C: 300.000 m3 ÜZERİ TÜKETEN SERBEST TÜKETİCİLERİN LİSTESİ
A3: AÇIKLAMALAR:
A4: 1- Bu tabloda, hem doğal gazı dağıtım şirketinden alan serbest tüketiciler hem de diğer tedarikçilerden doğal gaz satın alan tüketiciler yer alacaktır.
A6: 2- 300.000 m3 sınırına ilişkin kademe ayrışımında 2014 takvim yılı gerçekleşmesi dikkate alınacaktır.
A8: Tüketicinin
A9: Sıralaması | B9: Adı | C9: Mevcut Tedarikçisi | D9: 2014 Tüketimi (sm3)

Sheet Çekişler
A1: EK-8/D: DAĞITIM ŞİRKETLERİNİN GÜNLÜK DOĞAL GAZ ÇEKİŞLERİ (sm³)
A3: GÜNLÜK BAZDA ÇEKİŞ MİKTARLARI
A4: TARİH | B4: Şebekenin Günlük Gaz Taşıma Kapasitesi | C4: Dağıtım Bölgesine Giren Toplam Gaz Miktarı | D4: Dağıtım Şirketi Müşterisi Olup Sayacı Günlük Okunan Serbest Tüketicilerin Tüketim Miktarı | E4: Dağıtım Şirketi Müşterisi Olmayan Serbest Tüketiciler İçin Taşıma Miktarı | F4: Diğer Tüketiciler Çekiş Miktarı
A5: 41640 | F5: =C5-D5-E5 -> 0
A6: 41641 | F6: =C6-D6-E6 -> 0
A7: 41642 | F7: =C7-D7-E7 -> 0
A8: 41643 | F8: =C8-D8-E8 -> 0
A9: 41644 | F9: =C9-D9-E9 -> 0
A10: 41645 | F10: =C10-D10-E10 -> 0
A11: 41646 | F11: =C11-D11-E11 -> 0
A12: 41647 | F12: =C12-D12-E12 -> 0
A13: 41648 | F13: =C13-D13-E13 -> 0
A14: 41649 | F14: =C14-D14-E14 -> 0
A15: 41650 | F15: =C15-D15-E15 -> 0
A16: 41651 | F16: =C16-D16-E16 -> 0
... A369: 42004 | F369: =C369-D369-E369 -> 0
A371: NOT: Bu tablo 01.01.2014 / 31.12.2014 tarihleri arasındaki her gün için doldurulacaktır.

Sheet Taşıma
A1: EK-9: BOTAŞ VE DİĞER TEDARİKÇİLERDEN DOĞAL GAZ ALAN SERBEST TÜKETİCİLERİN LİSTESİ (OSB DAHİL)
A3: AÇIKLAMALAR:
A4: 1- Dağıtım şirketinden sadece taşıma hizmeti alan Serbest Tüketiciler bu tabloda gösterilecektir.
A5: 2- Bu tablo satır eklemek suretiyle her serbest tüketici için ayrı ayrı doldurulacaktır.
A7: 2014 YILINDAKİ MÜŞTERİLER
B8: Ocak | C8: Şubat | D8: Mart | E8: Nisan | F8: Mayıs | G8: Haziran | H8: Temmuz | I8: Ağustos | J8: Eylül | K8: Ekim | L8: Kasım | M8: Aralık | N8: Yıllık Toplam
A9: 1- Tüketici Adı
A10: Tüketim Miktarı (sm3) | N10: =SUM(B10:M10) -> 0
A11: Uygulanan Sistem Kullanım Bedeli (KDV Hariç)(TL/sm3) | N11: =IF(N10=0,0,+N12/N10) -> 0
A12: Taşıma Hasılatı | B12: =B10*B11 -> 0 | C12: =C10*C11 -> 0 | D12: =D10*D11 -> 0 | E12: =E10*E11 -> 0 | F12: =F10*F11 -> 0 | G12: =G10*G11 -> 0 | H12: =H10*H11 -> 0 | I12: =I10*I11 -> 0 | ... M12: =M10*M11 -> 0 | N12: =SUM(B12:M12) -> 0
A13: 2- Tüketici Adı
A14: Tüketim Miktarı (sm3) | N14: =SUM(B14:M14) -> 0
A15: Uygulanan Sistem Kullanım Bedeli (KDV Hariç)(TL/sm3) | N15: =IF(N14=0,0,+N16/N14) -> 0
A16: Taşıma Hasılatı | B16: =B14*B15 -> 0 | C16: =C14*C15 -> 0 | D16: =D14*D15 -> 0 | E16: =E14*E15 -> 0 | F16: =F14*F15 -> 0 | G16: =G14*G15 -> 0 | H16: =H14*H15 -> 0 | I16: =I14*I15 -> 0 | ... M16: =M14*M15 -> 0 | N16: =SUM(B16:M16) -> 0
A17: 3- …
A18: Tüketim Miktarı (sm3) | N18: =SUM(B18:M18) -> 0
A19: Uygulanan Sistem Kullanım Bedeli (KDV Hariç)(TL/sm3) | N19: =IF(N18=0,0,+N20/N18) -> 0
A20: Taşıma Hasılatı | B20: =B18*B19 -> 0 | C20: =C18*C19 -> 0 | D20: =D18*D19 -> 0 | E20: =E18*E19 -> 0 | F20: =F18*F19 -> 0 | G20: =G18*G19 -> 0 | H20: =H18*H19 -> 0 | I20: =I18*I19 -> 0 | ... M20: =M18*M19 -> 0 | N20: =SUM(B20:M20) -> 0
A22: ……..
A24: Toplam Tüketim (sm3)
A25: Toplam Hasılat (TL)

Sheet İşletme Giderleri
A1: EK-10/B: İŞLETME GİDERLERİ
A3: AÇIKLAMALAR:
A4: 1- Bu tabloda, işletme giderleri gider kalemleri (personel, araç yakıt, haberleşme vb.) bazında detaylandırılacak olup
A5: dışarıdan hizmet alımı yapılma durumu hariç alt faaliyet bazında (sayaç okuma, abonelik işlemleri, tahsilat vb.) gider sınıflandırılması yapılmamaktadır.
A6: 2- Müşterilerin gaz faturalarını ödememeleri durumunda oluşan zararlara bu tabloda yer verilmeyecektir.
A7: 3- Bu tabloda karşılık giderlerine (kıdem tazminatı, güvence bedeli, şüpheli alacak karşılığı vb.) yer verilmeyecektir.
A8: 4- Bu tabloda amortisman giderlerine ve finansman giderlerine yer verilmeyecektir.
A9: 5- Bu tabloda belgelendirilemeyen giderlere yer verilmeyecektir.
A10: 6- Bu tabloda birden çok kalemi ilgilendiren bir gider sadece bir kalem altında yer alacaktır. Aynı gider birden fazla kalem altında tekraren yazılmayacaktır.
A11: 7- EK-21/A tablosunda yer verilen bir gider kalemine, işbu tabloda yer verilmeyecektir. (Örneğin kamulaştırma işlemleri için alınan avukatlık hizmeti karşılığı ödenen bir bedelin
A12: EK-21/A’da yer alan Kamulaştırma gideri altında yer alması gerekmekte olup, bu bedele hiç bir suretle işbu tabloda yer verilmemesi gerekmektedir.)
A13: 8- Bu tabloda, şirketin personel ile ilgili giderleri sadece personel ücret ve giderleri kaleminde yer alacak bunun dışındaki kalemlerde personel giderlerine yer verilmeyecektir.
... A22: İŞLETME GİDERLERİ
B23: 41274 | C23: 41639 | D23: 42004
A24: Toplam İşletme Giderleri | B24: =B25+B34+B41+B51+B55+B62+B73+B77+B80 -> 0 | C24: =C25+C34+C41+C51+C55+C62+C73+C77+C80 -> 0 | D24: =D25+D34+D41+D51+D55+D62+D73+D77+D80 -> 0
A25: Personel Ücret ve Giderleri * | B25: =SUM(B26:B33) -> 0 | C25: =SUM(C26:C33) -> 0 | D25: =SUM(D26:D33) -> 0
A26: 01. Normal Ücret (Ücrete bağlı vergiler dahil)
A27: 02. Fazla Mesai Ücreti (Ücrete bağlı vergiler dahil)
A28: 03. Kıdem Tazminatı
A29: 04. Huzur Hakkı
A30: 05. Eğitim
A31: 06. Servis
A32: 07. Yemek
A33: 08. Görevlendirme
A34: Bakım Onarım Giderleri | B34: =SUM(B35:B40) -> 0 | C34: =SUM(C35:C40) -> 0 | D34: =SUM(D35:D40) -> 0
A35: 01. Dağıtım Hatları
A36: 02. İstasyonlar
A37: 03. Sayaçlar (Periyodik muayene ve kalibrasyon hariç)
A38: 04. Araç ve Demirbaşlar
A39: 05. Bina
A40: 06. Yazılım
A41: Dışarıdan Sağlanan Hizmet Giderleri | B41: =SUM(B42:B50) -> 0 | C41: =SUM(C42:C50) -> 0 | D41: =SUM(D42:D50) -> 0
A42: 01. Sayaç Okuma ve Faturalandırma
A43: 02. Sayaç Açma Kapama
A44: 03. İç Tesisat Proje Onay, Kontrolörlük, Test ve İşletmeye Alma
A45: 04. Periyodik Muayene ve Sayaç Kalibrasyon
A46: 05. Tahsilat
A47: 06. Güvenlik Hizmetleri
A48: 07. Temizlik
A49: 08. Çağrı Merkezi
A50: 09. Danışmanlık
A51: Kira Giderleri | B51: =SUM(B52:B54) -> 0 | C51: =SUM(C52:C54) -> 0 | D51: =SUM(D52:D54) -> 0
A52: 01. Bina
A53: 02. Taşıt
A54: 03. Yazılım
A55: Enerji Giderleri | B55: =SUM(B56:B61) -> 0 | C55: =SUM(C56:C61) -> 0 | D55: =SUM(D56:D61) -> 0
A56: 01. Isıtma Gazı (İstasyonlarda Yakılan)
A57: 02. Araç Yakıt
A58: 03. Bina Isınma
A59: 04. Elektrik
A60: 05. Su
A61: 06. Doğal Gaz Kokulandırma
A62: Yasal Zorunlu Harcamalar ** | B62: =SUM(B63:B72) -> 0 | C62: =SUM(C63:C72) -> 0 | D62: =SUM(D63:D72) -> 0
A63: 01. Mahkeme ve Avukatlık
A64: 02. Gaz Alım Damga Vergisi ***
A65: 03. Vergi, Resim ve Harçlar (ÖİV ve MTV Dahil, Kurumlar Vergisi Hariçtir.)
A66: 04. Sigorta
A67: 05. Yıllık Lisans Bedeli
A68: 06. EPDK Katılım Payı
A69: 07. Denetim Giderleri (Mevzuat Kapsamında Yaptırılan)
A70: 08. Noter Giderleri
A71: 09. Oda Aidat Giderleri
A72: 10. EPDK Kesin Teminat Komisyon Gideri ****
A73: Haberleşme Giderleri | B73: =SUM(B74:B76) -> 0 | C73: =SUM(C74:C76) -> 0 | D73: =SUM(D74:D76) -> 0
A74: 01. Telefon ve İnternet
A75: 02. Posta (Kargo ve Mektup)
A76: 03. SCADA ve Uzaktan Okuma Sistemleri
A77: Büro ve İdari Giderler | B77: =SUM(B78:B79) -> 0 | C77: =SUM(C78:C79) -> 0 | D77: =SUM(D78:D79) -> 0
A78: 01. Kırtasiye
A79: 02. Temizlik Malzemeleri
A80: Diğer Giderler | B80: =SUM(B81:B85) -> 0 | C80: =SUM(C81:C85) -> 0 | D80: =SUM(D81:D85) -> 0
A81: 01. Reklam ve Tanıtım
A82: 02. Bağış, Sponsorluk ve Dernek Aidat Giderleri
A83: 03. Temsil ve Ağırlama
A84: 04. Araştırma Geliştirme
A85: 05. Kanunen Kabul Edilmeyen Giderler
A87: * Personel ücret ve giderleri kaleminde idari personel dahil şirket çalışanı olan personelin giderlerine yer verilecek olup holding çalışanı ya da dışarıdan sağlanan hizmetler
A88: kapsamında oluşan personel giderleri bu kalemde yer almayacaktır. Şirket personeline ilişkin oluşan giderler EK-21/A tablosunda hiç bir şekilde yer almayacak olup, söz konusu
A89: giderlere sadece bu tabloda yer verilecektir.
A90: ** Yasal Zorunlu Harcama kalemlerine ilişkin detay açıklamalar ekte ayrıca sunulacaktır.
A91: *** Gaz satışı kaynaklı damga vergilerine "Vergi, Resim ve Harçlar" kaleminde yer verilecektir. Gaz satışı kaynaklı damga vergilerinin, şirket tarafından tahsil edilip vergi idaresine
A92: ödenen kısmına "Vergi, Resim ve Harçlar" gider kaleminde yer verilmeyecektir.
A93: **** "EPDK Kesin Teminat Komisyon Gideri" kalemine, ihale aşamasında Kuruma verilen kesin teminat mektubuna ilişkin ilgili yıl banka komisyon gideri girilecektir.

Sheet Fatura Tahsilatı
A1: EK-10/C: FATURA TAHSİLATI
A4: FATURA TAHSİLATI
A5: TARİH | B5: Şirket Tarafından Tahsil Edilen Fatura Sayısı | C5: PTT lerde Tahsil Edilen Fatura Sayısı | D5: Bankalarca Tahsil Edilen Fatura Sayısı | E5: Diğer (Tahsilat Yolunu Belirtiniz) | F5: Toplam Fatura Tahsilat Sayısı
A6: 41640 | F6: =SUM(B6:E6) -> 0
A7: 41671 | F7: =SUM(B7:E7) -> 0
A8: 41699 | F8: =SUM(B8:E8) -> 0
A9: 41730 | F9: =SUM(B9:E9) -> 0
A10: 41760 | F10: =SUM(B10:E10) -> 0
A11: 41791 | F11: =SUM(B11:E11) -> 0
A12: 41821 | F12: =SUM(B12:E12) -> 0
A13: 41852 | F13: =SUM(B13:E13) -> 0
A14: 41883 | F14: =SUM(B14:E14) -> 0
A15: 41913 | F15: =SUM(B15:E15) -> 0
A16: 41944 | F16: =SUM(B16:E16) -> 0
A17: 41974 | F17: =SUM(B17:E17) -> 0
A18: 2014 Toplam | B18: =SUM(B6:B17) -> 0 | C18: =SUM(C6:C17) -> 0 | D18: =SUM(D6:D17) -> 0 | E18: =SUM(E6:E17) -> 0 | F18: =SUM(F6:F17) -> 0

Sheet Sabit Kıymetler
A1: EK-11: DOĞAL GAZ HİZMETİNDE KULLANILAN SABİT KIYMETLER
A3: AÇIKLAMALAR:
A4: 1- Amortisman ömrünü tamamlayan sabit kıymetlere yer verilmeyecektir.
A5: 2- Bu tablolarda aktifleştirilen tüm sabit kıymetler belirtilecektir. Sabit Kıymet Türü, söz konusu sabit kıymetin karakteristiğini yansıtacaktır (Boru Hattı, Kompresör İstasyonu, Bina vs. gibi).
A6: 3- Boru hatları için uzunluk ve boru çapı da bu haneye eklenecektir. Sabit Kıymetlere Aktarıldığı Tarih, söz konusu varlığın amoırtismana tabi tutulmaya başlandığı tarihi ifade etmektedir.
A8: 2014 YILI SONU İTİBARIYLA DOĞAL GAZ HİZMETİNDE KULLANILAN SABİT KIYMETLER TABLOSU
A9: SIRA | B9: SABİT KIYMET TÜRÜ VE ADI | C9: SABİT KIYMETLERE AKTARILDIĞI TARİH | D9: EDİNME DEĞERİ (TL) | E9: TOPLAM YENİDEN DEĞERLEME (TL) | F9: AMORTİSMAN YÖNTEMİ | G9: AMORTİSMAN SÜRESİ | H9: AMORTİSMAN ORANI | I9: TOPLAM BİRİKMİŞ AMORTİSMAN (TL)
A17: 2014 Yıl Sonu İtibariyle Toplam Sabit Kıymet Tutarı

Sheet Amortisman
A1: EK-12: BİRİKMİŞ AMORTİSMAN VE TÜKENME PAYLARI
F3: (TL)
A4: 2014 YILI BİRİKMİŞ AMORTİSMAN VE TÜKENME PAYLARI TABLOSU
A5: DURAN VARLIKLAR | B5: Maddi Duran Varlıklar Birikmiş Amort. (257) | C5: Maddi Olmayan Duran Varlıklar Birikmiş Amort. (268) | D5: Özel Tükenmeye Tabi Varlıklar Birikmiş Amort. (278) | E5: Diğer Duran Varlıklar Birikmiş Amort. (299) | F5: TOPLAM (257+268+278+299)
A6: 1 - DÖNEM BAŞI | F6: =SUM(B6:E6) -> 0
A7: 2 - CARİ DÖNEM AMORT. VE TÜKENME PAYLARI | B7: =SUM(B8:B11) -> 0 | C7: =SUM(C8:C11) -> 0 | D7: =SUM(D8:D11) -> 0 | E7: =SUM(E8:E11) -> 0 | F7: =SUM(B7:E7) -> 0
A8: a - Hizmet Üretim Masraflarına Giden | F8: =SUM(B8:E8) -> 0
A9: b - Faaliyet Giderlerine Giden | F9: =SUM(B9:E9) -> 0
A10: c - Diğer Faaliyetlerden Olağan Gider ve Zararlara Giden | F10: =SUM(B10:E10) -> 0
A11: d - Olağandışı Gider ve Zararlara Giden | F11: =SUM(B11:E11) -> 0
A12: 3 - YENİDEN DEĞERLEME ARTIŞI | F12: =SUM(B12:E12) -> 0
A13: 4 - DİĞER ARTIŞLAR | F13: =SUM(B13:E13) -> 0
A14: 5 - ÇIKIŞLAR | F14: =SUM(B14:E14) -> 0
A15: 6 - DÖNEM SONU (1+2+3+4-5) | B15: =B6+B7+B12+B13-B14 -> 0 | C15: =C6+C7+C12+C13-C14 -> 0 | D15: =D6+D7+D12+D13-D14 -> 0 | E15: =E6+E7+E12+E13-E14 -> 0 | F15: =SUM(B15:E15) -> 0

Sheet İstihdam
A1: EK-13: PERSONEL SAYISI VE TOPLAM GİDERLERİ
A3: AÇIKLAMALAR:
A4: 1- Bu tabloda, "Ek-10/B: İşletme Giderleri" tablosundaki "Personel Ücret ve Giderleri" kaleminin dağıtımı verilecektir.
A5: 2- Personel sayısının dağılımı alt tablosunda, birden fazla iş tanımı altında çalışan personel olması durumunda, söz konusu personel gerçeği yansıtacak bir dağıtım anahtarı kullanılarak ilgili iş tanımlarına dağıtılacaktır. Bu kalemlerde küsuratlı sayı bulunabilir.
A8: PERSONEL SAYISI VE GİDERLERİ TABLOSU
A10: PERSONEL SAYISI - PERSONEL GİDERLERİ | B10: 41274 | C10: 41639 | D10: 42004
A11: Dönem Başı Personel Sayısı
A12: Dönem İçi Personel Sayısındaki Artış
A13: Dönem İçi Personel Sayısındaki Azalış
A14: Dönem Sonu Personel Sayısı
A15: Toplam Personel Giderleri (TL) | B15: ='İşletme Giderleri'!B25 -> 0 | C15: ='İşletme Giderleri'!C25 -> 0 | D15: ='İşletme Giderleri'!D25 -> 0
A17: PERSONEL SAYISI DAĞILIMI | B17: 41274 | C17: 41639 | D17: 42004
A18: Faturalandırma Hizmetinde Çalışan Sayısı (Sayaç Okuma Dahil)
A19: Abonelik İşleri Personeli
A20: Tahsilat Hizmetinde Çalışan Sayısı
A21: Güvenlik Personeli
A22: Temizlik İşleri Personeli
A23: İç Tesisat Proje Onay Personeli
A24: Genel Yönetim Personeli
A25: …
A27: PERSONEL GİDERLERİ DAĞILIMI (TL) | B27: 41274 | C27: 41639 | D27: 42004
A28: Faturalandırma Hizmetinde Çalışan Personel Giderleri (Sayaç Okuma Dahil)
A29: Abonelik İşleri Personel Giderleri
A30: Tahsilat Hizmetinde Çalışan Personel Giderleri
A31: Güvenlik Personel Giderleri
A32: Temizlik İşleri Personel Giderleri
A33: İç Tesisat Proje Onay Personel Giderleri
A34: Genel Yönetim Personel Giderleri
A35: …

Sheet Borçlar
A1: EK-14/A: DAĞITIM ŞİRKETLERİNİN ÖNEMLİ BORÇLARI
A4: DAĞITIM ŞİRKETLERİNİN ÖNEMLİ BORÇLARI (TL)
B6: 42004
B7: Tümü | C7: Vadesi Geçen | D7: Vade | E7: Faiz Oranı
A8: I.TOPTAN SATICILARA BORÇLAR
A9: a) Anapara
A10: b) Faiz
A12: II.YATIRIM KREDİSİ BORÇLARI
A13: a) Yurtdışı *
A14: aa) Anapara
A15: ab) Faiz
A16: ac) Kur Farkı
A18: b) Yurtiçi
A19: ba) Anapara
A20: bb) faiz
A22: III.VERGİ BORÇLARI
... A38: * Dış borçların ABD doları bazında tutarı kullanılan dönem sonu kurları dipnotlarda belirtilecektir.

Sheet Krediler
A1: EK-14/B: DAĞITIM ŞİRKETLERİNİN KREDİLERİ
A3: AÇIKLAMALAR:
A4: 1- Ödemesi ilgili yıl itibarıyla tamamlanmış kredilere bu tabloda yer verilmeyecektir.
A7: KREDİLER TABLOSU (31.12.2014 TARİHİ İTİBARIYLA)
A8: Kredi No | B8: Kullanıldığı Proje | C8: Krediyi Sağlayan Finans Kurumu | D8: Kredi Başlangıç Tarihi | E8: Kredi Bitiş Tarihi | F8: Para Birimi | G8: Kredi Tutarı | H8: 31.12.2014 Bakiyesi | I8: Yıllık Faiz Oranı*
A18: * Değişken faizli kredilerde gerçekleşen dönemlerde uygulanan faiz oranları yıl bazında ayrı ayrı belirtilecektir.

Sheet Kredi Geri Ödemesi
A1: EK-14/C: DAĞITIM ŞİRKETLERİNİN KREDİ GERİ ÖDEME TABLOSU
A3: AÇIKLAMALAR:
A4: 1- Ödemesi ilgili yıl itibarıyla tamamlanmamış kredilere ilişkin ödeme tablosu verilecektir.
A5: 2- Bu tablolar, her bir kredi için ayrı ayrı doldurulacaktır.
A7: … KREDİSİ ÖDEME TABLOSU
A8: Tarih | B8: Ödenen Kredi Taksiti | C8: Ödenen Anapara | D8: Ödenen Faiz | E8: Kalan Anapara | F8: Kalan Faizli Tutar
A18: … KREDİSİ ÖDEME TABLOSU
A19: Tarih | B19: Ödenen Kredi Taksiti | C19: Ödenen Anapara | D19: Ödenen Faiz | E19: Kalan Anapara | F19: Kalan Faizli Tutar

Sheet Alacaklar
A1: EK-15: DAĞITIM ŞİRKETLERİNİN ÖNEMLİ ALACAKLARI
B4: 42004
B5: Tümü | C5: Vadesi Geçen | D5: Vade | E5: Faiz Oranı
A6: I.ABONELERDEN ALACAKLAR
A7: II.SERBEST TÜKETİCİLERDEN ALACAKLAR
A8: III.TEDARİKÇİLERDEN ALACAKLAR
A9: III.DİĞER ALACAKLAR (Alacak Türü Belirtilecektir)
A10: TOPLAM
A11: Anapara
A12: Faiz

Sheet Tarife Önerisi
A1: EK-16: DAĞITIM ŞİRKETLERİ TARİFE ÖNERİSİ (TL/m3)
A4: SİSTEM KULLANIM BEDELLERİ TARİFE TEKLİFİ (TL/m3)
A5: Kurum tarafından belirtilen kademeler ve Doğal Gaz Dağıtım Şirketleri Tarife Hesaplama Usul ve Esasları kapsamında hazırlanacak sistem kullanım bedelleri tarife teklifine ilişkin hesaplamalar bu bölümde mutlaka belirtilecektir.

Sheet Hizmet Kalitesi
A1: EK-19: HİZMET KALİTESİ PERFORMANS GÖSTERGELERİ
A4: HİZMET KALİTESİ PERFORMANS GÖSTERGELERİ
B5: Birim | C5: 42004
A6: I) BAĞLANTI BİLGİLERİ
A7: Kabul edilen bağlantı talepleri | B7: Adet
A8: Reddedilen bağlantı talepleri | B8: Adet
A9: Sözleşme sonlandırma talepleri | B9: Adet
A10: II) GEÇİCİ GAZ KESİNTİSİ NEDENLERİ
A11: Müşterinin talebi | B11: Adet
A12: Fatura bedelinin ödenmemesi | B12: Adet
A13: Mahkeme veya Kurul Kararı | B13: Adet
A14: Kaçak veya usülsüz gaz kullanımı | B14: Adet
A15: III) ÖLÇÜMLEME
A16: Ölçüm yapamayan sayaç | B16: Adet
A17: Hatalı ölçüm yapan sayaç | B17: Adet
A18: Sayaç açma-kapama bedeli alınan müşteri sayısı | B18: Adet
A19: Doğal gaz yükleme merkezi sayısı | B19: Adet
A20: Nöbetçi doğal gaz yükleme merkezi sayısı | B20: Adet
A21: IV-a) ŞİKAYET SEBEPLERİ
A22: Sayaç şikayetleri | B22: Adet
A23: Gaz basınç seviyesi şikayetleri | B23: Adet
A24: Gaz kesinti şikayetleri | B24: Adet
A25: Sertfika sahiplerinin şikayetleri | B25: Adet
A26: Diğer şikayetler | B26: Adet
A27: IV-b) ŞİKAYET YÖNTEMLERİ
A28: Yazılı şikayet sayısı | B28: Adet
A29: Telefonla gelen şikayet sayısı | B29: Adet
A30: Fax ile gelen şikayet sayısı | B30: Adet
A31: E-posta ile gelen şikayet sayısı | B31: Adet
A32: Ortalama şikayet giderme süresi | B32: Saat
A33: IV-c) FATURA İTİRAZLARI
A34: Faturaya itiraz sayısı | B34: Adet
A35: Faturaya itirazı kabul edilen müşteri sayısı | B35: Adet
A36: Faturaya itirazı reddedilen müşteri sayısı | B36: Adet
A37: V) TAHSİLAT BİLGİLERİ
A38: Şirkete Ait Ödeme Merkezi Sayısı | B38: Adet
A39: Şirkete Ait Vezne Sayısı | B39: Adet
A40: Şirket Web Sitesi Üzerinden Fatura Ödeme Sayısı | B40: Adet
A41: Toplam Fatura Sayısı | B41: Adet
A42: Uzaktan Okuma Yapılan Sayaç Sayısı | B42: Adet
A43: VI) ACİL MÜDAHALE DURUMU
A44: Acil müdahale ihbar sayısı | B44: Adet
A45: Acil müdahaleye cevap verecek telefon hattı sayısı | B45: Adet
A46: Acil müdahale personel sayısı | B46: Adet
A47: Acil müdahale araç sayısı | B47: Adet
A48: Ortalama acil duruma müdahale süresi | B48: Dakika
A49: VII) KESİNTİ
A50: Bakım onarımdan dolayı kesinti sayısı | B50: Adet
A51: Bakım onarımdan dolayı kesinti süresi | B51: Dakika
A52: Acil Durumdan dolayı kesinti sayısı | B52: Adet
A53: Acil durumdan dolayı kesinti süresi | B53: Dakika
A54: VIII) İŞ GÜVENLİĞİ
A55: Gaz kaçaklarına bağlı kaza sayısı | B55: Adet
A56: Kazaların yol açtığı yaralanma veya ölüm sayısı | B56: Adet
A57: Kazalar sonucu oluşan zaman kaybı (Saat) | B57: Adet
A58: IX) TEDARİKÇİ DEĞİŞİMİ
A59: Dönem içerisinde tedarikçi değiştiren müşteri sayısı | B59: Adet
A60: X) ARAMA MERKEZİ (CALL CENTER) BİLGİLERİ
A61: Arama Merkezi Hat sayısı | B61: Adet
A62: Arama Merkezi Personel Sayısı | B62: Adet
A63: Arama Sayısı | B63: Adet
A64: Ortalama Bekleme Süresi | B64: Saniye

Sheet Abone Bilgileri
A1: EK-20: TÜKETİCİ SAYISI DETAY TABLOSU
A3: AÇIKLAMALAR:
A4: 1- Bu tabloda, aksi belirtilmedikçe belirtilen yıl sonuna kadar dağıtım bölgesi toplamındaki abone sayılarının girilmesi gerekmektedir.
A5: 2- Bu tabloda, potansiyel kelimesi sisteme bağlantısı yapılan tüketicileri de kapsamaktadır.
B8: Birimi | C8: 40178 | D8: 40543 | E8: 40908 | F8: 41274 | G8: 41639 | H8: 42004
A9: Faaliyette Bulunulan Alan | B9: km2
A10: Dağıtım Bölgesindeki Potansiyel Tüketici Adedi (Kümülatif) | B10: Adet | C10: =C11+C12 -> 0 | D10: =D11+D12 -> 0 | E10: =E11+E12 -> 0 | F10: =F11+F12 -> 0 | G10: =G11+G12 -> 0 | H10: =H11+H12 -> 0
A11: - Konut (Daire bazında) | B11: Adet
A12: - Konut Harici (İşyeri bazında) | B12: Adet
A13: Şebekenin Ulaştığı Potansiyel Tüketici Adedi (Kümülatif) | B13: Adet | C13: =C14+C15 -> 0 | D13: =D14+D15 -> 0 | E13: =E14+E15 -> 0 | F13: =F14+F15 -> 0 | G13: =G14+G15 -> 0 | H13: =H14+H15 -> 0
A14: - Konut (Daire bazında) | B14: Adet
A15: - Konut Harici (İşyeri bazında) | B15: Adet
A17: Servis Hattı Yapım Adedi (Kümülatif) * | B17: Adet
A18: Tesis Edilen Servis Hatlarının Toplam Uzunluğu (Kümülatif) * | B18: Metre
A19: Servis Hatları Toplam Maliyeti (Malzeme ve İşçilik Dahil Toplam Yapım Maliyeti) (KDV Hariç - Muhasebe Kayıtlarındaki Değerler) * | B19: TL
A20: Servis Hattıyla Ulaşılan Potansiyel Tüketici Adedi (Kümülatif) * | B20: Adet | C20: =C21+C22 -> 0 | D20: =D21+D22 -> 0 | E20: =E21+E22 -> 0 | F20: =F21+F22 -> 0 | G20: =G21+G22 -> 0 | H20: =H21+H22 -> 0
A21: - Konut (Daire bazında) | B21: Adet
A22: - Konut Harici (İşyeri bazında) | B22: Adet
A23: Servis Hattıyla Ulaşılan Potansiyel Tüketici (Kümülatif) * | B23: BBS | C23: =C24+C25 -> 0 | D23: =D24+D25 -> 0 | E23: =E24+E25 -> 0 | F23: =F24+F25 -> 0 | G23: =G24+G25 -> 0 | H23: =H24+H25 -> 0
A24: - Konut (Daire bazında) | B24: BBS
A25: - Konut Harici (İşyeri bazında) | B25: BBS
A27: Bağlantı Sözleşmesi Yapılan Tüketici Adedi (Kümülatif) (Servis Hattıyla Bağlanan - Bağlantı Bedelini BBS üzerinden ödeyen tüketiciler) | B27: Adet | C27: =SUM(C28:C31) -> 0 | D27: =SUM(D28:D31) -> 0 | E27: =SUM(E28:E31) -> 0 | F27: =SUM(F28:F31) -> 0 | G27: =SUM(G28:G31) -> 0 | H27: =SUM(H28:H31) -> 0
A28: - Konut Bireysel (Merkezi sistem ile ısınmayan) | B28: Adet
A29: - Konut Merkezi ** | B29: Adet
A30: - Konut Harici Bireysel (Merkezi sistem ile ısınmayan) | B30: Adet
A31: - Konut Harici Merkezi *** | B31: Adet
A32: Bağlantı Sözleşmesi Yapılan Tüketici (Kümülatif) (Servis Hattıyla Bağlanan - Bağlantı Bedelini BBS üzerinden ödeyen tüketiciler) | B32: BBS | C32: =SUM(C33:C36) -> 0 | D32: =SUM(D33:D36) -> 0 | E32: =SUM(E33:E36) -> 0 | F32: =SUM(F33:F36) -> 0 | G32: =SUM(G33:G36) -> 0 | H32: =SUM(H33:H36) -> 0
A33: - Konut Bireysel (Merkezi sistem ile ısınmayan) | B33: BBS
A34: - Konut Merkezi ** | B34: BBS
A35: - Konut Harici Bireysel (Merkezi sistem ile ısınmayan) | B35: BBS
A36: - Konut Harici Merkezi *** | B36: BBS
A37: Bağlantısı Yapılmış Merkezi Sistem Adedi (Kümülatif) | B37: Adet
A39: Abonelik Sözleşmesi (Gaz Kullanım Sözleşmesi) İmzalayan Abone Adedi (Kümülatif) **** | B39: Adet
A40: İç Tesisat Onayı Yapılan Abone Adedi (Kümülatif) **** | B40: Adet
A41: Gazı Açılan Abone Adedi (Yıl içinde gazı ilk kez açılan tüketici) **** | B41: Adet
A42: Fatura Kesilen Abone Adedi (Yıl içinde en az bir kez fatura kesilen tüketici) **** | B42: Adet
A43: Gaz Verilen Bina Adedi (İçinde en az bir abone bulunan) (Kümülatif) **** | B43: Adet
A45: * Servis hattı ile kasıt, dağıtım şebekesini konuta bağlayan hat olup bir hattın ucunda hem konut hem de konut harici tüketici bulunması durumunda da bu hat servis hattı addedilir.
A46: ** Bu kalemde, merkezi abonelik yapılan bir bina için o binadaki konut amaçlı dairelerin sayısı yer alacaktır.
A47: *** Bu kalemde, merkezi abonelik yapılan bir bina için o binadaki konut harici tüketicilerin sayısı yer alacaktır.
A48: **** Bu kalemlerde, sadece abone sayılarına yer verilecek olup serbest tüketicilerin sayısı yer almayacaktır.

Sheet Yatırımlar
A1: EK-21/A: YATIRIMLAR
A3: AÇIKLAMALAR:
A4: 1- Yatırımlar tablosu tahakkuk ettirilmiş hakedişler çerçevesinde doldurulacaktır.
A5: 2- Miktar sütununda işin miktarı belirtilecektir.
A6: 3- Bu tabloda edinme değerleri (nominal değerler) verilecektir. Kur farkları ve finansman giderleri edinme değerine dahil edilmeyecektir.
A7: 4- Leasing yöntemi ile edinilen şebeke varlıklarının varlık değerine bu tabloda yer verilecektir. Ancak finansman maliyeti niteliğindeki giderlere yer verilmeyecektir. Örneğin varlık değeri 2 milyon TL olan bir istasyon için leasing süresince 5 milyon TL ödenecek ise bu tabloda sadece 2 milyon TL'ye yer verilecektir.
A8: 5- Leasing yolu ile edinilen varlıklara ilişkin leasing sözleşmelerinin ve ödemelerinin örneği ekte sunulur.
A9: 6- Maliyetleri ortak olan şebeke unsurları için ortak maliyetler dağıtım anahtarlarıyla ilgili şebeke unsurlarına dağıtılacaktır. Bu dağıtım anahtarlarına ilişkin detaylar belirtilecektir.
A10: 7- Deplase hat maliyetleri de bu tabloda yer alacaktır.
A11: 8- "Diğer Yatırımlar" başlıklı tabloda belirtilen kalemlere ilişkin unsurlar doldurulacaktır.
A12: 9- Bu tabloda belgelendirilemeyen giderlere yer verilmeyecektir.
A13: 10- Giderler KDV hariç olacaktır.
... A16: YATIRIM GİDERLERİ (TL)
C17: 38352 | G17: 38717 | K17: 39082 | O17: 39447 | S17: 39813 | W17: 40178 | AA17: 40543 | AE17: 40908 | AI17: 41274 | AM17: 41639 | AQ17: 42004
A18: ŞEBEKE UNSURLARI | B18: Birim | C18: Miktar | D18: Birim Malzeme Giderleri (TL/Birim) | E18: Birim İnşaat ve İşçilik Giderleri (TL/Birim) | F18: Toplam Yatırım Giderleri (TL) | G18: Miktar | H18: Birim Malzeme Giderleri (TL/Birim) | I18: Birim İnşaat ve İşçilik Giderleri (TL/Birim) | J18: Toplam Yatırım Giderleri (TL) | K18: Miktar | L18: Birim Malzeme Giderleri (TL/Birim) | M18: Birim İnşaat ve İşçilik Giderleri (TL/Birim) | N18: Toplam Yatırım Giderleri (TL) | O18: Miktar | P18: Birim Malzeme Giderleri (TL/Birim) | Q18: Birim İnşaat ve İşçilik Giderleri (TL/Birim) | R18: Toplam Yatırım Giderleri (TL) | S18: Miktar | T18: Birim Malzeme Giderleri (TL/Birim) | U18: Birim İnşaat ve İşçilik Giderleri (TL/Birim) | V18: Toplam Yatırım Giderleri (TL) | W18: Miktar | X18: Birim Malzeme Giderleri (TL/Birim) | Y18: Birim İnşaat ve İşçilik Giderleri (TL/Birim) | Z18: Toplam Yatırım Giderleri (TL) | AA18: Miktar | AB18: Birim Malzeme Giderleri (TL/Birim) | AC18: Birim İnşaat ve İşçilik Giderleri (TL/Birim) | AD18: Toplam Yatırım Giderleri (TL) | AE18: Miktar | AF18: Birim Malzeme Giderleri (TL/Birim) | AG18: Birim İnşaat ve İşçilik Giderleri (TL/Birim) | AH18: Toplam Yatırım Giderleri (TL) | AI18: Miktar | AJ18: Birim Malzeme Giderleri (TL/Birim) | AK18: Birim İnşaat ve İşçilik Giderleri (TL/Birim) | AL18: Toplam Yatırım Giderleri (TL) | AM18: Miktar | AN18: Birim Malzeme Giderleri (TL/Birim) | AO18: Birim İnşaat ve İşçilik Giderleri (TL/Birim) | AP18: Toplam Yatırım Giderleri (TL) | AQ18: Miktar | AR18: Birim Malzeme Giderleri (TL/Birim) | AS18: Birim İnşaat ve İşçilik Giderleri (TL/Birim) | AT18: Toplam Yatırım Giderleri (TL)
A19: 1. DAĞITIM ŞEBEKESİ | F19: =F20+F41+F62+F83+F104+F125+F146+F152 -> 0 | J19: =J20+J41+J62+J83+J104+J125+J146+J152 -> 0 | N19: =N20+N41+N62+N83+N104+N125+N146+N152 -> 0 | R19: =R20+R41+R62+R83+R104+R125+R146+R152 -> 0 | V19: =V20+V41+V62+V83+V104+V125+V146+V152 -> 0 | Z19: =Z20+Z41+Z62+Z83+Z104+Z125+Z146+Z152 -> 0 | AD19: =AD20+AD41+AD62+AD83+AD104+AD125+AD146+AD152 -> 0 | AH19: =AH20+AH41+AH62+AH83+AH104+AH125+AH146+AH152 -> 0 | AL19: =AL20+AL41+AL62+AL83+AL104+AL125+AL146+AL152 -> 0 | AP19: =AP20+AP41+AP62+AP83+AP104+AP125+AP146+AP152 -> 0 | AT19: =AT20+AT41+AT62+AT83+AT104+AT125+AT146+AT152 -> 0
A20: 1.1. Dağıtım Hatları | F20: =F21+F34 -> 0 | J20: =J21+J34 -> 0 | N20: =N21+N34 -> 0 | R20: =R21+R34 -> 0 | V20: =V21+V34 -> 0 | Z20: =Z21+Z34 -> 0 | AD20: =AD21+AD34 -> 0 | AH20: =AH21+AH34 -> 0 | AL20: =AL21+AL34 -> 0 | AP20: =AP21+AP34 -> 0 | AT20: =AT21+AT34 -> 0
A21: 1.1.1. Çelik Hatlar | F21: =SUM(F22:F33) -> 0 | J21: =SUM(J22:J33) -> 0 | N21: =SUM(N22:N33) -> 0 | R21: =SUM(R22:R33) -> 0 | V21: =SUM(V22:V33) -> 0 | Z21: =SUM(Z22:Z33) -> 0 | AD21: =SUM(AD22:AD33) -> 0 | AH21: =SUM(AH22:AH33) -> 0 | AL21: =SUM(AL22:AL33) -> 0 | AP21: =SUM(AP22:AP33) -> 0 | AT21: =SUM(AT22:AT33) -> 0
A22: 1-2" | B22: metre | F22: =C22*(D22+E22) -> 0 | J22: =G22*(H22+I22) -> 0 | N22: =K22*(L22+M22) -> 0 | R22: =O22*(P22+Q22) -> 0 | V22: =S22*(T22+U22) -> 0 | Z22: =W22*(X22+Y22) -> 0 | AD22: =AA22*(AB22+AC22) -> 0 | AH22: =AE22*(AF22+AG22) -> 0 | AL22: =AI22*(AJ22+AK22) -> 0 | AP22: =AM22*(AN22+AO22) -> 0 | AT22: =AQ22*(AR22+AS22) -> 0
A23: 3-4" | B23: metre | F23: =C23*(D23+E23) -> 0 | J23: =G23*(H23+I23) -> 0 | N23: =K23*(L23+M23) -> 0 | R23: =O23*(P23+Q23) -> 0 | V23: =S23*(T23+U23) -> 0 | Z23: =W23*(X23+Y23) -> 0 | AD23: =AA23*(AB23+AC23) -> 0 | AH23: =AE23*(AF23+AG23) -> 0 | AL23: =AI23*(AJ23+AK23) -> 0 | AP23: =AM23*(AN23+AO23) -> 0 | AT23: =AQ23*(AR23+AS23) -> 0
A24: 5-6" | B24: metre | F24: =C24*(D24+E24) -> 0 | J24: =G24*(H24+I24) -> 0 | N24: =K24*(L24+M24) -> 0 | R24: =O24*(P24+Q24) -> 0 | V24: =S24*(T24+U24) -> 0 | Z24: =W24*(X24+Y24) -> 0 | AD24: =AA24*(AB24+AC24) -> 0 | AH24: =AE24*(AF24+AG24) -> 0 | AL24: =AI24*(AJ24+AK24) -> 0 | AP24: =AM24*(AN24+AO24) -> 0 | AT24: =AQ24*(AR24+AS24) -> 0
A25: 7-8" | B25: metre | F25: =C25*(D25+E25) -> 0 | J25: =G25*(H25+I25) -> 0 | N25: =K25*(L25+M25) -> 0 | R25: =O25*(P25+Q25) -> 0 | V25: =S25*(T25+U25) -> 0 | Z25: =W25*(X25+Y25) -> 0 | AD25: =AA25*(AB25+AC25) -> 0 | AH25: =AE25*(AF25+AG25) -> 0 | AL25: =AI25*(AJ25+AK25) -> 0 | AP25: =AM25*(AN25+AO25) -> 0 | AT25: =AQ25*(AR25+AS25) -> 0
A26: 9-10" | B26: metre | F26: =C26*(D26+E26) -> 0 | J26: =G26*(H26+I26) -> 0 | N26: =K26*(L26+M26) -> 0 | R26: =O26*(P26+Q26) -> 0 | V26: =S26*(T26+U26) -> 0 | Z26: =W26*(X26+Y26) -> 0 | AD26: =AA26*(AB26+AC26) -> 0 | AH26: =AE26*(AF26+AG26) -> 0 | AL26: =AI26*(AJ26+AK26) -> 0 | AP26: =AM26*(AN26+AO26) -> 0 | AT26: =AQ26*(AR26+AS26) -> 0
A27: 11-12" | B27: metre | F27: =C27*(D27+E27) -> 0 | J27: =G27*(H27+I27) -> 0 | N27: =K27*(L27+M27) -> 0 | R27: =O27*(P27+Q27) -> 0 | V27: =S27*(T27+U27) -> 0 | Z27: =W27*(X27+Y27) -> 0 | AD27: =AA27*(AB27+AC27) -> 0 | AH27: =AE27*(AF27+AG27) -> 0 | AL27: =AI27*(AJ27+AK27) -> 0 | AP27: =AM27*(AN27+AO27) -> 0 | AT27: =AQ27*(AR27+AS27) -> 0
A28: 13-14" | B28: metre | F28: =C28*(D28+E28) -> 0 | J28: =G28*(H28+I28) -> 0 | N28: =K28*(L28+M28) -> 0 | R28: =O28*(P28+Q28) -> 0 | V28: =S28*(T28+U28) -> 0 | Z28: =W28*(X28+Y28) -> 0 | AD28: =AA28*(AB28+AC28) -> 0 | AH28: =AE28*(AF28+AG28) -> 0 | AL28: =AI28*(AJ28+AK28) -> 0 | AP28: =AM28*(AN28+AO28) -> 0 | AT28: =AQ28*(AR28+AS28) -> 0
A29: 15-16" | B29: metre | F29: =C29*(D29+E29) -> 0 | J29: =G29*(H29+I29) -> 0 | N29: =K29*(L29+M29) -> 0 | R29: =O29*(P29+Q29) -> 0 | V29: =S29*(T29+U29) -> 0 | Z29: =W29*(X29+Y29) -> 0 | AD29: =AA29*(AB29+AC29) -> 0 | AH29: =AE29*(AF29+AG29) -> 0 | AL29: =AI29*(AJ29+AK29) -> 0 | AP29: =AM29*(AN29+AO29) -> 0 | AT29: =AQ29*(AR29+AS29) -> 0
A30: 17-20" | B30: metre | F30: =C30*(D30+E30) -> 0 | J30: =G30*(H30+I30) -> 0 | N30: =K30*(L30+M30) -> 0 | R30: =O30*(P30+Q30) -> 0 | V30: =S30*(T30+U30) -> 0 | Z30: =W30*(X30+Y30) -> 0 | AD30: =AA30*(AB30+AC30) -> 0 | AH30: =AE30*(AF30+AG30) -> 0 | AL30: =AI30*(AJ30+AK30) -> 0 | AP30: =AM30*(AN30+AO30) -> 0 | AT30: =AQ30*(AR30+AS30) -> 0
A31: 21-24" | B31: metre | F31: =C31*(D31+E31) -> 0 | J31: =G31*(H31+I31) -> 0 | N31: =K31*(L31+M31) -> 0 | R31: =O31*(P31+Q31) -> 0 | V31: =S31*(T31+U31) -> 0 | Z31: =W31*(X31+Y31) -> 0 | AD31: =AA31*(AB31+AC31) -> 0 | AH31: =AE31*(AF31+AG31) -> 0 | AL31: =AI31*(AJ31+AK31) -> 0 | AP31: =AM31*(AN31+AO31) -> 0 | AT31: =AQ31*(AR31+AS31) -> 0
A32: 25-28" | B32: metre | F32: =C32*(D32+E32) -> 0 | J32: =G32*(H32+I32) -> 0 | N32: =K32*(L32+M32) -> 0 | R32: =O32*(P32+Q32) -> 0 | V32: =S32*(T32+U32) -> 0 | Z32: =W32*(X32+Y32) -> 0 | AD32: =AA32*(AB32+AC32) -> 0 | AH32: =AE32*(AF32+AG32) -> 0 | AL32: =AI32*(AJ32+AK32) -> 0 | AP32: =AM32*(AN32+AO32) -> 0 | AT32: =AQ32*(AR32+AS32) -> 0
A33: 28" üzeri | B33: metre | F33: =C33*(D33+E33) -> 0 | J33: =G33*(H33+I33) -> 0 | N33: =K33*(L33+M33) -> 0 | R33: =O33*(P33+Q33) -> 0 | V33: =S33*(T33+U33) -> 0 | Z33: =W33*(X33+Y33) -> 0 | AD33: =AA33*(AB33+AC33) -> 0 | AH33: =AE33*(AF33+AG33) -> 0 | AL33: =AI33*(AJ33+AK33) -> 0 | AP33: =AM33*(AN33+AO33) -> 0 | AT33: =AQ33*(AR33+AS33) -> 0
A34: 1.1.2. Polietilen Hatlar | F34: =SUM(F35:F40) -> 0 | J34: =SUM(J35:J40) -> 0 | N34: =SUM(N35:N40) -> 0 | R34: =SUM(R35:R40) -> 0 | V34: =SUM(V35:V40) -> 0 | Z34: =SUM(Z35:Z40) -> 0 | AD34: =SUM(AD35:AD40) -> 0 | AH34: =SUM(AH35:AH40) -> 0 | AL34: =SUM(AL35:AL40) -> 0 | AP34: =SUM(AP35:AP40) -> 0 | AT34: =SUM(AT35:AT40) -> 0
A35: ND 0-40 mm | B35: metre | F35: =C35*(D35+E35) -> 0 | J35: =G35*(H35+I35) -> 0 | N35: =K35*(L35+M35) -> 0 | R35: =O35*(P35+Q35) -> 0 | V35: =S35*(T35+U35) -> 0 | Z35: =W35*(X35+Y35) -> 0 | AD35: =AA35*(AB35+AC35) -> 0 | AH35: =AE35*(AF35+AG35) -> 0 | AL35: =AI35*(AJ35+AK35) -> 0 | AP35: =AM35*(AN35+AO35) -> 0 | AT35: =AQ35*(AR35+AS35) -> 0
A36: ND 63 mm | B36: metre | F36: =C36*(D36+E36) -> 0 | J36: =G36*(H36+I36) -> 0 | N36: =K36*(L36+M36) -> 0 | R36: =O36*(P36+Q36) -> 0 | V36: =S36*(T36+U36) -> 0 | Z36: =W36*(X36+Y36) -> 0 | AD36: =AA36*(AB36+AC36) -> 0 | AH36: =AE36*(AF36+AG36) -> 0 | AL36: =AI36*(AJ36+AK36) -> 0 | AP36: =AM36*(AN36+AO36) -> 0 | AT36: =AQ36*(AR36+AS36) -> 0
A37: ND 90 mm | B37: metre | F37: =C37*(D37+E37) -> 0 | J37: =G37*(H37+I37) -> 0 | N37: =K37*(L37+M37) -> 0 | R37: =O37*(P37+Q37) -> 0 | V37: =S37*(T37+U37) -> 0 | Z37: =W37*(X37+Y37) -> 0 | AD37: =AA37*(AB37+AC37) -> 0 | AH37: =AE37*(AF37+AG37) -> 0 | AL37: =AI37*(AJ37+AK37) -> 0 | AP37: =AM37*(AN37+AO37) -> 0 | AT37: =AQ37*(AR37+AS37) -> 0
A38: ND 110 mm | B38: metre | F38: =C38*(D38+E38) -> 0 | J38: =G38*(H38+I38) -> 0 | N38: =K38*(L38+M38) -> 0 | R38: =O38*(P38+Q38) -> 0 | V38: =S38*(T38+U38) -> 0 | Z38: =W38*(X38+Y38) -> 0 | AD38: =AA38*(AB38+AC38) -> 0 | AH38: =AE38*(AF38+AG38) -> 0 | AL38: =AI38*(AJ38+AK38) -> 0 | AP38: =AM38*(AN38+AO38) -> 0 | AT38: =AQ38*(AR38+AS38) -> 0
A39: ND 125 mm | B39: metre | F39: =C39*(D39+E39) -> 0 | J39: =G39*(H39+I39) -> 0 | N39: =K39*(L39+M39) -> 0 | R39: =O39*(P39+Q39) -> 0 | V39: =S39*(T39+U39) -> 0 | Z39: =W39*(X39+Y39) -> 0 | AD39: =AA39*(AB39+AC39) -> 0 | AH39: =AE39*(AF39+AG39) -> 0 | AL39: =AI39*(AJ39+AK39) -> 0 | AP39: =AM39*(AN39+AO39) -> 0 | AT39: =AQ39*(AR39+AS39) -> 0
A40: ND 125 mm üzeri | B40: metre | F40: =C40*(D40+E40) -> 0 | J40: =G40*(H40+I40) -> 0 | N40: =K40*(L40+M40) -> 0 | R40: =O40*(P40+Q40) -> 0 | V40: =S40*(T40+U40) -> 0 | Z40: =W40*(X40+Y40) -> 0 | AD40: =AA40*(AB40+AC40) -> 0 | AH40: =AE40*(AF40+AG40) -> 0 | AL40: =AI40*(AJ40+AK40) -> 0 | AP40: =AM40*(AN40+AO40) -> 0 | AT40: =AQ40*(AR40+AS40) -> 0
A41: 1.2. Özel Geçiş Dağıtım Hatları | F41: =F42+F55 -> 0 | J41: =J42+J55 -> 0 | N41: =N42+N55 -> 0 | R41: =R42+R55 -> 0 | V41: =V42+V55 -> 0 | Z41: =Z42+Z55 -> 0 | AD41: =AD42+AD55 -> 0 | AH41: =AH42+AH55 -> 0 | AL41: =AL42+AL55 -> 0 | AP41: =AP42+AP55 -> 0 | AT41: =AT42+AT55 -> 0
A42: 1.2.1. ÖG Çelik Hatlar | F42: =SUM(F43:F54) -> 0 | J42: =SUM(J43:J54) -> 0 | N42: =SUM(N43:N54) -> 0 | R42: =SUM(R43:R54) -> 0 | V42: =SUM(V43:V54) -> 0 | Z42: =SUM(Z43:Z54) -> 0 | AD42: =SUM(AD43:AD54) -> 0 | AH42: =SUM(AH43:AH54) -> 0 | AL42: =SUM(AL43:AL54) -> 0 | AP42: =SUM(AP43:AP54) -> 0 | AT42: =SUM(AT43:AT54) -> 0
A43: 1-2" | B43: metre | F43: =C43*(D43+E43) -> 0 | J43: =G43*(H43+I43) -> 0 | N43: =K43*(L43+M43) -> 0 | R43: =O43*(P43+Q43) -> 0 | V43: =S43*(T43+U43) -> 0 | Z43: =W43*(X43+Y43) -> 0 | AD43: =AA43*(AB43+AC43) -> 0 | AH43: =AE43*(AF43+AG43) -> 0 | AL43: =AI43*(AJ43+AK43) -> 0 | AP43: =AM43*(AN43+AO43) -> 0 | AT43: =AQ43*(AR43+AS43) -> 0
A44: 3-4" | B44: metre | F44: =C44*(D44+E44) -> 0 | J44: =G44*(H44+I44) -> 0 | N44: =K44*(L44+M44) -> 0 | R44: =O44*(P44+Q44) -> 0 | V44: =S44*(T44+U44) -> 0 | Z44: =W44*(X44+Y44) -> 0 | AD44: =AA44*(AB44+AC44) -> 0 | AH44: =AE44*(AF44+AG44) -> 0 | AL44: =AI44*(AJ44+AK44) -> 0 | AP44: =AM44*(AN44+AO44) -> 0 | AT44: =AQ44*(AR44+AS44) -> 0
A45: 5-6" | B45: metre | F45: =C45*(D45+E45) -> 0 | J45: =G45*(H45+I45) -> 0 | N45: =K45*(L45+M45) -> 0 | R45: =O45*(P45+Q45) -> 0 | V45: =S45*(T45+U45) -> 0 | Z45: =W45*(X45+Y45) -> 0 | AD45: =AA45*(AB45+AC45) -> 0 | AH45: =AE45*(AF45+AG45) -> 0 | AL45: =AI45*(AJ45+AK45) -> 0 | AP45: =AM45*(AN45+AO45) -> 0 | AT45: =AQ45*(AR45+AS45) -> 0
A46: 7-8" | B46: metre | F46: =C46*(D46+E46) -> 0 | J46: =G46*(H46+I46) -> 0 | N46: =K46*(L46+M46) -> 0 | R46: =O46*(P46+Q46) -> 0 | V46: =S46*(T46+U46) -> 0 | Z46: =W46*(X46+Y46) -> 0 | AD46: =AA46*(AB46+AC46) -> 0 | AH46: =AE46*(AF46+AG46) -> 0 | AL46: =AI46*(AJ46+AK46) -> 0 | AP46: =AM46*(AN46+AO46) -> 0 | AT46: =AQ46*(AR46+AS46) -> 0
A47: 9-10" | B47: metre | F47: =C47*(D47+E47) -> 0 | J47: =G47*(H47+I47) -> 0 | N47: =K47*(L47+M47) -> 0 | R47: =O47*(P47+Q47) -> 0 | V47: =S47*(T47+U47) -> 0 | Z47: =W47*(X47+Y47) -> 0 | AD47: =AA47*(AB47+AC47) -> 0 | AH47: =AE47*(AF47+AG47) -> 0 | AL47: =AI47*(AJ47+AK47) -> 0 | AP47: =AM47*(AN47+AO47) -> 0 | AT47: =AQ47*(AR47+AS47) -> 0
A48: 11-12" | B48: metre | F48: =C48*(D48+E48) -> 0 | J48: =G48*(H48+I48) -> 0 | N48: =K48*(L48+M48) -> 0 | R48: =O48*(P48+Q48) -> 0 | V48: =S48*(T48+U48) -> 0 | Z48: =W48*(X48+Y48) -> 0 | AD48: =AA48*(AB48+AC48) -> 0 | AH48: =AE48*(AF48+AG48) -> 0 | AL48: =AI48*(AJ48+AK48) -> 0 | AP48: =AM48*(AN48+AO48) -> 0 | AT48: =AQ48*(AR48+AS48) -> 0
A49: 13-14" | B49: metre | F49: =C49*(D49+E49) -> 0 | J49: =G49*(H49+I49) -> 0 | N49: =K49*(L49+M49) -> 0 | R49: =O49*(P49+Q49) -> 0 | V49: =S49*(T49+U49) -> 0 | Z49: =W49*(X49+Y49) -> 0 | AD49: =AA49*(AB49+AC49) -> 0 | AH49: =AE49*(AF49+AG49) -> 0 | AL49: =AI49*(AJ49+AK49) -> 0 | AP49: =AM49*(AN49+AO49) -> 0 | AT49: =AQ49*(AR49+AS49) -> 0
A50: 15-16" | B50: metre | F50: =C50*(D50+E50) -> 0 | J50: =G50*(H50+I50) -> 0 | N50: =K50*(L50+M50) -> 0 | R50: =O50*(P50+Q50) -> 0 | V50: =S50*(T50+U50) -> 0 | Z50: =W50*(X50+Y50) -> 0 | AD50: =AA50*(AB50+AC50) -> 0 | AH50: =AE50*(AF50+AG50) -> 0 | AL50: =AI50*(AJ50+AK50) -> 0 | AP50: =AM50*(AN50+AO50) -> 0 | AT50: =AQ50*(AR50+AS50) -> 0
A51: 17-20" | B51: metre | F51: =C51*(D51+E51) -> 0 | J51: =G51*(H51+I51) -> 0 | N51: =K51*(L51+M51) -> 0 | R51: =O51*(P51+Q51) -> 0 | V51: =S51*(T51+U51) -> 0 | Z51: =W51*(X51+Y51) -> 0 | AD51: =AA51*(AB51+AC51) -> 0 | AH51: =AE51*(AF51+AG51) -> 0 | AL51: =AI51*(AJ51+AK51) -> 0 | AP51: =AM51*(AN51+AO51) -> 0 | AT51: =AQ51*(AR51+AS51) -> 0
A52: 21-24" | B52: metre | F52: =C52*(D52+E52) -> 0 | J52: =G52*(H52+I52) -> 0 | N52: =K52*(L52+M52) -> 0 | R52: =O52*(P52+Q52) -> 0 | V52: =S52*(T52+U52) -> 0 | Z52: =W52*(X52+Y52) -> 0 | AD52: =AA52*(AB52+AC52) -> 0 | AH52: =AE52*(AF52+AG52) -> 0 | AL52: =AI52*(AJ52+AK52) -> 0 | AP52: =AM52*(AN52+AO52) -> 0 | AT52: =AQ52*(AR52+AS52) -> 0
A53: 25-28" | B53: metre | F53: =C53*(D53+E53) -> 0 | J53: =G53*(H53+I53) -> 0 | N53: =K53*(L53+M53) -> 0 | R53: =O53*(P53+Q53) -> 0 | V53: =S53*(T53+U53) -> 0 | Z53: =W53*(X53+Y53) -> 0 | AD53: =AA53*(AB53+AC53) -> 0 | AH53: =AE53*(AF53+AG53) -> 0 | AL53: =AI53*(AJ53+AK53) -> 0 | AP53: =AM53*(AN53+AO53) -> 0 | AT53: =AQ53*(AR53+AS53) -> 0
A54: 28" üzeri | B54: metre | F54: =C54*(D54+E54) -> 0 | J54: =G54*(H54+I54) -> 0 | N54: =K54*(L54+M54) -> 0 | R54: =O54*(P54+Q54) -> 0 | V54: =S54*(T54+U54) -> 0 | Z54: =W54*(X54+Y54) -> 0 | AD54: =AA54*(AB54+AC54) -> 0 | AH54: =AE54*(AF54+AG54) -> 0 | AL54: =AI54*(AJ54+AK54) -> 0 | AP54: =AM54*(AN54+AO54) -> 0 | AT54: =AQ54*(AR54+AS54) -> 0
A55: 1.2.2. ÖG Polietilen Hatlar | F55: =SUM(F56:F61) -> 0 | J55: =SUM(J56:J61) -> 0 | N55: =SUM(N56:N61) -> 0 | R55: =SUM(R56:R61) -> 0 | V55: =SUM(V56:V61) -> 0 | Z55: =SUM(Z56:Z61) -> 0 | AD55: =SUM(AD56:AD61) -> 0 | AH55: =SUM(AH56:AH61) -> 0 | AL55: =SUM(AL56:AL61) -> 0 | AP55: =SUM(AP56:AP61) -> 0 | AT55: =SUM(AT56:AT61) -> 0
A56: ND 0-40 mm | B56: metre | F56: =C56*(D56+E56) -> 0 | J56: =G56*(H56+I56) -> 0 | N56: =K56*(L56+M56) -> 0 | R56: =O56*(P56+Q56) -> 0 | V56: =S56*(T56+U56) -> 0 | Z56: =W56*(X56+Y56) -> 0 | AD56: =AA56*(AB56+AC56) -> 0 | AH56: =AE56*(AF56+AG56) -> 0 | AL56: =AI56*(AJ56+AK56) -> 0 | AP56: =AM56*(AN56+AO56) -> 0 | AT56: =AQ56*(AR56+AS56) -> 0
A57: ND 63 mm | B57: metre | F57: =C57*(D57+E57) -> 0 | J57: =G57*(H57+I57) -> 0 | N57: =K57*(L57+M57) -> 0 | R57: =O57*(P57+Q57) -> 0 | V57: =S57*(T57+U57) -> 0 | Z57: =W57*(X57+Y57) -> 0 | AD57: =AA57*(AB57+AC57) -> 0 | AH57: =AE57*(AF57+AG57) -> 0 | AL57: =AI57*(AJ57+AK57) -> 0 | AP57: =AM57*(AN57+AO57) -> 0 | AT57: =AQ57*(AR57+AS57) -> 0
A58: ND 90 mm | B58: metre | F58: =C58*(D58+E58) -> 0 | J58: =G58*(H58+I58) -> 0 | N58: =K58*(L58+M58) -> 0 | R58: =O58*(P58+Q58) -> 0 | V58: =S58*(T58+U58) -> 0 | Z58: =W58*(X58+Y58) -> 0 | AD58: =AA58*(AB58+AC58) -> 0 | AH58: =AE58*(AF58+AG58) -> 0 | AL58: =AI58*(AJ58+AK58) -> 0 | AP58: =AM58*(AN58+AO58) -> 0 | AT58: =AQ58*(AR58+AS58) -> 0
A59: ND 110 mm | B59: metre | F59: =C59*(D59+E59) -> 0 | J59: =G59*(H59+I59) -> 0 | N59: =K59*(L59+M59) -> 0 | R59: =O59*(P59+Q59) -> 0 | V59: =S59*(T59+U59) -> 0 | Z59: =W59*(X59+Y59) -> 0 | AD59: =AA59*(AB59+AC59) -> 0 | AH59: =AE59*(AF59+AG59) -> 0 | AL59: =AI59*(AJ59+AK59) -> 0 | AP59: =AM59*(AN59+AO59) -> 0 | AT59: =AQ59*(AR59+AS59) -> 0
A60: ND 125 mm | B60: metre | F60: =C60*(D60+E60) -> 0 | J60: =G60*(H60+I60) -> 0 | N60: =K60*(L60+M60) -> 0 | R60: =O60*(P60+Q60) -> 0 | V60: =S60*(T60+U60) -> 0 | Z60: =W60*(X60+Y60) -> 0 | AD60: =AA60*(AB60+AC60) -> 0 | AH60: =AE60*(AF60+AG60) -> 0 | AL60: =AI60*(AJ60+AK60) -> 0 | AP60: =AM60*(AN60+AO60) -> 0 | AT60: =AQ60*(AR60+AS60) -> 0
A61: ND 125 mm üzeri | B61: metre | F61: =C61*(D61+E61) -> 0 | J61: =G61*(H61+I61) -> 0 | N61: =K61*(L61+M61) -> 0 | R61: =O61*(P61+Q61) -> 0 | V61: =S61*(T61+U61) -> 0 | Z61: =W61*(X61+Y61) -> 0 | AD61: =AA61*(AB61+AC61) -> 0 | AH61: =AE61*(AF61+AG61) -> 0 | AL61: =AI61*(AJ61+AK61) -> 0 | AP61: =AM61*(AN61+AO61) -> 0 | AT61: =AQ61*(AR61+AS61) -> 0
A62: 1.3. Hat Vanaları ve Vana Odaları | F62: =F63+F76 -> 0 | J62: =J63+J76 -> 0 | N62: =N63+N76 -> 0 | R62: =R63+R76 -> 0 | V62: =V63+V76 -> 0 | Z62: =Z63+Z76 -> 0 | AD62: =AD63+AD76 -> 0 | AH62: =AH63+AH76 -> 0 | AL62: =AL63+AL76 -> 0 | AP62: =AP63+AP76 -> 0 | AT62: =AT63+AT76 -> 0
A63: 1.3.1. Çelik Vanalar | F63: =SUM(F64:F75) -> 0 | J63: =SUM(J64:J75) -> 0 | N63: =SUM(N64:N75) -> 0 | R63: =SUM(R64:R75) -> 0 | V63: =SUM(V64:V75) -> 0 | Z63: =SUM(Z64:Z75) -> 0 | AD63: =SUM(AD64:AD75) -> 0 | AH63: =SUM(AH64:AH75) -> 0 | AL63: =SUM(AL64:AL75) -> 0 | AP63: =SUM(AP64:AP75) -> 0 | AT63: =SUM(AT64:AT75) -> 0
A64: 1-2" | B64: adet | F64: =C64*(D64+E64) -> 0 | J64: =G64*(H64+I64) -> 0 | N64: =K64*(L64+M64) -> 0 | R64: =O64*(P64+Q64) -> 0 | V64: =S64*(T64+U64) -> 0 | Z64: =W64*(X64+Y64) -> 0 | AD64: =AA64*(AB64+AC64) -> 0 | AH64: =AE64*(AF64+AG64) -> 0 | AL64: =AI64*(AJ64+AK64) -> 0 | AP64: =AM64*(AN64+AO64) -> 0 | AT64: =AQ64*(AR64+AS64) -> 0
A65: 3-4" | B65: adet | F65: =C65*(D65+E65) -> 0 | J65: =G65*(H65+I65) -> 0 | N65: =K65*(L65+M65) -> 0 | R65: =O65*(P65+Q65) -> 0 | V65: =S65*(T65+U65) -> 0 | Z65: =W65*(X65+Y65) -> 0 | AD65: =AA65*(AB65+AC65) -> 0 | AH65: =AE65*(AF65+AG65) -> 0 | AL65: =AI65*(AJ65+AK65) -> 0 | AP65: =AM65*(AN65+AO65) -> 0 | AT65: =AQ65*(AR65+AS65) -> 0
A66: 5-6" | B66: adet | F66: =C66*(D66+E66) -> 0 | J66: =G66*(H66+I66) -> 0 | N66: =K66*(L66+M66) -> 0 | R66: =O66*(P66+Q66) -> 0 | V66: =S66*(T66+U66) -> 0 | Z66: =W66*(X66+Y66) -> 0 | AD66: =AA66*(AB66+AC66) -> 0 | AH66: =AE66*(AF66+AG66) -> 0 | AL66: =AI66*(AJ66+AK66) -> 0 | AP66: =AM66*(AN66+AO66) -> 0 | AT66: =AQ66*(AR66+AS66) -> 0
A67: 7-8" | B67: adet | F67: =C67*(D67+E67) -> 0 | J67: =G67*(H67+I67) -> 0 | N67: =K67*(L67+M67) -> 0 | R67: =O67*(P67+Q67) -> 0 | V67: =S67*(T67+U67) -> 0 | Z67: =W67*(X67+Y67) -> 0 | AD67: =AA67*(AB67+AC67) -> 0 | AH67: =AE67*(AF67+AG67) -> 0 | AL67: =AI67*(AJ67+AK67) -> 0 | AP67: =AM67*(AN67+AO67) -> 0 | AT67: =AQ67*(AR67+AS67) -> 0
A68: 9-10" | B68: adet | F68: =C68*(D68+E68) -> 0 | J68: =G68*(H68+I68) -> 0 | N68: =K68*(L68+M68) -> 0 | R68: =O68*(P68+Q68) -> 0 | V68: =S68*(T68+U68) -> 0 | Z68: =W68*(X68+Y68) -> 0 | AD68: =AA68*(AB68+AC68) -> 0 | AH68: =AE68*(AF68+AG68) -> 0 | AL68: =AI68*(AJ68+AK68) -> 0 | AP68: =AM68*(AN68+AO68) -> 0 | AT68: =AQ68*(AR68+AS68) -> 0
A69: 11-12" | B69: adet | F69: =C69*(D69+E69) -> 0 | J69: =G69*(H69+I69) -> 0 | N69: =K69*(L69+M69) -> 0 | R69: =O69*(P69+Q69) -> 0 | V69: =S69*(T69+U69) -> 0 | Z69: =W69*(X69+Y69) -> 0 | AD69: =AA69*(AB69+AC69) -> 0 | AH69: =AE69*(AF69+AG69) -> 0 | AL69: =AI69*(AJ69+AK69) -> 0 | AP69: =AM69*(AN69+AO69) -> 0 | AT69: =AQ69*(AR69+AS69) -> 0
A70: 13-14" | B70: adet | F70: =C70*(D70+E70) -> 0 | J70: =G70*(H70+I70) -> 0 | N70: =K70*(L70+M70) -> 0 | R70: =O70*(P70+Q70) -> 0 | V70: =S70*(T70+U70) -> 0 | Z70: =W70*(X70+Y70) -> 0 | AD70: =AA70*(AB70+AC70) -> 0 | AH70: =AE70*(AF70+AG70) -> 0 | AL70: =AI70*(AJ70+AK70) -> 0 | AP70: =AM70*(AN70+AO70) -> 0 | AT70: =AQ70*(AR70+AS70) -> 0
A71: 15-16" | B71: adet | F71: =C71*(D71+E71) -> 0 | J71: =G71*(H71+I71) -> 0 | N71: =K71*(L71+M71) -> 0 | R71: =O71*(P71+Q71) -> 0 | V71: =S71*(T71+U71) -> 0 | Z71: =W71*(X71+Y71) -> 0 | AD71: =AA71*(AB71+AC71) -> 0 | AH71: =AE71*(AF71+AG71) -> 0 | AL71: =AI71*(AJ71+AK71) -> 0 | AP71: =AM71*(AN71+AO71) -> 0 | AT71: =AQ71*(AR71+AS71) -> 0
A72: 17-20" | B72: adet | F72: =C72*(D72+E72) -> 0 | J72: =G72*(H72+I72) -> 0 | N72: =K72*(L72+M72) -> 0 | R72: =O72*(P72+Q72) -> 0 | V72: =S72*(T72+U72) -> 0 | Z72: =W72*(X72+Y72) -> 0 | AD72: =AA72*(AB72+AC72) -> 0 | AH72: =AE72*(AF72+AG72) -> 0 | AL72: =AI72*(AJ72+AK72) -> 0 | AP72: =AM72*(AN72+AO72) -> 0 | AT72: =AQ72*(AR72+AS72) -> 0
A73: 21-24" | B73: adet | F73: =C73*(D73+E73) -> 0 | J73: =G73*(H73+I73) -> 0 | N73: =K73*(L73+M73) -> 0 | R73: =O73*(P73+Q73) -> 0 | V73: =S73*(T73+U73) -> 0 | Z73: =W73*(X73+Y73) -> 0 | AD73: =AA73*(AB73+AC73) -> 0 | AH73: =AE73*(AF73+AG73) -> 0 | AL73: =AI73*(AJ73+AK73) -> 0 | AP73: =AM73*(AN73+AO73) -> 0 | AT73: =AQ73*(AR73+AS73) -> 0
A74: 25-28" | B74: adet | F74: =C74*(D74+E74) -> 0 | J74: =G74*(H74+I74) -> 0 | N74: =K74*(L74+M74) -> 0 | R74: =O74*(P74+Q74) -> 0 | V74: =S74*(T74+U74) -> 0 | Z74: =W74*(X74+Y74) -> 0 | AD74: =AA74*(AB74+AC74) -> 0 | AH74: =AE74*(AF74+AG74) -> 0 | AL74: =AI74*(AJ74+AK74) -> 0 | AP74: =AM74*(AN74+AO74) -> 0 | AT74: =AQ74*(AR74+AS74) -> 0
A75: 28" üzeri | B75: adet | F75: =C75*(D75+E75) -> 0 | J75: =G75*(H75+I75) -> 0 | N75: =K75*(L75+M75) -> 0 | R75: =O75*(P75+Q75) -> 0 | V75: =S75*(T75+U75) -> 0 | Z75: =W75*(X75+Y75) -> 0 | AD75: =AA75*(AB75+AC75) -> 0 | AH75: =AE75*(AF75+AG75) -> 0 | AL75: =AI75*(AJ75+AK75) -> 0 | AP75: =AM75*(AN75+AO75) -> 0 | AT75: =AQ75*(AR75+AS75) -> 0
A76: 1.3.2. Polietilen Vanalar | F76: =SUM(F77:F82) -> 0 | J76: =SUM(J77:J82) -> 0 | N76: =SUM(N77:N82) -> 0 | R76: =SUM(R77:R82) -> 0 | V76: =SUM(V77:V82) -> 0 | Z76: =SUM(Z77:Z82) -> 0 | AD76: =SUM(AD77:AD82) -> 0 | AH76: =SUM(AH77:AH82) -> 0 | AL76: =SUM(AL77:AL82) -> 0 | AP76: =SUM(AP77:AP82) -> 0 | AT76: =SUM(AT77:AT82) -> 0
A77: ND 0-40 mm | B77: adet | F77: =C77*(D77+E77) -> 0 | J77: =G77*(H77+I77) -> 0 | N77: =K77*(L77+M77) -> 0 | R77: =O77*(P77+Q77) -> 0 | V77: =S77*(T77+U77) -> 0 | Z77: =W77*(X77+Y77) -> 0 | AD77: =AA77*(AB77+AC77) -> 0 | AH77: =AE77*(AF77+AG77) -> 0 | AL77: =AI77*(AJ77+AK77) -> 0 | AP77: =AM77*(AN77+AO77) -> 0 | AT77: =AQ77*(AR77+AS77) -> 0
A78: ND 63 mm | B78: adet | F78: =C78*(D78+E78) -> 0 | J78: =G78*(H78+I78) -> 0 | N78: =K78*(L78+M78) -> 0 | R78: =O78*(P78+Q78) -> 0 | V78: =S78*(T78+U78) -> 0 | Z78: =W78*(X78+Y78) -> 0 | AD78: =AA78*(AB78+AC78) -> 0 | AH78: =AE78*(AF78+AG78) -> 0 | AL78: =AI78*(AJ78+AK78) -> 0 | AP78: =AM78*(AN78+AO78) -> 0 | AT78: =AQ78*(AR78+AS78) -> 0
A79: ND 90 mm | B79: adet | F79: =C79*(D79+E79) -> 0 | J79: =G79*(H79+I79) -> 0 | N79: =K79*(L79+M79) -> 0 | R79: =O79*(P79+Q79) -> 0 | V79: =S79*(T79+U79) -> 0 | Z79: =W79*(X79+Y79) -> 0 | AD79: =AA79*(AB79+AC79) -> 0 | AH79: =AE79*(AF79+AG79) -> 0 | AL79: =AI79*(AJ79+AK79) -> 0 | AP79: =AM79*(AN79+AO79) -> 0 | AT79: =AQ79*(AR79+AS79) -> 0
A80: ND 110 mm | B80: adet | F80: =C80*(D80+E80) -> 0 | J80: =G80*(H80+I80) -> 0 | N80: =K80*(L80+M80) -> 0 | R80: =O80*(P80+Q80) -> 0 | V80: =S80*(T80+U80) -> 0 | Z80: =W80*(X80+Y80) -> 0 | AD80: =AA80*(AB80+AC80) -> 0 | AH80: =AE80*(AF80+AG80) -> 0 | AL80: =AI80*(AJ80+AK80) -> 0 | AP80: =AM80*(AN80+AO80) -> 0 | AT80: =AQ80*(AR80+AS80) -> 0
A81: ND 125 mm | B81: adet | F81: =C81*(D81+E81) -> 0 | J81: =G81*(H81+I81) -> 0 | N81: =K81*(L81+M81) -> 0 | R81: =O81*(P81+Q81) -> 0 | V81: =S81*(T81+U81) -> 0 | Z81: =W81*(X81+Y81) -> 0 | AD81: =AA81*(AB81+AC81) -> 0 | AH81: =AE81*(AF81+AG81) -> 0 | AL81: =AI81*(AJ81+AK81) -> 0 | AP81: =AM81*(AN81+AO81) -> 0 | AT81: =AQ81*(AR81+AS81) -> 0
A82: ND 125 mm üzeri | B82: adet | F82: =C82*(D82+E82) -> 0 | J82: =G82*(H82+I82) -> 0 | N82: =K82*(L82+M82) -> 0 | R82: =O82*(P82+Q82) -> 0 | V82: =S82*(T82+U82) -> 0 | Z82: =W82*(X82+Y82) -> 0 | AD82: =AA82*(AB82+AC82) -> 0 | AH82: =AE82*(AF82+AG82) -> 0 | AL82: =AI82*(AJ82+AK82) -> 0 | AP82: =AM82*(AN82+AO82) -> 0 | AT82: =AQ82*(AR82+AS82) -> 0
A83: 1.4. Te Boru (Tee) | F83: =F84+F97 -> 0 | J83: =J84+J97 -> 0 | N83: =N84+N97 -> 0 | R83: =R84+R97 -> 0 | V83: =V84+V97 -> 0 | Z83: =Z84+Z97 -> 0 | AD83: =AD84+AD97 -> 0 | AH83: =AH84+AH97 -> 0 | AL83: =AL84+AL97 -> 0 | AP83: =AP84+AP97 -> 0 | AT83: =AT84+AT97 -> 0
A84: 1.4.1. Çelik Te Boru | F84: =SUM(F85:F96) -> 0 | J84: =SUM(J85:J96) -> 0 | N84: =SUM(N85:N96) -> 0 | R84: =SUM(R85:R96) -> 0 | V84: =SUM(V85:V96) -> 0 | Z84: =SUM(Z85:Z96) -> 0 | AD84: =SUM(AD85:AD96) -> 0 | AH84: =SUM(AH85:AH96) -> 0 | AL84: =SUM(AL85:AL96) -> 0 | AP84: =SUM(AP85:AP96) -> 0 | AT84: =SUM(AT85:AT96) -> 0
A85: 1-2" | B85: adet | F85: =C85*(D85+E85) -> 0 | J85: =G85*(H85+I85) -> 0 | N85: =K85*(L85+M85) -> 0 | R85: =O85*(P85+Q85) -> 0 | V85: =S85*(T85+U85) -> 0 | Z85: =W85*(X85+Y85) -> 0 | AD85: =AA85*(AB85+AC85) -> 0 | AH85: =AE85*(AF85+AG85) -> 0 | AL85: =AI85*(AJ85+AK85) -> 0 | AP85: =AM85*(AN85+AO85) -> 0 | AT85: =AQ85*(AR85+AS85) -> 0
A86: 3-4" | B86: adet | F86: =C86*(D86+E86) -> 0 | J86: =G86*(H86+I86) -> 0 | N86: =K86*(L86+M86) -> 0 | R86: =O86*(P86+Q86) -> 0 | V86: =S86*(T86+U86) -> 0 | Z86: =W86*(X86+Y86) -> 0 | AD86: =AA86*(AB86+AC86) -> 0 | AH86: =AE86*(AF86+AG86) -> 0 | AL86: =AI86*(AJ86+AK86) -> 0 | AP86: =AM86*(AN86+AO86) -> 0 | AT86: =AQ86*(AR86+AS86) -> 0
A87: 5-6" | B87: adet | F87: =C87*(D87+E87) -> 0 | J87: =G87*(H87+I87) -> 0 | N87: =K87*(L87+M87) -> 0 | R87: =O87*(P87+Q87) -> 0 | V87: =S87*(T87+U87) -> 0 | Z87: =W87*(X87+Y87) -> 0 | AD87: =AA87*(AB87+AC87) -> 0 | AH87: =AE87*(AF87+AG87) -> 0 | AL87: =AI87*(AJ87+AK87) -> 0 | AP87: =AM87*(AN87+AO87) -> 0 | AT87: =AQ87*(AR87+AS87) -> 0
A88: 7-8" | B88: adet | F88: =C88*(D88+E88) -> 0 | J88: =G88*(H88+I88) -> 0 | N88: =K88*(L88+M88) -> 0 | R88: =O88*(P88+Q88) -> 0 | V88: =S88*(T88+U88) -> 0 | Z88: =W88*(X88+Y88) -> 0 | AD88: =AA88*(AB88+AC88) -> 0 | AH88: =AE88*(AF88+AG88) -> 0 | AL88: =AI88*(AJ88+AK88) -> 0 | AP88: =AM88*(AN88+AO88) -> 0 | AT88: =AQ88*(AR88+AS88) -> 0
A89: 9-10" | B89: adet | F89: =C89*(D89+E89) -> 0 | J89: =G89*(H89+I89) -> 0 | N89: =K89*(L89+M89) -> 0 | R89: =O89*(P89+Q89) -> 0 | V89: =S89*(T89+U89) -> 0 | Z89: =W89*(X89+Y89) -> 0 | AD89: =AA89*(AB89+AC89) -> 0 | AH89: =AE89*(AF89+AG89) -> 0 | AL89: =AI89*(AJ89+AK89) -> 0 | AP89: =AM89*(AN89+AO89) -> 0 | AT89: =AQ89*(AR89+AS89) -> 0
A90: 11-12" | B90: adet | F90: =C90*(D90+E90) -> 0 | J90: =G90*(H90+I90) -> 0 | N90: =K90*(L90+M90) -> 0 | R90: =O90*(P90+Q90) -> 0 | V90: =S90*(T90+U90) -> 0 | Z90: =W90*(X90+Y90) -> 0 | AD90: =AA90*(AB90+AC90) -> 0 | AH90: =AE90*(AF90+AG90) -> 0 | AL90: =AI90*(AJ90+AK90) -> 0 | AP90: =AM90*(AN90+AO90) -> 0 | AT90: =AQ90*(AR90+AS90) -> 0
A91: 13-14" | B91: adet | F91: =C91*(D91+E91) -> 0 | J91: =G91*(H91+I91) -> 0 | N91: =K91*(L91+M91) -> 0 | R91: =O91*(P91+Q91) -> 0 | V91: =S91*(T91+U91) -> 0 | Z91: =W91*(X91+Y91) -> 0 | AD91: =AA91*(AB91+AC91) -> 0 | AH91: =AE91*(AF91+AG91) -> 0 | AL91: =AI91*(AJ91+AK91) -> 0 | AP91: =AM91*(AN91+AO91) -> 0 | AT91: =AQ91*(AR91+AS91) -> 0
A92: 15-16" | B92: adet | F92: =C92*(D92+E92) -> 0 | J92: =G92*(H92+I92) -> 0 | N92: =K92*(L92+M92) -> 0 | R92: =O92*(P92+Q92) -> 0 | V92: =S92*(T92+U92) -> 0 | Z92: =W92*(X92+Y92) -> 0 | AD92: =AA92*(AB92+AC92) -> 0 | AH92: =AE92*(AF92+AG92) -> 0 | AL92: =AI92*(AJ92+AK92) -> 0 | AP92: =AM92*(AN92+AO92) -> 0 | AT92: =AQ92*(AR92+AS92) -> 0
A93: 17-20" | B93: adet | F93: =C93*(D93+E93) -> 0 | J93: =G93*(H93+I93) -> 0 | N93: =K93*(L93+M93) -> 0 | R93: =O93*(P93+Q93) -> 0 | V93: =S93*(T93+U93) -> 0 | Z93: =W93*(X93+Y93) -> 0 | AD93: =AA93*(AB93+AC93) -> 0 | AH93: =AE93*(AF93+AG93) -> 0 | AL93: =AI93*(AJ93+AK93) -> 0 | AP93: =AM93*(AN93+AO93) -> 0 | AT93: =AQ93*(AR93+AS93) -> 0
A94: 21-24" | B94: adet | F94: =C94*(D94+E94) -> 0 | J94: =G94*(H94+I94) -> 0 | N94: =K94*(L94+M94) -> 0 | R94: =O94*(P94+Q94) -> 0 | V94: =S94*(T94+U94) -> 0 | Z94: =W94*(X94+Y94) -> 0 | AD94: =AA94*(AB94+AC94) -> 0 | AH94: =AE94*(AF94+AG94) -> 0 | AL94: =AI94*(AJ94+AK94) -> 0 | AP94: =AM94*(AN94+AO94) -> 0 | AT94: =AQ94*(AR94+AS94) -> 0
A95: 25-28" | B95: adet | F95: =C95*(D95+E95) -> 0 | J95: =G95*(H95+I95) -> 0 | N95: =K95*(L95+M95) -> 0 | R95: =O95*(P95+Q95) -> 0 | V95: =S95*(T95+U95) -> 0 | Z95: =W95*(X95+Y95) -> 0 | AD95: =AA95*(AB95+AC95) -> 0 | AH95: =AE95*(AF95+AG95) -> 0 | AL95: =AI95*(AJ95+AK95) -> 0 | AP95: =AM95*(AN95+AO95) -> 0 | AT95: =AQ95*(AR95+AS95) -> 0
A96: 28" üzeri | B96: adet | F96: =C96*(D96+E96) -> 0 | J96: =G96*(H96+I96) -> 0 | N96: =K96*(L96+M96) -> 0 | R96: =O96*(P96+Q96) -> 0 | V96: =S96*(T96+U96) -> 0 | Z96: =W96*(X96+Y96) -> 0 | AD96: =AA96*(AB96+AC96) -> 0 | AH96: =AE96*(AF96+AG96) -> 0 | AL96: =AI96*(AJ96+AK96) -> 0 | AP96: =AM96*(AN96+AO96) -> 0 | AT96: =AQ96*(AR96+AS96) -> 0
A97: 1.4.2. Polietilen Te Boru | F97: =SUM(F98:F103) -> 0 | J97: =SUM(J98:J103) -> 0 | N97: =SUM(N98:N103) -> 0 | R97: =SUM(R98:R103) -> 0 | V97: =SUM(V98:V103) -> 0 | Z97: =SUM(Z98:Z103) -> 0 | AD97: =SUM(AD98:AD103) -> 0 | AH97: =SUM(AH98:AH103) -> 0 | AL97: =SUM(AL98:AL103) -> 0 | AP97: =SUM(AP98:AP103) -> 0 | AT97: =SUM(AT98:AT103) -> 0
A98: ND 0-40 mm | B98: adet | F98: =C98*(D98+E98) -> 0 | J98: =G98*(H98+I98) -> 0 | N98: =K98*(L98+M98) -> 0 | R98: =O98*(P98+Q98) -> 0 | V98: =S98*(T98+U98) -> 0 | Z98: =W98*(X98+Y98) -> 0 | AD98: =AA98*(AB98+AC98) -> 0 | AH98: =AE98*(AF98+AG98) -> 0 | AL98: =AI98*(AJ98+AK98) -> 0 | AP98: =AM98*(AN98+AO98) -> 0 | AT98: =AQ98*(AR98+AS98) -> 0
A99: ND 63 mm | B99: adet | F99: =C99*(D99+E99) -> 0 | J99: =G99*(H99+I99) -> 0 | N99: =K99*(L99+M99) -> 0 | R99: =O99*(P99+Q99) -> 0 | V99: =S99*(T99+U99) -> 0 | Z99: =W99*(X99+Y99) -> 0 | AD99: =AA99*(AB99+AC99) -> 0 | AH99: =AE99*(AF99+AG99) -> 0 | AL99: =AI99*(AJ99+AK99) -> 0 | AP99: =AM99*(AN99+AO99) -> 0 | AT99: =AQ99*(AR99+AS99) -> 0
A100: ND 90 mm | B100: adet | F100: =C100*(D100+E100) -> 0 | J100: =G100*(H100+I100) -> 0 | N100: =K100*(L100+M100) -> 0 | R100: =O100*(P100+Q100) -> 0 | V100: =S100*(T100+U100) -> 0 | Z100: =W100*(X100+Y100) -> 0 | AD100: =AA100*(AB100+AC100) -> 0 | AH100: =AE100*(AF100+AG100) -> 0 | AL100: =AI100*(AJ100+AK100) -> 0 | AP100: =AM100*(AN100+AO100) -> 0 | AT100: =AQ100*(AR100+AS100) -> 0
A101: ND 110 mm | B101: adet | F101: =C101*(D101+E101) -> 0 | J101: =G101*(H101+I101) -> 0 | N101: =K101*(L101+M101) -> 0 | R101: =O101*(P101+Q101) -> 0 | V101: =S101*(T101+U101) -> 0 | Z101: =W101*(X101+Y101) -> 0 | AD101: =AA101*(AB101+AC101) -> 0 | AH101: =AE101*(AF101+AG101) -> 0 | AL101: =AI101*(AJ101+AK101) -> 0 | AP101: =AM101*(AN101+AO101) -> 0 | AT101: =AQ101*(AR101+AS101) -> 0
A102: ND 125 mm | B102: adet | F102: =C102*(D102+E102) -> 0 | J102: =G102*(H102+I102) -> 0 | N102: =K102*(L102+M102) -> 0 | R102: =O102*(P102+Q102) -> 0 | V102: =S102*(T102+U102) -> 0 | Z102: =W102*(X102+Y102) -> 0 | AD102: =AA102*(AB102+AC102) -> 0 | AH102: =AE102*(AF102+AG102) -> 0 | AL102: =AI102*(AJ102+AK102) -> 0 | AP102: =AM102*(AN102+AO102) -> 0 | AT102: =AQ102*(AR102+AS102) -> 0
A103: ND 125 mm üzeri | B103: adet | F103: =C103*(D103+E103) -> 0 | J103: =G103*(H103+I103) -> 0 | N103: =K103*(L103+M103) -> 0 | R103: =O103*(P103+Q103) -> 0 | V103: =S103*(T103+U103) -> 0 | Z103: =W103*(X103+Y103) -> 0 | AD103: =AA103*(AB103+AC103) -> 0 | AH103: =AE103*(AF103+AG103) -> 0 | AL103: =AI103*(AJ103+AK103) -> 0 | AP103: =AM103*(AN103+AO103) -> 0 | AT103: =AQ103*(AR103+AS103) -> 0
...

Sheet Yatırım Dağılımı
A1: EK-21/B: YATIRIM AYRIŞTIRMASI
A3: AÇIKLAMALAR:
A4: 1- Bu tablo, sistem kullanım bedelleri 3580 sayılı Metodoloji kapsamında belirlenmiş olan ihaleli şirketler tarafından doldurulacaktır. İhaleli şirketler, yeni tarife kararı kapsamında yatırım tavanı belirlenen her bir yılın gerçekleşmeleri için bu tabloları dolduracaktır.
A6: 2- Ek-21/A'da yer verilen yatırımların toplam maliyetler üzerinden ilgili kategorilere ayrıştırılmış hali verilecektir.
A8: 2012 YILI YATIRIMLARI | B8: 5 Yıl Yatırım Yükümlülüğünde Olup Mücbir Sebep Nedeniyle Yapılamamış Yatırımlar * | F8: 5 Yıl Yatırım Yükümlülüğü Kapsamında Olup Yapılmamış Yatırımlar ** | J8: Yatırım Tavanı Kapsamında Olan Yatırımlar ***
B9: 2012 Yılı Yatırımları | C9: Birim | D9: Tutar | F9: 2012 Yılı Yatırımları | G9: Birim | H9: Tutar | J9: 2012 Yılı Yatırımları | K9: Birim | L9: Tutar
B10: Çelik Şebeke (Metre) | F10: Çelik Şebeke (Metre) | J10: Çelik Şebeke (Metre)
B11: Polietilen Şebeke (Bağlantı ve Servis Hattı Hariç) (Metre) | F11: Polietilen Şebeke (Bağlantı ve Servis Hattı Hariç) (Metre) | J11: Polietilen Şebeke (Bağlantı ve Servis Hattı Hariç) (Metre)
B12: Şehir Giriş İstasyonu (Adet) | F12: Şehir Giriş İstasyonu (Adet) | J12: Şehir Giriş İstasyonu (Adet)
B13: Şehir İçi Bölge İstasyonu (Adet) | F13: Şehir İçi Bölge İstasyonu (Adet) | J13: Şehir İçi Bölge İstasyonu (Adet)
B14: Serbest Tüketici Bağlantı Maliyeti (Adet) | F14: Serbest Tüketici Bağlantı Maliyeti (Adet) | J14: Serbest Tüketici Bağlantı Maliyeti (Adet)
B15: Mal ve Hizmet Üretim Amaçlı Münferit Hat Maliyeti (Adet) | F15: Mal ve Hizmet Üretim Amaçlı Münferit Hat Maliyeti (Adet) | J15: Mal ve Hizmet Üretim Amaçlı Münferit Hat Maliyeti (Adet)
B16: Servis Hattı Maliyeti (Adet) | F16: Servis Hattı Maliyeti (Adet) | J16: Servis Hattı Maliyeti (Adet)
B17: Kazı, Ruhsat, Harç Maliyetleri | F17: Kazı, Ruhsat, Harç Maliyetleri | J17: Kazı, Ruhsat, Harç Maliyetleri
B18: Kamulaştırma Maliyetleri | F18: Kamulaştırma Maliyetleri | J18: Kamulaştırma Maliyetleri
B19: Kaplama Maliyetleri | F19: Kaplama Maliyetleri | J19: Kaplama Maliyetleri
B20: Kontrol Şirketi Maliyetleri | F20: Kontrol Şirketi Maliyetleri | J20: Kontrol Şirketi Maliyetleri
B21: Katodik Koruma Maliyetleri | F21: Katodik Koruma Maliyetleri | J21: Katodik Koruma Maliyetleri
... B23: Coğrafi Bilgi Sistemi (Harita) Maliyetleri | F23: Coğrafi Bilgi Sistemi (Harita) Maliyetleri | J23: Coğrafi Bilgi Sistemi (Harita) Maliyetleri
B24: TOPLAM | D24: =SUM(D10:D23) -> 0 | F24: TOPLAM | H24: =SUM(H10:H23) -> 0 | J24: Devralınan Hat ve Tesisler
J25: TOPLAM | L25: =SUM(L10:L24) -> 0
A27: 2013 YILI YATIRIMLARI | B27: 5 Yıl Yatırım Yükümlülüğünde Olup Mücbir Sebep Nedeniyle Yapılamamış Yatırımlar * | F27: 5 Yıl Yatırım Yükümlülüğü Kapsamında Olup Yapılmamış Yatırımlar ** | J27: Yatırım Tavanı Kapsamında Olan Yatırımlar ***
B28: 2013 Yılı Yatırımları | C28: Birim | D28: Tutar | F28: 2013 Yılı Yatırımları | G28: Birim | H28: Tutar | J28: 2013 Yılı Yatırımları | K28: Birim | L28: Tutar
B29: Çelik Şebeke (Metre) | F29: Çelik Şebeke (Metre) | J29: Çelik Şebeke (Metre)
B30: Polietilen Şebeke (Bağlantı ve Servis Hattı Hariç) (Metre) | F30: Polietilen Şebeke (Bağlantı ve Servis Hattı Hariç) (Metre) | J30: Polietilen Şebeke (Bağlantı ve Servis Hattı Hariç) (Metre)
B31: Şehir Giriş İstasyonu (Adet) | F31: Şehir Giriş İstasyonu (Adet) | J31: Şehir Giriş İstasyonu (Adet)
B32: Şehir İçi Bölge İstasyonu (Adet) | F32: Şehir İçi Bölge İstasyonu (Adet) | J32: Şehir İçi Bölge İstasyonu (Adet)
B33: Serbest Tüketici Bağlantı Maliyeti (Adet) | F33: Serbest Tüketici Bağlantı Maliyeti (Adet) | J33: Serbest Tüketici Bağlantı Maliyeti (Adet)
B34: Mal ve Hizmet Üretim Amaçlı Münferit Hat Maliyeti (Adet) | F34: Mal ve Hizmet Üretim Amaçlı Münferit Hat Maliyeti (Adet) | J34: Mal ve Hizmet Üretim Amaçlı Münferit Hat Maliyeti (Adet)
B35: Servis Hattı Maliyeti (Adet) | F35: Servis Hattı Maliyeti (Adet) | J35: Servis Hattı Maliyeti (Adet)
B36: Kazı, Ruhsat, Harç Maliyetleri | F36: Kazı, Ruhsat, Harç Maliyetleri | J36: Kazı, Ruhsat, Harç Maliyetleri
B37: Kamulaştırma Maliyetleri | F37: Kamulaştırma Maliyetleri | J37: Kamulaştırma Maliyetleri
B38: Kaplama Maliyetleri | F38: Kaplama Maliyetleri | J38: Kaplama Maliyetleri
B39: Kontrol Şirketi Maliyetleri | F39: Kontrol Şirketi Maliyetleri | J39: Kontrol Şirketi Maliyetleri
B40: Katodik Koruma Maliyetleri | F40: Katodik Koruma Maliyetleri | J40: Katodik Koruma Maliyetleri
... B42: Coğrafi Bilgi Sistemi (Harita) Maliyetleri | F42: Coğrafi Bilgi Sistemi (Harita) Maliyetleri | J42: Coğrafi Bilgi Sistemi (Harita) Maliyetleri
B43: TOPLAM | D43: =SUM(D29:D42) -> 0 | F43: TOPLAM | H43: =SUM(H29:H42) -> 0 | J43: Devralınan Hat ve Tesisler
J44: TOPLAM | L44: =SUM(L29:L43) -> 0
A46: 2014 YILI YATIRIMLARI | B46: 5 Yıl Yatırım Yükümlülüğünde Olup Mücbir Sebep Nedeniyle Yapılamamış Yatırımlar * | F46: 5 Yıl Yatırım Yükümlülüğü Kapsamında Olup Yapılmamış Yatırımlar ** | J46: Yatırım Tavanı Kapsamında Olan Yatırımlar ***
B47: 2014 Yılı Yatırımları | C47: Birim | D47: Tutar | F47: 2014 Yılı Yatırımları | G47: Birim | H47: Tutar | J47: 2014 Yılı Yatırımları | K47: Birim | L47: Tutar
B48: Çelik Şebeke (Metre) | F48: Çelik Şebeke (Metre) | J48: Çelik Şebeke (Metre)
B49: Polietilen Şebeke (Bağlantı ve Servis Hattı Hariç) (Metre) | F49: Polietilen Şebeke (Bağlantı ve Servis Hattı Hariç) (Metre) | J49: Polietilen Şebeke (Bağlantı ve Servis Hattı Hariç) (Metre)
B50: Şehir Giriş İstasyonu (Adet) | F50: Şehir Giriş İstasyonu (Adet) | J50: Şehir Giriş İstasyonu (Adet)
B51: Şehir İçi Bölge İstasyonu (Adet) | F51: Şehir İçi Bölge İstasyonu (Adet) | J51: Şehir İçi Bölge İstasyonu (Adet)
B52: Serbest Tüketici Bağlantı Maliyeti (Adet) | F52: Serbest Tüketici Bağlantı Maliyeti (Adet) | J52: Serbest Tüketici Bağlantı Maliyeti (Adet)
B53: Mal ve Hizmet Üretim Amaçlı Münferit Hat Maliyeti (Adet) | F53: Mal ve Hizmet Üretim Amaçlı Münferit Hat Maliyeti (Adet) | J53: Mal ve Hizmet Üretim Amaçlı Münferit Hat Maliyeti (Adet)
B54: Servis Hattı Maliyeti (Adet) | F54: Servis Hattı Maliyeti (Adet) | J54: Servis Hattı Maliyeti (Adet)
B55: Kazı, Ruhsat, Harç Maliyetleri | F55: Kazı, Ruhsat, Harç Maliyetleri | J55: Kazı, Ruhsat, Harç Maliyetleri
B56: Kamulaştırma Maliyetleri | F56: Kamulaştırma Maliyetleri | J56: Kamulaştırma Maliyetleri
B57: Kaplama Maliyetleri | F57: Kaplama Maliyetleri | J57: Kaplama Maliyetleri
B58: Kontrol Şirketi Maliyetleri | F58: Kontrol Şirketi Maliyetleri | J58: Kontrol Şirketi Maliyetleri
B59: Katodik Koruma Maliyetleri | F59: Katodik Koruma Maliyetleri | J59: Katodik Koruma Maliyetleri
... B61: Coğrafi Bilgi Sistemi (Harita) Maliyetleri | F61: Coğrafi Bilgi Sistemi (Harita) Maliyetleri | J61: Coğrafi Bilgi Sistemi (Harita) Maliyetleri
B62: TOPLAM | D62: =SUM(D48:D61) -> 0 | F62: TOPLAM | H62: =SUM(H48:H61) -> 0 | J62: Devralınan Hat ve Tesisler
J63: TOPLAM | L63: =SUM(L48:L62) -> 0
A64: * Mücbir sebep nedeniyle yapılamamış yatırımlardan mücbir sebeplerin ilgili yılda kalkmasına müteakip yapılmış olanlarına ilişkin doldurulacaktır.
A65: ** 5 yıl yatırım yükümlülüğü kapsamında olan; ancak mücbir sebep olmaksızın yapılmamış yatırımlardan ilgili yıl içerisinde yapılmış bulunanlar için doldurulacaktır.
A66: *** Yatırım Tavanı çerçevesinde verilmekte olan yatırımlara ilişkin olarak ilgili yılda yapılmış olan yatırım tutarları girilecektir.

Sheet Planlanan Yatırımlar
A1: EK-21/C: 2015-2016 YILLARI PLANLANAN YATIRIMLAR
A3: AÇIKLAMALAR:
A4: 1- Planlanan yatırımlar tablolarının, 3580 sayılı Kurul Kararı çerçevesinde üç ayrı kalem altında doldurulması gerekmektedir.
A5: 2- 3580 sayılı Kurul Kararı uyarınca perakende satış tarifesi düzenlenmiş olan şirketlerin bu tabloyu doldurmasına ihtiyaç bulunmamaktadır.
A7: YAPILMASI ÖNGÖRÜLEN ŞEBEKE YATIRIMI | C7: 2015-2016 TOPLAM | F7: YAPILMASI ÖNGÖRÜLEN ŞEBEKE YATIRIMI | H7: 2015-2016 TOPLAM | K7: YAPILMASI ÖNGÖRÜLEN ŞEBEKE YATIRIMI | M7: 2015-2016 TOPLAM
C8: Birim | D8: Tutar | H8: Birim | I8: Tutar | M8: Birim | N8: Tutar
A9: 5 Yıl Yatırım Yükümlülüğünde Olup Mücbir Sebep Nedeniyle Yapılamamış Yatırımlar * | B9: Çelik Şebeke (Metre) | F9: 5 Yıl Yatırım Yükümlülüğü Kapsamında Olup Yapılmamış Yatırımlar ** | G9: Çelik Şebeke (Metre) | K9: Yatırım Tavanı Kapsamında Olan Yatırımlar *** | L9: Çelik Şebeke (Metre)
B10: Polietilen Şebeke (Bağlantı ve Servis Hattı Hariç) (Metre) | G10: Polietilen Şebeke (Bağlantı ve Servis Hattı Hariç) (Metre) | L10: Polietilen Şebeke (Bağlantı ve Servis Hattı Hariç) (Metre)
B11: Şehir Giriş İstasyonu (Adet) | G11: Şehir Giriş İstasyonu (Adet) | L11: Şehir Giriş İstasyonu (Adet)
B12: Şehir İçi Bölge İstasyonu (Adet) | G12: Şehir İçi Bölge İstasyonu (Adet) | L12: Şehir İçi Bölge İstasyonu (Adet)
B13: Serbest Tüketici Bağlantı Maliyeti (Adet) | G13: Serbest Tüketici Bağlantı Maliyeti (Adet) | L13: Serbest Tüketici Bağlantı Maliyeti (Adet)
B14: Mal ve Hizmet Üretim Amaçlı Münferit Hat Maliyeti (Adet) | G14: Mal ve Hizmet Üretim Amaçlı Münferit Hat Maliyeti (Adet) | L14: Mal ve Hizmet Üretim Amaçlı Münferit Hat Maliyeti (Adet)
B15: Servis Hattı Maliyeti (Adet) | G15: Servis Hattı Maliyeti (Adet) | L15: Servis Hattı Maliyeti (Adet)
B16: Kazı, Ruhsat, Harç Maliyetleri | G16: Kazı, Ruhsat, Harç Maliyetleri | L16: Kazı, Ruhsat, Harç Maliyetleri
B17: Kamulaştırma Maliyetleri | G17: Kamulaştırma Maliyetleri | L17: Kamulaştırma Maliyetleri
B18: Kaplama Maliyetleri | G18: Kaplama Maliyetleri | L18: Kaplama Maliyetleri
B19: Kontrol Şirketi Maliyetleri | G19: Kontrol Şirketi Maliyetleri | L19: Kontrol Şirketi Maliyetleri
B20: Katodik Koruma Maliyetleri | G20: Katodik Koruma Maliyetleri | L20: Katodik Koruma Maliyetleri
B21: SCADA ve Telekom Sistemi Maliyetleri | G21: SCADA ve Telekom Sistemi Maliyetleri | L21: SCADA ve Telekom Sistemi Maliyetleri
... B23: TOPLAM | G23: TOPLAM | L23: TOPLAM
A25: * Mücbir sebep nedeniyle yapılamamış yatırımlardan mücbir sebeplerin ilgili yılda kalkmasına müteakip yapılmış olanlarına ilişkin doldurulacaktır.
A26: ** 5 yıl yatırım yükümlülüğü kapsamında olan; ancak mücbir sebep olmaksızın yapılmamış yatırımlardan ilgili yıl içerisinde yapılmış bulunanlar için doldurulacaktır.
A27: *** Yatırım Tavanı çerçevesinde verilmekte olan yatırımlara ilişkin olarak ilgili yılda yapılmış olan yatırım tutarları girilecektir.

Sheet Hakedişler
A1: EK-22: HAKEDİŞLER
A3: AÇIKLAMALAR:
A4: 1- Bu tablo, sadece hakediş faturalarına göre ve detayı "Ek-21 Yatırımlar" tablosunda verilen şebeke yatırımlarına (servis hatları dahil) ilişkin düzenlenecektir.
A5: 2- Bu tablo, 2004 yılından bu yana tüm hakedişleri kapsayacaktır.
G6: İhale Usulü
G7: Teklif Usulü
G8: Pazarlık Usulü
G9: Diğer (Açıklamada belirtiniz)
B10: Hakediş | C10: Yüklenici | D10: Tarih | E10: Tutar | F10: Bölge | G10: Usul | H10: Açıklama
A11: 1
A12: 2
A13: 3
A14: 4
A15: 5
A16: 6
A17: 7
A18: 8
A19: 9
A20: 10
A21: 11
A22: 12
... A59: 49
A61: …..

Sheet ŞHDV
A1: EK-23: ŞEBEKE HARİCİ DÜZENLENMİŞ VARLIKLAR
A3: AÇIKLAMALAR:
A4: 1- Bu tablo, ilgili yıl sonu itibarıyla mülkiyeti ya da kullanım hakkı dağıtım şirketinde bulunan varlıklar için doldurulacaktır.
A5: 2- Bu tablodaki bedeller KDV hariç olarak girilecektir.
A6: 3- Kira olarak yıllık toplam kira gideri yazılacaktır.
A9: BİNALAR | B9: MÜLKİYET / KİRA | C9: MEVKİ | D9: BRÜT ALAN | E9: EDİNME YILI | F9: EDİNME / YILLIK KİRA BEDELİ | G9: KULLANIM AMACI
A10: Bina-1
A11: Bina-2
A12: Bina-3
A13: …
A15: TAŞITLAR | B15: MÜLKİYET / KİRA | C15: PLAKA | D15: MARKA / MODEL | E15: EDİNME YILI | F15: EDİNME / YILLIK KİRA BEDELİ | G15: KULLANIM AMACI | H15: ORTALAMA YILLIK KM
A16: Taşıt-1
A17: Taşıt-2
A18: Taşıt-3
A19: …
A21: ARAZİ ve ARSALAR | B21: MÜLKİYET / KİRA | C21: MEVKİ | D21: ALAN | E21: EDİNME YILI | F21: EDİNME / YILLIK KİRA BEDELİ | G21: KULLANIM AMACI
A22: Arsa-1
A23: Arsa-2
A24: Arsa-3
A25: …
A27: YAZILIMLAR | B27: EDİNME YILI | C27: EDİNME / LİSANS BEDELİ | D27: YILLIK GİDERLER | E27: KULLANIM AMACI
A28: Yazılım - 1
A29: Yazılım - 2
A30: Yazılım - 3
A31: Yazılım - 4
A32: …

Sheet Faaliyet Gelirleri
A1: EK-24: FAALİYET GELİRLERİ
A3: AÇIKLAMALAR:
A4: 1- Bu tabloda, faturalandırılan tüm gelirlere (dağıtım faaliyeti dışındaki gelirler de dahil) yer verilecektir.
A5: 2- Bu tablo tahakkuk esasına göre doldurulacaktır.
A6: 3- Kalem olarak adlandırılmamış bulunan gelirler "Diğer Gelirler" altına satır eklemek suretiyle belirtilecektir.
A7: 4- Bu tablodaki gelirler dönemsel olarak doldurulacaktır.
A9: DÖNEMSEL GELİR TABLOSU (TL) (KDV Hariç)
B10: 38352 | C10: 38717 | D10: 39082 | E10: 39447 | F10: 39813 | G10: 40178 | H10: 40543 | I10: 40908 | J10: 41274 | K10: 41639 | L10: 42004
A11: TOPLAM GELİRLER | B11: =B12+B19+SUM(B24:B27)+SUM(B31:B36) -> 0 | C11: =C12+C19+SUM(C24:C27)+SUM(C31:C36) -> 0 | D11: =D12+D19+SUM(D24:D27)+SUM(D31:D36) -> 0 | E11: =E12+E19+SUM(E24:E27)+SUM(E31:E36) -> 0 | F11: =F12+F19+SUM(F24:F27)+SUM(F31:F36) -> 0 | G11: =G12+G19+SUM(G24:G27)+SUM(G31:G36) -> 0 | H11: =H12+H19+SUM(H24:H27)+SUM(H31:H36) -> 0 | I11: =I12+I19+SUM(I24:I27)+SUM(I31:I36) -> 0 | ... L11: =L12+L19+SUM(L24:L27)+SUM(L31:L36) -> 0
A12: Sistem Kullanım Bedeli | B12: =SUM(B13:B18) -> 0 | C12: =SUM(C13:C18) -> 0 | D12: =SUM(D13:D18) -> 0 | E12: =SUM(E13:E18) -> 0 | F12: =SUM(F13:F18) -> 0 | G12: =SUM(G13:G18) -> 0 | H12: =SUM(H13:H18) -> 0 | I12: =SUM(I13:I18) -> 0 | ... L12: =SUM(L13:L18) -> 0
A13: 1. 0 - 10.000 sm3
A14: 2. 10.001 - 100.000 sm3
A15: 3. 100.001 - 1.000.000 sm3
A16: 4. 1.000.001 - 10.000.000 sm3
A17: 5. 10.000.001 - 100.000.000 sm3
A18: 6. 100.000.001 sm3 ve Üzeri
A19: Abone Bağlantı Bedeli | B19: =B20+B21 -> 0 | C19: =C20+C21 -> 0 | D19: =D20+D21 -> 0 | E19: =E20+E21 -> 0 | F19: =F20+F21 -> 0 | G19: =G20+G21 -> 0 | H19: =H20+H21 -> 0 | I19: =I20+I21 -> 0 | ... L19: =L20+L21 -> 0
A20: 1. Konut ve Isınma Amaçlı
A21: 2. Mal ve Hizmet Üretim Amaçlı | B21: =B22+B23 -> 0 | C21: =C22+C23 -> 0 | D21: =D22+D23 -> 0 | E21: =E22+E23 -> 0 | F21: =F22+F23 -> 0 | G21: =G22+G23 -> 0 | H21: =H22+H23 -> 0 | I21: =I22+I23 -> 0 | ... L21: =L22+L23 -> 0
A22: 2.1. Servis Hattının Dağıtım Şirketince Yapılması
A23: 2.2. Servis Hattının Sertifikalıya Yaptırılması
A24: Serbest Tüketici Bağlantı Bedeli
A25: İç Tesisat Proje Onay, Kontrolörlük, Test ve İşletmeye Alma Bedeli *
A26: Sayaç Açma Kapama Bedeli
A27: Güvence Bedeli | B27: =B28+B29+B30 -> 0 | C27: =C28+C29+C30 -> 0 | D27: =D28+D29+D30 -> 0 | E27: =E28+E29+E30 -> 0 | F27: =F28+F29+F30 -> 0 | G27: =G28+G29+G30 -> 0 | H27: =H28+H29+H30 -> 0 | I27: =I28+I29+I30 -> 0 | ... L27: =L28+L29+L30 -> 0
A28: 1. Konut ve Isınma Amaçlı
A29: 2. Mal ve Hizmet Üretim Amaçlı
A30: 3. Serbest Tüketici
A31: Sertifika Hizmet Bedeli (Vize Bedeli Dahil)
A32: Gecikme Faizi Gelirleri
A33: Kaçak Gaz Kullanımından Elde Edilen Gelirler (Gaz Bedeli)
A34: Kaçak Gaz Kullanımından elde Edilen Gelirler (Gaz Bedeli Dışındaki Tutar)
A35: Usülsuz Gaz Kullanım Bedeli
A36: Diğer Gelirler | B36: =SUM(B37:B56) -> 0 | C36: =SUM(C37:C56) -> 0 | D36: =SUM(D37:D56) -> 0 | E36: =SUM(E37:E56) -> 0 | F36: =SUM(F37:F56) -> 0 | G36: =SUM(G37:G56) -> 0 | H36: =SUM(H37:H56) -> 0 | I36: =SUM(I37:I56) -> 0 | ... L36: =SUM(L37:L56) -> 0
A37: 1. Deplase Hat Gelirleri
A38: 2. Hasar Gelirleri
A39: 3. Şebeke Varlık Satış Gelirleri
A40: 4. Şebeke Harici Varlık Satış Gelirleri
A41: 5. Sayaç Tamir Gelirleri **
A42: 6. Reklam Gelirleri
A43: 7. Sigorta Tazmin Gelirleri
A44: 8. Kira Gelirleri
A45: 9. Hurda Satış Gelirleri
A46: 10. …
A47: 11. …
A48: 12. …
... A59: ** Tüketici hatasından kaynaklı olarak sayaca zarar verilmesi durumunda sayacın tamiri ile ilgili oluşan maliyetlerin tüketiciden tahsili kapsamında elde edilen gelirlerdir.

Sheet Güvence Bedeli
A1: EK-25: ABONE GÜVENCE BEDELİ AKIŞ TABLOSU
B4: Tutar (TL)
A5: TAHSİL EDİLEN GÜVENCE BEDELLERİ
A6: 2014 Yılı Başı İtibariyle Tahsil Edilmiş Güvence Bedeli Toplamı (Enflasyon Hariç)
A7: 2014 Yılı Başı İtibariyle Tahsil Edilmiş Güvence Bedellerinin Dönem Başı İtibariyle Enflasyon Farkı Toplamı
A8: 2014 Yılı İçinde Tahsil Edilen Güvence Bedeli Tutarı (Anapara) *
A9: 2014 Yılı İçerisinde Abonelik Sonlandırması Sebebiyle Ödenen Güvence Bedellerinin Anapara Toplamı **
A10: 2014 Yılı İçerisinde Abonelik Sonlandırması Sebebiyle Ödenen Güvence Bedellerinin Enflasyon Farkı Toplamı **
A11: 2015 Yılı Başı İtibariyle Tahsil Edilmiş Güvence Bedeli Toplamı (Enflasyon Hariç)
A12: 2015 Yılı Başı İtibariyle Tahsil Edilmiş Güvence Bedellerinin Dönem Başı İtibariyle Enflasyon Farkı Toplamı
A14: * Bu kalemde, hem ilk kez sisteme giren tüketicilerden alınan güvence bedeli tutarı hem de adres değişikliği ve benzeri sebeplerle eski aboneliğini iptal ettirip yeni abonelik yaptıran tüketicilere yeni bedel üzerinden tahakkuk ettirilen bedelin tamamı girilecektir. Eski abonelerin yeni abonelik yaptırmaları durumunda netleştirilmiş güvence bedeli değil yeni abonelik kapsamındaki güvence bedelinin tamamı bu kaleme yazılacaktır.
A18: ** Bu kalemde, abonelik iptali sonucu ödenmesi gereken tutarlar yer alacaktır. Abonelik yenileyen tüketicilere güvence bedeli geri ödemesi yapılmasa bile bu kalemde yer verilecektir.

Sheet Varlık Satışı
A1: EK-26: VARLIK SATIŞI VE DEPLASE HATLAR
A3: AÇIKLAMALAR:
A4: 1- Bu tabloda sadece şebekede kullanılan varlıkların ( Ek-21: Yatırımlar tablosunda bulunan) satışı ile ilgili veriler yer alacaktır.
A6: ŞEBEKE VARLIKLARI (2004-2014 Dönemi)
A7: Varlık Adı | B7: Edinme Tarihi * | C7: Edinme Değeri ** | D7: Satış Tarihi | E7: Satış Değeri | F7: Satış Tarihindeki Birikmiş Amortisman
A17: * İlgili varlığın da içinde yer aldığı şebeke unsurunun hakedişe bağlandığı tarihi gösterir.
A18: * İlgili varlığın hakedişe bağlandığı tarihe kadar Ek-21'e konu harcanan malzeme ve işçilik maliyetlerinin tutarını gösterir.
A21: ŞEBEKE HARİCİ VARLIKLAR (2014 Yılı)
A22: Varlık Adı | B22: Edinim Tarihi | C22: Edinim Değeri | D22: Satış Tarihi | E22: Satış Değeri | F22: Satış Tarihindeki Birikmiş Amortisman
A32: AÇIKLAMALAR:
A33: 1- Bu tabloda, deplase işlemi sonrası ortaya çıkan yeni hatlara ilişkin bilgilere yer verilecektir.
A35: Deplase Hatlar Kapsamında İlgililerden Tahsil Edilen Tutarlar | B35: Deplase Hat Sayısı (Adet) | C35: Deplase Hat Uzunluğu (Metre) | D35: Deplase Hat Maliyeti (TL) | E35: Tahsil Edilen Tutar (TL)
A36: 2004
A37: 2005
A38: 2006
A39: 2007
A40: 2008
A41: 2009
A42: 2010
A43: 2011
A44: 2012
A45: 2013
A46: 2014

Sheet Tüketim Grubu Satış Tablosu
A1: EK-27/A: TÜKETİM GRUBU BAZINDA TÜKETİCİ SAYISI VE TÜKETİM MİKTARLARI (TAŞIMA DAHİL)
A3: AÇIKLAMALAR:
A4: 1- Bu tablodaki tüketimler fatura bazlı olarak doldurulacaktır. Aynı kural, ön ödemeli sayaçlar için de geçerli olup hangi ayda gaz satıldıysa satılan gaz o ayın ilgili kademesinde yer alacaktır.
A5: 2- Bu tabloda, sayacın ilgili yıldaki toplam tüketimi dikkate alınarak kademesi belirlenecektir. Örneğin 2014 yılında 20.000 Sm3 tüketmiş bir sayaç ile ilgili tüketimler 2014 yılı tablosunun 10.001-100.000 Sm3 aralığındaki satırda yer alacaktır.
A7: 2004 | B7: Toplam Tüketim Miktarı
A8: Sayaç Tüketim Kademesi (Sm3) | B8: OCAK | C8: ŞUBAT | D8: MART | E8: NİSAN | F8: MAYIS | G8: HAZİRAN | H8: TEMMUZ | I8: AĞUSTOS | J8: EYLÜL | K8: EKİM | L8: KASIM | M8: ARALIK | N8: TOPLAM | O8: Sayaç Sayısı (Gaz Kullanan)
A9: 0 - 10.000 | N9: =SUM(B9:M9) -> 0
A10: 10.001 - 100.000 | N10: =SUM(B10:M10) -> 0
A11: 100.001 - 1.000.000 | N11: =SUM(B11:M11) -> 0
A12: 1.000.001 - 10.000.000 | N12: =SUM(B12:M12) -> 0
A13: 10.000.001 - 100.000.000 | N13: =SUM(B13:M13) -> 0
A14: 100.000.001 ve Üzeri | N14: =SUM(B14:M14) -> 0
A15: Toplam | B15: =SUM(B9:B14) -> 0 | C15: =SUM(C9:C14) -> 0 | D15: =SUM(D9:D14) -> 0 | E15: =SUM(E9:E14) -> 0 | F15: =SUM(F9:F14) -> 0 | G15: =SUM(G9:G14) -> 0 | H15: =SUM(H9:H14) -> 0 | I15: =SUM(I9:I14) -> 0 | ... O15: =SUM(O9:O14) -> 0
A17: 2005 | B17: Toplam Tüketim Miktarı
A18: Sayaç Tüketim Kademesi (Sm3) | B18: OCAK | C18: ŞUBAT | D18: MART | E18: NİSAN | F18: MAYIS | G18: HAZİRAN | H18: TEMMUZ | I18: AĞUSTOS | J18: EYLÜL | K18: EKİM | L18: KASIM | M18: ARALIK | N18: TOPLAM | O18: Sayaç Sayısı (Gaz Kullanan)
A19: 0 - 10.000 | N19: =SUM(B19:M19) -> 0
A20: 10.001 - 100.000 | N20: =SUM(B20:M20) -> 0
A21: 100.001 - 1.000.000 | N21: =SUM(B21:M21) -> 0
A22: 1.000.001 - 10.000.000 | N22: =SUM(B22:M22) -> 0
A23: 10.000.001 - 100.000.000 | N23: =SUM(B23:M23) -> 0
A24: 100.000.001 ve Üzeri | N24: =SUM(B24:M24) -> 0
A25: Toplam | B25: =SUM(B19:B24) -> 0 | C25: =SUM(C19:C24) -> 0 | D25: =SUM(D19:D24) -> 0 | E25: =SUM(E19:E24) -> 0 | F25: =SUM(F19:F24) -> 0 | G25: =SUM(G19:G24) -> 0 | H25: =SUM(H19:H24) -> 0 | I25: =SUM(I19:I24) -> 0 | ... O25: =SUM(O19:O24) -> 0
A27: 2006 | B27: Toplam Tüketim Miktarı
A28: Sayaç Tüketim Kademesi (Sm3) | B28: OCAK | C28: ŞUBAT | D28: MART | E28: NİSAN | F28: MAYIS | G28: HAZİRAN | H28: TEMMUZ | I28: AĞUSTOS | J28: EYLÜL | K28: EKİM | L28: KASIM | M28: ARALIK | N28: TOPLAM | O28: Sayaç Sayısı (Gaz Kullanan)
A29: 0 - 10.000 | N29: =SUM(B29:M29) -> 0
A30: 10.001 - 100.000 | N30: =SUM(B30:M30) -> 0
A31: 100.001 - 1.000.000 | N31: =SUM(B31:M31) -> 0
A32: 1.000.001 - 10.000.000 | N32: =SUM(B32:M32) -> 0
A33: 10.000.001 - 100.000.000 | N33: =SUM(B33:M33) -> 0
A34: 100.000.001 ve Üzeri | N34: =SUM(B34:M34) -> 0
A35: Toplam | B35: =SUM(B29:B34) -> 0 | C35: =SUM(C29:C34) -> 0 | D35: =SUM(D29:D34) -> 0 | E35: =SUM(E29:E34) -> 0 | F35: =SUM(F29:F34) -> 0 | G35: =SUM(G29:G34) -> 0 | H35: =SUM(H29:H34) -> 0 | I35: =SUM(I29:I34) -> 0 | ... O35: =SUM(O29:O34) -> 0
A37: 2007 | B37: Toplam Tüketim Miktarı
A38: Sayaç Tüketim Kademesi (Sm3) | B38: OCAK | C38: ŞUBAT | D38: MART | E38: NİSAN | F38: MAYIS | G38: HAZİRAN | H38: TEMMUZ | I38: AĞUSTOS | J38: EYLÜL | K38: EKİM | L38: KASIM | M38: ARALIK | N38: TOPLAM | O38: Sayaç Sayısı (Gaz Kullanan)
A39: 0 - 10.000 | N39: =SUM(B39:M39) -> 0
A40: 10.001 - 100.000 | N40: =SUM(B40:M40) -> 0
A41: 100.001 - 1.000.000 | N41: =SUM(B41:M41) -> 0
A42: 1.000.001 - 10.000.000 | N42: =SUM(B42:M42) -> 0
A43: 10.000.001 - 100.000.000 | N43: =SUM(B43:M43) -> 0
A44: 100.000.001 ve Üzeri | N44: =SUM(B44:M44) -> 0
A45: Toplam | B45: =SUM(B39:B44) -> 0 | C45: =SUM(C39:C44) -> 0 | D45: =SUM(D39:D44) -> 0 | E45: =SUM(E39:E44) -> 0 | F45: =SUM(F39:F44) -> 0 | G45: =SUM(G39:G44) -> 0 | H45: =SUM(H39:H44) -> 0 | I45: =SUM(I39:I44) -> 0 | ... O45: =SUM(O39:O44) -> 0
A47: 2008 | B47: Toplam Tüketim Miktarı
A48: Sayaç Tüketim Kademesi (Sm3) | B48: OCAK | C48: ŞUBAT | D48: MART | E48: NİSAN | F48: MAYIS | G48: HAZİRAN | H48: TEMMUZ | I48: AĞUSTOS | J48: EYLÜL | K48: EKİM | L48: KASIM | M48: ARALIK | N48: TOPLAM | O48: Sayaç Sayısı (Gaz Kullanan)
A49: 0 - 10.000 | N49: =SUM(B49:M49) -> 0
A50: 10.001 - 100.000 | N50: =SUM(B50:M50) -> 0
A51: 100.001 - 1.000.000 | N51: =SUM(B51:M51) -> 0
A52: 1.000.001 - 10.000.000 | N52: =SUM(B52:M52) -> 0
A53: 10.000.001 - 100.000.000 | N53: =SUM(B53:M53) -> 0
A54: 100.000.001 ve Üzeri | N54: =SUM(B54:M54) -> 0
A55: Toplam | B55: =SUM(B49:B54) -> 0 | C55: =SUM(C49:C54) -> 0 | D55: =SUM(D49:D54) -> 0 | E55: =SUM(E49:E54) -> 0 | F55: =SUM(F49:F54) -> 0 | G55: =SUM(G49:G54) -> 0 | H55: =SUM(H49:H54) -> 0 | I55: =SUM(I49:I54) -> 0 | ... O55: =SUM(O49:O54) -> 0
A57: 2009 | B57: Toplam Tüketim Miktarı
A58: Sayaç Tüketim Kademesi (Sm3) | B58: OCAK | C58: ŞUBAT | D58: MART | E58: NİSAN | F58: MAYIS | G58: HAZİRAN | H58: TEMMUZ | I58: AĞUSTOS | J58: EYLÜL | K58: EKİM | L58: KASIM | M58: ARALIK | N58: TOPLAM | O58: Sayaç Sayısı (Gaz Kullanan)
A59: 0 - 10.000 | N59: =SUM(B59:M59) -> 0
A60: 10.001 - 100.000 | N60: =SUM(B60:M60) -> 0
A61: 100.001 - 1.000.000 | N61: =SUM(B61:M61) -> 0
A62: 1.000.001 - 10.000.000 | N62: =SUM(B62:M62) -> 0
A63: 10.000.001 - 100.000.000 | N63: =SUM(B63:M63) -> 0
A64: 100.000.001 ve Üzeri | N64: =SUM(B64:M64) -> 0
A65: Toplam | B65: =SUM(B59:B64) -> 0 | C65: =SUM(C59:C64) -> 0 | D65: =SUM(D59:D64) -> 0 | E65: =SUM(E59:E64) -> 0 | F65: =SUM(F59:F64) -> 0 | G65: =SUM(G59:G64) -> 0 | H65: =SUM(H59:H64) -> 0 | I65: =SUM(I59:I64) -> 0 | ... O65: =SUM(O59:O64) -> 0
A67: 2010 | B67: Toplam Tüketim Miktarı
A68: Sayaç Tüketim Kademesi (Sm3) | B68: OCAK | C68: ŞUBAT | D68: MART | E68: NİSAN | F68: MAYIS | G68: HAZİRAN | H68: TEMMUZ | I68: AĞUSTOS | J68: EYLÜL | K68: EKİM | L68: KASIM | M68: ARALIK | N68: TOPLAM | O68: Sayaç Sayısı (Gaz Kullanan)
A69: 0 - 10.000 | N69: =SUM(B69:M69) -> 0
A70: 10.001 - 100.000 | N70: =SUM(B70:M70) -> 0
A71: 100.001 - 1.000.000 | N71: =SUM(B71:M71) -> 0
A72: 1.000.001 - 10.000.000 | N72: =SUM(B72:M72) -> 0
A73: 10.000.001 - 100.000.000 | N73: =SUM(B73:M73) -> 0
A74: 100.000.001 ve Üzeri | N74: =SUM(B74:M74) -> 0
A75: Toplam | B75: =SUM(B69:B74) -> 0 | C75: =SUM(C69:C74) -> 0 | D75: =SUM(D69:D74) -> 0 | E75: =SUM(E69:E74) -> 0 | F75: =SUM(F69:F74) -> 0 | G75: =SUM(G69:G74) -> 0 | H75: =SUM(H69:H74) -> 0 | I75: =SUM(I69:I74) -> 0 | ... O75: =SUM(O69:O74) -> 0
A77: 2011 | B77: Toplam Tüketim Miktarı
A78: Sayaç Tüketim Kademesi (Sm3) | B78: OCAK | C78: ŞUBAT | D78: MART | E78: NİSAN | F78: MAYIS | G78: HAZİRAN | H78: TEMMUZ | I78: AĞUSTOS | J78: EYLÜL | K78: EKİM | L78: KASIM | M78: ARALIK | N78: TOPLAM | O78: Sayaç Sayısı (Gaz Kullanan)
A79: 0 - 10.000 | N79: =SUM(B79:M79) -> 0
A80: 10.001 - 100.000 | N80: =SUM(B80:M80) -> 0
A81: 100.001 - 1.000.000 | N81: =SUM(B81:M81) -> 0
A82: 1.000.001 - 10.000.000 | N82: =SUM(B82:M82) -> 0
A83: 10.000.001 - 100.000.000 | N83: =SUM(B83:M83) -> 0
A84: 100.000.001 ve Üzeri | N84: =SUM(B84:M84) -> 0
A85: Toplam | B85: =SUM(B79:B84) -> 0 | C85: =SUM(C79:C84) -> 0 | D85: =SUM(D79:D84) -> 0 | E85: =SUM(E79:E84) -> 0 | F85: =SUM(F79:F84) -> 0 | G85: =SUM(G79:G84) -> 0 | H85: =SUM(H79:H84) -> 0 | I85: =SUM(I79:I84) -> 0 | ... O85: =SUM(O79:O84) -> 0
A87: 2012 | B87: Toplam Tüketim Miktarı
A88: Sayaç Tüketim Kademesi (Sm3) | B88: OCAK | C88: ŞUBAT | D88: MART | E88: NİSAN | F88: MAYIS | G88: HAZİRAN | H88: TEMMUZ | I88: AĞUSTOS | J88: EYLÜL | K88: EKİM | L88: KASIM | M88: ARALIK | N88: TOPLAM | O88: Sayaç Sayısı (Gaz Kullanan)
A89: 0 - 10.000 | N89: =SUM(B89:M89) -> 0
A90: 10.001 - 100.000 | N90: =SUM(B90:M90) -> 0
A91: 100.001 - 1.000.000 | N91: =SUM(B91:M91) -> 0
A92: 1.000.001 - 10.000.000 | N92: =SUM(B92:M92) -> 0
A93: 10.000.001 - 100.000.000 | N93: =SUM(B93:M93) -> 0
A94: 100.000.001 ve Üzeri | N94: =SUM(B94:M94) -> 0
A95: Toplam | B95: =SUM(B89:B94) -> 0 | C95: =SUM(C89:C94) -> 0 | D95: =SUM(D89:D94) -> 0 | E95: =SUM(E89:E94) -> 0 | F95: =SUM(F89:F94) -> 0 | G95: =SUM(G89:G94) -> 0 | H95: =SUM(H89:H94) -> 0 | I95: =SUM(I89:I94) -> 0 | ... O95: =SUM(O89:O94) -> 0
A97: 2013 | B97: Toplam Tüketim Miktarı
A98: Sayaç Tüketim Kademesi (Sm3) | B98: OCAK | C98: ŞUBAT | D98: MART | E98: NİSAN | F98: MAYIS | G98: HAZİRAN | H98: TEMMUZ | I98: AĞUSTOS | J98: EYLÜL | K98: EKİM | L98: KASIM | M98: ARALIK | N98: TOPLAM | O98: Sayaç Sayısı (Gaz Kullanan)
A99: 0 - 10.000 | N99: =SUM(B99:M99) -> 0
A100: 10.001 - 100.000 | N100: =SUM(B100:M100) -> 0
A101: 100.001 - 1.000.000 | N101: =SUM(B101:M101) -> 0
A102: 1.000.001 - 10.000.000 | N102: =SUM(B102:M102) -> 0
A103: 10.000.001 - 100.000.000 | N103: =SUM(B103:M103) -> 0
A104: 100.000.001 ve Üzeri | N104: =SUM(B104:M104) -> 0
A105: Toplam | B105: =SUM(B99:B104) -> 0 | C105: =SUM(C99:C104) -> 0 | D105: =SUM(D99:D104) -> 0 | E105: =SUM(E99:E104) -> 0 | F105: =SUM(F99:F104) -> 0 | G105: =SUM(G99:G104) -> 0 | H105: =SUM(H99:H104) -> 0 | I105: =SUM(I99:I104) -> 0 | ... O105: =SUM(O99:O104) -> 0
A107: 2014 | B107: Toplam Tüketim Miktarı
A108: Sayaç Tüketim Kademesi (Sm3) | B108: OCAK | C108: ŞUBAT | D108: MART | E108: NİSAN | F108: MAYIS | G108: HAZİRAN | H108: TEMMUZ | I108: AĞUSTOS | J108: EYLÜL | K108: EKİM | L108: KASIM | M108: ARALIK | N108: TOPLAM | O108: Sayaç Sayısı (Gaz Kullanan)
A109: 0 - 10.000 | N109: =SUM(B109:M109) -> 0
A110: 10.001 - 100.000 | N110: =SUM(B110:M110) -> 0
A111: 100.001 - 1.000.000 | N111: =SUM(B111:M111) -> 0
A112: 1.000.001 - 10.000.000 | N112: =SUM(B112:M112) -> 0
...

Sheet Müşteri Profili
A1: EK-27/B: TÜKETİM KADEMELERİ BAZINDA MÜŞTERİ PROFİLİ
A3: AÇIKLAMALAR:
A4: 1- Bu tabloda, sayacın ilgili yıldaki toplam tüketimi dikkate alınarak kademesi belirlenecektir. Örneğin 2014 yılında 20.000 Sm3 tüketmiş ticarethane sayacı ile ilgili tüketimler 10.001-100.000 Sm3 tablosunun "Ticarethane" satırında yer alacaktır.
A7: 0 - 10.000 Sm3
A8: 2014 Yılı Tüketim Miktarı (Sm3) | B8: OCAK | C8: ŞUBAT | D8: MART | E8: NİSAN | F8: MAYIS | G8: HAZİRAN | H8: TEMMUZ | I8: AĞUSTOS | J8: EYLÜL | K8: EKİM | L8: KASIM | M8: ARALIK | N8: TOPLAM | O8: SAYAÇ SAYISI | P8: TÜKETİM ORANI | Q8: YÜK FAKTÖRÜ
A9: Konut | N9: =SUM(B9:M9) -> 0 | P9: =IF($N$15=0,0,N9/$N$15) -> 0 | Q9: =IF(N9=0,0,N9/(MAX(B9:M9)*12)) -> 0
A10: Resmi Kurum | N10: =SUM(B10:M10) -> 0 | P10: =IF($N$15=0,0,N10/$N$15) -> 0 | Q10: =IF(N10=0,0,N10/(MAX(B10:M10)*12)) -> 0
A11: Ticarethane ve Diğer | N11: =SUM(B11:M11) -> 0 | P11: =IF($N$15=0,0,N11/$N$15) -> 0 | Q11: =IF(N11=0,0,N11/(MAX(B11:M11)*12)) -> 0
A12: Sanayi Tesisleri | N12: =SUM(B12:M12) -> 0 | P12: =IF($N$15=0,0,N12/$N$15) -> 0 | Q12: =IF(N12=0,0,N12/(MAX(B12:M12)*12)) -> 0
A13: Organize Sanayi Bölgeleri | N13: =SUM(B13:M13) -> 0 | P13: =IF($N$15=0,0,N13/$N$15) -> 0 | Q13: =IF(N13=0,0,N13/(MAX(B13:M13)*12)) -> 0
A14: Elektrik Üretim Tesisleri | N14: =SUM(B14:M14) -> 0 | P14: =IF($N$15=0,0,N14/$N$15) -> 0 | Q14: =IF(N14=0,0,N14/(MAX(B14:M14)*12)) -> 0
A15: TOPLAM | B15: =SUM(B9:B14) -> 0 | C15: =SUM(C9:C14) -> 0 | D15: =SUM(D9:D14) -> 0 | E15: =SUM(E9:E14) -> 0 | F15: =SUM(F9:F14) -> 0 | G15: =SUM(G9:G14) -> 0 | H15: =SUM(H9:H14) -> 0 | I15: =SUM(I9:I14) -> 0 | ... O15: =SUM(O9:O14) -> 0 | P15: =IF($N$15=0,0,N15/$N$15) -> 0 | Q15: =IF(N15=0,0,N15/(MAX(B15:M15)*12)) -> 0
A17: 10.001-100.000 Sm3
A18: 2014 Yılı Tüketim Miktarı (Sm3) | B18: OCAK | C18: ŞUBAT | D18: MART | E18: NİSAN | F18: MAYIS | G18: HAZİRAN | H18: TEMMUZ | I18: AĞUSTOS | J18: EYLÜL | K18: EKİM | L18: KASIM | M18: ARALIK | N18: TOPLAM | O18: SAYAÇ SAYISI | P18: TÜKETİM ORANI | Q18: YÜK FAKTÖRÜ
A19: Konut | N19: =SUM(B19:M19) -> 0 | P19: =IF($N$25=0,0,N19/$N$25) -> 0 | Q19: =IF(N19=0,0,N19/(MAX(B19:M19)*12)) -> 0
A20: Resmi Kurum | N20: =SUM(B20:M20) -> 0 | P20: =IF($N$25=0,0,N20/$N$25) -> 0 | Q20: =IF(N20=0,0,N20/(MAX(B20:M20)*12)) -> 0
A21: Ticarethane ve Diğer | N21: =SUM(B21:M21) -> 0 | P21: =IF($N$25=0,0,N21/$N$25) -> 0 | Q21: =IF(N21=0,0,N21/(MAX(B21:M21)*12)) -> 0
A22: Sanayi Tesisleri | N22: =SUM(B22:M22) -> 0 | P22: =IF($N$25=0,0,N22/$N$25) -> 0 | Q22: =IF(N22=0,0,N22/(MAX(B22:M22)*12)) -> 0
A23: Organize Sanayi Bölgeleri | N23: =SUM(B23:M23) -> 0 | P23: =IF($N$25=0,0,N23/$N$25) -> 0 | Q23: =IF(N23=0,0,N23/(MAX(B23:M23)*12)) -> 0
A24: Elektrik Üretim Tesisleri | N24: =SUM(B24:M24) -> 0 | P24: =IF($N$25=0,0,N24/$N$25) -> 0 | Q24: =IF(N24=0,0,N24/(MAX(B24:M24)*12)) -> 0
A25: TOPLAM | B25: =SUM(B19:B24) -> 0 | C25: =SUM(C19:C24) -> 0 | D25: =SUM(D19:D24) -> 0 | E25: =SUM(E19:E24) -> 0 | F25: =SUM(F19:F24) -> 0 | G25: =SUM(G19:G24) -> 0 | H25: =SUM(H19:H24) -> 0 | I25: =SUM(I19:I24) -> 0 | ... O25: =SUM(O19:O24) -> 0 | P25: =IF($N$25=0,0,N25/$N$25) -> 0 | Q25: =IF(N25=0,0,N25/(MAX(B25:M25)*12)) -> 0
A27: 100.001-1.000.000 Sm3
A28: 2014 Yılı Tüketim Miktarı (Sm3) | B28: OCAK | C28: ŞUBAT | D28: MART | E28: NİSAN | F28: MAYIS | G28: HAZİRAN | H28: TEMMUZ | I28: AĞUSTOS | J28: EYLÜL | K28: EKİM | L28: KASIM | M28: ARALIK | N28: TOPLAM | O28: SAYAÇ SAYISI | P28: TÜKETİM ORANI | Q28: YÜK FAKTÖRÜ
A29: Konut | N29: =SUM(B29:M29) -> 0 | P29: =IF($N$35=0,0,N29/$N$35) -> 0 | Q29: =IF(N29=0,0,N29/(MAX(B29:M29)*12)) -> 0
A30: Resmi Kurum | N30: =SUM(B30:M30) -> 0 | P30: =IF($N$35=0,0,N30/$N$35) -> 0 | Q30: =IF(N30=0,0,N30/(MAX(B30:M30)*12)) -> 0
A31: Ticarethane ve Diğer | N31: =SUM(B31:M31) -> 0 | P31: =IF($N$35=0,0,N31/$N$35) -> 0 | Q31: =IF(N31=0,0,N31/(MAX(B31:M31)*12)) -> 0
A32: Sanayi Tesisleri | N32: =SUM(B32:M32) -> 0 | P32: =IF($N$35=0,0,N32/$N$35) -> 0 | Q32: =IF(N32=0,0,N32/(MAX(B32:M32)*12)) -> 0
A33: Organize Sanayi Bölgeleri | N33: =SUM(B33:M33) -> 0 | P33: =IF($N$35=0,0,N33/$N$35) -> 0 | Q33: =IF(N33=0,0,N33/(MAX(B33:M33)*12)) -> 0
A34: Elektrik Üretim Tesisleri | N34: =SUM(B34:M34) -> 0 | P34: =IF($N$35=0,0,N34/$N$35) -> 0 | Q34: =IF(N34=0,0,N34/(MAX(B34:M34)*12)) -> 0
A35: TOPLAM | B35: =SUM(B29:B34) -> 0 | C35: =SUM(C29:C34) -> 0 | D35: =SUM(D29:D34) -> 0 | E35: =SUM(E29:E34) -> 0 | F35: =SUM(F29:F34) -> 0 | G35: =SUM(G29:G34) -> 0 | H35: =SUM(H29:H34) -> 0 | I35: =SUM(I29:I34) -> 0 | ... O35: =SUM(O29:O34) -> 0 | P35: =IF($N$35=0,0,N35/$N$35) -> 0 | Q35: =IF(N35=0,0,N35/(MAX(B35:M35)*12)) -> 0
A37: 1.000.001-10.000.000 Sm3
A38: 2014 Yılı Tüketim Miktarı (Sm3) | B38: OCAK | C38: ŞUBAT | D38: MART | E38: NİSAN | F38: MAYIS | G38: HAZİRAN | H38: TEMMUZ | I38: AĞUSTOS | J38: EYLÜL | K38: EKİM | L38: KASIM | M38: ARALIK | N38: TOPLAM | O38: SAYAÇ SAYISI | P38: TÜKETİM ORANI | Q38: YÜK FAKTÖRÜ
A39: Konut | N39: =SUM(B39:M39) -> 0 | P39: =IF($N$45=0,0,N39/$N$45) -> 0 | Q39: =IF(N39=0,0,N39/(MAX(B39:M39)*12)) -> 0
A40: Resmi Kurum | N40: =SUM(B40:M40) -> 0 | P40: =IF($N$45=0,0,N40/$N$45) -> 0 | Q40: =IF(N40=0,0,N40/(MAX(B40:M40)*12)) -> 0
A41: Ticarethane ve Diğer | N41: =SUM(B41:M41) -> 0 | P41: =IF($N$45=0,0,N41/$N$45) -> 0 | Q41: =IF(N41=0,0,N41/(MAX(B41:M41)*12)) -> 0
A42: Sanayi Tesisleri | N42: =SUM(B42:M42) -> 0 | P42: =IF($N$45=0,0,N42/$N$45) -> 0 | Q42: =IF(N42=0,0,N42/(MAX(B42:M42)*12)) -> 0
A43: Organize Sanayi Bölgeleri | N43: =SUM(B43:M43) -> 0 | P43: =IF($N$45=0,0,N43/$N$45) -> 0 | Q43: =IF(N43=0,0,N43/(MAX(B43:M43)*12)) -> 0
A44: Elektrik Üretim Tesisleri | N44: =SUM(B44:M44) -> 0 | P44: =IF($N$45=0,0,N44/$N$45) -> 0 | Q44: =IF(N44=0,0,N44/(MAX(B44:M44)*12)) -> 0
A45: TOPLAM | B45: =SUM(B39:B44) -> 0 | C45: =SUM(C39:C44) -> 0 | D45: =SUM(D39:D44) -> 0 | E45: =SUM(E39:E44) -> 0 | F45: =SUM(F39:F44) -> 0 | G45: =SUM(G39:G44) -> 0 | H45: =SUM(H39:H44) -> 0 | I45: =SUM(I39:I44) -> 0 | ... O45: =SUM(O39:O44) -> 0 | P45: =IF($N$45=0,0,N45/$N$45) -> 0 | Q45: =IF(N45=0,0,N45/(MAX(B45:M45)*12)) -> 0
A47: 10.000.001-100.000.000 Sm3
A48: 2014 Yılı Tüketim Miktarı (Sm3) | B48: OCAK | C48: ŞUBAT | D48: MART | E48: NİSAN | F48: MAYIS | G48: HAZİRAN | H48: TEMMUZ | I48: AĞUSTOS | J48: EYLÜL | K48: EKİM | L48: KASIM | M48: ARALIK | N48: TOPLAM | O48: SAYAÇ SAYISI | P48: TÜKETİM ORANI | Q48: YÜK FAKTÖRÜ
A49: Konut | N49: =SUM(B49:M49) -> 0 | P49: =IF($N$55=0,0,N49/$N$55) -> 0 | Q49: =IF(N49=0,0,N49/(MAX(B49:M49)*12)) -> 0
A50: Resmi Kurum | N50: =SUM(B50:M50) -> 0 | P50: =IF($N$55=0,0,N50/$N$55) -> 0 | Q50: =IF(N50=0,0,N50/(MAX(B50:M50)*12)) -> 0
A51: Ticarethane ve Diğer | N51: =SUM(B51:M51) -> 0 | P51: =IF($N$55=0,0,N51/$N$55) -> 0 | Q51: =IF(N51=0,0,N51/(MAX(B51:M51)*12)) -> 0
A52: Sanayi Tesisleri | N52: =SUM(B52:M52) -> 0 | P52: =IF($N$55=0,0,N52/$N$55) -> 0 | Q52: =IF(N52=0,0,N52/(MAX(B52:M52)*12)) -> 0
A53: Organize Sanayi Bölgeleri | N53: =SUM(B53:M53) -> 0 | P53: =IF($N$55=0,0,N53/$N$55) -> 0 | Q53: =IF(N53=0,0,N53/(MAX(B53:M53)*12)) -> 0
A54: Elektrik Üretim Tesisleri | N54: =SUM(B54:M54) -> 0 | P54: =IF($N$55=0,0,N54/$N$55) -> 0 | Q54: =IF(N54=0,0,N54/(MAX(B54:M54)*12)) -> 0
A55: TOPLAM | B55: =SUM(B49:B54) -> 0 | C55: =SUM(C49:C54) -> 0 | D55: =SUM(D49:D54) -> 0 | E55: =SUM(E49:E54) -> 0 | F55: =SUM(F49:F54) -> 0 | G55: =SUM(G49:G54) -> 0 | H55: =SUM(H49:H54) -> 0 | I55: =SUM(I49:I54) -> 0 | ... O55: =SUM(O49:O54) -> 0 | P55: =IF($N$55=0,0,N55/$N$55) -> 0 | Q55: =IF(N55=0,0,N55/(MAX(B55:M55)*12)) -> 0
A57: 100.000.001 Sm3 ve Üzeri
A58: 2014 Yılı Tüketim Miktarı (Sm3) | B58: OCAK | C58: ŞUBAT | D58: MART | E58: NİSAN | F58: MAYIS | G58: HAZİRAN | H58: TEMMUZ | I58: AĞUSTOS | J58: EYLÜL | K58: EKİM | L58: KASIM | M58: ARALIK | N58: TOPLAM | O58: SAYAÇ SAYISI | P58: TÜKETİM ORANI | Q58: YÜK FAKTÖRÜ
A59: Konut | N59: =SUM(B59:M59) -> 0 | P59: =IF($N$65=0,0,N59/$N$65) -> 0 | Q59: =IF(N59=0,0,N59/(MAX(B59:M59)*12)) -> 0
A60: Resmi Kurum | N60: =SUM(B60:M60) -> 0 | P60: =IF($N$65=0,0,N60/$N$65) -> 0 | Q60: =IF(N60=0,0,N60/(MAX(B60:M60)*12)) -> 0
A61: Ticarethane ve Diğer | N61: =SUM(B61:M61) -> 0 | P61: =IF($N$65=0,0,N61/$N$65) -> 0 | Q61: =IF(N61=0,0,N61/(MAX(B61:M61)*12)) -> 0
A62: Sanayi Tesisleri | N62: =SUM(B62:M62) -> 0 | P62: =IF($N$65=0,0,N62/$N$65) -> 0 | Q62: =IF(N62=0,0,N62/(MAX(B62:M62)*12)) -> 0
A63: Organize Sanayi Bölgeleri | N63: =SUM(B63:M63) -> 0 | P63: =IF($N$65=0,0,N63/$N$65) -> 0 | Q63: =IF(N63=0,0,N63/(MAX(B63:M63)*12)) -> 0
A64: Elektrik Üretim Tesisleri | N64: =SUM(B64:M64) -> 0 | P64: =IF($N$65=0,0,N64/$N$65) -> 0 | Q64: =IF(N64=0,0,N64/(MAX(B64:M64)*12)) -> 0
A65: TOPLAM | B65: =SUM(B59:B64) -> 0 | C65: =SUM(C59:C64) -> 0 | D65: =SUM(D59:D64) -> 0 | E65: =SUM(E59:E64) -> 0 | F65: =SUM(F59:F64) -> 0 | G65: =SUM(G59:G64) -> 0 | H65: =SUM(H59:H64) -> 0 | I65: =SUM(I59:I64) -> 0 | ... O65: =SUM(O59:O64) -> 0 | P65: =IF($N$65=0,0,N65/$N$65) -> 0 | Q65: =IF(N65=0,0,N65/(MAX(B65:M65)*12)) -> 0
A67: TÜM KADEMELER
A68: 2014 Yılı Tüketim Miktarı (Sm3) | B68: OCAK | C68: ŞUBAT | D68: MART | E68: NİSAN | F68: MAYIS | G68: HAZİRAN | H68: TEMMUZ | I68: AĞUSTOS | J68: EYLÜL | K68: EKİM | L68: KASIM | M68: ARALIK | N68: TOPLAM | O68: SAYAÇ SAYISI | P68: TÜKETİM ORANI | Q68: YÜK FAKTÖRÜ
A69: Konut | B69: =+B9+B19+B29+B39+B49+B59 -> 0 | C69: =+C9+C19+C29+C39+C49+C59 -> 0 | D69: =+D9+D19+D29+D39+D49+D59 -> 0 | E69: =+E9+E19+E29+E39+E49+E59 -> 0 | F69: =+F9+F19+F29+F39+F49+F59 -> 0 | G69: =+G9+G19+G29+G39+G49+G59 -> 0 | H69: =+H9+H19+H29+H39+H49+H59 -> 0 | I69: =+I9+I19+I29+I39+I49+I59 -> 0 | ... M69: =+M9+M19+M29+M39+M49+M59 -> 0 | N69: =SUM(B69:M69) -> 0 | O69: =+O9+O19+O29+O39+O49+O59 -> 0 | P69: =IF($N$75=0,0,N69/$N$75) -> 0 | Q69: =IF(N69=0,0,N69/(MAX(B69:M69)*12)) -> 0
A70: Resmi Kurum | B70: =+B10+B20+B30+B40+B50+B60 -> 0 | C70: =+C10+C20+C30+C40+C50+C60 -> 0 | D70: =+D10+D20+D30+D40+D50+D60 -> 0 | E70: =+E10+E20+E30+E40+E50+E60 -> 0 | F70: =+F10+F20+F30+F40+F50+F60 -> 0 | G70: =+G10+G20+G30+G40+G50+G60 -> 0 | H70: =+H10+H20+H30+H40+H50+H60 -> 0 | I70: =+I10+I20+I30+I40+I50+I60 -> 0 | ... M70: =+M10+M20+M30+M40+M50+M60 -> 0 | N70: =SUM(B70:M70) -> 0 | O70: =+O10+O20+O30+O40+O50+O60 -> 0 | P70: =IF($N$75=0,0,N70/$N$75) -> 0 | Q70: =IF(N70=0,0,N70/(MAX(B70:M70)*12)) -> 0
A71: Ticarethane ve Diğer | B71: =+B11+B21+B31+B41+B51+B61 -> 0 | C71: =+C11+C21+C31+C41+C51+C61 -> 0 | D71: =+D11+D21+D31+D41+D51+D61 -> 0 | E71: =+E11+E21+E31+E41+E51+E61 -> 0 | F71: =+F11+F21+F31+F41+F51+F61 -> 0 | G71: =+G11+G21+G31+G41+G51+G61 -> 0 | H71: =+H11+H21+H31+H41+H51+H61 -> 0 | I71: =+I11+I21+I31+I41+I51+I61 -> 0 | ... M71: =+M11+M21+M31+M41+M51+M61 -> 0 | N71: =SUM(B71:M71) -> 0 | O71: =+O11+O21+O31+O41+O51+O61 -> 0 | P71: =IF($N$75=0,0,N71/$N$75) -> 0 | Q71: =IF(N71=0,0,N71/(MAX(B71:M71)*12)) -> 0
A72: Sanayi Tesisleri | B72: =+B12+B22+B32+B42+B52+B62 -> 0 | C72: =+C12+C22+C32+C42+C52+C62 -> 0 | D72: =+D12+D22+D32+D42+D52+D62 -> 0 | E72: =+E12+E22+E32+E42+E52+E62 -> 0 | F72: =+F12+F22+F32+F42+F52+F62 -> 0 | G72: =+G12+G22+G32+G42+G52+G62 -> 0 | H72: =+H12+H22+H32+H42+H52+H62 -> 0 | I72: =+I12+I22+I32+I42+I52+I62 -> 0 | ... M72: =+M12+M22+M32+M42+M52+M62 -> 0 | N72: =SUM(B72:M72) -> 0 | O72: =+O12+O22+O32+O42+O52+O62 -> 0 | P72: =IF($N$75=0,0,N72/$N$75) -> 0 | Q72: =IF(N72=0,0,N72/(MAX(B72:M72)*12)) -> 0
A73: Organize Sanayi Bölgeleri | B73: =+B13+B23+B33+B43+B53+B63 -> 0 | C73: =+C13+C23+C33+C43+C53+C63 -> 0 | D73: =+D13+D23+D33+D43+D53+D63 -> 0 | E73: =+E13+E23+E33+E43+E53+E63 -> 0 | F73: =+F13+F23+F33+F43+F53+F63 -> 0 | G73: =+G13+G23+G33+G43+G53+G63 -> 0 | H73: =+H13+H23+H33+H43+H53+H63 -> 0 | I73: =+I13+I23+I33+I43+I53+I63 -> 0 | ... M73: =+M13+M23+M33+M43+M53+M63 -> 0 | N73: =SUM(B73:M73) -> 0 | O73: =+O13+O23+O33+O43+O53+O63 -> 0 | P73: =IF($N$75=0,0,N73/$N$75) -> 0 | Q73: =IF(N73=0,0,N73/(MAX(B73:M73)*12)) -> 0
A74: Elektrik Üretim Tesisleri | B74: =+B14+B24+B34+B44+B54+B64 -> 0 | C74: =+C14+C24+C34+C44+C54+C64 -> 0 | D74: =+D14+D24+D34+D44+D54+D64 -> 0 | E74: =+E14+E24+E34+E44+E54+E64 -> 0 | F74: =+F14+F24+F34+F44+F54+F64 -> 0 | G74: =+G14+G24+G34+G44+G54+G64 -> 0 | H74: =+H14+H24+H34+H44+H54+H64 -> 0 | I74: =+I14+I24+I34+I44+I54+I64 -> 0 | ... M74: =+M14+M24+M34+M44+M54+M64 -> 0 | N74: =SUM(B74:M74) -> 0 | O74: =+O14+O24+O34+O44+O54+O64 -> 0 | P74: =IF($N$75=0,0,N74/$N$75) -> 0 | Q74: =IF(N74=0,0,N74/(MAX(B74:M74)*12)) -> 0
A75: TOPLAM | B75: =SUM(B69:B74) -> 0 | C75: =SUM(C69:C74) -> 0 | D75: =SUM(D69:D74) -> 0 | E75: =SUM(E69:E74) -> 0 | F75: =SUM(F69:F74) -> 0 | G75: =SUM(G69:G74) -> 0 | H75: =SUM(H69:H74) -> 0 | I75: =SUM(I69:I74) -> 0 | ... O75: =SUM(O69:O74) -> 0 | P75: =IF($N$75=0,0,N75/$N$75) -> 0 | Q75: =IF(N75=0,0,N75/(MAX(B75:M75)*12)) -> 0
A79: Konut | B79: Konut abonelerinin yer aldığı tüketici grubudur.
A80: Resmi Kurum | B80: Resmi kamu kurum ve kuruluşları, resmi okul ve yurtlar, kamuya ait tesisler vb. tüketici grubudur.
A81: Ticarethane ve Diğer | B81: - Ticarethane, dükkân, atölye, depo, ardiye, matbaa vb. yerlerde faaliyet gösteren tüccar ve esnafların,
B82: - Serbest meslek sahiplerinin,
B83: - Özel ve vakıf sağlık kuruluşların,
B84: - Özel okul ve yurtların,
B85: - Özel konaklama işletmelerin,
B86: - Dernek, Vakıf ve Hayır Kurumlarının
B87: - Diğer tüketici gruplarında yer almayan tüketicilerin
B88: yer aldığı tüketici grubudur.
A89: Sanayi Tesisleri | B89: 6948 sayılı Sanayi Sicil Kanununda tanımı yapılan sanayi işletmelerinin (Elektrik Üretim Santralleri hariç) yer aldığı tüketici grubudur.
A90: Organize Sanayi Bölgeleri | B90: 4562 sayılı Organize Sanayi Bölgeleri Kanunu uyarınca kurulmuş Organize Sanayi Bölgelerinden oluşan tüketici grubudur.
A91: Elektrik Üretim Tesisleri | B91: 6446 sayılı Elektrik Piyasası Kanunu uyarınca Kurumdan üretim lisansı almış tüzel kişiler ile Mevcut sözleşmeler (Yİ, YİD vb.) kapsamında elektrik üretim faaliyetinde bulunan şahısların yer aldığı tüketici grubudur.
