Workbook
Name __fdf1: '[1]#REF'!$B$4
Name __fdf2: '[1]#REF'!$B$5
Name __Lot123: #REF!
Name __tr1: '[1]Travel Rates'!#REF!
Name __tr2: #REF!
Name __tr3: '[1]Travel Rates'!#REF!
Name __tr4: #REF!
Name __tr5: '[1]Travel Rates'!#REF!
Name __TTL4000: '[1]#REF'!$L$16
Name __TTL5000: '[1]#REF'!$N$211
Name __TTL5400: '[1]#REF'!$N$58
Name __TTL6000: '[1]#REF'!$N$102
Name __TTL8000: '[1]#REF'!$N$176
Name __wdf2: '[1]#REF'!$B$7
Name _1Y_0Crite: #REF!
Name _1Y_0Crite: #REF!
Name _1Y_0Crite: #REF!
Name _1Y_0Crite: #REF!
Name _2Y_0Crite: #REF!
Name _2Y_0Crite: #REF!
Name _2Y_0Crite: #REF!
Name _2Y_0Crite: #REF!
Name _2Y_0Extr: #REF!
Name _3Y__Crite: '[1]Labour Hours'!#REF!
Name _4Y__Extr: '[1]Labour Hours'!#REF!
Name _4Y__Extr: '[1]Labour Hours'!#REF!
Name _4Y__Extr: '[1]Labour Hours'!#REF!
Name _4Y__Extr: '[1]Labour Hours'!#REF!
Name _4Y_0Extr: #REF!
Name _4Y_0Extr: #REF!
Name _4Y_0Extr: #REF!
Name _4Y_0Extr: #REF!
Name _4Y_0Extr: #REF!
Name _6Y__Crite: '[1]Labour Hours'!#REF!
Name _6Y__Crite: '[1]Labour Hours'!#REF!
Name _6Y__Crite: '[1]Labour Hours'!#REF!
Name _6Y__Crite: '[1]Labour Hours'!#REF!
Name _6Y__Crite: '[1]Labour Hours'!#REF!
Name _8Y__Extr: '[1]Labour Hours'!#REF!
Name _8Y__Extr: '[1]Labour Hours'!#REF!
Name _fdf1: '[1]#REF'!$B$4
Name _fdf2: '[1]#REF'!$B$5
Name _Lot123: #REF!
Name _Lot123: #REF!
Name _Lot123: #REF!
Name _Lot123: #REF!
Name _tr1: '[1]Travel Rates'!#REF!
Name _tr1: '[1]Travel Rates'!#REF!
Name _tr1: '[1]Travel Rates'!#REF!
Name _tr1: '[1]Travel Rates'!#REF!
Name _tr2: #REF!
Name _tr2: #REF!
Name _tr2: #REF!
Name _tr2: #REF!
Name _tr2: #REF!
Name _tr3: '[1]Travel Rates'!#REF!
Name _tr3: '[1]Travel Rates'!#REF!
Name _tr3: '[1]Travel Rates'!#REF!
Name _tr3: '[1]Travel Rates'!#REF!
Name _tr4: #REF!

Sheet Ekler
B2: DAĞITIM ŞİRKETLERİ YILLIK TARİFE TABLOLARI LİSTESİ:
B4: ='Profil ve Lisans Bilgileri'!B2 -> EK-1: FİRMA PROFİLİ VE LİSANS BİLGİLERİ
B5: ='Temel Veriler'!B2 -> EK-2: TEMEL VERİLER
B6: ='Yıllık Bilanço'!B2 -> EK-3: YILLIK BİLANÇOLAR
B7: ='Yıllık Gelir Tablosu'!B2 -> EK-4: YILLIK GELİR TABLOLARI
B8: ='Yıllık Nakit Akım'!B2 -> EK-5: YILLIK NAKİT AKIM TABLOLARI
B9: =Mizanlar!B2 -> EK-6: MİZANLAR
B10: =Alımlar!B2 -> EK-7: DAĞITIM ŞİRKETLERİ DOĞAL GAZ ALIM FİYAT, MİKTAR VE BEDELLERİ
B11: ='Satışlar '!B2 -> EK-8/A: DAĞITIM ŞİRKETLERİ DOĞAL GAZ SATIŞ FİYAT, MİKTAR VE BEDELLERİ
B12: EK-8/B: DAĞITIM ŞİRKETLERİNİN 2021 YILINA KADAR DOĞAL GAZ MİKTAR TAHMİNLERİ (Bu yıl istenmemektedir.)
B13: ='Serbest Tüketiciler'!B2 -> EK-8/C: 100.000 m3 ÜZERİ TÜKETEN SERBEST TÜKETİCİLERİN LİSTESİ
B14: EK-8/D: DAĞITIM ŞİRKETLERİNİN GÜNLÜK DOĞAL GAZ ÇEKİŞLERİ (Bu yıl istenmemektedir.)
B15: =Taşıma!B2 -> EK-9: TEDARİKÇİLERDEN DOĞAL GAZ ALAN SERBEST TÜKETİCİLERİN LİSTESİ
B16: EK-10/A: DOĞAL GAZ HİZMET MALİYETİ (Bu yıl istenmemektedir.)
B17: ='İşletme Giderleri'!B2 -> EK-10/B: İŞLETME GİDERLERİ
B18: ='İşletme Gideri Mizan Karşılığı'!B2 -> EK-10/C: İŞLETME GİDERLERİ - MİZAN KARŞILIĞI
B19: ='Bina Kira Giderleri'!B2 -> EK-10/D: GAYRİMENKUL KİRA GİDERLERİ
B20: ='Taşıt Kira Giderleri'!B2 -> EK-10/E: TAŞIT KİRA GİDERLERİ
B21: ='Yazılım Kira Giderleri'!B2 -> EK-10/F: YAZILIM KİRA GİDERLERİ
B22: ='Fatura Bilgileri'!B2 -> EK-10/G: FATURA BİLGİLERİ
B23: ='Periyodik Muayene Bilgileri'!B2 -> EK-10/H: PERİYODİK MUAYENE BİLGİLERİ
B24: EK-11: DOĞAL GAZ HİZMETİNDE KULLANILAN SABİT KIYMETLER (Bu yıl istenmemektedir.)
B25: EK-12: BİRİKMİŞ AMORTİSMAN VE TÜKENME PAYLARI (Bu yıl istenmemektedir.)
B26: =İstihdam!B2 -> EK-13: PERSONEL SAYISI VE PERSONEL GİDERLERİ
B27: EK-14/A: DAĞITIM ŞİRKETLERİNİN ÖNEMLİ BORÇLARI (Bu yıl istenmemektedir.)
B28: =Krediler!B2 -> EK-14/B: DAĞITIM ŞİRKETLERİNİN KREDİLERİ
B29: EK-14/C: DAĞITIM ŞİRKETLERİNİN KREDİ GERİ ÖDEME TABLOSU (Bu yıl istenmemektedir.)
B30: EK-15: DAĞITIM ŞİRKETLERİNİN ÖNEMLİ ALACAKLARI (Bu yıl istenmemektedir.)
B31: EK-16: DAĞITIM ŞİRKETLERİ TARİFE ÖNERİSİ (Şirket üst yazısında sunulacaktır.)
B32: EK-17: VERİMLİLİK (Bu yıl istenmemektedir.)
B33: EK-18: BAĞLANTI BEDELİ MALİYETİ (Bu yıl istenmemektedir.)
B34: ='Hizmet Kalitesi'!B2 -> EK-19: HİZMET KALİTESİ PERFORMANS GÖSTERGELERİ
B35: ='Tüketici Bilgileri'!B2 -> EK-20: TÜKETİCİ SAYISI DETAY TABLOSU
B36: ='Yatırımlar-Mevcut Bölge'!B2 -> EK-21/A1: YATIRIMLAR (MEVCUT BÖLGE)
B37: ='Yatırımlar-Genişleme1'!B2 -> EK-21/A2: YATIRIMLAR (İLGİLİ ŞEHİR(LER))
B38: ='Yatırımlar-Genişleme2'!B2 -> EK-21/A3: YATIRIMLAR (İLGİLİ ŞEHİR(LER))
B39: ='Münferit Hatlar'!B2 -> EK-21/A4: MÜNFERİT HATLAR
B40: ='Yatırımlar-Konsolide'!B2 -> EK-21/A5: YATIRIMLAR (KONSOLİDE)
B41: ='Yatırım Dağılımı'!B2 -> EK-21/B: YATIRIM DAĞILIMI
B42: ='Planlanan Yatırımlar'!B2 -> EK-21/C: PLANLANAN YATIRIMLAR
B43: ='İstasyon Bilgileri'!B2 -> EK-21/D: İSTASYON BİLGİLERİ
B44: ='Deplase Hatlar'!B2 -> EK-21/E: DEPLASE HATLAR
B45: =Hakedişler!B2 -> EK-22/A: HAKEDİŞLER
B46: ='Hakediş Metrajları'!B2 -> EK-22/B: HAKEDİŞ METRAJ DETAYI
B47: ='Sayaç Bilgileri'!B2 -> EK-22/C: SAYAÇ BİLGİLERİ
B48: EK-22/D: SAYAÇ HAREKETİ (Bu yıl istenmemektedir.)
B49: =ŞHDV!B2 -> EK-23: ŞEBEKE HARİCİ VARLIKLAR
B50: ='Faaliyet Gelirleri'!B2 -> EK-24/A: FAALİYET GELİRLERİ
B51: ='Faaliyet Geliri Mizan Karşılığı'!B2 -> EK-24/B: FAALİYET GELİRLERİ - MİZAN KARŞILIĞI
B52: ='Güvence Bedeli'!B2 -> EK-25: GÜVENCE BEDELİ AKIŞ TABLOSU
B53: ='Varlık Satışı'!B2 -> EK-26: VARLIK SATIŞI
B54: ='Tüketim Grubu Satış Tablosu_V1'!B2 -> EK-27/A: TÜKETİM GRUBU BAZINDA TÜKETİCİ SAYISI VE TÜKETİM MİKTARLARI (TAŞIMA DAHİL) (V1)
B55: ='Tüketim Grubu Satış Tablosu_V2'!B2 -> EK-27/B: TÜKETİM GRUBU BAZINDA TÜKETİCİ SAYISI VE TÜKETİM MİKTARLARI (TAŞIMA DAHİL) (V2)
B56: ='Müşteri Profili'!B2 -> EK-27/C: TÜKETİM KADEMELERİ BAZINDA MÜŞTERİ PROFİLİ

Sheet Profil ve Lisans Bilgileri
B2: EK-1: FİRMA PROFİLİ VE LİSANS BİLGİLERİ
C3: 1. Kişi | D3: 2. Kişi | E3: 3. Kişi | F3: 4. Kişi | G3: 5. Kişi
B4: Tabloları Düzenleyenler :
B5: Düzenleyenlerin Telefonu :
B6: Düzenleyenlerin Faksı :
B7: Düzenleyenlerin E-mail Adresi :
B9: 1. ŞİRKET KİMLİĞİ
B10: 1.1. Şirket Unvanı
B11: 1.2. Kuruluş Tarihi
B13: 2. LİSANS BİLGİLERİ
B14: 2.1. Lisans Tarihi ve Sayısı
B15: 2.2. Lisans Türü
B16: 2.3. Lisans Süresi
B17: 2.4. Tarifeye Esas Faaliyeti
B18: 2.5. Güncel Lisans Bölgesi (01.01.2017 itibariyle)
B19: 2.6. Lisans Bölgesi Genişledi mi? | C19: EVET | E19: EVET
B20: Eğer yukarıdaki soruya verilen cevap "EVET" ise 3 numaralı bölümü doldurmanız gerekmektedir. | E20: HAYIR
B22: 3. GENİŞLEME BİLGİLERİ
B23: Genişleme Kurul Karar Tarih ve Sayısı | C23: Lisans Kapsamına Alınan Şehir(ler) | D23: Tarife Revizyon Kurul Karar Tarih ve Sayısı
B24: … tarihli ve … sayılı | D24: … tarihli ve … sayılı
B25: … tarihli ve … sayılı | D25: … tarihli ve … sayılı
B26: … tarihli ve … sayılı | D26: … tarihli ve … sayılı
B27: … tarihli ve … sayılı | D27: … tarihli ve … sayılı
B28: … tarihli ve … sayılı | D28: … tarihli ve … sayılı
B29: … tarihli ve … sayılı | D29: … tarihli ve … sayılı
B30: … tarihli ve … sayılı | D30: … tarihli ve … sayılı
B31: … tarihli ve … sayılı | D31: … tarihli ve … sayılı
B32: … tarihli ve … sayılı | D32: … tarihli ve … sayılı
B33: … tarihli ve … sayılı | D33: … tarihli ve … sayılı
B34: … tarihli ve … sayılı | D34: … tarihli ve … sayılı
B35: … tarihli ve … sayılı | D35: … tarihli ve … sayılı
... B39: … tarihli ve … sayılı | D39: … tarihli ve … sayılı
B41: 4. İLETİŞİM BİLGİLERİ
B42: 4.1. Yazışma Adresi
B43: 4.2. Telefon Numarası
B44: 4.3. Faks Numarası
B45: 4.4. Şirket İnternet Adresi
B46: 4.5. Şirket E-posta adresi
B47: 4.6. Bağlantı kurulacak sorumlu yetkililer

Sheet Temel Veriler
B2: EK-2: TEMEL VERİLER
B4: 1. TEMEL BİLGİLER (2016 yılı sonu)
B5: 1.1. Nüfus (adet)
B6: 1.2. Şehir Sayısı (adet)
B7: 1.3. Toplam Bina Sayısı (adet
B8: 1.4. Toplam Daire Sayısı (adet)
B9: 1.5. Abone Merkezi Sayısı (adet)
B10: 1.6. Acil Müdahale Lokasyon Sayısı (adet)
B11: 1.7. Toplam Acil Müdahale Araç Sayısı (adet)
B13: 2. ŞEBEKE BİLGİLERİ | C13: Birim | D13: 2012 | E13: 2013 | F13: 2014 | G13: 2015 | H13: 2016
B14: 2.1. Faaliyette bulunulan alan | C14: km2
B15: 2.2. Toplam Boru Hattı Uzunluğu (kümülatif) | C15: metre | D15: =SUM(D16:D18) -> 0 | E15: =SUM(E16:E18) -> 0 | F15: =SUM(F16:F18) -> 0 | G15: =SUM(G16:G18) -> 0 | H15: =SUM(H16:H18) -> 0
B16: 2.2.1. Çelik hat uzunluğu (kümülatif) | C16: metre
B17: 2.2.2. PE hat uzunluğu (kümülatif) | C17: metre
B18: 2.2.3. Servis hattı uzunluğu (kümülatif) | C18: metre
B19: 2.3. Toplam Sayaç Sayısı (Kümülatif) | C19: adet
B20: 2.4. Penetrasyon oranı | C20: %
B21: 2.5. Pik Gün Verileri
B22: 2.5.1. Şebekenin Günlük Gaz Taşıma Kapasitesi | C22: Sm3/gün
B23: 2.5.2. Pik Gün | C23: gg/aa/yyyy
B24: 2.5.3. Şebekenin Pik Gününde Şebekeden Geçen Toplam Gaz Miktarı | C24: Sm3
B25: 2.5.4. Pik Günde Serbest Tüketicilerce Tüketilen Gaz Miktarı (Taşıma Hizmeti verilenler dahil) | C25: Sm3
B26: 2.5.5. Pik Günde Abonelerce Tüketilen Gaz Miktarı | C26: Sm3 | D26: =D24-D25 -> 0 | E26: =E24-E25 -> 0 | F26: =F24-F25 -> 0 | G26: =G24-G25 -> 0 | H26: =H24-H25 -> 0
B28: 3. ABONE BİLGİLERİ | C28: Birim | D28: 2012 | E28: 2013 | F28: 2014 | G28: 2015 | H28: 2016
B29: 3.1. Bağlantı Sözleşmesi Yapılan Tüketici Sayısı (Kümülatif) | C29: adet
B30: 3.2. Gaz Verilen Bina Sayısı (Aboneler için) (Kümülatif) | C30: adet
B32: 4. DOĞAL GAZ ALIŞ, SATIŞ VE TAŞIMA BİLGİLERİ | C32: Birim | D32: 2012 | E32: 2013 | F32: 2014 | G32: 2015 | H32: 2016
B33: 4.1. Satın Alınan Doğal Gaz Miktarı | C33: Sm3
B34: 4.2. Satılan Doğal Gaz Miktarı | C34: Sm3
B35: 4.3. Taşınan Gaz Miktarı | C35: Sm3

Sheet Yıllık Bilanço
B2: EK-3: YILLIK BİLANÇOLAR
B3: YILLIK BİLANÇO
G4: (TL)
B5: AKTİF
C6: 41274 | D6: 41639 | E6: 42004 | F6: 42369 | G6: 42735
B7: I-DÖNEN VARLIKLAR | C7: =+C8+C14+C20+C28+C37+C45+C48+C51 -> 0 | D7: =+D8+D14+D20+D28+D37+D45+D48+D51 -> 0 | E7: =+E8+E14+E20+E28+E37+E45+E48+E51 -> 0 | F7: =+F8+F14+F20+F28+F37+F45+F48+F51 -> 0 | G7: =+G8+G14+G20+G28+G37+G45+G48+G51 -> 0
B8: A - HAZIR DEĞERLER | C8: =C9+C10+C11-C12+C13 -> 0 | D8: =D9+D10+D11-D12+D13 -> 0 | E8: =E9+E10+E11-E12+E13 -> 0 | F8: =F9+F10+F11-F12+F13 -> 0 | G8: =G9+G10+G11-G12+G13 -> 0
B9: 1 - Kasa Hesabı
B10: 2 - Alınan Çekler Hesabı
B11: 3 - Bankalar Hesabı
B12: 4 - Verilen Çekler ve Ödeme Emirleri (-)
B13: 5 - Diğer Hazır Değerler
B14: B - MENKUL KIYMETLER | C14: =C15+C16+C17+C18-C19 -> 0 | D14: =D15+D16+D17+D18-D19 -> 0 | E14: =E15+E16+E17+E18-E19 -> 0 | F14: =F15+F16+F17+F18-F19 -> 0 | G14: =G15+G16+G17+G18-G19 -> 0
B15: 1 - Hisse Senetleri
B16: 2 - Özel Kesim Tahvil, Senet ve Bonoları
B17: 3 - Kamu Kesim Tahvil, Senet ve Bonoları
B18: 4 - Diğer Menkul Kıymetler
B19: 5 - Menkul Kıymetler Değer Düşüklüğü Karşılığı Hesabı (-)
B20: C - TİCARİ ALACAKLAR | C20: =+C21+C22-C23+C24+C25+C26-C27 -> 0 | D20: =+D21+D22-D23+D24+D25+D26-D27 -> 0 | E20: =+E21+E22-E23+E24+E25+E26-E27 -> 0 | F20: =+F21+F22-F23+F24+F25+F26-F27 -> 0 | G20: =+G21+G22-G23+G24+G25+G26-G27 -> 0
B21: 1 - Alıcılar
B22: 2 - Alacak Senetleri
B23: 3 - Alacak Senetleri Reeskontu (-)
B24: 4 - Verilen Depozito ve Teminatlar
B25: 5 - Diğer Ticari Alacaklar
B26: 6 - Şüpheli Ticari Alacaklar
B27: 7 - Şüpheli Ticari Alacaklar Karşılığı (-)
B28: D - DİĞER ALACAKLAR | C28: =C29+C30+C31+C32+C33-C34+C35-C36 -> 0 | D28: =D29+D30+D31+D32+D33-D34+D35-D36 -> 0 | E28: =E29+E30+E31+E32+E33-E34+E35-E36 -> 0 | F28: =F29+F30+F31+F32+F33-F34+F35-F36 -> 0 | G28: =G29+G30+G31+G32+G33-G34+G35-G36 -> 0
B29: 1 - Ortaklardan Alacaklar
B30: 2 - İştiraklerden Alacaklar
B31: 3 - Bağlı Ortaklıklardan Alacaklar
B32: 4 - Personelden Alacaklar
B33: 5 - Diğer Çeşitli Alacaklar
B34: 6 - Diğer Alacak Senetleri Reeskontu (-)
B35: 7 - Şüpheli Diğer Alacaklar
B36: 8 - Şüpheli Diğer Alacaklar Karşılığı (-)
B37: E - STOKLAR | C37: =+C38+C39+C40+C41+C42-C43+C44 -> 0 | D37: =+D38+D39+D40+D41+D42-D43+D44 -> 0 | E37: =+E38+E39+E40+E41+E42-E43+E44 -> 0 | F37: =+F38+F39+F40+F41+F42-F43+F44 -> 0 | G37: =+G38+G39+G40+G41+G42-G43+G44 -> 0
B38: 1 - İlk Madde ve Malzeme Giderleri
B39: 2 - Yarı Mamül Üretim Hesabı
B40: 3 - Mamüller Hesabı
B41: 4 - Ticari Mallar
B42: 5 - Diğer Stoklar Hesabı
B43: 6 - Stok Değer Düşüklüğü Karşılığı (-)
B44: 7 - Verilen Sipariş Avansları
B45: F - YILLARA YAYGIN İNŞAAT VE ONARIM MALİYETLERİ | C45: =SUM(C46:C47) -> 0 | D45: =SUM(D46:D47) -> 0 | E45: =SUM(E46:E47) -> 0 | F45: =SUM(F46:F47) -> 0 | G45: =SUM(G46:G47) -> 0
B46: 1 - Yıllara Yaygın İnşaat ve Onarım Maliyetleri
B47: 2 - Taşeronlara Verilen Avanslar Hesabı
B48: G - GELECEK AYLARA AİT GİDERLER VE GELİR TAHAKKUKLARI | C48: =SUM(C49:C50) -> 0 | D48: =SUM(D49:D50) -> 0 | E48: =SUM(E49:E50) -> 0 | F48: =SUM(F49:F50) -> 0 | G48: =SUM(G49:G50) -> 0
B49: 1 - Gelecek Aylara Ait Giderler
B50: 2 - Gelir Tahakkukları
B51: H - DİĞER DÖNEN VARLIKLAR | C51: =SUM(C52:C59)-C60 -> 0 | D51: =SUM(D52:D59)-D60 -> 0 | E51: =SUM(E52:E59)-E60 -> 0 | F51: =SUM(F52:F59)-F60 -> 0 | G51: =SUM(G52:G59)-G60 -> 0
B52: 1 - Devreden KDV
B53: 2 - İndirilecek KDV
B54: 3 - Diğer KDV
B55: 4 - Peşin Ödenen Vergiler ve Fonlar
B56: 5 - İş Avansları
B57: 6 - Personel Avansları
B58: 7 - Sayım ve Tesellüm Noksanları
B59: 8 - Diğer Çeşitli Dönen Varlıklar
B60: 9 - Diğer Dönen Varlıklar Karşılığı (-)
B61: AKTİF
C62: 41274 | D62: 41639 | E62: 42004 | F62: 42369 | G62: 42735
B63: II-DURAN VARLIKLAR | C63: =+C64+C70+C78+C89+C100+C109+C115+C118 -> 0 | D63: =+D64+D70+D78+D89+D100+D109+D115+D118 -> 0 | E63: =+E64+E70+E78+E89+E100+E109+E115+E118 -> 0 | F63: =+F64+F70+F78+F89+F100+F109+F115+F118 -> 0 | G63: =+G64+G70+G78+G89+G100+G109+G115+G118 -> 0
B64: A - TİCARİ ALACAKLAR | C64: =C65+C66-C67+C68-C69 -> 0 | D64: =D65+D66-D67+D68-D69 -> 0 | E64: =E65+E66-E67+E68-E69 -> 0 | F64: =F65+F66-F67+F68-F69 -> 0 | G64: =G65+G66-G67+G68-G69 -> 0
B65: 1 - Alıcılar
B66: 2 - Alacak Senetleri
B67: 3 - Alacak Senetleri Reeskontu Hesabı (-)
B68: 4 - Verilen Depozito ve Teminatlar
B69: 5 - Şüpheli Alacaklar Karşılığı (-)
B70: B - DİĞER ALACAKLAR | C70: =SUM(C71:C75)-C76-C77 -> 0 | D70: =SUM(D71:D75)-D76-D77 -> 0 | E70: =SUM(E71:E75)-E76-E77 -> 0 | F70: =SUM(F71:F75)-F76-F77 -> 0 | G70: =SUM(G71:G75)-G76-G77 -> 0
B71: 1 - Ortaklardan Alacaklar
B72: 2 - İştiraklerden Alacaklar
B73: 3 - Bağlı Ortaklıklardan Alacaklar
B74: 4 - Personelden Alacaklar
B75: 5 - Diğer Çeşitli Alacaklar
B76: 6 - Diğer Alacak Senetleri Reeskontu (-)
B77: 7 - Şüpheli Diğer Alacaklar Karşılığı (-)
B78: C - MALİ DURAN VARLIKLAR | C78: =+C79-C80+C81-C82-C83+C84-C85-C86+C87-C88 -> 0 | D78: =+D79-D80+D81-D82-D83+D84-D85-D86+D87-D88 -> 0 | E78: =+E79-E80+E81-E82-E83+E84-E85-E86+E87-E88 -> 0 | F78: =+F79-F80+F81-F82-F83+F84-F85-F86+F87-F88 -> 0 | G78: =+G79-G80+G81-G82-G83+G84-G85-G86+G87-G88 -> 0
B79: 1 - Bağlı Menkul Kıymetler
B80: 2 - Bağlı Menkul Kıymetler Değer Düşüklüğü Karşılığı (-)
B81: 3 - İştirakler
B82: 4 - İştiraklere Sermaye Taahhütleri (-)
B83: 5 - İştirakler Sermaye Payları Değer Düşüklüğü Karşılığı (-)
B84: 6 - Bağlı Ortaklıklar
B85: 7 - Bağlı Ortaklıklara Sermaye Taahhütleri (-)
B86: 8 - Bağlı Ortaklıklar Sermaye Payları Değer Düşüklüğü Karşılığı (-)
B87: 9 - Diğer Mali Duran Varlıklar
B88: 10 - Diğer Mali Duran Varlıklar Karşılığı (-)
B89: D - MADDİ DURAN VARLIKLAR | C89: =SUM(C90:C96)-C97+C98+C99 -> 0 | D89: =SUM(D90:D96)-D97+D98+D99 -> 0 | E89: =SUM(E90:E96)-E97+E98+E99 -> 0 | F89: =SUM(F90:F96)-F97+F98+F99 -> 0 | G89: =SUM(G90:G96)-G97+G98+G99 -> 0
B90: 1 - Arazi ve Arsalar
B91: 2 - Yeraltı ve Yerüstü Düzenleri
B92: 3 - Binalar
B93: 4 - Tesis, Makine ve Cihazlar
B94: 5 - Taşıtlar
B95: 6 - Demirbaşlar
B96: 7 - Diğer Maddi Duran Varlıklar
B97: 8 - Birikmiş Amortismanlar (-)
B98: 9 - Yapılmakta Olan Yatırımlar
B99: 10 - Verilen Avanslar
B100: E - MADDİ OLMAYAN DURAN VARLIKLAR | C100: =SUM(C101:C106)-C107+C108 -> 0 | D100: =SUM(D101:D106)-D107+D108 -> 0 | E100: =SUM(E101:E106)-E107+E108 -> 0 | F100: =SUM(F101:F106)-F107+F108 -> 0 | G100: =SUM(G101:G106)-G107+G108 -> 0
B101: 1 - Haklar
...

Sheet Yıllık Gelir Tablosu
B2: EK-4: YILLIK GELİR TABLOLARI
B3: YILLIK GELİR TABLOSU
G4: (TL)
C5: 41274 | D5: 41639 | E5: 42004 | F5: 42369 | G5: 42735
B6: A - Brüt Satışlar | C6: =SUM(C7:C9) -> 0 | D6: =SUM(D7:D9) -> 0 | E6: =SUM(E7:E9) -> 0 | F6: =SUM(F7:F9) -> 0 | G6: =SUM(G7:G9) -> 0
B7: 1 - Yurtiçi Satışlar
B8: 2 - Yurtdışı Satışlar
B9: 3 - Diğer Gelirler
B11: B - Satış İndirimleri (-) | C11: =SUM(C12:C14) -> 0 | D11: =SUM(D12:D14) -> 0 | E11: =SUM(E12:E14) -> 0 | F11: =SUM(F12:F14) -> 0 | G11: =SUM(G12:G14) -> 0
B12: 1 - Satıştan İadeler (-)
B13: 2 - Satış İskontoları (-)
B14: 3 - Diğer İndirimler (-)
B16: C - NET SATIŞLAR | C16: =+C6-C11 -> 0 | D16: =+D6-D11 -> 0 | E16: =+E6-E11 -> 0 | F16: =+F6-F11 -> 0 | G16: =+G6-G11 -> 0
B18: D - Satışların Maliyeti (-) | C18: =SUM(C19:C22) -> 0 | D18: =SUM(D19:D22) -> 0 | E18: =SUM(E19:E22) -> 0 | F18: =SUM(F19:F22) -> 0 | G18: =SUM(G19:G22) -> 0
B19: 1 - Satılan Mamüller Maliyeti (-)
B20: 2 - Satılan Ticari Mallar Maliyeti (-)
B21: 3 - Satılan Hizmet Maliyeti (-)
B22: 4 - Diğer Satışların Maliyeti (-)
B24: BRÜT SATIŞ KARI VEYA ZARARI | C24: =+C16-C18 -> 0 | D24: =+D16-D18 -> 0 | E24: =+E16-E18 -> 0 | F24: =+F16-F18 -> 0 | G24: =+G16-G18 -> 0
B26: E - Faaliyet Giderleri (-) | C26: =SUM(C27:C29) -> 0 | D26: =SUM(D27:D29) -> 0 | E26: =SUM(E27:E29) -> 0 | F26: =SUM(F27:F29) -> 0 | G26: =SUM(G27:G29) -> 0
B27: 1 - Araştırma ve Geliştirme Giderleri (-)
B28: 2 - Pazarlama, Satış ve Dağıtım Giderleri (-)
B29: 3 - Genel Yönetim Giderleri (-)
B31: FAALİYET KARI VEYA ZARARI | C31: =+C24-C26 -> 0 | D31: =+D24-D26 -> 0 | E31: =+E24-E26 -> 0 | F31: =+F24-F26 -> 0 | G31: =+G24-G26 -> 0
B33: F - Diğer Faaliyetlerden Olağan Gelir ve Karlar | C33: =SUM(C34:C42) -> 0 | D33: =SUM(D34:D42) -> 0 | E33: =SUM(E34:E42) -> 0 | F33: =SUM(F34:F42) -> 0 | G33: =SUM(G34:G42) -> 0
B34: 1 - İştiraklerden Temettü Gelirleri
B35: 2 - Bağlı Ortaklıklardan Temettü Gelirleri
B36: 3 - Faiz Gelirleri
B37: 4 - Komisyon Gelirleri
B38: 5 - Konusu Kalmayan Karşılıklar
B39: 6 - Menkul Kıymet Satış Karları
B40: 7 - Kambiyo Karları
B41: 8 - Reeskont Faiz Gelirleri
B42: 9 - Diğer Olağan Gelir ve Karlar
B44: G - Diğer Faaliyetlerden Olağan Gider ve Zararlar (-) | C44: =SUM(C45:C50) -> 0 | D44: =SUM(D45:D50) -> 0 | E44: =SUM(E45:E50) -> 0 | F44: =SUM(F45:F50) -> 0 | G44: =SUM(G45:G50) -> 0
B45: 1 - Komisyon Giderleri (-)
B46: 2 - Karşılık Giderleri (-)
B47: 3 - Menkul Kıymet Satış Zararları (-)
B48: 4 - Kambiyo Zararları (-)
B49: 5 - Reeskont Faiz Giderleri (-)
B50: 6 - Diğer Gider ve Zararlar (-)
B52: H - Finansman Giderleri (-) | C52: =SUM(C53:C54) -> 0 | D52: =SUM(D53:D54) -> 0 | E52: =SUM(E53:E54) -> 0 | F52: =SUM(F53:F54) -> 0 | G52: =SUM(G53:G54) -> 0
B53: 1 - Kısa Vadeli Borçlanma Giderleri (-)
B54: 2 - Uzun Vadeli Borçlanma Giderleri (-)
B56: OLAĞAN KAR VEYA ZARAR | C56: =+C31+C33-C44-C52 -> 0 | D56: =+D31+D33-D44-D52 -> 0 | E56: =+E31+E33-E44-E52 -> 0 | F56: =+F31+F33-F44-F52 -> 0 | G56: =+G31+G33-G44-G52 -> 0
B58: I - Olağandışı Gelir ve Karlar | C58: =SUM(C59:C60) -> 0 | D58: =SUM(D59:D60) -> 0 | E58: =SUM(E59:E60) -> 0 | F58: =SUM(F59:F60) -> 0 | G58: =SUM(G59:G60) -> 0
B59: 1 - Önceki Dönem Gelir ve Karları
B60: 2 - Diğer Olağandışı Gelir ve Karlar
B62: J - Olağandışı Gider ve Zararlar (-) | C62: =SUM(C63:C65) -> 0 | D62: =SUM(D63:D65) -> 0 | E62: =SUM(E63:E65) -> 0 | F62: =SUM(F63:F65) -> 0 | G62: =SUM(G63:G65) -> 0
B63: 1 - Çalışmayan Kısım Gider ve Zararları (-)
B64: 2 - Önceki Dönem Gider ve Zararları (-)
B65: 3 - Diğer Olağandışı Gider ve Zararlar (-)
B67: DÖNEM KARI VEYA ZARARI | C67: =+C56+C58-C62 -> 0 | D67: =+D56+D58-D62 -> 0 | E67: =+E56+E58-E62 -> 0 | F67: =+F56+F58-F62 -> 0 | G67: =+G56+G58-G62 -> 0
B69: K - Dönem Karı Vergi ve Diğer Yasal Yükümlülükler Karşılıkları (-)
B71: DÖNEM NET KARI VEYA ZARARI | C71: =+C67-C69 -> 0 | D71: =+D67-D69 -> 0 | E71: =+E67-E69 -> 0 | F71: =+F67-F69 -> 0 | G71: =+G67-G69 -> 0

Sheet Yıllık Nakit Akım
B2: EK-5: YILLIK NAKİT AKIM TABLOLARI
B3: YILLIK NAKİT AKIM TABLOSU
G4: (TL)
C5: 41274 | D5: 41639 | E5: 42004 | F5: 42369 | G5: 42735
B6: A - DÖNEM BAŞI NAKİT MEVCUDU
B8: B - DÖNEM İÇİ NAKİT GİRİŞLERİ | C8: =C9+C13+C14+C15+C19+C23+C24+C25 -> 0 | D8: =D9+D13+D14+D15+D19+D23+D24+D25 -> 0 | E8: =E9+E13+E14+E15+E19+E23+E24+E25 -> 0 | F8: =F9+F13+F14+F15+F19+F23+F24+F25 -> 0 | G8: =G9+G13+G14+G15+G19+G23+G24+G25 -> 0
B9: 1 - Satışlardan Elde Edilen Nakit | C9: =C10+C11-C12 -> 0 | D9: =D10+D11-D12 -> 0 | E9: =E10+E11-E12 -> 0 | F9: =F10+F11-F12 -> 0 | G9: =G10+G11-G12 -> 0
B10: a) Net Satışlar
B11: b) Ticari Alacaklardaki Azalışlar
B12: c) Ticari Alacaklardaki Artışlar (-)
B13: 2 - Diğer Faaliyetlerden Olağan Gelir ve Karlardan Dolayı Sağlanan Nakit
B14: 3 - Olağandışı Gelir ve Karlardan Sağlanan Nakit
B15: 4 - Kısa Vadeli Yabancı Kaynaklardaki Artışlardan Sağlanan Nakit (Alımlarla İlgili Olmayan) | C15: =C16+C17+C18 -> 0 | D15: =D16+D17+D18 -> 0 | E15: =E16+E17+E18 -> 0 | F15: =F16+F17+F18 -> 0 | G15: =G16+G17+G18 -> 0
B16: a) Menkul Kıymet İhraçlarından
B17: b) Alınan Krediler
B18: c) Diğer Artışlar
B19: 5 - Uzun Vadeli Yabancı Kaynaklardaki Artışlardan Sağlanan Nakit (Alımlarla İlgili Olmayan) | C19: =C20+C21+C22 -> 0 | D19: =D20+D21+D22 -> 0 | E19: =E20+E21+E22 -> 0 | F19: =F20+F21+F22 -> 0 | G19: =G20+G21+G22 -> 0
B20: a) Menkul Kıymet İhraçlarından
B21: b) Alınan Krediler
B22: c) Diğer Artışlar
B23: 6 - Sermaye Artışlarından Sağlanan Nakit
B24: 7 - Hisse Senedi İhraç Primlerinden Sağlanan Nakit
B25: 8 - Diğer Nakit Girişleri
B27: C - DÖNEM İÇİ NAKİT ÇIKIŞLAR | C27: =C28+C35+C40+C43+C44+C47+C48+C52+C56+C57+C58 -> 0 | D27: =D28+D35+D40+D43+D44+D47+D48+D52+D56+D57+D58 -> 0 | E27: =E28+E35+E40+E43+E44+E47+E48+E52+E56+E57+E58 -> 0 | F27: =F28+F35+F40+F43+F44+F47+F48+F52+F56+F57+F58 -> 0 | G27: =G28+G35+G40+G43+G44+G47+G48+G52+G56+G57+G58 -> 0
B28: 1 - Maliyetlerden Kaynaklanan Nakit Çıkışlar | C28: =C29+C30+C31-C32-C33-C34 -> 0 | D28: =D29+D30+D31-D32-D33-D34 -> 0 | E28: =E29+E30+E31-E32-E33-E34 -> 0 | F28: =F29+F30+F31-F32-F33-F34 -> 0 | G28: =G29+G30+G31-G32-G33-G34 -> 0
B29: a) Satışların Maliyeti
B30: b) Stoklardaki Artışlar
B31: c) Ticari Borçlardaki (Alımlardan Kaynaklanan) Azalışlar
B32: d) Ticari Borçlardaki (Alımlardan Kaynaklanan) Artışlar (-)
B33: e) Amortisman ve Nakit Çıkışı Gerektirmeyen Diğer Giderler (-)
B34: f) Stoklardaki Azalışlar (-)
B35: 2 - Faaliyet Giderlerine İlişkin Nakit Çıkışları | C35: =C36+C37+C38-C39 -> 0 | D35: =D36+D37+D38-D39 -> 0 | E35: =E36+E37+E38-E39 -> 0 | F35: =F36+F37+F38-F39 -> 0 | G35: =G36+G37+G38-G39 -> 0
B36: a) Araştırma ve Geliştirme Giderleri
B37: b) Pazarlama, Satış ve Dağıtım Giderleri
B38: c) Genel Yönetim Giderleri
B39: d) Amortisman ve Nakit Çıkışı Gerektirmeyen Diğer Giderler (-)
B40: 3 - Diğer Faaliyetlerden Olağan Gider ve Zararlara İlişkin Nakit Çıkışları | C40: =C41-C42 -> 0 | D40: =D41-D42 -> 0 | E40: =E41-E42 -> 0 | F40: =F41-F42 -> 0 | G40: =G41-G42 -> 0
B41: a) Diğer Faaliyetlerle İlgili Olağan Gider ve Zararlar
B42: b) Amortisman ve Nakit Çıkışı Gerektirmeyen Diğer Gider ve Zararlar (-)
B43: 4 - Finansman Giderlerinden Dolayı Nakit Çıkışları
B44: 5 - Olağandışı Gider ve Zararlardan Dolayı Nakit Çıkışları | C44: =C45-C46 -> 0 | D44: =D45-D46 -> 0 | E44: =E45-E46 -> 0 | F44: =F45-F46 -> 0 | G44: =G45-G46 -> 0
B45: a) Olağandışı Gider ve Zararlar
B46: b) Amortisman ve Nakit Çıkışı Gerektirmeyen Diğer Gider ve Zararlar (-)
B47: 6 - Duran Varlık Yatırımlarına İlişkin Nakit Çıkışları
B48: 7 - Kısa Vadeli Yabancı Kaynak Ödemeleri (Alımlarla İlgili Olmayan) | C48: =C49+C50+C51 -> 0 | D48: =D49+D50+D51 -> 0 | E48: =E49+E50+E51 -> 0 | F48: =F49+F50+F51 -> 0 | G48: =G49+G50+G51 -> 0
B49: a) Menkul Kıymetler Anapara Ödemeleri
B50: b) Alınan Krediler Anapara Ödemeleri
B51: c) Diğer Ödemeler
B52: 8 - Uzun Vadeli Yabancı Kaynak Ödemeleri (Alımlarla İlgili Olmayan) | C52: =C53+C54+C55 -> 0 | D52: =D53+D54+D55 -> 0 | E52: =E53+E54+E55 -> 0 | F52: =F53+F54+F55 -> 0 | G52: =G53+G54+G55 -> 0
B53: a) Menkul Kıymetler Anapara Ödemeleri
B54: b) Alınan Krediler Anapara Ödemeleri
B55: c) Diğer Ödemeler
B56: 9 - Ödenen Vergi ve Benzerleri
B57: 10 - Ödenen Temettüler
B58: 11 - Diğer Nakit Çıkışları
B60: D - DÖNEM SONU NAKİT MEVCUDU (A + B - C) | C60: =C6+C8-C27 -> 0 | D60: =D6+D8-D27 -> 0 | E60: =E6+E8-E27 -> 0 | F60: =F6+F8-F27 -> 0 | G60: =G6+G8-G27 -> 0
B62: E - NAKİT ARTIŞ VEYA AZALIŞ (B - C) | C62: =C8-C27 -> 0 | D62: =D8-D27 -> 0 | E62: =E8-E27 -> 0 | F62: =F8-F27 -> 0 | G62: =G8-G27 -> 0

Sheet Mizanlar
B2: EK-6: MİZANLAR
B4: AÇIKLAMALAR:
B5: 1- Şirket mizanları detay kalemlerinin anlaşılacak şekilde tam adlarıyla ve bu kalemlere ilişkin açıklamaların aydınlatıcı şekilde verilmesi gerekmektedir.
B6: 2- Şirket mizanlarının excel tablosu şeklinde eklenmesi, fotoğraf veya pdf şeklinde eklenmemesi gerekmektedir.
B9: 2012-2016 YILLARI İÇİN DETAY MİZANLAR BU TABLODA ELEKTRONİK ORTAMDA,
B10: AYRICA ONAYLI BASILI ÇIKTI OLARAK YAZI EKİNDE SUNULACAKTIR.

Sheet Alımlar
B2: EK-7: DAĞITIM ŞİRKETLERİ DOĞAL GAZ ALIM FİYAT, MİKTAR VE BEDELLERİ
B4: DAĞITIM ŞİRKETLERİNİN 2012 YILI DOĞAL GAZ ALIM FİYAT, MİKTAR VE BEDELLERİ
C5: Ocak | D5: Şubat | E5: Mart | F5: Nisan | G5: Mayıs | H5: Haziran | I5: Temmuz | J5: Ağustos | K5: Eylül | L5: Ekim | M5: Kasım | N5: Aralık | O5: Yıllık
B6: TEDARİKÇİ UNVANI
B7: Abone
B8: ÖTV Dahil KDV Hariç Fiyat (TL/sm3) | O8: =IF(O9=0,0,+O10/O9) -> 0
B9: Miktar (sm3) | O9: =SUM(C9:N9) -> 0
B10: Alım Bedeli (TL) | C10: =C8*C9 -> 0 | D10: =D8*D9 -> 0 | E10: =E8*E9 -> 0 | F10: =F8*F9 -> 0 | G10: =G8*G9 -> 0 | H10: =H8*H9 -> 0 | I10: =I8*I9 -> 0 | J10: =J8*J9 -> 0 | ... N10: =N8*N9 -> 0 | O10: =SUM(C10:N10) -> 0
B11: Serbest Tüketiciler
B12: ÖTV Dahil KDV Hariç Fiyat (TL/sm3) | O12: =IF(O13=0,0,+O14/O13) -> 0
B13: Miktar (sm3) | O13: =SUM(C13:N13) -> 0
B14: Alım Bedeli (TL) | C14: =C12*C13 -> 0 | D14: =D12*D13 -> 0 | E14: =E12*E13 -> 0 | F14: =F12*F13 -> 0 | G14: =G12*G13 -> 0 | H14: =H12*H13 -> 0 | I14: =I12*I13 -> 0 | J14: =J12*J13 -> 0 | ... N14: =N12*N13 -> 0 | O14: =SUM(C14:N14) -> 0
B15: OSB
B16: ÖTV Dahil KDV Hariç Fiyat (TL/sm3) | O16: =IF(O17=0,0,+O18/O17) -> 0
B17: Miktar (sm3) | O17: =SUM(C17:N17) -> 0
B18: Alım Bedeli (TL) | C18: =C16*C17 -> 0 | D18: =D16*D17 -> 0 | E18: =E16*E17 -> 0 | F18: =F16*F17 -> 0 | G18: =G16*G17 -> 0 | H18: =H16*H17 -> 0 | I18: =I16*I17 -> 0 | J18: =J16*J17 -> 0 | ... N18: =N16*N17 -> 0 | O18: =SUM(C18:N18) -> 0
B20: TEDARİKÇİ UNVANI
B21: Abone
B22: ÖTV Dahil KDV Hariç Fiyat (TL/sm3) | O22: =IF(O23=0,0,+O24/O23) -> 0
B23: Miktar (sm3) | O23: =SUM(C23:N23) -> 0
B24: Alım Bedeli (TL) | C24: =C22*C23 -> 0 | D24: =D22*D23 -> 0 | E24: =E22*E23 -> 0 | F24: =F22*F23 -> 0 | G24: =G22*G23 -> 0 | H24: =H22*H23 -> 0 | I24: =I22*I23 -> 0 | J24: =J22*J23 -> 0 | ... N24: =N22*N23 -> 0 | O24: =SUM(C24:N24) -> 0
B25: Serbest Tüketiciler
B26: ÖTV Dahil KDV Hariç Fiyat (TL/sm3) | O26: =IF(O27=0,0,+O28/O27) -> 0
B27: Miktar (sm3) | O27: =SUM(C27:N27) -> 0
B28: Alım Bedeli (TL) | C28: =C26*C27 -> 0 | D28: =D26*D27 -> 0 | E28: =E26*E27 -> 0 | F28: =F26*F27 -> 0 | G28: =G26*G27 -> 0 | H28: =H26*H27 -> 0 | I28: =I26*I27 -> 0 | J28: =J26*J27 -> 0 | ... N28: =N26*N27 -> 0 | O28: =SUM(C28:N28) -> 0
B29: OSB
B30: ÖTV Dahil KDV Hariç Fiyat (TL/sm3) | O30: =IF(O31=0,0,+O32/O31) -> 0
B31: Miktar (sm3) | O31: =SUM(C31:N31) -> 0
B32: Alım Bedeli (TL) | C32: =C30*C31 -> 0 | D32: =D30*D31 -> 0 | E32: =E30*E31 -> 0 | F32: =F30*F31 -> 0 | G32: =G30*G31 -> 0 | H32: =H30*H31 -> 0 | I32: =I30*I31 -> 0 | J32: =J30*J31 -> 0 | ... N32: =N30*N31 -> 0 | O32: =SUM(C32:N32) -> 0
B33: ……….
B35: TOPLAM ABONE DOĞAL GAZ MİKTARI (sm3)
B36: ORTALAMA ABONE FİYATI (TL/sm3) (KDV Hariç)
B37: TOPLAM ST DOĞAL GAZ MİKTARI (sm3)
B38: ORTALAMA ST FİYATI (TL/sm3) (KDV Hariç)
B39: TOPLAM OSB DOĞAL GAZ MİKTARI (sm3)
B40: ORTALAMA OSB FİYATI (TL/sm3) (KDV Hariç)
B41: GENEL TOPLAM (sm3)
B43: DAĞITIM ŞİRKETLERİNİN 2013 YILI DOĞAL GAZ ALIM FİYAT, MİKTAR VE BEDELLERİ
C44: Ocak | D44: Şubat | E44: Mart | F44: Nisan | G44: Mayıs | H44: Haziran | I44: Temmuz | J44: Ağustos | K44: Eylül | L44: Ekim | M44: Kasım | N44: Aralık | O44: Yıllık
B45: TEDARİKÇİ UNVANI
B46: Abone
B47: ÖTV Dahil KDV Hariç Fiyat (TL/sm3) | O47: =IF(O48=0,0,+O49/O48) -> 0
B48: Miktar (sm3) | O48: =SUM(C48:N48) -> 0
B49: Alım Bedeli (TL) | C49: =C47*C48 -> 0 | D49: =D47*D48 -> 0 | E49: =E47*E48 -> 0 | F49: =F47*F48 -> 0 | G49: =G47*G48 -> 0 | H49: =H47*H48 -> 0 | I49: =I47*I48 -> 0 | J49: =J47*J48 -> 0 | ... N49: =N47*N48 -> 0 | O49: =SUM(C49:N49) -> 0
B50: 300.000 m3 altı tüketen Serbest Tüketiciler
B51: ÖTV Dahil KDV Hariç Fiyat (TL/sm3) | O51: =IF(O52=0,0,+O53/O52) -> 0
B52: Miktar (sm3) | O52: =SUM(C52:N52) -> 0
B53: Alım Bedeli (TL) | C53: =C51*C52 -> 0 | D53: =D51*D52 -> 0 | E53: =E51*E52 -> 0 | F53: =F51*F52 -> 0 | G53: =G51*G52 -> 0 | H53: =H51*H52 -> 0 | I53: =I51*I52 -> 0 | J53: =J51*J52 -> 0 | ... N53: =N51*N52 -> 0 | O53: =SUM(C53:N53) -> 0
B54: 300.000 m3 üzeri tüketen Serbest Tüketiciler
B55: ÖTV Dahil KDV Hariç Fiyat (TL/sm3) | O55: =IF(O56=0,0,+O57/O56) -> 0
B56: Miktar (sm3) | O56: =SUM(C56:N56) -> 0
B57: Alım Bedeli (TL) | C57: =C55*C56 -> 0 | D57: =D55*D56 -> 0 | E57: =E55*E56 -> 0 | F57: =F55*F56 -> 0 | G57: =G55*G56 -> 0 | H57: =H55*H56 -> 0 | I57: =I55*I56 -> 0 | J57: =J55*J56 -> 0 | ... N57: =N55*N56 -> 0 | O57: =SUM(C57:N57) -> 0
B58: OSB
B59: ÖTV Dahil KDV Hariç Fiyat (TL/sm3) | O59: =IF(O60=0,0,+O61/O60) -> 0
B60: Miktar (sm3) | O60: =SUM(C60:N60) -> 0
B61: Alım Bedeli (TL) | C61: =C59*C60 -> 0 | D61: =D59*D60 -> 0 | E61: =E59*E60 -> 0 | F61: =F59*F60 -> 0 | G61: =G59*G60 -> 0 | H61: =H59*H60 -> 0 | I61: =I59*I60 -> 0 | J61: =J59*J60 -> 0 | ... N61: =N59*N60 -> 0 | O61: =SUM(C61:N61) -> 0
B63: TEDARİKÇİ UNVANI
B64: Abone
B65: ÖTV Dahil KDV Hariç Fiyat (TL/sm3) | O65: =IF(O66=0,0,+O67/O66) -> 0
B66: Miktar (sm3) | O66: =SUM(C66:N66) -> 0
B67: Alım Bedeli (TL) | C67: =C65*C66 -> 0 | D67: =D65*D66 -> 0 | E67: =E65*E66 -> 0 | F67: =F65*F66 -> 0 | G67: =G65*G66 -> 0 | H67: =H65*H66 -> 0 | I67: =I65*I66 -> 0 | J67: =J65*J66 -> 0 | ... N67: =N65*N66 -> 0 | O67: =SUM(C67:N67) -> 0
B68: 300.000 m3 altı tüketen Serbest Tüketiciler
B69: ÖTV Dahil KDV Hariç Fiyat (TL/sm3) | O69: =IF(O70=0,0,+O71/O70) -> 0
B70: Miktar (sm3) | O70: =SUM(C70:N70) -> 0
B71: Alım Bedeli (TL) | C71: =C69*C70 -> 0 | D71: =D69*D70 -> 0 | E71: =E69*E70 -> 0 | F71: =F69*F70 -> 0 | G71: =G69*G70 -> 0 | H71: =H69*H70 -> 0 | I71: =I69*I70 -> 0 | J71: =J69*J70 -> 0 | ... N71: =N69*N70 -> 0 | O71: =SUM(C71:N71) -> 0
B72: 300.000 m3 üzeri tüketen Serbest Tüketiciler
B73: ÖTV Dahil KDV Hariç Fiyat (TL/sm3) | O73: =IF(O74=0,0,+O75/O74) -> 0
B74: Miktar (sm3) | O74: =SUM(C74:N74) -> 0
B75: Alım Bedeli (TL) | C75: =C73*C74 -> 0 | D75: =D73*D74 -> 0 | E75: =E73*E74 -> 0 | F75: =F73*F74 -> 0 | G75: =G73*G74 -> 0 | H75: =H73*H74 -> 0 | I75: =I73*I74 -> 0 | J75: =J73*J74 -> 0 | ... N75: =N73*N74 -> 0 | O75: =SUM(C75:N75) -> 0
B76: OSB
B77: ÖTV Dahil KDV Hariç Fiyat (TL/sm3) | O77: =IF(O78=0,0,+O79/O78) -> 0
B78: Miktar (sm3) | O78: =SUM(C78:N78) -> 0
B79: Alım Bedeli (TL) | C79: =C77*C78 -> 0 | D79: =D77*D78 -> 0 | E79: =E77*E78 -> 0 | F79: =F77*F78 -> 0 | G79: =G77*G78 -> 0 | H79: =H77*H78 -> 0 | I79: =I77*I78 -> 0 | J79: =J77*J78 -> 0 | ... N79: =N77*N78 -> 0 | O79: =SUM(C79:N79) -> 0
B80: ……….
B82: TOPLAM ABONE DOĞAL GAZ MİKTARI (sm3)
B83: ORTALAMA ABONE FİYATI (TL/sm3) (KDV Hariç)
B84: TOPLAM ST DOĞAL GAZ MİKTARI (sm3)
B85: ORTALAMA ST FİYATI (TL/sm3) (KDV Hariç)
B86: TOPLAM OSB DOĞAL GAZ MİKTARI (sm3)
B87: ORTALAMA OSB FİYATI (TL/sm3) (KDV Hariç)
B88: GENEL TOPLAM (sm3)
B90: DAĞITIM ŞİRKETLERİNİN 2014 YILI DOĞAL GAZ ALIM FİYAT, MİKTAR VE BEDELLERİ
C91: Ocak | D91: Şubat | E91: Mart | F91: Nisan | G91: Mayıs | H91: Haziran | I91: Temmuz | J91: Ağustos | K91: Eylül | L91: Ekim | M91: Kasım | N91: Aralık | O91: Yıllık
B92: TEDARİKÇİ UNVANI
B93: Abone
B94: ÖTV Dahil KDV Hariç Fiyat (TL/sm3) | O94: =IF(O95=0,0,+O96/O95) -> 0
B95: Miktar (sm3) | O95: =SUM(C95:N95) -> 0
B96: Alım Bedeli (TL) | C96: =C94*C95 -> 0 | D96: =D94*D95 -> 0 | E96: =E94*E95 -> 0 | F96: =F94*F95 -> 0 | G96: =G94*G95 -> 0 | H96: =H94*H95 -> 0 | I96: =I94*I95 -> 0 | J96: =J94*J95 -> 0 | ... N96: =N94*N95 -> 0 | O96: =SUM(C96:N96) -> 0
B97: 300.000 m3 altı tüketen Serbest Tüketiciler
B98: ÖTV Dahil KDV Hariç Fiyat (TL/sm3) | O98: =IF(O99=0,0,+O100/O99) -> 0
B99: Miktar (sm3) | O99: =SUM(C99:N99) -> 0
B100: Alım Bedeli (TL) | C100: =C98*C99 -> 0 | D100: =D98*D99 -> 0 | E100: =E98*E99 -> 0 | F100: =F98*F99 -> 0 | G100: =G98*G99 -> 0 | H100: =H98*H99 -> 0 | I100: =I98*I99 -> 0 | J100: =J98*J99 -> 0 | ... N100: =N98*N99 -> 0 | O100: =SUM(C100:N100) -> 0
B101: 300.000 m3 üzeri tüketen Serbest Tüketiciler
B102: ÖTV Dahil KDV Hariç Fiyat (TL/sm3) | O102: =IF(O103=0,0,+O104/O103) -> 0
B103: Miktar (sm3) | O103: =SUM(C103:N103) -> 0
B104: Alım Bedeli (TL) | C104: =C102*C103 -> 0 | D104: =D102*D103 -> 0 | E104: =E102*E103 -> 0 | F104: =F102*F103 -> 0 | G104: =G102*G103 -> 0 | H104: =H102*H103 -> 0 | I104: =I102*I103 -> 0 | J104: =J102*J103 -> 0 | ... N104: =N102*N103 -> 0 | O104: =SUM(C104:N104) -> 0
B105: OSB
B106: ÖTV Dahil KDV Hariç Fiyat (TL/sm3) | O106: =IF(O107=0,0,+O108/O107) -> 0
B107: Miktar (sm3) | O107: =SUM(C107:N107) -> 0
B108: Alım Bedeli (TL) | C108: =C106*C107 -> 0 | D108: =D106*D107 -> 0 | E108: =E106*E107 -> 0 | F108: =F106*F107 -> 0 | G108: =G106*G107 -> 0 | H108: =H106*H107 -> 0 | I108: =I106*I107 -> 0 | J108: =J106*J107 -> 0 | ... N108: =N106*N107 -> 0 | O108: =SUM(C108:N108) -> 0
...

Sheet Satışlar 
B2: EK-8/A: DAĞITIM ŞİRKETLERİ DOĞAL GAZ SATIŞ FİYAT, MİKTAR VE BEDELLERİ
B4: DAĞITIM ŞİRKETLERİ 2012 YILI DOĞAL GAZ SATIŞ FİYAT, MİKTAR VE BEDELLERİ (sm3)
C5: Ocak | D5: Şubat | E5: Mart | F5: Nisan | G5: Mayıs | H5: Haziran | I5: Temmuz | J5: Ağustos | K5: Eylül | L5: Ekim | M5: Kasım | N5: Aralık | O5: Yıllık
B6: Abone
B7: ÖTV Dahil KDV Hariç Fiyat (TL/sm3) | C7: =IF(C8=0,0,C9/C8) -> 0 | D7: =IF(D8=0,0,D9/D8) -> 0 | E7: =IF(E8=0,0,E9/E8) -> 0 | F7: =IF(F8=0,0,F9/F8) -> 0 | G7: =IF(G8=0,0,G9/G8) -> 0 | H7: =IF(H8=0,0,H9/H8) -> 0 | I7: =IF(I8=0,0,I9/I8) -> 0 | J7: =IF(J8=0,0,J9/J8) -> 0 | ... N7: =IF(N8=0,0,N9/N8) -> 0 | O7: =IF(O8=0,0,+O9/O8) -> 0
B8: Tüketim (sm3) | O8: =SUM(C8:N8) -> 0
B9: Hasılat (TL) | O9: =SUM(C9:N9) -> 0
B10: Müşteri Sayısı (Fatura Kesilen)
B11: Serbest Tüketici (OSB Hariç)
B12: ÖTV Dahil KDV Hariç Fiyat (TL/sm3) | C12: =IF(C13=0,0,C14/C13) -> 0 | D12: =IF(D13=0,0,D14/D13) -> 0 | E12: =IF(E13=0,0,E14/E13) -> 0 | F12: =IF(F13=0,0,F14/F13) -> 0 | G12: =IF(G13=0,0,G14/G13) -> 0 | H12: =IF(H13=0,0,H14/H13) -> 0 | I12: =IF(I13=0,0,I14/I13) -> 0 | J12: =IF(J13=0,0,J14/J13) -> 0 | ... N12: =IF(N13=0,0,N14/N13) -> 0 | O12: =IF(O13=0,0,+O14/O13) -> 0
B13: Tüketim (sm3) | O13: =SUM(C13:N13) -> 0
B14: Hasılat (TL) | O14: =SUM(C14:N14) -> 0
B15: Müşteri Sayısı (Fatura Kesilen)
B16: OSB
B17: ÖTV Dahil KDV Hariç Fiyat (TL/sm3) | C17: =IF(C18=0,0,C19/C18) -> 0 | D17: =IF(D18=0,0,D19/D18) -> 0 | E17: =IF(E18=0,0,E19/E18) -> 0 | F17: =IF(F18=0,0,F19/F18) -> 0 | G17: =IF(G18=0,0,G19/G18) -> 0 | H17: =IF(H18=0,0,H19/H18) -> 0 | I17: =IF(I18=0,0,I19/I18) -> 0 | J17: =IF(J18=0,0,J19/J18) -> 0 | ... N17: =IF(N18=0,0,N19/N18) -> 0 | O17: =IF(O18=0,0,+O19/O18) -> 0
B18: Tüketim (sm3) | O18: =SUM(C18:N18) -> 0
B19: Hasılat (TL) | O19: =SUM(C19:N19) -> 0
B20: Müşteri Sayısı (Fatura Kesilen)
B21: CNG Lisansı Sahiplerine Satış
B22: ÖTV Dahil KDV Hariç Fiyat (TL/sm3) | C22: =IF(C23=0,0,C24/C23) -> 0 | D22: =IF(D23=0,0,D24/D23) -> 0 | E22: =IF(E23=0,0,E24/E23) -> 0 | F22: =IF(F23=0,0,F24/F23) -> 0 | G22: =IF(G23=0,0,G24/G23) -> 0 | H22: =IF(H23=0,0,H24/H23) -> 0 | I22: =IF(I23=0,0,I24/I23) -> 0 | J22: =IF(J23=0,0,J24/J23) -> 0 | ... N22: =IF(N23=0,0,N24/N23) -> 0 | O22: =IF(O23=0,0,+O24/O23) -> 0
B23: Tüketim (sm3) | O23: =SUM(C23:N23) -> 0
B24: Hasılat (TL) | O24: =SUM(C24:N24) -> 0
B25: Müşteri Sayısı (Fatura Kesilen)
B26: Isıtma Gazı ve Diğer Amaçlı Kullanım
B27: ÖTV Dahil KDV Hariç Fiyat (TL/sm3) | C27: =IF(C28=0,0,C29/C28) -> 0 | D27: =IF(D28=0,0,D29/D28) -> 0 | E27: =IF(E28=0,0,E29/E28) -> 0 | F27: =IF(F28=0,0,F29/F28) -> 0 | G27: =IF(G28=0,0,G29/G28) -> 0 | H27: =IF(H28=0,0,H29/H28) -> 0 | I27: =IF(I28=0,0,I29/I28) -> 0 | J27: =IF(J28=0,0,J29/J28) -> 0 | ... N27: =IF(N28=0,0,N29/N28) -> 0 | O27: =IF(O28=0,0,+O29/O28) -> 0
B28: Tüketim (sm3) | O28: =SUM(C28:N28) -> 0
B29: Gider (TL) | O29: =SUM(C29:N29) -> 0
B30: TOPLAM
B31: Toplam Tüketim (sm3) | C31: =C13+C8+C18+C23+C28 -> 0 | D31: =D13+D8+D18+D23+D28 -> 0 | E31: =E13+E8+E18+E23+E28 -> 0 | F31: =F13+F8+F18+F23+F28 -> 0 | G31: =G13+G8+G18+G23+G28 -> 0 | H31: =H13+H8+H18+H23+H28 -> 0 | I31: =I13+I8+I18+I23+I28 -> 0 | J31: =J13+J8+J18+J23+J28 -> 0 | ... O31: =O13+O8+O18+O23+O28 -> 0
B32: Toplam Hasılat (TL) | C32: =C14+C9+C19+C24+C29 -> 0 | D32: =D14+D9+D19+D24+D29 -> 0 | E32: =E14+E9+E19+E24+E29 -> 0 | F32: =F14+F9+F19+F24+F29 -> 0 | G32: =G14+G9+G19+G24+G29 -> 0 | H32: =H14+H9+H19+H24+H29 -> 0 | I32: =I14+I9+I19+I24+I29 -> 0 | J32: =J14+J9+J19+J24+J29 -> 0 | ... O32: =O14+O9+O19+O24+O29 -> 0
B33: ÖTV Dahil KDV Hariç Ortalama Fiyat (TL/sm3) | C33: =IF(C31=0,0,C32/C31) -> 0 | D33: =IF(D31=0,0,D32/D31) -> 0 | E33: =IF(E31=0,0,E32/E31) -> 0 | F33: =IF(F31=0,0,F32/F31) -> 0 | G33: =IF(G31=0,0,G32/G31) -> 0 | H33: =IF(H31=0,0,H32/H31) -> 0 | I33: =IF(I31=0,0,I32/I31) -> 0 | J33: =IF(J31=0,0,J32/J31) -> 0 | ... O33: =IF(O31=0,0,O32/O31) -> 0
B35: DAĞITIM ŞİRKETLERİ 2013 YILI DOĞAL GAZ SATIŞ FİYAT, MİKTAR VE BEDELLERİ (sm3)
C36: Ocak | D36: Şubat | E36: Mart | F36: Nisan | G36: Mayıs | H36: Haziran | I36: Temmuz | J36: Ağustos | K36: Eylül | L36: Ekim | M36: Kasım | N36: Aralık | O36: Yıllık
B37: Abone
B38: ÖTV Dahil KDV Hariç Fiyat (TL/sm3) | C38: =IF(C39=0,0,C40/C39) -> 0 | D38: =IF(D39=0,0,D40/D39) -> 0 | E38: =IF(E39=0,0,E40/E39) -> 0 | F38: =IF(F39=0,0,F40/F39) -> 0 | G38: =IF(G39=0,0,G40/G39) -> 0 | H38: =IF(H39=0,0,H40/H39) -> 0 | I38: =IF(I39=0,0,I40/I39) -> 0 | J38: =IF(J39=0,0,J40/J39) -> 0 | ... N38: =IF(N39=0,0,N40/N39) -> 0 | O38: =IF(O39=0,0,+O40/O39) -> 0
B39: Tüketim (sm3) | O39: =SUM(C39:N39) -> 0
B40: Hasılat (TL) | O40: =SUM(C40:N40) -> 0
B41: Müşteri Sayısı (Fatura Kesilen)
B42: 300.000 m3 altı tüketen Serbest Tüketici (OSB Hariç)
B43: ÖTV Dahil KDV Hariç Fiyat (TL/sm3) | C43: =IF(C44=0,0,C45/C44) -> 0 | D43: =IF(D44=0,0,D45/D44) -> 0 | E43: =IF(E44=0,0,E45/E44) -> 0 | F43: =IF(F44=0,0,F45/F44) -> 0 | G43: =IF(G44=0,0,G45/G44) -> 0 | H43: =IF(H44=0,0,H45/H44) -> 0 | I43: =IF(I44=0,0,I45/I44) -> 0 | J43: =IF(J44=0,0,J45/J44) -> 0 | ... N43: =IF(N44=0,0,N45/N44) -> 0 | O43: =IF(O44=0,0,+O45/O44) -> 0
B44: Tüketim (sm3) | O44: =SUM(C44:N44) -> 0
B45: Hasılat (TL) | O45: =SUM(C45:N45) -> 0
B46: Müşteri Sayısı (Fatura Kesilen)
B47: 300.000 m3 üzeri tüketen Serbest Tüketici (OSB Hariç)
B48: ÖTV Dahil KDV Hariç Fiyat (TL/sm3) | C48: =IF(C49=0,0,C50/C49) -> 0 | D48: =IF(D49=0,0,D50/D49) -> 0 | E48: =IF(E49=0,0,E50/E49) -> 0 | F48: =IF(F49=0,0,F50/F49) -> 0 | G48: =IF(G49=0,0,G50/G49) -> 0 | H48: =IF(H49=0,0,H50/H49) -> 0 | I48: =IF(I49=0,0,I50/I49) -> 0 | J48: =IF(J49=0,0,J50/J49) -> 0 | ... N48: =IF(N49=0,0,N50/N49) -> 0 | O48: =IF(O49=0,0,+O50/O49) -> 0
B49: Tüketim (sm3) | O49: =SUM(C49:N49) -> 0
B50: Hasılat (TL) | O50: =SUM(C50:N50) -> 0
B51: Müşteri Sayısı (Fatura Kesilen)
B52: OSB
B53: ÖTV Dahil KDV Hariç Fiyat (TL/sm3) | C53: =IF(C54=0,0,C55/C54) -> 0 | D53: =IF(D54=0,0,D55/D54) -> 0 | E53: =IF(E54=0,0,E55/E54) -> 0 | F53: =IF(F54=0,0,F55/F54) -> 0 | G53: =IF(G54=0,0,G55/G54) -> 0 | H53: =IF(H54=0,0,H55/H54) -> 0 | I53: =IF(I54=0,0,I55/I54) -> 0 | J53: =IF(J54=0,0,J55/J54) -> 0 | ... N53: =IF(N54=0,0,N55/N54) -> 0 | O53: =IF(O54=0,0,+O55/O54) -> 0
B54: Tüketim (sm3) | O54: =SUM(C54:N54) -> 0
B55: Hasılat (TL) | O55: =SUM(C55:N55) -> 0
B56: Müşteri Sayısı (Fatura Kesilen)
B57: CNG Lisansı Sahiplerine Satış
B58: ÖTV Dahil KDV Hariç Fiyat (TL/sm3) | C58: =IF(C59=0,0,C60/C59) -> 0 | D58: =IF(D59=0,0,D60/D59) -> 0 | E58: =IF(E59=0,0,E60/E59) -> 0 | F58: =IF(F59=0,0,F60/F59) -> 0 | G58: =IF(G59=0,0,G60/G59) -> 0 | H58: =IF(H59=0,0,H60/H59) -> 0 | I58: =IF(I59=0,0,I60/I59) -> 0 | J58: =IF(J59=0,0,J60/J59) -> 0 | ... N58: =IF(N59=0,0,N60/N59) -> 0 | O58: =IF(O59=0,0,+O60/O59) -> 0
B59: Tüketim (sm3) | O59: =SUM(C59:N59) -> 0
B60: Hasılat (TL) | O60: =SUM(C60:N60) -> 0
B61: Müşteri Sayısı (Fatura Kesilen)
B62: Isıtma Gazı ve Diğer Amaçlı Kullanım
B63: ÖTV Dahil KDV Hariç Fiyat (TL/sm3) | C63: =IF(C64=0,0,C65/C64) -> 0 | D63: =IF(D64=0,0,D65/D64) -> 0 | E63: =IF(E64=0,0,E65/E64) -> 0 | F63: =IF(F64=0,0,F65/F64) -> 0 | G63: =IF(G64=0,0,G65/G64) -> 0 | H63: =IF(H64=0,0,H65/H64) -> 0 | I63: =IF(I64=0,0,I65/I64) -> 0 | J63: =IF(J64=0,0,J65/J64) -> 0 | ... N63: =IF(N64=0,0,N65/N64) -> 0 | O63: =IF(O64=0,0,+O65/O64) -> 0
B64: Tüketim (sm3) | O64: =SUM(C64:N64) -> 0
B65: Gider (TL) | O65: =SUM(C65:N65) -> 0
B66: TOPLAM
B67: Toplam Tüketim (sm3) | C67: =C49+C44+C39+C54+C59+C64 -> 0 | D67: =D49+D44+D39+D54+D59+D64 -> 0 | E67: =E49+E44+E39+E54+E59+E64 -> 0 | F67: =F49+F44+F39+F54+F59+F64 -> 0 | G67: =G49+G44+G39+G54+G59+G64 -> 0 | H67: =H49+H44+H39+H54+H59+H64 -> 0 | I67: =I49+I44+I39+I54+I59+I64 -> 0 | J67: =J49+J44+J39+J54+J59+J64 -> 0 | ... O67: =O49+O44+O39+O54+O59+O64 -> 0
B68: Toplam Hasılat (TL) | C68: =C50+C45+C40+C55+C60+C65 -> 0 | D68: =D50+D45+D40+D55+D60+D65 -> 0 | E68: =E50+E45+E40+E55+E60+E65 -> 0 | F68: =F50+F45+F40+F55+F60+F65 -> 0 | G68: =G50+G45+G40+G55+G60+G65 -> 0 | H68: =H50+H45+H40+H55+H60+H65 -> 0 | I68: =I50+I45+I40+I55+I60+I65 -> 0 | J68: =J50+J45+J40+J55+J60+J65 -> 0 | ... O68: =O50+O45+O40+O55+O60+O65 -> 0
B69: ÖTV Dahil KDV Hariç Ortalama Fiyat (TL/sm3) | C69: =IF(C67=0,0,C68/C67) -> 0 | D69: =IF(D67=0,0,D68/D67) -> 0 | E69: =IF(E67=0,0,E68/E67) -> 0 | F69: =IF(F67=0,0,F68/F67) -> 0 | G69: =IF(G67=0,0,G68/G67) -> 0 | H69: =IF(H67=0,0,H68/H67) -> 0 | I69: =IF(I67=0,0,I68/I67) -> 0 | J69: =IF(J67=0,0,J68/J67) -> 0 | ... O69: =IF(O67=0,0,O68/O67) -> 0
B71: DAĞITIM ŞİRKETLERİ 2014 YILI DOĞAL GAZ SATIŞ FİYAT, MİKTAR VE BEDELLERİ (sm3)
C72: Ocak | D72: Şubat | E72: Mart | F72: Nisan | G72: Mayıs | H72: Haziran | I72: Temmuz | J72: Ağustos | K72: Eylül | L72: Ekim | M72: Kasım | N72: Aralık | O72: Yıllık
B73: Abone
B74: ÖTV Dahil KDV Hariç Fiyat (TL/sm3) | C74: =IF(C75=0,0,C76/C75) -> 0 | D74: =IF(D75=0,0,D76/D75) -> 0 | E74: =IF(E75=0,0,E76/E75) -> 0 | F74: =IF(F75=0,0,F76/F75) -> 0 | G74: =IF(G75=0,0,G76/G75) -> 0 | H74: =IF(H75=0,0,H76/H75) -> 0 | I74: =IF(I75=0,0,I76/I75) -> 0 | J74: =IF(J75=0,0,J76/J75) -> 0 | ... N74: =IF(N75=0,0,N76/N75) -> 0 | O74: =IF(O75=0,0,+O76/O75) -> 0
B75: Tüketim (sm3) | O75: =SUM(C75:N75) -> 0
B76: Hasılat (TL) | O76: =SUM(C76:N76) -> 0
B77: Müşteri Sayısı (Fatura Kesilen)
B78: 300.000 m3 altı tüketen Serbest Tüketici (OSB Hariç)
B79: ÖTV Dahil KDV Hariç Fiyat (TL/sm3) | C79: =IF(C80=0,0,C81/C80) -> 0 | D79: =IF(D80=0,0,D81/D80) -> 0 | E79: =IF(E80=0,0,E81/E80) -> 0 | F79: =IF(F80=0,0,F81/F80) -> 0 | G79: =IF(G80=0,0,G81/G80) -> 0 | H79: =IF(H80=0,0,H81/H80) -> 0 | I79: =IF(I80=0,0,I81/I80) -> 0 | J79: =IF(J80=0,0,J81/J80) -> 0 | ... N79: =IF(N80=0,0,N81/N80) -> 0 | O79: =IF(O80=0,0,+O81/O80) -> 0
B80: Tüketim (sm3) | O80: =SUM(C80:N80) -> 0
B81: Hasılat (TL) | O81: =SUM(C81:N81) -> 0
B82: Müşteri Sayısı (Fatura Kesilen)
B83: 300.000 m3 üzeri tüketen Serbest Tüketici (OSB Hariç)
B84: ÖTV Dahil KDV Hariç Fiyat (TL/sm3) | C84: =IF(C85=0,0,C86/C85) -> 0 | D84: =IF(D85=0,0,D86/D85) -> 0 | E84: =IF(E85=0,0,E86/E85) -> 0 | F84: =IF(F85=0,0,F86/F85) -> 0 | G84: =IF(G85=0,0,G86/G85) -> 0 | H84: =IF(H85=0,0,H86/H85) -> 0 | I84: =IF(I85=0,0,I86/I85) -> 0 | J84: =IF(J85=0,0,J86/J85) -> 0 | ... N84: =IF(N85=0,0,N86/N85) -> 0 | O84: =IF(O85=0,0,+O86/O85) -> 0
B85: Tüketim (sm3) | O85: =SUM(C85:N85) -> 0
B86: Hasılat (TL) | O86: =SUM(C86:N86) -> 0
B87: Müşteri Sayısı (Fatura Kesilen)
B88: OSB
B89: ÖTV Dahil KDV Hariç Fiyat (TL/sm3) | C89: =IF(C90=0,0,C91/C90) -> 0 | D89: =IF(D90=0,0,D91/D90) -> 0 | E89: =IF(E90=0,0,E91/E90) -> 0 | F89: =IF(F90=0,0,F91/F90) -> 0 | G89: =IF(G90=0,0,G91/G90) -> 0 | H89: =IF(H90=0,0,H91/H90) -> 0 | I89: =IF(I90=0,0,I91/I90) -> 0 | J89: =IF(J90=0,0,J91/J90) -> 0 | ... N89: =IF(N90=0,0,N91/N90) -> 0 | O89: =IF(O90=0,0,+O91/O90) -> 0
B90: Tüketim (sm3) | O90: =SUM(C90:N90) -> 0
B91: Hasılat (TL) | O91: =SUM(C91:N91) -> 0
B92: Müşteri Sayısı (Fatura Kesilen)
B93: CNG Lisansı Sahiplerine Satış
B94: ÖTV Dahil KDV Hariç Fiyat (TL/sm3) | C94: =IF(C95=0,0,C96/C95) -> 0 | D94: =IF(D95=0,0,D96/D95) -> 0 | E94: =IF(E95=0,0,E96/E95) -> 0 | F94: =IF(F95=0,0,F96/F95) -> 0 | G94: =IF(G95=0,0,G96/G95) -> 0 | H94: =IF(H95=0,0,H96/H95) -> 0 | I94: =IF(I95=0,0,I96/I95) -> 0 | J94: =IF(J95=0,0,J96/J95) -> 0 | ... N94: =IF(N95=0,0,N96/N95) -> 0 | O94: =IF(O95=0,0,+O96/O95) -> 0
B95: Tüketim (sm3) | O95: =SUM(C95:N95) -> 0
B96: Hasılat (TL) | O96: =SUM(C96:N96) -> 0
B97: Müşteri Sayısı (Fatura Kesilen)
B98: Isıtma Gazı ve Diğer Amaçlı Kullanım
B99: ÖTV Dahil KDV Hariç Fiyat (TL/sm3) | C99: =IF(C100=0,0,C101/C100) -> 0 | D99: =IF(D100=0,0,D101/D100) -> 0 | E99: =IF(E100=0,0,E101/E100) -> 0 | F99: =IF(F100=0,0,F101/F100) -> 0 | G99: =IF(G100=0,0,G101/G100) -> 0 | H99: =IF(H100=0,0,H101/H100) -> 0 | I99: =IF(I100=0,0,I101/I100) -> 0 | J99: =IF(J100=0,0,J101/J100) -> 0 | ... N99: =IF(N100=0,0,N101/N100) -> 0 | O99: =IF(O100=0,0,+O101/O100) -> 0
B100: Tüketim (sm3) | O100: =SUM(C100:N100) -> 0
B101: Gider (TL) | O101: =SUM(C101:N101) -> 0
B102: TOPLAM
B103: Toplam Tüketim (sm3) | C103: =C85+C80+C75+C90+C95+C100 -> 0 | D103: =D85+D80+D75+D90+D95+D100 -> 0 | E103: =E85+E80+E75+E90+E95+E100 -> 0 | F103: =F85+F80+F75+F90+F95+F100 -> 0 | G103: =G85+G80+G75+G90+G95+G100 -> 0 | H103: =H85+H80+H75+H90+H95+H100 -> 0 | I103: =I85+I80+I75+I90+I95+I100 -> 0 | J103: =J85+J80+J75+J90+J95+J100 -> 0 | ... O103: =O85+O80+O75+O90+O95+O100 -> 0
B104: Toplam Hasılat (TL) | C104: =C86+C81+C76+C91+C96+C101 -> 0 | D104: =D86+D81+D76+D91+D96+D101 -> 0 | E104: =E86+E81+E76+E91+E96+E101 -> 0 | F104: =F86+F81+F76+F91+F96+F101 -> 0 | G104: =G86+G81+G76+G91+G96+G101 -> 0 | H104: =H86+H81+H76+H91+H96+H101 -> 0 | I104: =I86+I81+I76+I91+I96+I101 -> 0 | J104: =J86+J81+J76+J91+J96+J101 -> 0 | ... O104: =O86+O81+O76+O91+O96+O101 -> 0
...

Sheet Serbest Tüketiciler
B2: EK-8/C: 100.000 m3 ÜZERİ TÜKETEN SERBEST TÜKETİCİLERİN LİSTESİ
B4: Tüketicinin
B5: Sıra No. | C5: Ad/Unvanı | D5: Mevcut Tedarikçisi | E5: Tüketimleri (sm3)
E6: 2012 | F6: 2013 | G6: 2014 | H6: 2015 | I6: 2016

Sheet Taşıma
B2: EK-9: TEDARİKÇİLERDEN DOĞAL GAZ ALAN SERBEST TÜKETİCİLERİN LİSTESİ
B4: 2012 YILINDAKİ MÜŞTERİLER
C5: Ocak | D5: Şubat | E5: Mart | F5: Nisan | G5: Mayıs | H5: Haziran | I5: Temmuz | J5: Ağustos | K5: Eylül | L5: Ekim | M5: Kasım | N5: Aralık | O5: Yıllık Toplam
B6: 1- Tüketici Adı/Unvanı
B7: Tüketim Miktarı (sm3) | O7: =SUM(C7:N7) -> 0
B8: Uygulanan Sistem Kullanım Bedeli (KDV Hariç)(TL/sm3) | O8: =IF(O7=0,0,+O9/O7) -> 0
B9: Taşıma Hasılatı | C9: =C7*C8 -> 0 | D9: =D7*D8 -> 0 | E9: =E7*E8 -> 0 | F9: =F7*F8 -> 0 | G9: =G7*G8 -> 0 | H9: =H7*H8 -> 0 | I9: =I7*I8 -> 0 | J9: =J7*J8 -> 0 | ... N9: =N7*N8 -> 0 | O9: =SUM(C9:N9) -> 0
B10: 2- Tüketici Adı/Unvanı
B11: Tüketim Miktarı (sm3) | O11: =SUM(C11:N11) -> 0
B12: Uygulanan Sistem Kullanım Bedeli (KDV Hariç)(TL/sm3) | O12: =IF(O11=0,0,+O13/O11) -> 0
B13: Taşıma Hasılatı | C13: =C11*C12 -> 0 | D13: =D11*D12 -> 0 | E13: =E11*E12 -> 0 | F13: =F11*F12 -> 0 | G13: =G11*G12 -> 0 | H13: =H11*H12 -> 0 | I13: =I11*I12 -> 0 | J13: =J11*J12 -> 0 | ... N13: =N11*N12 -> 0 | O13: =SUM(C13:N13) -> 0
B14: 3- …
B15: Tüketim Miktarı (sm3) | O15: =SUM(C15:N15) -> 0
B16: Uygulanan Sistem Kullanım Bedeli (KDV Hariç)(TL/sm3) | O16: =IF(O15=0,0,+O17/O15) -> 0
B17: Taşıma Hasılatı | C17: =C15*C16 -> 0 | D17: =D15*D16 -> 0 | E17: =E15*E16 -> 0 | F17: =F15*F16 -> 0 | G17: =G15*G16 -> 0 | H17: =H15*H16 -> 0 | I17: =I15*I16 -> 0 | J17: =J15*J16 -> 0 | ... N17: =N15*N16 -> 0 | O17: =SUM(C17:N17) -> 0
B19: ……..
B21: Toplam Tüketim (sm3)
B22: Toplam Hasılat (TL)
B24: 2013 YILINDAKİ MÜŞTERİLER
C25: Ocak | D25: Şubat | E25: Mart | F25: Nisan | G25: Mayıs | H25: Haziran | I25: Temmuz | J25: Ağustos | K25: Eylül | L25: Ekim | M25: Kasım | N25: Aralık | O25: Yıllık Toplam
B26: 1- Tüketici Adı/Unvanı
B27: Tüketim Miktarı (sm3) | O27: =SUM(C27:N27) -> 0
B28: Uygulanan Sistem Kullanım Bedeli (KDV Hariç)(TL/sm3) | O28: =IF(O27=0,0,+O29/O27) -> 0
B29: Taşıma Hasılatı | C29: =C27*C28 -> 0 | D29: =D27*D28 -> 0 | E29: =E27*E28 -> 0 | F29: =F27*F28 -> 0 | G29: =G27*G28 -> 0 | H29: =H27*H28 -> 0 | I29: =I27*I28 -> 0 | J29: =J27*J28 -> 0 | ... N29: =N27*N28 -> 0 | O29: =SUM(C29:N29) -> 0
B30: 2- Tüketici Adı/Unvanı
B31: Tüketim Miktarı (sm3) | O31: =SUM(C31:N31) -> 0
B32: Uygulanan Sistem Kullanım Bedeli (KDV Hariç)(TL/sm3) | O32: =IF(O31=0,0,+O33/O31) -> 0
B33: Taşıma Hasılatı | C33: =C31*C32 -> 0 | D33: =D31*D32 -> 0 | E33: =E31*E32 -> 0 | F33: =F31*F32 -> 0 | G33: =G31*G32 -> 0 | H33: =H31*H32 -> 0 | I33: =I31*I32 -> 0 | J33: =J31*J32 -> 0 | ... N33: =N31*N32 -> 0 | O33: =SUM(C33:N33) -> 0
B34: 3- …
B35: Tüketim Miktarı (sm3) | O35: =SUM(C35:N35) -> 0
B36: Uygulanan Sistem Kullanım Bedeli (KDV Hariç)(TL/sm3) | O36: =IF(O35=0,0,+O37/O35) -> 0
B37: Taşıma Hasılatı | C37: =C35*C36 -> 0 | D37: =D35*D36 -> 0 | E37: =E35*E36 -> 0 | F37: =F35*F36 -> 0 | G37: =G35*G36 -> 0 | H37: =H35*H36 -> 0 | I37: =I35*I36 -> 0 | J37: =J35*J36 -> 0 | ... N37: =N35*N36 -> 0 | O37: =SUM(C37:N37) -> 0
B39: ……..
B41: Toplam Tüketim (sm3)
B42: Toplam Hasılat (TL)
B44: 2014 YILINDAKİ MÜŞTERİLER
C45: Ocak | D45: Şubat | E45: Mart | F45: Nisan | G45: Mayıs | H45: Haziran | I45: Temmuz | J45: Ağustos | K45: Eylül | L45: Ekim | M45: Kasım | N45: Aralık | O45: Yıllık Toplam
B46: 1- Tüketici Adı/Unvanı
B47: Tüketim Miktarı (sm3) | O47: =SUM(C47:N47) -> 0
B48: Uygulanan Sistem Kullanım Bedeli (KDV Hariç)(TL/sm3) | O48: =IF(O47=0,0,+O49/O47) -> 0
B49: Taşıma Hasılatı | C49: =C47*C48 -> 0 | D49: =D47*D48 -> 0 | E49: =E47*E48 -> 0 | F49: =F47*F48 -> 0 | G49: =G47*G48 -> 0 | H49: =H47*H48 -> 0 | I49: =I47*I48 -> 0 | J49: =J47*J48 -> 0 | ... N49: =N47*N48 -> 0 | O49: =SUM(C49:N49) -> 0
B50: 2- Tüketici Adı/Unvanı
B51: Tüketim Miktarı (sm3) | O51: =SUM(C51:N51) -> 0
B52: Uygulanan Sistem Kullanım Bedeli (KDV Hariç)(TL/sm3) | O52: =IF(O51=0,0,+O53/O51) -> 0
B53: Taşıma Hasılatı | C53: =C51*C52 -> 0 | D53: =D51*D52 -> 0 | E53: =E51*E52 -> 0 | F53: =F51*F52 -> 0 | G53: =G51*G52 -> 0 | H53: =H51*H52 -> 0 | I53: =I51*I52 -> 0 | J53: =J51*J52 -> 0 | ... N53: =N51*N52 -> 0 | O53: =SUM(C53:N53) -> 0
B54: 3- …
B55: Tüketim Miktarı (sm3) | O55: =SUM(C55:N55) -> 0
B56: Uygulanan Sistem Kullanım Bedeli (KDV Hariç)(TL/sm3) | O56: =IF(O55=0,0,+O57/O55) -> 0
B57: Taşıma Hasılatı | C57: =C55*C56 -> 0 | D57: =D55*D56 -> 0 | E57: =E55*E56 -> 0 | F57: =F55*F56 -> 0 | G57: =G55*G56 -> 0 | H57: =H55*H56 -> 0 | I57: =I55*I56 -> 0 | J57: =J55*J56 -> 0 | ... N57: =N55*N56 -> 0 | O57: =SUM(C57:N57) -> 0
B59: ……..
B61: Toplam Tüketim (sm3)
B62: Toplam Hasılat (TL)
B64: 2015 YILINDAKİ MÜŞTERİLER
C65: Ocak | D65: Şubat | E65: Mart | F65: Nisan | G65: Mayıs | H65: Haziran | I65: Temmuz | J65: Ağustos | K65: Eylül | L65: Ekim | M65: Kasım | N65: Aralık | O65: Yıllık Toplam
B66: 1- Tüketici Adı/Unvanı
B67: Tüketim Miktarı (sm3) | O67: =SUM(C67:N67) -> 0
B68: Uygulanan Sistem Kullanım Bedeli (KDV Hariç)(TL/sm3) | O68: =IF(O67=0,0,+O69/O67) -> 0
B69: Taşıma Hasılatı | C69: =C67*C68 -> 0 | D69: =D67*D68 -> 0 | E69: =E67*E68 -> 0 | F69: =F67*F68 -> 0 | G69: =G67*G68 -> 0 | H69: =H67*H68 -> 0 | I69: =I67*I68 -> 0 | J69: =J67*J68 -> 0 | ... N69: =N67*N68 -> 0 | O69: =SUM(C69:N69) -> 0
B70: 2- Tüketici Adı/Unvanı
B71: Tüketim Miktarı (sm3) | O71: =SUM(C71:N71) -> 0
B72: Uygulanan Sistem Kullanım Bedeli (KDV Hariç)(TL/sm3) | O72: =IF(O71=0,0,+O73/O71) -> 0
B73: Taşıma Hasılatı | C73: =C71*C72 -> 0 | D73: =D71*D72 -> 0 | E73: =E71*E72 -> 0 | F73: =F71*F72 -> 0 | G73: =G71*G72 -> 0 | H73: =H71*H72 -> 0 | I73: =I71*I72 -> 0 | J73: =J71*J72 -> 0 | ... N73: =N71*N72 -> 0 | O73: =SUM(C73:N73) -> 0
B74: 3- …
B75: Tüketim Miktarı (sm3) | O75: =SUM(C75:N75) -> 0
B76: Uygulanan Sistem Kullanım Bedeli (KDV Hariç)(TL/sm3) | O76: =IF(O75=0,0,+O77/O75) -> 0
B77: Taşıma Hasılatı | C77: =C75*C76 -> 0 | D77: =D75*D76 -> 0 | E77: =E75*E76 -> 0 | F77: =F75*F76 -> 0 | G77: =G75*G76 -> 0 | H77: =H75*H76 -> 0 | I77: =I75*I76 -> 0 | J77: =J75*J76 -> 0 | ... N77: =N75*N76 -> 0 | O77: =SUM(C77:N77) -> 0
B79: ……..
B81: Toplam Tüketim (sm3)
B82: Toplam Hasılat (TL)
B84: 2016 YILINDAKİ MÜŞTERİLER
C85: Ocak | D85: Şubat | E85: Mart | F85: Nisan | G85: Mayıs | H85: Haziran | I85: Temmuz | J85: Ağustos | K85: Eylül | L85: Ekim | M85: Kasım | N85: Aralık | O85: Yıllık Toplam
B86: 1- Tüketici Adı/Unvanı
B87: Tüketim Miktarı (sm3) | O87: =SUM(C87:N87) -> 0
B88: Uygulanan Sistem Kullanım Bedeli (KDV Hariç)(TL/sm3) | O88: =IF(O87=0,0,+O89/O87) -> 0
B89: Taşıma Hasılatı | C89: =C87*C88 -> 0 | D89: =D87*D88 -> 0 | E89: =E87*E88 -> 0 | F89: =F87*F88 -> 0 | G89: =G87*G88 -> 0 | H89: =H87*H88 -> 0 | I89: =I87*I88 -> 0 | J89: =J87*J88 -> 0 | ... N89: =N87*N88 -> 0 | O89: =SUM(C89:N89) -> 0
B90: 2- Tüketici Adı/Unvanı
B91: Tüketim Miktarı (sm3) | O91: =SUM(C91:N91) -> 0
B92: Uygulanan Sistem Kullanım Bedeli (KDV Hariç)(TL/sm3) | O92: =IF(O91=0,0,+O93/O91) -> 0
B93: Taşıma Hasılatı | C93: =C91*C92 -> 0 | D93: =D91*D92 -> 0 | E93: =E91*E92 -> 0 | F93: =F91*F92 -> 0 | G93: =G91*G92 -> 0 | H93: =H91*H92 -> 0 | I93: =I91*I92 -> 0 | J93: =J91*J92 -> 0 | ... N93: =N91*N92 -> 0 | O93: =SUM(C93:N93) -> 0
B94: 3- …
B95: Tüketim Miktarı (sm3) | O95: =SUM(C95:N95) -> 0
B96: Uygulanan Sistem Kullanım Bedeli (KDV Hariç)(TL/sm3) | O96: =IF(O95=0,0,+O97/O95) -> 0
B97: Taşıma Hasılatı | C97: =C95*C96 -> 0 | D97: =D95*D96 -> 0 | E97: =E95*E96 -> 0 | F97: =F95*F96 -> 0 | G97: =G95*G96 -> 0 | H97: =H95*H96 -> 0 | I97: =I95*I96 -> 0 | J97: =J95*J96 -> 0 | ... N97: =N95*N96 -> 0 | O97: =SUM(C97:N97) -> 0
B99: ……..
B101: Toplam Tüketim (sm3)
B102: Toplam Hasılat (TL)

Sheet İşletme Giderleri
B2: EK-10/B: İŞLETME GİDERLERİ
B4: İŞLETME GİDERLERİ
C5: 41639 | D5: 42004 | E5: 42369 | F5: 42735
B6: Toplam İşletme Giderleri | C6: =C7+C19+C23+C46+C51+C58+C76+C82+C85 -> 0 | D6: =D7+D19+D23+D46+D51+D58+D76+D82+D85 -> 0 | E6: =E7+E19+E23+E46+E51+E58+E76+E82+E85 -> 0 | F6: =F7+F19+F23+F46+F51+F58+F76+F82+F85 -> 0
B7: Personel Ücret ve Giderleri | C7: =SUM(C8:C18) -> 0 | D7: =SUM(D8:D18) -> 0 | E7: =SUM(E8:E18) -> 0 | F7: =SUM(F8:F18) -> 0
B8: 01. Esas Ücretler (Ücrete bağlı vergiler dahil)
B9: 02. Sosyal Yardımlar
B10: 03. Tazminatlar
B11: 04. İşveren Payları
B12: 05. Huzur Haklar
B13: 06. Personel Sağlık Giderleri
B14: 07. Personel Eğitim Giderleri
B15: 08. Personel Yemek Giderleri
B16: 09. Personel Servis Giderleri
B17: 10. Seyahat Giderleri
B18: 11. Diğer Personel Giderleri
B19: İlk Madde ve Malzeme Giderleri | C19: =SUM(C20:C22) -> 0 | D19: =SUM(D20:D22) -> 0 | E19: =SUM(E20:E22) -> 0 | F19: =SUM(F20:F22) -> 0
B20: 01. Dağıtım Hatları
B21: 02. İstasyonlar
B22: 03. Sayaçlar (Periyodik muayene ve kalibrasyon hariç)
B23: Dışarıdan Sağlanan Hizmet Giderleri | C23: =SUM(C24:C34,C41:C42,C45) -> 0 | D23: =SUM(D24:D34,D41:D42,D45) -> 0 | E23: =SUM(E24:E34,E41:E42,E45) -> 0 | F23: =SUM(F24:F34,F41:F42,F45) -> 0
B24: 01. Sayaç Okuma ve Faturalandırma
B25: 02. İhbar Dağıtım Hizmeti
B26: 03. Sayaç Açma Kapama
B27: 04. İç Tesisat İşlemleri
B28: 05. Periyodik Muayene ve Sayaç Kalibrasyonu
B29: 06. Münferit Ölçüm Ekipmanı Muayene Giderleri
B30: 07. Tahsilat Giderleri
B31: 08. Komisyon Giderleri
B32: 09. Güvenlik Hizmeti
B33: 10. Çağrı Merkezi
B34: 11. Bakım Onarım Giderleri | C34: =SUM(C35:C40) -> 0 | D34: =SUM(D35:D40) -> 0 | E34: =SUM(E35:E40) -> 0 | F34: =SUM(F35:F40) -> 0
B35: 11.01. Dağıtım Hatları
B36: 11.02. İstasyonlar
B37: 11.03. Sayaçlar (Periyodik muayene ve kalibrasyon hariç)
B38: 11.04. Bina
B39: 11.05. Araçlar
B40: 11.06. Demirbaşlar
B41: 12. Teknoloji Hizmeti
B42: 13. Danışmanlık ve Müşavirlik Giderleri | C42: =SUM(C43:C44) -> 0 | D42: =SUM(D43:D44) -> 0 | E42: =SUM(E43:E44) -> 0 | F42: =SUM(F43:F44) -> 0
B43: 13.01. Destek Hizmet Alım Giderleri
B44: 13.02. Diğer Danışmanlık ve Müşavirlik Giderleri
B45: 14. Temizlik Hizmet Giderleri
B46: Kira Giderleri | C46: =SUM(C47:C50) -> 0 | D46: =SUM(D47:D50) -> 0 | E46: =SUM(E47:E50) -> 0 | F46: =SUM(F47:F50) -> 0
B47: 01. Gayrimenkul Kira Giderleri
B48: 02. Kullanım Hakkı Giderleri
B49: 03. Makine Teçhizat Kira Giderleri
B50: 04. Araç Kira Giderleri
B51: Enerji Giderleri | C51: =SUM(C52:C57) -> 0 | D51: =SUM(D52:D57) -> 0 | E51: =SUM(E52:E57) -> 0 | F51: =SUM(F52:F57) -> 0
B52: 01. Isıtma Gazı Gideri
B53: 02. Yakıt Giderleri
B54: 03. Bina Isınma
B55: 04. Elektrik
B56: 05. Su
B57: 06. Kokulandırma Giderleri
B58: Yasal Zorunlu Harcamalar | C58: =SUM(C59:C60,C63,C64,C69:C75) -> 0 | D58: =SUM(D59:D60,D63,D64,D69:D75) -> 0 | E58: =SUM(E59:E60,E63,E64,E69:E75) -> 0 | F58: =SUM(F59:F60,F63,F64,F69:F75) -> 0
B59: 01. Mahkeme ve Avukatlık
B60: 02. Damga Vergisi | C60: =SUM(C61:C62) -> 0 | D60: =SUM(D61:D62) -> 0 | E60: =SUM(E61:E62) -> 0 | F60: =SUM(F61:F62) -> 0
B61: 02.01. Doğal Gaz Alım Damga Vergisi
B62: 02.02. Diğer İşlemlerden Doğan Damga Vergisi
B63: 03. Diğer Vergi, Resim ve Harçlar (ÖİV ve MTV dahil, Kurumlar Vergisi hariçtir.)
B64: 04. Sigorta | C64: =SUM(C65:C68) -> 0 | D64: =SUM(D65:D68) -> 0 | E64: =SUM(E65:E68) -> 0 | F64: =SUM(F65:F68) -> 0
B65: 04.01. Şebekeye İlişkin Sigorta Giderleri
B66: 04.02. Bina Sigorta Giderleri
B67: 04.03. Araç Sigorta Giderleri
B68: 04.04. Diğer Sigorta Giderleri
B69: 05. EPDK Yıllık Lisans Bedeli
B70: 06. EPDK Katılım Payı
B71: 07. Denetim Giderleri (Mevzuat Kapsamında Yaptırılan)
B72: 08. Noter Giderleri
B73: 09. Oda Aidat Giderleri
B74: 10. EPDK Kesin Teminat Komisyon Gideri
B75: 11. İlan Giderleri
B76: Haberleşme Giderleri | C76: =SUM(C77:C81) -> 0 | D76: =SUM(D77:D81) -> 0 | E76: =SUM(E77:E81) -> 0 | F76: =SUM(F77:F81) -> 0
B77: 01. Telsiz
B78: 02. Telefon
B79: 03. İnternet
B80: 04. Posta ve Kargo
B81: 05. SCADA ve Uzaktan Okuma Sistemleri
B82: Büro ve İdari Giderler | C82: =SUM(C83:C84) -> 0 | D82: =SUM(D83:D84) -> 0 | E82: =SUM(E83:E84) -> 0 | F82: =SUM(F83:F84) -> 0
B83: 01. Kırtasiye, Fotokopi ve Matbaa Giderleri
B84: 02. Temizlik Malzemeleri
B85: Diğer Giderler | C85: =SUM(C86:C88,C89,C92:C93) -> 0 | D85: =SUM(D86:D88,D89,D92:D93) -> 0 | E85: =SUM(E86:E88,E89,E92:E93) -> 0 | F85: =SUM(F86:F88,F89,F92:F93) -> 0
B86: 01. Reklam ve Tanıtım
B87: 02. Bağış, Sponsorluk ve Dernek Aidat Giderleri
B88: 03. Temsil ve Ağırlama
B89: 04. Araştırma Geliştirme | C89: =SUM(C90:C91) -> 0 | D89: =SUM(D90:D91) -> 0 | E89: =SUM(E90:E91) -> 0 | F89: =SUM(F90:F91) -> 0
B90: 04.01. EPDK AR-GE Komisyonu Tarafından Kabul Edilen Projeler
B91: 04.02. EPDK AR-GE Komisyonu Tarafından Kabul Edilmeyen Projeler
B92: 05. Gider Sayılan Demirbaşlar
B93: 06. Kanunen Kabul Edilmeyen Giderler

Sheet İşletme Gideri Mizan Karşılığı
B2: EK-10/C: İŞLETME GİDERLERİ - MİZAN KARŞILIĞI
B4: İşletme Giderleri - Ana Kalem | C4: İşletme Gider Detay | D4: 2013 | G4: 2014 | J4: 2015 | M4: 2016
D5: Hesap No | E5: Hesap Adı | F5: Tutar | G5: Hesap No | H5: Hesap Adı | I5: Tutar | J5: Hesap No | K5: Hesap Adı | L5: Tutar | M5: Hesap No | N5: Hesap Adı | O5: Tutar
B6: Personel Ücret ve Giderleri | F6: =F8+F10+F12+F14+F16+F18+F20+F22+F24+F26+F28 -> 0 | I6: =I8+I10+I12+I14+I16+I18+I20+I22+I24+I26+I28 -> 0 | L6: =L8+L10+L12+L14+L16+L18+L20+L22+L24+L26+L28 -> 0 | O6: =O8+O10+O12+O14+O16+O18+O20+O22+O24+O26+O28 -> 0
C7: 01. Esas Ücretler (Ücrete bağlı vergiler dahil)
C8: Toplam
C9: 02. Sosyal Yardımlar
C10: Toplam
C11: 03. Tazminatlar
C12: Toplam
C13: 04. İşveren Payları
C14: Toplam
C15: 05. Huzur Haklar
C16: Toplam
C17: 06. Personel Sağlık Giderleri
C18: Toplam
... C28: Toplam
B29: İlk Madde ve Malzeme Giderleri | F29: =F31+F33+F35 -> 0 | I29: =I31+I33+I35 -> 0 | L29: =L31+L33+L35 -> 0 | O29: =O31+O33+O35 -> 0
C30: 01. Dağıtım Hatları
C31: Toplam
C32: 02. İstasyonlar
C33: Toplam
C34: 03. Sayaçlar (Periyodik muayene ve kalibrasyon hariç)
C35: Toplam
B36: Dışarıdan Sağlanan Hizmet Giderleri | F36: =F38+F40+F42+F44+F46+F48+F50+F52+F54+F56+F64+F66+F70+F72 -> 0 | I36: =I38+I40+I42+I44+I46+I48+I50+I52+I54+I56+I64+I66+I70+I72 -> 0 | L36: =L38+L40+L42+L44+L46+L48+L50+L52+L54+L56+L64+L66+L70+L72 -> 0 | O36: =O38+O40+O42+O44+O46+O48+O50+O52+O54+O56+O64+O66+O70+O72 -> 0
C37: 01. Sayaç Okuma ve Faturalandırma
C38: Toplam
C39: 02. İhbar Dağıtım Hizmeti
C40: Toplam
C41: 03. Sayaç Açma Kapama
C42: Toplam
C43: 04. İç Tesisat İşlemleri
C44: Toplam
C45: 05. Periyodik Muayene ve Sayaç Kalibrasyonu
C46: Toplam
C47: 06. Münferit Ölçüm Ekipmanı Muayene Giderleri
C48: Toplam
... C72: Toplam
B73: Kira Giderleri | F73: =F75+F77+F79+F81+F83 -> 0 | I73: =I75+I77+I79+I81+I83 -> 0 | L73: =L75+L77+L79+L81+L83 -> 0 | O73: =O75+O77+O79+O81+O83 -> 0
C74: 01. Gayrimenkul Kira Giderleri
C75: Toplam
C76: 02. Kullanım Hakkı Giderleri
C77: Toplam
C78: 03. Makine Teçhizat Kira Giderleri
C79: Toplam
C80: 04. Araç Kira Giderleri
C81: Toplam
C82: 05. Yazılım Kira Giderleri
C83: Toplam
B84: Enerji Giderleri | F84: =F86+F88+F90+F92+F94+F96 -> 0 | I84: =I86+I88+I90+I92+I94+I96 -> 0 | L84: =L86+L88+L90+L92+L94+L96 -> 0 | O84: =O86+O88+O90+O92+O94+O96 -> 0
C85: 01. Isıtma Gazı Gideri
C86: Toplam
C87: 02. Yakıt Giderleri
C88: Toplam
C89: 03. Bina Isınma
C90: Toplam
C91: 04. Elektrik
C92: Toplam
C93: 05. Su
C94: Toplam
C95: 07. Kokulandırma Giderleri
C96: Toplam
B97: Yasal Zorunlu Harcamalar | F97: =F99+F104+F106+F112+F114+F116+F118+F120+F122+F124+F126 -> 0 | I97: =I99+I104+I106+I112+I114+I116+I118+I120+I122+I124+I126 -> 0 | L97: =L99+L104+L106+L112+L114+L116+L118+L120+L122+L124+L126 -> 0 | O97: =O99+O104+O106+O112+O114+O116+O118+O120+O122+O124+O126 -> 0
C98: 01. Mahkeme ve Avukatlık
C99: Toplam
C100: 02. Damga Vergisi
C101: 02.01. Doğal Gaz Alım Damga Vergisi
C102: 02.02. Doğal Gaz Satış Damga Vergisi
C103: 02.03. Diğer İşlemlerden Doğan Damga Vergisi
C104: Toplam
C105: 03. Diğer Vergi, Resim ve Harçlar (ÖİV ve MTV dahil, Kurumlar Vergisi Hariçtir.)
C106: Toplam
C107: 04. Sigorta
C108: 04.01. Şebekeye İlişkin Sigorta Giderleri
C109: 04.02. Bina Sigorta Giderleri
... C126: Toplam
B127: Haberleşme Giderleri | F127: =F129+F131+F133+F135+F137 -> 0 | I127: =I129+I131+I133+I135+I137 -> 0 | L127: =L129+L131+L133+L135+L137 -> 0 | O127: =O129+O131+O133+O135+O137 -> 0
C128: 01. Telsiz
C129: Toplam
C130: 02. Telefon
C131: Toplam
C132: 03. İnternet
C133: Toplam
C134: 04. Posta ve Kargo
C135: Toplam
C136: 05. SCADA ve Uzaktan Okuma Sistemleri
C137: Toplam
B138: Büro ve İdari Giderler | F138: =F140+F142 -> 0 | I138: =I140+I142 -> 0 | L138: =L140+L142 -> 0 | O138: =O140+O142 -> 0
C139: 01. Kırtasiye, Fotokopi ve Matbaa Giderleri
C140: Toplam
C141: 02. Temizlik Malzemeleri
C142: Toplam
B143: Diğer Giderler | F143: =F145+F147+F149+F153+F155+F157 -> 0 | I143: =I145+I147+I149+I153+I155+I157 -> 0 | L143: =L145+L147+L149+L153+L155+L157 -> 0 | O143: =O145+O147+O149+O153+O155+O157 -> 0
C144: 01. Reklam ve Tanıtım
C145: Toplam
C146: 02. Bağış, Sponsorluk ve Dernek Aidat Giderleri
C147: Toplam
C148: 03. Temsil ve Ağırlama
C149: Toplam
C150: 04. Araştırma Geliştirme
...

Sheet Bina Kira Giderleri
B2: EK-10/D: GAYRİMENKUL KİRA GİDERLERİ
B5: 2013
B6: MEVKİİ | C6: BRÜT ALAN | D6: KİRALAMA TARİHİ | E6: KİRALAMA SÜRESİ (Ay Bazında) | F6: KULLANIM AMACI | G6: İLGİLİ YIL TOPLAM KİRA BEDELİ (TL)
F12: TOPLAM | G12: =SUM(G7:G11) -> 0
B14: 2014
B15: MEVKİİ | C15: BRÜT ALAN | D15: KİRALAMA TARİHİ | E15: KİRALAMA SÜRESİ (Ay Bazında) | F15: KULLANIM AMACI | G15: İLGİLİ YIL TOPLAM KİRA BEDELİ (TL)
F21: TOPLAM | G21: =SUM(G16:G20) -> 0
B23: 2015
B24: MEVKİİ | C24: BRÜT ALAN | D24: KİRALAMA TARİHİ | E24: KİRALAMA SÜRESİ (Ay Bazında) | F24: KULLANIM AMACI | G24: İLGİLİ YIL TOPLAM KİRA BEDELİ (TL)
F30: TOPLAM | G30: =SUM(G25:G29) -> 0
B32: 2016
B33: MEVKİİ | C33: BRÜT ALAN | D33: KİRALAMA TARİHİ | E33: KİRALAMA SÜRESİ (Ay Bazında) | F33: KULLANIM AMACI | G33: İLGİLİ YIL TOPLAM KİRA BEDELİ (TL)
F39: TOPLAM | G39: =SUM(G34:G38) -> 0

Sheet Taşıt Kira Giderleri
B2: EK-10/E: TAŞIT KİRA GİDERLERİ
B5: 2013
B6: PLAKA | C6: MARKA / MODEL | D6: KİRALAMA TARİHİ | E6: KİRALANAN FİRMA | F6: KİRALAMA SÜRESİ (Ay Bazında) | G6: KULLANIM AMACI | H6: İLGİLİ YIL YAPILAN KİLOMETRE | I6: İLGİLİ YIL TOPLAM KİRA BEDELİ (TL)
G12: TOPLAM | H12: =SUM(H7:H11) -> 0 | I12: =SUM(I7:I11) -> 0
B14: 2014
B15: PLAKA | C15: MARKA / MODEL | D15: KİRALAMA TARİHİ | E15: KİRALANAN FİRMA | F15: KİRALAMA SÜRESİ (Ay Bazında) | G15: KULLANIM AMACI | H15: İLGİLİ YIL YAPILAN KİLOMETRE | I15: İLGİLİ YIL TOPLAM KİRA BEDELİ (TL)
G21: TOPLAM | H21: =SUM(H16:H20) -> 0 | I21: =SUM(I16:I20) -> 0
B23: 2015
B24: PLAKA | C24: MARKA / MODEL | D24: KİRALAMA TARİHİ | E24: KİRALANAN FİRMA | F24: KİRALAMA SÜRESİ (Ay Bazında) | G24: KULLANIM AMACI | H24: İLGİLİ YIL YAPILAN KİLOMETRE | I24: İLGİLİ YIL TOPLAM KİRA BEDELİ (TL)
G30: TOPLAM | H30: =SUM(H25:H29) -> 0 | I30: =SUM(I25:I29) -> 0
B32: 2016
B33: PLAKA | C33: MARKA / MODEL | D33: KİRALAMA TARİHİ | E33: KİRALANAN FİRMA | F33: KİRALAMA SÜRESİ (Ay Bazında) | G33: KULLANIM AMACI | H33: İLGİLİ YIL YAPILAN KİLOMETRE | I33: İLGİLİ YIL TOPLAM KİRA BEDELİ (TL)
G39: TOPLAM | H39: =SUM(H34:H38) -> 0 | I39: =SUM(I34:I38) -> 0

Sheet Yazılım Kira Giderleri
B2: EK-10/F: YAZILIM KİRA GİDERLERİ
B5: 2013
B6: YAZILIM TANIMI | C6: EDİNİM TARİHİ | D6: KULLANIM AMACI | E6: ALINAN FİRMA | F6: İLGİLİ YIL TOPLAM KİRA BEDELİ (TL)
E12: TOPLAM | F12: =SUM(F7:F11) -> 0
B14: 2014
B15: YAZILIM TANIMI | C15: EDİNİM TARİHİ | D15: KULLANIM AMACI | E15: ALINAN FİRMA | F15: İLGİLİ YIL TOPLAM KİRA BEDELİ (TL)
E21: TOPLAM | F21: =SUM(F16:F20) -> 0
B23: 2015
B24: YAZILIM TANIMI | C24: EDİNİM TARİHİ | D24: KULLANIM AMACI | E24: ALINAN FİRMA | F24: İLGİLİ YIL TOPLAM KİRA BEDELİ (TL)
E30: TOPLAM | F30: =SUM(F25:F29) -> 0
B32: 2016
B33: YAZILIM TANIMI | C33: EDİNİM TARİHİ | D33: KULLANIM AMACI | E33: ALINAN FİRMA | F33: İLGİLİ YIL TOPLAM KİRA BEDELİ (TL)
E39: TOPLAM | F39: =SUM(F34:F38) -> 0

Sheet Fatura Bilgileri
B2: EK-10/G: FATURA BİLGİLERİ
B4: FATURA BİLGİLERİ
B5: Dönem | C5: Okunan Sayaç Sayısı (adet) | D5: Kesilen Fatura Sayısı (adet) | E5: İhbarname Sayısı (adet) | F5: Fatura Tahsilat Bilgileri
F6: Şirket Tarafından Tahsil Edilen Fatura Sayısı | G6: PTT lerde Tahsil Edilen Fatura Sayısı | H6: Bankalarca Tahsil Edilen Fatura Sayısı | I6: Diğer (Tahsilat Yolunu Belirtiniz) | J6: Toplam Fatura Tahsilat Sayısı
B7: 41275 | J7: =SUM(F7:I7) -> 0
B8: 41306 | J8: =SUM(F8:I8) -> 0
B9: 41334 | J9: =SUM(F9:I9) -> 0
B10: 41365 | J10: =SUM(F10:I10) -> 0
B11: 41395 | J11: =SUM(F11:I11) -> 0
B12: 41426 | J12: =SUM(F12:I12) -> 0
B13: 41456 | J13: =SUM(F13:I13) -> 0
B14: 41487 | J14: =SUM(F14:I14) -> 0
B15: 41518 | J15: =SUM(F15:I15) -> 0
B16: 41548 | J16: =SUM(F16:I16) -> 0
B17: 41579 | J17: =SUM(F17:I17) -> 0
B18: 41609 | J18: =SUM(F18:I18) -> 0
B19: 2013 Toplamı | C19: =SUM(C7:C18) -> 0 | D19: =SUM(D7:D18) -> 0 | E19: =SUM(E7:E18) -> 0 | F19: =SUM(F7:F18) -> 0 | G19: =SUM(G7:G18) -> 0 | H19: =SUM(H7:H18) -> 0 | I19: =SUM(I7:I18) -> 0 | J19: =SUM(J7:J18) -> 0
B20: 41640 | J20: =SUM(F20:I20) -> 0
B21: 41671 | J21: =SUM(F21:I21) -> 0
B22: 41699 | J22: =SUM(F22:I22) -> 0
B23: 41730 | J23: =SUM(F23:I23) -> 0
B24: 41760 | J24: =SUM(F24:I24) -> 0
B25: 41791 | J25: =SUM(F25:I25) -> 0
B26: 41821 | J26: =SUM(F26:I26) -> 0
B27: 41852 | J27: =SUM(F27:I27) -> 0
B28: 41883 | J28: =SUM(F28:I28) -> 0
B29: 41913 | J29: =SUM(F29:I29) -> 0
B30: 41944 | J30: =SUM(F30:I30) -> 0
B31: 41974 | J31: =SUM(F31:I31) -> 0
B32: 2014 Toplamı | C32: =SUM(C20:C31) -> 0 | D32: =SUM(D20:D31) -> 0 | E32: =SUM(E20:E31) -> 0 | F32: =SUM(F20:F31) -> 0 | G32: =SUM(G20:G31) -> 0 | H32: =SUM(H20:H31) -> 0 | I32: =SUM(I20:I31) -> 0 | J32: =SUM(J20:J31) -> 0
B33: 42005 | J33: =SUM(F33:I33) -> 0
B34: 42036 | J34: =SUM(F34:I34) -> 0
B35: 42064 | J35: =SUM(F35:I35) -> 0
B36: 42095 | J36: =SUM(F36:I36) -> 0
B37: 42125 | J37: =SUM(F37:I37) -> 0
B38: 42156 | J38: =SUM(F38:I38) -> 0
B39: 42186 | J39: =SUM(F39:I39) -> 0
B40: 42217 | J40: =SUM(F40:I40) -> 0
B41: 42248 | J41: =SUM(F41:I41) -> 0
B42: 42278 | J42: =SUM(F42:I42) -> 0
B43: 42309 | J43: =SUM(F43:I43) -> 0
B44: 42339 | J44: =SUM(F44:I44) -> 0
B45: 2015 Toplamı | C45: =SUM(C33:C44) -> 0 | D45: =SUM(D33:D44) -> 0 | E45: =SUM(E33:E44) -> 0 | F45: =SUM(F33:F44) -> 0 | G45: =SUM(G33:G44) -> 0 | H45: =SUM(H33:H44) -> 0 | I45: =SUM(I33:I44) -> 0 | J45: =SUM(J33:J44) -> 0
B46: 42370 | J46: =SUM(F46:I46) -> 0
B47: 42401 | J47: =SUM(F47:I47) -> 0
B48: 42430 | J48: =SUM(F48:I48) -> 0
B49: 42461 | J49: =SUM(F49:I49) -> 0
B50: 42491 | J50: =SUM(F50:I50) -> 0
B51: 42522 | J51: =SUM(F51:I51) -> 0
B52: 42552 | J52: =SUM(F52:I52) -> 0
B53: 42583 | J53: =SUM(F53:I53) -> 0
B54: 42614 | J54: =SUM(F54:I54) -> 0
B55: 42644 | J55: =SUM(F55:I55) -> 0
B56: 42675 | J56: =SUM(F56:I56) -> 0
B57: 42705 | J57: =SUM(F57:I57) -> 0
B58: 2016 Toplamı | C58: =SUM(C46:C57) -> 0 | D58: =SUM(D46:D57) -> 0 | E58: =SUM(E46:E57) -> 0 | F58: =SUM(F46:F57) -> 0 | G58: =SUM(G46:G57) -> 0 | H58: =SUM(H46:H57) -> 0 | I58: =SUM(I46:I57) -> 0 | J58: =SUM(J46:J57) -> 0

Sheet Periyodik Muayene Bilgileri
B2: EK-10/H: PERİYODİK MUAYENE BİLGİLERİ
C4: Sayaç Bilgileri
B5: Yıl | C5: Sayaç Türü | D5: Sayaç Markası | E5: Sayaç Sayısı
B6: 2016
B7: 2016
B8: 2016
B9: 2016
B10: 2016
B11: 2016
B12: 2016

Sheet İstihdam
B2: EK-13: PERSONEL SAYISI VE PERSONEL GİDERLERİ
B4: PERSONEL SAYISI - PERSONEL GİDERLERİ | C4: 41639 | D4: 42004 | E4: 42369 | F4: 42735
B5: Dönem Başı Personel Sayısı
B6: Dönem Sonu Personel Sayısı
B7: Toplam Personel Giderleri (TL)
B9: PERSONEL SAYISI DAĞILIMI (Dönem Sonu İtibariyle) | C9: 41639 | D9: 42004 | E9: 42369 | F9: 42735
B10: 1. Müşteri Hizmetleri Personeli | C10: =SUM(C11:C13) -> 0 | D10: =SUM(D11:D13) -> 0 | E10: =SUM(E11:E13) -> 0 | F10: =SUM(F11:F13) -> 0
B11: 1.1. Sayaç Okuma ve Faturalandırma Hizmeti
B12: 1.2. Abonelik Hizmeti
B13: 1.3. Tahsilat Hizmeti
B14: 2. Güvenlik Personeli
B15: 3. Teknik Hizmetler Personeli | C15: =SUM(C16:C19) -> 0 | D15: =SUM(D16:D19) -> 0 | E15: =SUM(E16:E19) -> 0 | F15: =SUM(F16:F19) -> 0
B16: 3.1. İç Tesisat
B17: 3.2. Acil Müdahale
B18: 3.3. Bakım Onarım
B19: 3.4. Yapım, Proje ve Etüd
B20: 4. Genel Hizmet Personeli
B21: 5. Pazarlama Personeli
B22: 6. Genel Yönetim Personeli
B23: TOPLAM | C23: =C10+C14+C15+C20+C21+C22 -> 0 | D23: =D10+D14+D15+D20+D21+D22 -> 0 | E23: =E10+E14+E15+E20+E21+E22 -> 0 | F23: =F10+F14+F15+F20+F21+F22 -> 0
B25: PERSONEL GİDERLERİ DAĞILIMI (TL) (Dönem Sonu İtibariyle) | C25: 41639 | D25: 42004 | E25: 42369 | F25: 42735
B26: 1. Müşteri Hizmetleri Personel Gideri | C26: =SUM(C27:C29) -> 0 | D26: =SUM(D27:D29) -> 0 | E26: =SUM(E27:E29) -> 0 | F26: =SUM(F27:F29) -> 0
B27: 1.1. Sayaç Okuma ve Faturalandırma Hizmeti
B28: 1.2. Abonelik Hizmeti
B29: 1.3. Tahsilat Hizmeti
B30: 2. Güvenlik Personel Gideri
B31: 3. Teknik Hizmetler Personel Gideri | C31: =SUM(C32:C35) -> 0 | D31: =SUM(D32:D35) -> 0 | E31: =SUM(E32:E35) -> 0 | F31: =SUM(F32:F35) -> 0
B32: 3.1. İç Tesisat
B33: 3.2. Acil Müdahale
B34: 3.3. Bakım Onarım
B35: 3.4. Yapım, Proje ve Etüd
B36: 4. Genel Hizmet Personel Gideri
B37: 5. Pazarlama Personel Gideri
B38: 6. Genel Yönetim Personel Gideri
B39: TOPLAM | C39: =C26+C30+C31+C36+C37+C38 -> 0 | D39: =D26+D30+D31+D36+D37+D38 -> 0 | E39: =E26+E30+E31+E36+E37+E38 -> 0 | F39: =F26+F30+F31+F36+F37+F38 -> 0

Sheet Krediler
B2: EK-14/B: DAĞITIM ŞİRKETLERİNİN KREDİLERİ
B4: KREDİLER TABLOSU (31.12.2016 TARİHİ İTİBARİYLE)
B5: Kredi No | C5: Kullanıldığı Proje | D5: Krediyi Sağlayan Finans Kurumu | E5: Kredi Başlangıç Tarihi | F5: Kredi Bitiş Tarihi | G5: Para Birimi | H5: Kredi Tutarı | I5: Taksit Periyodu | J5: 31.12.2016 Bakiyesi | K5: Yıllık Faiz Oranı*

Sheet Hizmet Kalitesi
B2: EK-19: HİZMET KALİTESİ PERFORMANS GÖSTERGELERİ
B4: HİZMET KALİTESİ PERFORMANS GÖSTERGELERİ
C5: Birim | D5: 41639 | E5: 42004 | F5: 42369 | G5: 42735
B6: I) BAĞLANTI BİLGİLERİ
B7: Bağlantı başvuru sayısı | C7: Adet | D7: =D8+D9 -> 0 | E7: =E8+E9 -> 0 | F7: =F8+F9 -> 0 | G7: =G8+G9 -> 0
B8: Kabul edilen bağlantı talep sayısı | C8: Adet
B9: Reddedilen bağlantı talep sayısı | C9: Adet
B10: Ortalama bağlantı başvurusu sonuçlandırma süresi | C10: Gün
B11: II) GEÇİCİ GAZ KESİNTİSİ NEDENLERİ
B12: Müşterinin talebi | C12: Adet
B13: Fatura bedelinin ödenmemesi | C13: Adet
B14: Mahkeme veya Kurul Kararı | C14: Adet
B15: Kaçak veya usülsüz gaz kullanımı | C15: Adet
B16: Fatura Okunamaması (sayaca ulaşılamaması) | C16: Adet
B17: III) ÖLÇÜMLEME
B18: Ölçüm yapamayan sayaç | C18: Adet
B19: Hatalı ölçüm yapan sayaç | C19: Adet
B20: Sayaç açma-kapama bedeli alınan müşteri sayısı | C20: Adet
B21: Doğal gaz yükleme merkezi sayısı | C21: Adet
B22: Nöbetçi doğal gaz yükleme merkezi sayısı | C22: Adet
B23: IV-a) ŞİKAYET SEBEPLERİ
B24: Sayaç şikayetleri | C24: Adet
B25: Gaz basınç seviyesi şikayetleri | C25: Adet
B26: Gaz kesinti şikayetleri | C26: Adet
B27: Sertfika sahiplerinin şikayetleri | C27: Adet
B28: Diğer şikayetler | C28: Adet
B29: IV-b) ŞİKAYET YÖNTEMLERİ
B30: Yazılı şikayet sayısı | C30: Adet
B31: Telefonla gelen şikayet sayısı | C31: Adet
B32: Fax ile gelen şikayet sayısı | C32: Adet
B33: E-posta ile gelen şikayet sayısı | C33: Adet
B34: Ortalama şikayet giderme süresi | C34: Saat
B35: IV-c) FATURA İTİRAZLARI
B36: Faturaya itiraz sayısı | C36: Adet
B37: Faturaya itirazı kabul edilen müşteri sayısı | C37: Adet
B38: Faturaya itirazı reddedilen müşteri sayısı | C38: Adet
B39: V) TAHSİLAT BİLGİLERİ
B40: Şirkete Ait Ödeme Merkezi Sayısı | C40: Adet
B41: Şirkete Ait Vezne Sayısı | C41: Adet
B42: Şirket Web Sitesi Üzerinden Fatura Ödeme Sayısı | C42: Adet
B43: Toplam Fatura Sayısı | C43: Adet
B44: Uzaktan Okuma Yapılan Sayaç Sayısı | C44: Adet
B45: VI) ACİL MÜDAHALE DURUMU
B46: Acil müdahale ihbar sayısı | C46: Adet
B47: Acil müdahaleye cevap verecek telefon hattı sayısı | C47: Adet
B48: Acil müdahale personel sayısı | C48: Adet
B49: Acil müdahale araç sayısı | C49: Adet
B50: Ortalama acil duruma müdahale süresi | C50: Dakika
B51: VII) KESİNTİ
B52: Bakım onarımdan dolayı kesinti sayısı | C52: Adet
B53: Bakım onarımdan dolayı kesinti süresi | C53: Dakika
B54: Acil Durumdan dolayı kesinti sayısı | C54: Adet
B55: Acil durumdan dolayı kesinti süresi | C55: Dakika
B56: VIII) İŞ GÜVENLİĞİ
B57: Gaz kaçaklarına bağlı kaza sayısı | C57: Adet
B58: Kazaların yol açtığı yaralanma veya ölüm sayısı | C58: Adet
B59: Kazalar sonucu oluşan zaman kaybı (Saat) | C59: Adet
B60: IX) TEDARİKÇİ DEĞİŞİMİ
B61: Dönem içerisinde tedarikçi değiştiren müşteri sayısı | C61: Adet
B62: X) ARAMA MERKEZİ (CALL CENTER) BİLGİLERİ
B63: Arama Merkezi Hat sayısı | C63: Adet
B64: Arama Merkezi Personel Sayısı | C64: Adet
B65: Arama Sayısı | C65: Adet
B66: Ortalama Bekleme Süresi | C66: Saniye

Sheet Tüketici Bilgileri
B2: EK-20: TÜKETİCİ SAYISI DETAY TABLOSU
C4: Birim | D4: 39813 | E4: 40178 | F4: 40543 | G4: 40908 | H4: 41274 | I4: 41639 | J4: 42004 | K4: 42369 | L4: 42735
B5: Faaliyette Bulunulan Alan | C5: km2
B6: Dağıtım Bölgesindeki Potansiyel Tüketici Adedi (Kümülatif) | C6: Adet | D6: =D7+D8 -> 0 | E6: =E7+E8 -> 0 | F6: =F7+F8 -> 0 | G6: =G7+G8 -> 0 | H6: =H7+H8 -> 0 | I6: =I7+I8 -> 0 | J6: =J7+J8 -> 0 | K6: =K7+K8 -> 0 | L6: =L7+L8 -> 0
B7: - Konut (Daire bazında) | C7: Adet
B8: - Konut Harici (İşyeri bazında) | C8: Adet
B9: Şebekenin Ulaştığı Potansiyel Tüketici Adedi (Kümülatif) | C9: Adet | D9: =D10+D11 -> 0 | E9: =E10+E11 -> 0 | F9: =F10+F11 -> 0 | G9: =G10+G11 -> 0 | H9: =H10+H11 -> 0 | I9: =I10+I11 -> 0 | J9: =J10+J11 -> 0 | K9: =K10+K11 -> 0 | L9: =L10+L11 -> 0
B10: - Konut (Daire bazında) | C10: Adet
B11: - Konut Harici (İşyeri bazında) | C11: Adet
B13: Servis Hattı Yapım Adedi (Kümülatif) | C13: Adet
B14: Tesis Edilen Servis Hatlarının Toplam Uzunluğu (Kümülatif) | C14: Metre
B15: Servis Hatları Toplam Maliyeti (Malzeme ve İşçilik Dahil Toplam Yapım Maliyeti) (KDV Hariç) | C15: TL
B17: Servis Hattıyla Ulaşılan Potansiyel Tüketici Adedi (Kümülatif) | C17: Adet | D17: =D18+D19 -> 0 | E17: =E18+E19 -> 0 | F17: =F18+F19 -> 0 | G17: =G18+G19 -> 0 | H17: =H18+H19 -> 0 | I17: =I18+I19 -> 0 | J17: =J18+J19 -> 0 | K17: =K18+K19 -> 0 | L17: =L18+L19 -> 0
B18: - Konut (Daire bazında) | C18: Adet
B19: - Konut Harici (İşyeri bazında) | C19: Adet
B20: Servis Hattıyla Ulaşılan Potansiyel Tüketici (Kümülatif) | C20: BBS | D20: =D21+D22 -> 0 | E20: =E21+E22 -> 0 | F20: =F21+F22 -> 0 | G20: =G21+G22 -> 0 | H20: =H21+H22 -> 0 | I20: =I21+I22 -> 0 | J20: =J21+J22 -> 0 | K20: =K21+K22 -> 0 | L20: =L21+L22 -> 0
B21: - Konut (Daire bazında) | C21: BBS
B22: - Konut Harici (İşyeri bazında) | C22: BBS
B24: Bağlantı Sözleşmesi Yapılan Tüketici Adedi (Kümülatif) (Servis Hattıyla Bağlanan - Bağlantı Bedelini BBS üzerinden ödeyen tüketiciler) | C24: Adet | D24: =SUM(D25:D28) -> 0 | E24: =SUM(E25:E28) -> 0 | F24: =SUM(F25:F28) -> 0 | G24: =SUM(G25:G28) -> 0 | H24: =SUM(H25:H28) -> 0 | I24: =SUM(I25:I28) -> 0 | J24: =SUM(J25:J28) -> 0 | K24: =SUM(K25:K28) -> 0 | L24: =SUM(L25:L28) -> 0
B25: - Konut Bireysel (Merkezi sistem ile ısınmayan) | C25: Adet
B26: - Konut Merkezi | C26: Adet
B27: - Konut Harici Bireysel (Merkezi sistem ile ısınmayan) | C27: Adet
B28: - Konut Harici Merkezi | C28: Adet
B29: Bağlantı Sözleşmesi Yapılan Tüketici (Kümülatif) (Servis Hattıyla Bağlanan - Bağlantı Bedelini BBS üzerinden ödeyen tüketiciler) | C29: BBS | D29: =SUM(D30:D33) -> 0 | E29: =SUM(E30:E33) -> 0 | F29: =SUM(F30:F33) -> 0 | G29: =SUM(G30:G33) -> 0 | H29: =SUM(H30:H33) -> 0 | I29: =SUM(I30:I33) -> 0 | J29: =SUM(J30:J33) -> 0 | K29: =SUM(K30:K33) -> 0 | L29: =SUM(L30:L33) -> 0
B30: - Konut Bireysel (Merkezi sistem ile ısınmayan) | C30: BBS
B31: - Konut Merkezi | C31: BBS
B32: - Konut Harici Bireysel (Merkezi sistem ile ısınmayan) | C32: BBS
B33: - Konut Harici Merkezi | C33: BBS
B34: Bağlantısı Yapılmış Merkezi Sistem Adedi (Kümülatif) | C34: Adet
B36: Gaz Kullanım Sözleşmesi İmzalayan Tüketici Adedi (Kümülatif) | C36: Adet
B37: İç Tesisat Onayı Yapılan Tüketici Adedi (Kümülatif) | C37: Adet
B38: Gazı Açılan Tüketici Adedi (Yıl içinde gazı ilk kez açılan tüketici) | C38: Adet
B39: Yıl İçinde En Az Bir Kez Fatura Kesilen Tüketici Adedi | C39: Adet
B40: Gaz Verilen Bina Adedi (İçinde en az bir abone bulunan) (Kümülatif) | C40: Adet
B42: Dağıtım Bölgesi Su Abone Sayısı (Kümülatif) | C42: Adet

Sheet Yatırımlar-Mevcut Bölge
B2: EK-21/A1: YATIRIMLAR (MEVCUT BÖLGE)
B4: YATIRIM GİDERLERİ (TL)
D5: 41274 | H5: 41639 | L5: 42004 | P5: 42369 | T5: 42735
B6: ŞEBEKE UNSURLARI | C6: Birim | D6: Miktar | E6: Birim Malzeme Giderleri (TL/Birim) | F6: Birim İnşaat ve İşçilik Giderleri (TL/Birim) | G6: Toplam Yatırım Giderleri (TL) | H6: Miktar | I6: Birim Malzeme Giderleri (TL/Birim) | J6: Birim İnşaat ve İşçilik Giderleri (TL/Birim) | K6: Toplam Yatırım Giderleri (TL) | L6: Miktar | M6: Birim Malzeme Giderleri (TL/Birim) | N6: Birim İnşaat ve İşçilik Giderleri (TL/Birim) | O6: Toplam Yatırım Giderleri (TL) | P6: Miktar | Q6: Birim Malzeme Giderleri (TL/Birim) | R6: Birim İnşaat ve İşçilik Giderleri (TL/Birim) | S6: Toplam Yatırım Giderleri (TL) | T6: Miktar | U6: Birim Malzeme Giderleri (TL/Birim) | V6: Birim İnşaat ve İşçilik Giderleri (TL/Birim) | W6: Toplam Yatırım Giderleri (TL)
B7: TOPLAM YATIRIM TUTARI | G7: =G8+G102+G132+C165 -> 0 | K7: =K8+K102+K132+D165 -> 0 | O7: =O8+O102+O132+E165 -> 0 | S7: =S8+S102+S132+F165 -> 0 | W7: =W8+W102+W132+G165 -> 0
B8: 1. DAĞITIM ŞEBEKESİ | G8: =G9+G30+G51+G72+G73+G88 -> 0 | K8: =K9+K30+K51+K72+K73+K88 -> 0 | O8: =O9+O30+O51+O72+O73+O88 -> 0 | S8: =S9+S30+S51+S72+S73+S88 -> 0 | W8: =W9+W30+W51+W72+W73+W88 -> 0
B9: 1.1. Dağıtım Hatları | G9: =G10+G23 -> 0 | K9: =K10+K23 -> 0 | O9: =O10+O23 -> 0 | S9: =S10+S23 -> 0 | W9: =W10+W23 -> 0
B10: 1.1.1. Çelik Hatlar | G10: =SUM(G11:G22) -> 0 | K10: =SUM(K11:K22) -> 0 | O10: =SUM(O11:O22) -> 0 | S10: =SUM(S11:S22) -> 0 | W10: =SUM(W11:W22) -> 0
B11: 1-2" | C11: metre | G11: =D11*(E11+F11) -> 0 | K11: =H11*(I11+J11) -> 0 | O11: =L11*(M11+N11) -> 0 | S11: =P11*(Q11+R11) -> 0 | W11: =T11*(U11+V11) -> 0
B12: 3-4" | C12: metre | G12: =D12*(E12+F12) -> 0 | K12: =H12*(I12+J12) -> 0 | O12: =L12*(M12+N12) -> 0 | S12: =P12*(Q12+R12) -> 0 | W12: =T12*(U12+V12) -> 0
B13: 5-6" | C13: metre | G13: =D13*(E13+F13) -> 0 | K13: =H13*(I13+J13) -> 0 | O13: =L13*(M13+N13) -> 0 | S13: =P13*(Q13+R13) -> 0 | W13: =T13*(U13+V13) -> 0
B14: 7-8" | C14: metre | G14: =D14*(E14+F14) -> 0 | K14: =H14*(I14+J14) -> 0 | O14: =L14*(M14+N14) -> 0 | S14: =P14*(Q14+R14) -> 0 | W14: =T14*(U14+V14) -> 0
B15: 9-10" | C15: metre | G15: =D15*(E15+F15) -> 0 | K15: =H15*(I15+J15) -> 0 | O15: =L15*(M15+N15) -> 0 | S15: =P15*(Q15+R15) -> 0 | W15: =T15*(U15+V15) -> 0
B16: 11-12" | C16: metre | G16: =D16*(E16+F16) -> 0 | K16: =H16*(I16+J16) -> 0 | O16: =L16*(M16+N16) -> 0 | S16: =P16*(Q16+R16) -> 0 | W16: =T16*(U16+V16) -> 0
B17: 13-14" | C17: metre | G17: =D17*(E17+F17) -> 0 | K17: =H17*(I17+J17) -> 0 | O17: =L17*(M17+N17) -> 0 | S17: =P17*(Q17+R17) -> 0 | W17: =T17*(U17+V17) -> 0
B18: 15-16" | C18: metre | G18: =D18*(E18+F18) -> 0 | K18: =H18*(I18+J18) -> 0 | O18: =L18*(M18+N18) -> 0 | S18: =P18*(Q18+R18) -> 0 | W18: =T18*(U18+V18) -> 0
B19: 17-20" | C19: metre | G19: =D19*(E19+F19) -> 0 | K19: =H19*(I19+J19) -> 0 | O19: =L19*(M19+N19) -> 0 | S19: =P19*(Q19+R19) -> 0 | W19: =T19*(U19+V19) -> 0
B20: 21-24" | C20: metre | G20: =D20*(E20+F20) -> 0 | K20: =H20*(I20+J20) -> 0 | O20: =L20*(M20+N20) -> 0 | S20: =P20*(Q20+R20) -> 0 | W20: =T20*(U20+V20) -> 0
B21: 25-28" | C21: metre | G21: =D21*(E21+F21) -> 0 | K21: =H21*(I21+J21) -> 0 | O21: =L21*(M21+N21) -> 0 | S21: =P21*(Q21+R21) -> 0 | W21: =T21*(U21+V21) -> 0
B22: 28" üzeri | C22: metre | G22: =D22*(E22+F22) -> 0 | K22: =H22*(I22+J22) -> 0 | O22: =L22*(M22+N22) -> 0 | S22: =P22*(Q22+R22) -> 0 | W22: =T22*(U22+V22) -> 0
B23: 1.1.2. Polietilen Hatlar | G23: =SUM(G24:G29) -> 0 | K23: =SUM(K24:K29) -> 0 | O23: =SUM(O24:O29) -> 0 | S23: =SUM(S24:S29) -> 0 | W23: =SUM(W24:W29) -> 0
B24: ND 0-40 mm | C24: metre | G24: =D24*(E24+F24) -> 0 | K24: =H24*(I24+J24) -> 0 | O24: =L24*(M24+N24) -> 0 | S24: =P24*(Q24+R24) -> 0 | W24: =T24*(U24+V24) -> 0
B25: ND 63 mm | C25: metre | G25: =D25*(E25+F25) -> 0 | K25: =H25*(I25+J25) -> 0 | O25: =L25*(M25+N25) -> 0 | S25: =P25*(Q25+R25) -> 0 | W25: =T25*(U25+V25) -> 0
B26: ND 90 mm | C26: metre | G26: =D26*(E26+F26) -> 0 | K26: =H26*(I26+J26) -> 0 | O26: =L26*(M26+N26) -> 0 | S26: =P26*(Q26+R26) -> 0 | W26: =T26*(U26+V26) -> 0
B27: ND 110 mm | C27: metre | G27: =D27*(E27+F27) -> 0 | K27: =H27*(I27+J27) -> 0 | O27: =L27*(M27+N27) -> 0 | S27: =P27*(Q27+R27) -> 0 | W27: =T27*(U27+V27) -> 0
B28: ND 125 mm | C28: metre | G28: =D28*(E28+F28) -> 0 | K28: =H28*(I28+J28) -> 0 | O28: =L28*(M28+N28) -> 0 | S28: =P28*(Q28+R28) -> 0 | W28: =T28*(U28+V28) -> 0
B29: ND 125 mm üzeri | C29: metre | G29: =D29*(E29+F29) -> 0 | K29: =H29*(I29+J29) -> 0 | O29: =L29*(M29+N29) -> 0 | S29: =P29*(Q29+R29) -> 0 | W29: =T29*(U29+V29) -> 0
B30: 1.2. Özel Geçiş Dağıtım Hatları | G30: =G31+G44 -> 0 | K30: =K31+K44 -> 0 | O30: =O31+O44 -> 0 | S30: =S31+S44 -> 0 | W30: =W31+W44 -> 0
B31: 1.2.1. ÖG Çelik Hatlar | G31: =SUM(G32:G43) -> 0 | K31: =SUM(K32:K43) -> 0 | O31: =SUM(O32:O43) -> 0 | S31: =SUM(S32:S43) -> 0 | W31: =SUM(W32:W43) -> 0
B32: 1-2" | C32: metre | G32: =D32*(E32+F32) -> 0 | K32: =H32*(I32+J32) -> 0 | O32: =L32*(M32+N32) -> 0 | S32: =P32*(Q32+R32) -> 0 | W32: =T32*(U32+V32) -> 0
B33: 3-4" | C33: metre | G33: =D33*(E33+F33) -> 0 | K33: =H33*(I33+J33) -> 0 | O33: =L33*(M33+N33) -> 0 | S33: =P33*(Q33+R33) -> 0 | W33: =T33*(U33+V33) -> 0
B34: 5-6" | C34: metre | G34: =D34*(E34+F34) -> 0 | K34: =H34*(I34+J34) -> 0 | O34: =L34*(M34+N34) -> 0 | S34: =P34*(Q34+R34) -> 0 | W34: =T34*(U34+V34) -> 0
B35: 7-8" | C35: metre | G35: =D35*(E35+F35) -> 0 | K35: =H35*(I35+J35) -> 0 | O35: =L35*(M35+N35) -> 0 | S35: =P35*(Q35+R35) -> 0 | W35: =T35*(U35+V35) -> 0
B36: 9-10" | C36: metre | G36: =D36*(E36+F36) -> 0 | K36: =H36*(I36+J36) -> 0 | O36: =L36*(M36+N36) -> 0 | S36: =P36*(Q36+R36) -> 0 | W36: =T36*(U36+V36) -> 0
B37: 11-12" | C37: metre | G37: =D37*(E37+F37) -> 0 | K37: =H37*(I37+J37) -> 0 | O37: =L37*(M37+N37) -> 0 | S37: =P37*(Q37+R37) -> 0 | W37: =T37*(U37+V37) -> 0
B38: 13-14" | C38: metre | G38: =D38*(E38+F38) -> 0 | K38: =H38*(I38+J38) -> 0 | O38: =L38*(M38+N38) -> 0 | S38: =P38*(Q38+R38) -> 0 | W38: =T38*(U38+V38) -> 0
B39: 15-16" | C39: metre | G39: =D39*(E39+F39) -> 0 | K39: =H39*(I39+J39) -> 0 | O39: =L39*(M39+N39) -> 0 | S39: =P39*(Q39+R39) -> 0 | W39: =T39*(U39+V39) -> 0
B40: 17-20" | C40: metre | G40: =D40*(E40+F40) -> 0 | K40: =H40*(I40+J40) -> 0 | O40: =L40*(M40+N40) -> 0 | S40: =P40*(Q40+R40) -> 0 | W40: =T40*(U40+V40) -> 0
B41: 21-24" | C41: metre | G41: =D41*(E41+F41) -> 0 | K41: =H41*(I41+J41) -> 0 | O41: =L41*(M41+N41) -> 0 | S41: =P41*(Q41+R41) -> 0 | W41: =T41*(U41+V41) -> 0
B42: 25-28" | C42: metre | G42: =D42*(E42+F42) -> 0 | K42: =H42*(I42+J42) -> 0 | O42: =L42*(M42+N42) -> 0 | S42: =P42*(Q42+R42) -> 0 | W42: =T42*(U42+V42) -> 0
B43: 28" üzeri | C43: metre | G43: =D43*(E43+F43) -> 0 | K43: =H43*(I43+J43) -> 0 | O43: =L43*(M43+N43) -> 0 | S43: =P43*(Q43+R43) -> 0 | W43: =T43*(U43+V43) -> 0
B44: 1.2.2. ÖG Polietilen Hatlar | G44: =SUM(G45:G50) -> 0 | K44: =SUM(K45:K50) -> 0 | O44: =SUM(O45:O50) -> 0 | S44: =SUM(S45:S50) -> 0 | W44: =SUM(W45:W50) -> 0
B45: ND 0-40 mm | C45: metre | G45: =D45*(E45+F45) -> 0 | K45: =H45*(I45+J45) -> 0 | O45: =L45*(M45+N45) -> 0 | S45: =P45*(Q45+R45) -> 0 | W45: =T45*(U45+V45) -> 0
B46: ND 63 mm | C46: metre | G46: =D46*(E46+F46) -> 0 | K46: =H46*(I46+J46) -> 0 | O46: =L46*(M46+N46) -> 0 | S46: =P46*(Q46+R46) -> 0 | W46: =T46*(U46+V46) -> 0
B47: ND 90 mm | C47: metre | G47: =D47*(E47+F47) -> 0 | K47: =H47*(I47+J47) -> 0 | O47: =L47*(M47+N47) -> 0 | S47: =P47*(Q47+R47) -> 0 | W47: =T47*(U47+V47) -> 0
B48: ND 110 mm | C48: metre | G48: =D48*(E48+F48) -> 0 | K48: =H48*(I48+J48) -> 0 | O48: =L48*(M48+N48) -> 0 | S48: =P48*(Q48+R48) -> 0 | W48: =T48*(U48+V48) -> 0
B49: ND 125 mm | C49: metre | G49: =D49*(E49+F49) -> 0 | K49: =H49*(I49+J49) -> 0 | O49: =L49*(M49+N49) -> 0 | S49: =P49*(Q49+R49) -> 0 | W49: =T49*(U49+V49) -> 0
B50: ND 125 mm üzeri | C50: metre | G50: =D50*(E50+F50) -> 0 | K50: =H50*(I50+J50) -> 0 | O50: =L50*(M50+N50) -> 0 | S50: =P50*(Q50+R50) -> 0 | W50: =T50*(U50+V50) -> 0
B51: 1.3. Hat Vanaları ve Vana Odaları | G51: =G52+G65 -> 0 | K51: =K52+K65 -> 0 | O51: =O52+O65 -> 0 | S51: =S52+S65 -> 0 | W51: =W52+W65 -> 0
B52: 1.3.1. Çelik Vanalar | G52: =SUM(G53:G64) -> 0 | K52: =SUM(K53:K64) -> 0 | O52: =SUM(O53:O64) -> 0 | S52: =SUM(S53:S64) -> 0 | W52: =SUM(W53:W64) -> 0
B53: 1-2" | C53: adet | G53: =D53*(E53+F53) -> 0 | K53: =H53*(I53+J53) -> 0 | O53: =L53*(M53+N53) -> 0 | S53: =P53*(Q53+R53) -> 0 | W53: =T53*(U53+V53) -> 0
B54: 3-4" | C54: adet | G54: =D54*(E54+F54) -> 0 | K54: =H54*(I54+J54) -> 0 | O54: =L54*(M54+N54) -> 0 | S54: =P54*(Q54+R54) -> 0 | W54: =T54*(U54+V54) -> 0
B55: 5-6" | C55: adet | G55: =D55*(E55+F55) -> 0 | K55: =H55*(I55+J55) -> 0 | O55: =L55*(M55+N55) -> 0 | S55: =P55*(Q55+R55) -> 0 | W55: =T55*(U55+V55) -> 0
B56: 7-8" | C56: adet | G56: =D56*(E56+F56) -> 0 | K56: =H56*(I56+J56) -> 0 | O56: =L56*(M56+N56) -> 0 | S56: =P56*(Q56+R56) -> 0 | W56: =T56*(U56+V56) -> 0
B57: 9-10" | C57: adet | G57: =D57*(E57+F57) -> 0 | K57: =H57*(I57+J57) -> 0 | O57: =L57*(M57+N57) -> 0 | S57: =P57*(Q57+R57) -> 0 | W57: =T57*(U57+V57) -> 0
B58: 11-12" | C58: adet | G58: =D58*(E58+F58) -> 0 | K58: =H58*(I58+J58) -> 0 | O58: =L58*(M58+N58) -> 0 | S58: =P58*(Q58+R58) -> 0 | W58: =T58*(U58+V58) -> 0
B59: 13-14" | C59: adet | G59: =D59*(E59+F59) -> 0 | K59: =H59*(I59+J59) -> 0 | O59: =L59*(M59+N59) -> 0 | S59: =P59*(Q59+R59) -> 0 | W59: =T59*(U59+V59) -> 0
B60: 15-16" | C60: adet | G60: =D60*(E60+F60) -> 0 | K60: =H60*(I60+J60) -> 0 | O60: =L60*(M60+N60) -> 0 | S60: =P60*(Q60+R60) -> 0 | W60: =T60*(U60+V60) -> 0
B61: 17-20" | C61: adet | G61: =D61*(E61+F61) -> 0 | K61: =H61*(I61+J61) -> 0 | O61: =L61*(M61+N61) -> 0 | S61: =P61*(Q61+R61) -> 0 | W61: =T61*(U61+V61) -> 0
B62: 21-24" | C62: adet | G62: =D62*(E62+F62) -> 0 | K62: =H62*(I62+J62) -> 0 | O62: =L62*(M62+N62) -> 0 | S62: =P62*(Q62+R62) -> 0 | W62: =T62*(U62+V62) -> 0
B63: 25-28" | C63: adet | G63: =D63*(E63+F63) -> 0 | K63: =H63*(I63+J63) -> 0 | O63: =L63*(M63+N63) -> 0 | S63: =P63*(Q63+R63) -> 0 | W63: =T63*(U63+V63) -> 0
B64: 28" üzeri | C64: adet | G64: =D64*(E64+F64) -> 0 | K64: =H64*(I64+J64) -> 0 | O64: =L64*(M64+N64) -> 0 | S64: =P64*(Q64+R64) -> 0 | W64: =T64*(U64+V64) -> 0
B65: 1.3.2. Polietilen Vanalar | G65: =SUM(G66:G71) -> 0 | K65: =SUM(K66:K71) -> 0 | O65: =SUM(O66:O71) -> 0 | S65: =SUM(S66:S71) -> 0 | W65: =SUM(W66:W71) -> 0
B66: ND 0-40 mm | C66: adet | G66: =D66*(E66+F66) -> 0 | K66: =H66*(I66+J66) -> 0 | O66: =L66*(M66+N66) -> 0 | S66: =P66*(Q66+R66) -> 0 | W66: =T66*(U66+V66) -> 0
B67: ND 63 mm | C67: adet | G67: =D67*(E67+F67) -> 0 | K67: =H67*(I67+J67) -> 0 | O67: =L67*(M67+N67) -> 0 | S67: =P67*(Q67+R67) -> 0 | W67: =T67*(U67+V67) -> 0
B68: ND 90 mm | C68: adet | G68: =D68*(E68+F68) -> 0 | K68: =H68*(I68+J68) -> 0 | O68: =L68*(M68+N68) -> 0 | S68: =P68*(Q68+R68) -> 0 | W68: =T68*(U68+V68) -> 0
B69: ND 110 mm | C69: adet | G69: =D69*(E69+F69) -> 0 | K69: =H69*(I69+J69) -> 0 | O69: =L69*(M69+N69) -> 0 | S69: =P69*(Q69+R69) -> 0 | W69: =T69*(U69+V69) -> 0
B70: ND 125 mm | C70: adet | G70: =D70*(E70+F70) -> 0 | K70: =H70*(I70+J70) -> 0 | O70: =L70*(M70+N70) -> 0 | S70: =P70*(Q70+R70) -> 0 | W70: =T70*(U70+V70) -> 0
B71: ND 125 mm üzeri | C71: adet | G71: =D71*(E71+F71) -> 0 | K71: =H71*(I71+J71) -> 0 | O71: =L71*(M71+N71) -> 0 | S71: =P71*(Q71+R71) -> 0 | W71: =T71*(U71+V71) -> 0
B72: 1.4. Canlı (Hot-tap) Operasyon Gideri | C72: TL
B73: 1.5. Şehir Giriş İstasyonları | G73: =G74+G87 -> 0 | K73: =K74+K87 -> 0 | O73: =O74+O87 -> 0 | S73: =S74+S87 -> 0 | W73: =W74+W87 -> 0
B74: 1.5.1. İlk Yatırım (İstasyon Kapasitesine Göre) | G74: =SUM(G75:G86) -> 0 | K74: =SUM(K75:K86) -> 0 | O74: =SUM(O75:O86) -> 0 | S74: =SUM(S75:S86) -> 0 | W74: =SUM(W75:W86) -> 0
B75: İstasyon 1 (Kapasite:………..m3/h) | C75: adet | G75: =D75*(E75+F75) -> 0 | K75: =H75*(I75+J75) -> 0 | O75: =L75*(M75+N75) -> 0 | S75: =P75*(Q75+R75) -> 0 | W75: =T75*(U75+V75) -> 0
B76: İstasyon 2 (Kapasite:………. m3/h) | C76: adet | G76: =D76*(E76+F76) -> 0 | K76: =H76*(I76+J76) -> 0 | O76: =L76*(M76+N76) -> 0 | S76: =P76*(Q76+R76) -> 0 | W76: =T76*(U76+V76) -> 0
B77: İstasyon 3 (Kapasite:………..m3/h) | C77: adet | G77: =D77*(E77+F77) -> 0 | K77: =H77*(I77+J77) -> 0 | O77: =L77*(M77+N77) -> 0 | S77: =P77*(Q77+R77) -> 0 | W77: =T77*(U77+V77) -> 0
B78: İstasyon 4 (Kapasite:………. m3/h) | C78: adet | G78: =D78*(E78+F78) -> 0 | K78: =H78*(I78+J78) -> 0 | O78: =L78*(M78+N78) -> 0 | S78: =P78*(Q78+R78) -> 0 | W78: =T78*(U78+V78) -> 0
B79: İstasyon 5 (Kapasite:………..m3/h) | C79: adet | G79: =D79*(E79+F79) -> 0 | K79: =H79*(I79+J79) -> 0 | O79: =L79*(M79+N79) -> 0 | S79: =P79*(Q79+R79) -> 0 | W79: =T79*(U79+V79) -> 0
B80: İstasyon 6 (Kapasite:………. m3/h) | C80: adet | G80: =D80*(E80+F80) -> 0 | K80: =H80*(I80+J80) -> 0 | O80: =L80*(M80+N80) -> 0 | S80: =P80*(Q80+R80) -> 0 | W80: =T80*(U80+V80) -> 0
B81: İstasyon 7 (Kapasite:………..m3/h) | C81: adet | G81: =D81*(E81+F81) -> 0 | K81: =H81*(I81+J81) -> 0 | O81: =L81*(M81+N81) -> 0 | S81: =P81*(Q81+R81) -> 0 | W81: =T81*(U81+V81) -> 0
B82: İstasyon 8 (Kapasite:………. m3/h) | C82: adet | G82: =D82*(E82+F82) -> 0 | K82: =H82*(I82+J82) -> 0 | O82: =L82*(M82+N82) -> 0 | S82: =P82*(Q82+R82) -> 0 | W82: =T82*(U82+V82) -> 0
B83: İstasyon 9 (Kapasite:………. m3/h) | C83: adet | G83: =D83*(E83+F83) -> 0 | K83: =H83*(I83+J83) -> 0 | O83: =L83*(M83+N83) -> 0 | S83: =P83*(Q83+R83) -> 0 | W83: =T83*(U83+V83) -> 0
B84: İstasyon 10 (Kapasite:………. m3/h) | C84: adet | G84: =D84*(E84+F84) -> 0 | K84: =H84*(I84+J84) -> 0 | O84: =L84*(M84+N84) -> 0 | S84: =P84*(Q84+R84) -> 0 | W84: =T84*(U84+V84) -> 0
B85: … | C85: adet | G85: =D85*(E85+F85) -> 0 | K85: =H85*(I85+J85) -> 0 | O85: =L85*(M85+N85) -> 0 | S85: =P85*(Q85+R85) -> 0 | W85: =T85*(U85+V85) -> 0
B86: … | C86: adet | G86: =D86*(E86+F86) -> 0 | K86: =H86*(I86+J86) -> 0 | O86: =L86*(M86+N86) -> 0 | S86: =P86*(Q86+R86) -> 0 | W86: =T86*(U86+V86) -> 0
B87: 1.5.2. İlave Yatırım | C87: TL
B88: 1.6. Şehir içi Bölge İstasyonları (İstasyon Kapasitesine Göre) | G88: =SUM(G89:G100) -> 0 | K88: =SUM(K89:K100) -> 0 | O88: =SUM(O89:O100) -> 0 | S88: =SUM(S89:S100) -> 0 | W88: =SUM(W89:W100) -> 0
B89: BR 1 (Kapasite:………..m3/h) | C89: adet | G89: =D89*(E89+F89) -> 0 | K89: =H89*(I89+J89) -> 0 | O89: =L89*(M89+N89) -> 0 | S89: =P89*(Q89+R89) -> 0 | W89: =T89*(U89+V89) -> 0
B90: BR 2 (Kapasite:………. m3/h) | C90: adet | G90: =D90*(E90+F90) -> 0 | K90: =H90*(I90+J90) -> 0 | O90: =L90*(M90+N90) -> 0 | S90: =P90*(Q90+R90) -> 0 | W90: =T90*(U90+V90) -> 0
B91: BR 3 (Kapasite:………..m3/h) | C91: adet | G91: =D91*(E91+F91) -> 0 | K91: =H91*(I91+J91) -> 0 | O91: =L91*(M91+N91) -> 0 | S91: =P91*(Q91+R91) -> 0 | W91: =T91*(U91+V91) -> 0
B92: BR 4 (Kapasite:………. m3/h) | C92: adet | G92: =D92*(E92+F92) -> 0 | K92: =H92*(I92+J92) -> 0 | O92: =L92*(M92+N92) -> 0 | S92: =P92*(Q92+R92) -> 0 | W92: =T92*(U92+V92) -> 0
B93: BR 5 (Kapasite:………..m3/h) | C93: adet | G93: =D93*(E93+F93) -> 0 | K93: =H93*(I93+J93) -> 0 | O93: =L93*(M93+N93) -> 0 | S93: =P93*(Q93+R93) -> 0 | W93: =T93*(U93+V93) -> 0
B94: BR 6 (Kapasite:………. m3/h) | C94: adet | G94: =D94*(E94+F94) -> 0 | K94: =H94*(I94+J94) -> 0 | O94: =L94*(M94+N94) -> 0 | S94: =P94*(Q94+R94) -> 0 | W94: =T94*(U94+V94) -> 0
B95: BR 7 (Kapasite:………..m3/h) | C95: adet | G95: =D95*(E95+F95) -> 0 | K95: =H95*(I95+J95) -> 0 | O95: =L95*(M95+N95) -> 0 | S95: =P95*(Q95+R95) -> 0 | W95: =T95*(U95+V95) -> 0
B96: BR 8 (Kapasite:………. m3/h) | C96: adet | G96: =D96*(E96+F96) -> 0 | K96: =H96*(I96+J96) -> 0 | O96: =L96*(M96+N96) -> 0 | S96: =P96*(Q96+R96) -> 0 | W96: =T96*(U96+V96) -> 0
B97: BR 9 (Kapasite:………. m3/h) | C97: adet | G97: =D97*(E97+F97) -> 0 | K97: =H97*(I97+J97) -> 0 | O97: =L97*(M97+N97) -> 0 | S97: =P97*(Q97+R97) -> 0 | W97: =T97*(U97+V97) -> 0
B98: BR 10 (Kapasite:………. m3/h) | C98: adet | G98: =D98*(E98+F98) -> 0 | K98: =H98*(I98+J98) -> 0 | O98: =L98*(M98+N98) -> 0 | S98: =P98*(Q98+R98) -> 0 | W98: =T98*(U98+V98) -> 0
B99: … | C99: adet | G99: =D99*(E99+F99) -> 0 | K99: =H99*(I99+J99) -> 0 | O99: =L99*(M99+N99) -> 0 | S99: =P99*(Q99+R99) -> 0 | W99: =T99*(U99+V99) -> 0
B100: … | C100: adet | G100: =D100*(E100+F100) -> 0 | K100: =H100*(I100+J100) -> 0 | O100: =L100*(M100+N100) -> 0 | S100: =P100*(Q100+R100) -> 0 | W100: =T100*(U100+V100) -> 0
B102: 2. ŞEHİR BESLEME HATTI | G102: =G103+G116+G129+G130 -> 0 | K102: =K103+K116+K129+K130 -> 0 | O102: =O103+O116+O129+O130 -> 0 | S102: =S103+S116+S129+S130 -> 0 | W102: =W103+W116+W129+W130 -> 0
B103: 2.1. Çelik Hatlar | G103: =SUM(G104:G115) -> 0 | K103: =SUM(K104:K115) -> 0 | O103: =SUM(O104:O115) -> 0 | S103: =SUM(S104:S115) -> 0 | W103: =SUM(W104:W115) -> 0
...

Sheet Yatırımlar-Genişleme1
B2: EK-21/A2: YATIRIMLAR (İLGİLİ ŞEHİR(LER))
B4: YATIRIM GİDERLERİ (TL)
D5: 41274 | H5: 41639 | L5: 42004 | P5: 42369 | T5: 42735
B6: ŞEBEKE UNSURLARI | C6: Birim | D6: Miktar | E6: Birim Malzeme Giderleri (TL/Birim) | F6: Birim İnşaat ve İşçilik Giderleri (TL/Birim) | G6: Toplam Yatırım Giderleri (TL) | H6: Miktar | I6: Birim Malzeme Giderleri (TL/Birim) | J6: Birim İnşaat ve İşçilik Giderleri (TL/Birim) | K6: Toplam Yatırım Giderleri (TL) | L6: Miktar | M6: Birim Malzeme Giderleri (TL/Birim) | N6: Birim İnşaat ve İşçilik Giderleri (TL/Birim) | O6: Toplam Yatırım Giderleri (TL) | P6: Miktar | Q6: Birim Malzeme Giderleri (TL/Birim) | R6: Birim İnşaat ve İşçilik Giderleri (TL/Birim) | S6: Toplam Yatırım Giderleri (TL) | T6: Miktar | U6: Birim Malzeme Giderleri (TL/Birim) | V6: Birim İnşaat ve İşçilik Giderleri (TL/Birim) | W6: Toplam Yatırım Giderleri (TL)
B7: TOPLAM YATIRIM TUTARI | G7: =G8+G102+G132+C165 -> 0 | K7: =K8+K102+K132+D165 -> 0 | O7: =O8+O102+O132+E165 -> 0 | S7: =S8+S102+S132+F165 -> 0 | W7: =W8+W102+W132+G165 -> 0
B8: 1. DAĞITIM ŞEBEKESİ | G8: =G9+G30+G51+G72+G73+G88 -> 0 | K8: =K9+K30+K51+K72+K73+K88 -> 0 | O8: =O9+O30+O51+O72+O73+O88 -> 0 | S8: =S9+S30+S51+S72+S73+S88 -> 0 | W8: =W9+W30+W51+W72+W73+W88 -> 0
B9: 1.1. Dağıtım Hatları | G9: =G10+G23 -> 0 | K9: =K10+K23 -> 0 | O9: =O10+O23 -> 0 | S9: =S10+S23 -> 0 | W9: =W10+W23 -> 0
B10: 1.1.1. Çelik Hatlar | G10: =SUM(G11:G22) -> 0 | K10: =SUM(K11:K22) -> 0 | O10: =SUM(O11:O22) -> 0 | S10: =SUM(S11:S22) -> 0 | W10: =SUM(W11:W22) -> 0
B11: 1-2" | C11: metre | G11: =D11*(E11+F11) -> 0 | K11: =H11*(I11+J11) -> 0 | O11: =L11*(M11+N11) -> 0 | S11: =P11*(Q11+R11) -> 0 | W11: =T11*(U11+V11) -> 0
B12: 3-4" | C12: metre | G12: =D12*(E12+F12) -> 0 | K12: =H12*(I12+J12) -> 0 | O12: =L12*(M12+N12) -> 0 | S12: =P12*(Q12+R12) -> 0 | W12: =T12*(U12+V12) -> 0
B13: 5-6" | C13: metre | G13: =D13*(E13+F13) -> 0 | K13: =H13*(I13+J13) -> 0 | O13: =L13*(M13+N13) -> 0 | S13: =P13*(Q13+R13) -> 0 | W13: =T13*(U13+V13) -> 0
B14: 7-8" | C14: metre | G14: =D14*(E14+F14) -> 0 | K14: =H14*(I14+J14) -> 0 | O14: =L14*(M14+N14) -> 0 | S14: =P14*(Q14+R14) -> 0 | W14: =T14*(U14+V14) -> 0
B15: 9-10" | C15: metre | G15: =D15*(E15+F15) -> 0 | K15: =H15*(I15+J15) -> 0 | O15: =L15*(M15+N15) -> 0 | S15: =P15*(Q15+R15) -> 0 | W15: =T15*(U15+V15) -> 0
B16: 11-12" | C16: metre | G16: =D16*(E16+F16) -> 0 | K16: =H16*(I16+J16) -> 0 | O16: =L16*(M16+N16) -> 0 | S16: =P16*(Q16+R16) -> 0 | W16: =T16*(U16+V16) -> 0
B17: 13-14" | C17: metre | G17: =D17*(E17+F17) -> 0 | K17: =H17*(I17+J17) -> 0 | O17: =L17*(M17+N17) -> 0 | S17: =P17*(Q17+R17) -> 0 | W17: =T17*(U17+V17) -> 0
B18: 15-16" | C18: metre | G18: =D18*(E18+F18) -> 0 | K18: =H18*(I18+J18) -> 0 | O18: =L18*(M18+N18) -> 0 | S18: =P18*(Q18+R18) -> 0 | W18: =T18*(U18+V18) -> 0
B19: 17-20" | C19: metre | G19: =D19*(E19+F19) -> 0 | K19: =H19*(I19+J19) -> 0 | O19: =L19*(M19+N19) -> 0 | S19: =P19*(Q19+R19) -> 0 | W19: =T19*(U19+V19) -> 0
B20: 21-24" | C20: metre | G20: =D20*(E20+F20) -> 0 | K20: =H20*(I20+J20) -> 0 | O20: =L20*(M20+N20) -> 0 | S20: =P20*(Q20+R20) -> 0 | W20: =T20*(U20+V20) -> 0
B21: 25-28" | C21: metre | G21: =D21*(E21+F21) -> 0 | K21: =H21*(I21+J21) -> 0 | O21: =L21*(M21+N21) -> 0 | S21: =P21*(Q21+R21) -> 0 | W21: =T21*(U21+V21) -> 0
B22: 28" üzeri | C22: metre | G22: =D22*(E22+F22) -> 0 | K22: =H22*(I22+J22) -> 0 | O22: =L22*(M22+N22) -> 0 | S22: =P22*(Q22+R22) -> 0 | W22: =T22*(U22+V22) -> 0
B23: 1.1.2. Polietilen Hatlar | G23: =SUM(G24:G29) -> 0 | K23: =SUM(K24:K29) -> 0 | O23: =SUM(O24:O29) -> 0 | S23: =SUM(S24:S29) -> 0 | W23: =SUM(W24:W29) -> 0
B24: ND 0-40 mm | C24: metre | G24: =D24*(E24+F24) -> 0 | K24: =H24*(I24+J24) -> 0 | O24: =L24*(M24+N24) -> 0 | S24: =P24*(Q24+R24) -> 0 | W24: =T24*(U24+V24) -> 0
B25: ND 63 mm | C25: metre | G25: =D25*(E25+F25) -> 0 | K25: =H25*(I25+J25) -> 0 | O25: =L25*(M25+N25) -> 0 | S25: =P25*(Q25+R25) -> 0 | W25: =T25*(U25+V25) -> 0
B26: ND 90 mm | C26: metre | G26: =D26*(E26+F26) -> 0 | K26: =H26*(I26+J26) -> 0 | O26: =L26*(M26+N26) -> 0 | S26: =P26*(Q26+R26) -> 0 | W26: =T26*(U26+V26) -> 0
B27: ND 110 mm | C27: metre | G27: =D27*(E27+F27) -> 0 | K27: =H27*(I27+J27) -> 0 | O27: =L27*(M27+N27) -> 0 | S27: =P27*(Q27+R27) -> 0 | W27: =T27*(U27+V27) -> 0
B28: ND 125 mm | C28: metre | G28: =D28*(E28+F28) -> 0 | K28: =H28*(I28+J28) -> 0 | O28: =L28*(M28+N28) -> 0 | S28: =P28*(Q28+R28) -> 0 | W28: =T28*(U28+V28) -> 0
B29: ND 125 mm üzeri | C29: metre | G29: =D29*(E29+F29) -> 0 | K29: =H29*(I29+J29) -> 0 | O29: =L29*(M29+N29) -> 0 | S29: =P29*(Q29+R29) -> 0 | W29: =T29*(U29+V29) -> 0
B30: 1.2. Özel Geçiş Dağıtım Hatları | G30: =G31+G44 -> 0 | K30: =K31+K44 -> 0 | O30: =O31+O44 -> 0 | S30: =S31+S44 -> 0 | W30: =W31+W44 -> 0
B31: 1.2.1. ÖG Çelik Hatlar | G31: =SUM(G32:G43) -> 0 | K31: =SUM(K32:K43) -> 0 | O31: =SUM(O32:O43) -> 0 | S31: =SUM(S32:S43) -> 0 | W31: =SUM(W32:W43) -> 0
B32: 1-2" | C32: metre | G32: =D32*(E32+F32) -> 0 | K32: =H32*(I32+J32) -> 0 | O32: =L32*(M32+N32) -> 0 | S32: =P32*(Q32+R32) -> 0 | W32: =T32*(U32+V32) -> 0
B33: 3-4" | C33: metre | G33: =D33*(E33+F33) -> 0 | K33: =H33*(I33+J33) -> 0 | O33: =L33*(M33+N33) -> 0 | S33: =P33*(Q33+R33) -> 0 | W33: =T33*(U33+V33) -> 0
B34: 5-6" | C34: metre | G34: =D34*(E34+F34) -> 0 | K34: =H34*(I34+J34) -> 0 | O34: =L34*(M34+N34) -> 0 | S34: =P34*(Q34+R34) -> 0 | W34: =T34*(U34+V34) -> 0
B35: 7-8" | C35: metre | G35: =D35*(E35+F35) -> 0 | K35: =H35*(I35+J35) -> 0 | O35: =L35*(M35+N35) -> 0 | S35: =P35*(Q35+R35) -> 0 | W35: =T35*(U35+V35) -> 0
B36: 9-10" | C36: metre | G36: =D36*(E36+F36) -> 0 | K36: =H36*(I36+J36) -> 0 | O36: =L36*(M36+N36) -> 0 | S36: =P36*(Q36+R36) -> 0 | W36: =T36*(U36+V36) -> 0
B37: 11-12" | C37: metre | G37: =D37*(E37+F37) -> 0 | K37: =H37*(I37+J37) -> 0 | O37: =L37*(M37+N37) -> 0 | S37: =P37*(Q37+R37) -> 0 | W37: =T37*(U37+V37) -> 0
B38: 13-14" | C38: metre | G38: =D38*(E38+F38) -> 0 | K38: =H38*(I38+J38) -> 0 | O38: =L38*(M38+N38) -> 0 | S38: =P38*(Q38+R38) -> 0 | W38: =T38*(U38+V38) -> 0
B39: 15-16" | C39: metre | G39: =D39*(E39+F39) -> 0 | K39: =H39*(I39+J39) -> 0 | O39: =L39*(M39+N39) -> 0 | S39: =P39*(Q39+R39) -> 0 | W39: =T39*(U39+V39) -> 0
B40: 17-20" | C40: metre | G40: =D40*(E40+F40) -> 0 | K40: =H40*(I40+J40) -> 0 | O40: =L40*(M40+N40) -> 0 | S40: =P40*(Q40+R40) -> 0 | W40: =T40*(U40+V40) -> 0
B41: 21-24" | C41: metre | G41: =D41*(E41+F41) -> 0 | K41: =H41*(I41+J41) -> 0 | O41: =L41*(M41+N41) -> 0 | S41: =P41*(Q41+R41) -> 0 | W41: =T41*(U41+V41) -> 0
B42: 25-28" | C42: metre | G42: =D42*(E42+F42) -> 0 | K42: =H42*(I42+J42) -> 0 | O42: =L42*(M42+N42) -> 0 | S42: =P42*(Q42+R42) -> 0 | W42: =T42*(U42+V42) -> 0
B43: 28" üzeri | C43: metre | G43: =D43*(E43+F43) -> 0 | K43: =H43*(I43+J43) -> 0 | O43: =L43*(M43+N43) -> 0 | S43: =P43*(Q43+R43) -> 0 | W43: =T43*(U43+V43) -> 0
B44: 1.2.2. ÖG Polietilen Hatlar | G44: =SUM(G45:G50) -> 0 | K44: =SUM(K45:K50) -> 0 | O44: =SUM(O45:O50) -> 0 | S44: =SUM(S45:S50) -> 0 | W44: =SUM(W45:W50) -> 0
B45: ND 0-40 mm | C45: metre | G45: =D45*(E45+F45) -> 0 | K45: =H45*(I45+J45) -> 0 | O45: =L45*(M45+N45) -> 0 | S45: =P45*(Q45+R45) -> 0 | W45: =T45*(U45+V45) -> 0
B46: ND 63 mm | C46: metre | G46: =D46*(E46+F46) -> 0 | K46: =H46*(I46+J46) -> 0 | O46: =L46*(M46+N46) -> 0 | S46: =P46*(Q46+R46) -> 0 | W46: =T46*(U46+V46) -> 0
B47: ND 90 mm | C47: metre | G47: =D47*(E47+F47) -> 0 | K47: =H47*(I47+J47) -> 0 | O47: =L47*(M47+N47) -> 0 | S47: =P47*(Q47+R47) -> 0 | W47: =T47*(U47+V47) -> 0
B48: ND 110 mm | C48: metre | G48: =D48*(E48+F48) -> 0 | K48: =H48*(I48+J48) -> 0 | O48: =L48*(M48+N48) -> 0 | S48: =P48*(Q48+R48) -> 0 | W48: =T48*(U48+V48) -> 0
B49: ND 125 mm | C49: metre | G49: =D49*(E49+F49) -> 0 | K49: =H49*(I49+J49) -> 0 | O49: =L49*(M49+N49) -> 0 | S49: =P49*(Q49+R49) -> 0 | W49: =T49*(U49+V49) -> 0
B50: ND 125 mm üzeri | C50: metre | G50: =D50*(E50+F50) -> 0 | K50: =H50*(I50+J50) -> 0 | O50: =L50*(M50+N50) -> 0 | S50: =P50*(Q50+R50) -> 0 | W50: =T50*(U50+V50) -> 0
B51: 1.3. Hat Vanaları ve Vana Odaları | G51: =G52+G65 -> 0 | K51: =K52+K65 -> 0 | O51: =O52+O65 -> 0 | S51: =S52+S65 -> 0 | W51: =W52+W65 -> 0
B52: 1.3.1. Çelik Vanalar | G52: =SUM(G53:G64) -> 0 | K52: =SUM(K53:K64) -> 0 | O52: =SUM(O53:O64) -> 0 | S52: =SUM(S53:S64) -> 0 | W52: =SUM(W53:W64) -> 0
B53: 1-2" | C53: adet | G53: =D53*(E53+F53) -> 0 | K53: =H53*(I53+J53) -> 0 | O53: =L53*(M53+N53) -> 0 | S53: =P53*(Q53+R53) -> 0 | W53: =T53*(U53+V53) -> 0
B54: 3-4" | C54: adet | G54: =D54*(E54+F54) -> 0 | K54: =H54*(I54+J54) -> 0 | O54: =L54*(M54+N54) -> 0 | S54: =P54*(Q54+R54) -> 0 | W54: =T54*(U54+V54) -> 0
B55: 5-6" | C55: adet | G55: =D55*(E55+F55) -> 0 | K55: =H55*(I55+J55) -> 0 | O55: =L55*(M55+N55) -> 0 | S55: =P55*(Q55+R55) -> 0 | W55: =T55*(U55+V55) -> 0
B56: 7-8" | C56: adet | G56: =D56*(E56+F56) -> 0 | K56: =H56*(I56+J56) -> 0 | O56: =L56*(M56+N56) -> 0 | S56: =P56*(Q56+R56) -> 0 | W56: =T56*(U56+V56) -> 0
B57: 9-10" | C57: adet | G57: =D57*(E57+F57) -> 0 | K57: =H57*(I57+J57) -> 0 | O57: =L57*(M57+N57) -> 0 | S57: =P57*(Q57+R57) -> 0 | W57: =T57*(U57+V57) -> 0
B58: 11-12" | C58: adet | G58: =D58*(E58+F58) -> 0 | K58: =H58*(I58+J58) -> 0 | O58: =L58*(M58+N58) -> 0 | S58: =P58*(Q58+R58) -> 0 | W58: =T58*(U58+V58) -> 0
B59: 13-14" | C59: adet | G59: =D59*(E59+F59) -> 0 | K59: =H59*(I59+J59) -> 0 | O59: =L59*(M59+N59) -> 0 | S59: =P59*(Q59+R59) -> 0 | W59: =T59*(U59+V59) -> 0
B60: 15-16" | C60: adet | G60: =D60*(E60+F60) -> 0 | K60: =H60*(I60+J60) -> 0 | O60: =L60*(M60+N60) -> 0 | S60: =P60*(Q60+R60) -> 0 | W60: =T60*(U60+V60) -> 0
B61: 17-20" | C61: adet | G61: =D61*(E61+F61) -> 0 | K61: =H61*(I61+J61) -> 0 | O61: =L61*(M61+N61) -> 0 | S61: =P61*(Q61+R61) -> 0 | W61: =T61*(U61+V61) -> 0
B62: 21-24" | C62: adet | G62: =D62*(E62+F62) -> 0 | K62: =H62*(I62+J62) -> 0 | O62: =L62*(M62+N62) -> 0 | S62: =P62*(Q62+R62) -> 0 | W62: =T62*(U62+V62) -> 0
B63: 25-28" | C63: adet | G63: =D63*(E63+F63) -> 0 | K63: =H63*(I63+J63) -> 0 | O63: =L63*(M63+N63) -> 0 | S63: =P63*(Q63+R63) -> 0 | W63: =T63*(U63+V63) -> 0
B64: 28" üzeri | C64: adet | G64: =D64*(E64+F64) -> 0 | K64: =H64*(I64+J64) -> 0 | O64: =L64*(M64+N64) -> 0 | S64: =P64*(Q64+R64) -> 0 | W64: =T64*(U64+V64) -> 0
B65: 1.3.2. Polietilen Vanalar | G65: =SUM(G66:G71) -> 0 | K65: =SUM(K66:K71) -> 0 | O65: =SUM(O66:O71) -> 0 | S65: =SUM(S66:S71) -> 0 | W65: =SUM(W66:W71) -> 0
B66: ND 0-40 mm | C66: adet | G66: =D66*(E66+F66) -> 0 | K66: =H66*(I66+J66) -> 0 | O66: =L66*(M66+N66) -> 0 | S66: =P66*(Q66+R66) -> 0 | W66: =T66*(U66+V66) -> 0
B67: ND 63 mm | C67: adet | G67: =D67*(E67+F67) -> 0 | K67: =H67*(I67+J67) -> 0 | O67: =L67*(M67+N67) -> 0 | S67: =P67*(Q67+R67) -> 0 | W67: =T67*(U67+V67) -> 0
B68: ND 90 mm | C68: adet | G68: =D68*(E68+F68) -> 0 | K68: =H68*(I68+J68) -> 0 | O68: =L68*(M68+N68) -> 0 | S68: =P68*(Q68+R68) -> 0 | W68: =T68*(U68+V68) -> 0
B69: ND 110 mm | C69: adet | G69: =D69*(E69+F69) -> 0 | K69: =H69*(I69+J69) -> 0 | O69: =L69*(M69+N69) -> 0 | S69: =P69*(Q69+R69) -> 0 | W69: =T69*(U69+V69) -> 0
B70: ND 125 mm | C70: adet | G70: =D70*(E70+F70) -> 0 | K70: =H70*(I70+J70) -> 0 | O70: =L70*(M70+N70) -> 0 | S70: =P70*(Q70+R70) -> 0 | W70: =T70*(U70+V70) -> 0
B71: ND 125 mm üzeri | C71: adet | G71: =D71*(E71+F71) -> 0 | K71: =H71*(I71+J71) -> 0 | O71: =L71*(M71+N71) -> 0 | S71: =P71*(Q71+R71) -> 0 | W71: =T71*(U71+V71) -> 0
B72: 1.4. Canlı (Hot-tap) Operasyon Gideri | C72: TL
B73: 1.5. Şehir Giriş İstasyonları | G73: =G74+G87 -> 0 | K73: =K74+K87 -> 0 | O73: =O74+O87 -> 0 | S73: =S74+S87 -> 0 | W73: =W74+W87 -> 0
B74: 1.5.1. İlk Yatırım (İstasyon Kapasitesine Göre) | G74: =SUM(G75:G86) -> 0 | K74: =SUM(K75:K86) -> 0 | O74: =SUM(O75:O86) -> 0 | S74: =SUM(S75:S86) -> 0 | W74: =SUM(W75:W86) -> 0
B75: İstasyon 1 (Kapasite:………..m3/h) | C75: adet | G75: =D75*(E75+F75) -> 0 | K75: =H75*(I75+J75) -> 0 | O75: =L75*(M75+N75) -> 0 | S75: =P75*(Q75+R75) -> 0 | W75: =T75*(U75+V75) -> 0
B76: İstasyon 2 (Kapasite:………. m3/h) | C76: adet | G76: =D76*(E76+F76) -> 0 | K76: =H76*(I76+J76) -> 0 | O76: =L76*(M76+N76) -> 0 | S76: =P76*(Q76+R76) -> 0 | W76: =T76*(U76+V76) -> 0
B77: İstasyon 3 (Kapasite:………..m3/h) | C77: adet | G77: =D77*(E77+F77) -> 0 | K77: =H77*(I77+J77) -> 0 | O77: =L77*(M77+N77) -> 0 | S77: =P77*(Q77+R77) -> 0 | W77: =T77*(U77+V77) -> 0
B78: İstasyon 4 (Kapasite:………. m3/h) | C78: adet | G78: =D78*(E78+F78) -> 0 | K78: =H78*(I78+J78) -> 0 | O78: =L78*(M78+N78) -> 0 | S78: =P78*(Q78+R78) -> 0 | W78: =T78*(U78+V78) -> 0
B79: İstasyon 5 (Kapasite:………..m3/h) | C79: adet | G79: =D79*(E79+F79) -> 0 | K79: =H79*(I79+J79) -> 0 | O79: =L79*(M79+N79) -> 0 | S79: =P79*(Q79+R79) -> 0 | W79: =T79*(U79+V79) -> 0
B80: İstasyon 6 (Kapasite:………. m3/h) | C80: adet | G80: =D80*(E80+F80) -> 0 | K80: =H80*(I80+J80) -> 0 | O80: =L80*(M80+N80) -> 0 | S80: =P80*(Q80+R80) -> 0 | W80: =T80*(U80+V80) -> 0
B81: İstasyon 7 (Kapasite:………..m3/h) | C81: adet | G81: =D81*(E81+F81) -> 0 | K81: =H81*(I81+J81) -> 0 | O81: =L81*(M81+N81) -> 0 | S81: =P81*(Q81+R81) -> 0 | W81: =T81*(U81+V81) -> 0
B82: İstasyon 8 (Kapasite:………. m3/h) | C82: adet | G82: =D82*(E82+F82) -> 0 | K82: =H82*(I82+J82) -> 0 | O82: =L82*(M82+N82) -> 0 | S82: =P82*(Q82+R82) -> 0 | W82: =T82*(U82+V82) -> 0
B83: İstasyon 9 (Kapasite:………. m3/h) | C83: adet | G83: =D83*(E83+F83) -> 0 | K83: =H83*(I83+J83) -> 0 | O83: =L83*(M83+N83) -> 0 | S83: =P83*(Q83+R83) -> 0 | W83: =T83*(U83+V83) -> 0
B84: İstasyon 10 (Kapasite:………. m3/h) | C84: adet | G84: =D84*(E84+F84) -> 0 | K84: =H84*(I84+J84) -> 0 | O84: =L84*(M84+N84) -> 0 | S84: =P84*(Q84+R84) -> 0 | W84: =T84*(U84+V84) -> 0
B85: … | C85: adet | G85: =D85*(E85+F85) -> 0 | K85: =H85*(I85+J85) -> 0 | O85: =L85*(M85+N85) -> 0 | S85: =P85*(Q85+R85) -> 0 | W85: =T85*(U85+V85) -> 0
B86: … | C86: adet | G86: =D86*(E86+F86) -> 0 | K86: =H86*(I86+J86) -> 0 | O86: =L86*(M86+N86) -> 0 | S86: =P86*(Q86+R86) -> 0 | W86: =T86*(U86+V86) -> 0
B87: 1.5.2. İlave Yatırım | C87: TL
B88: 1.6. Şehir içi Bölge İstasyonları (İstasyon Kapasitesine Göre) | G88: =SUM(G89:G100) -> 0 | K88: =SUM(K89:K100) -> 0 | O88: =SUM(O89:O100) -> 0 | S88: =SUM(S89:S100) -> 0 | W88: =SUM(W89:W100) -> 0
B89: BR 1 (Kapasite:………..m3/h) | C89: adet | G89: =D89*(E89+F89) -> 0 | K89: =H89*(I89+J89) -> 0 | O89: =L89*(M89+N89) -> 0 | S89: =P89*(Q89+R89) -> 0 | W89: =T89*(U89+V89) -> 0
B90: BR 2 (Kapasite:………. m3/h) | C90: adet | G90: =D90*(E90+F90) -> 0 | K90: =H90*(I90+J90) -> 0 | O90: =L90*(M90+N90) -> 0 | S90: =P90*(Q90+R90) -> 0 | W90: =T90*(U90+V90) -> 0
B91: BR 3 (Kapasite:………..m3/h) | C91: adet | G91: =D91*(E91+F91) -> 0 | K91: =H91*(I91+J91) -> 0 | O91: =L91*(M91+N91) -> 0 | S91: =P91*(Q91+R91) -> 0 | W91: =T91*(U91+V91) -> 0
B92: BR 4 (Kapasite:………. m3/h) | C92: adet | G92: =D92*(E92+F92) -> 0 | K92: =H92*(I92+J92) -> 0 | O92: =L92*(M92+N92) -> 0 | S92: =P92*(Q92+R92) -> 0 | W92: =T92*(U92+V92) -> 0
B93: BR 5 (Kapasite:………..m3/h) | C93: adet | G93: =D93*(E93+F93) -> 0 | K93: =H93*(I93+J93) -> 0 | O93: =L93*(M93+N93) -> 0 | S93: =P93*(Q93+R93) -> 0 | W93: =T93*(U93+V93) -> 0
B94: BR 6 (Kapasite:………. m3/h) | C94: adet | G94: =D94*(E94+F94) -> 0 | K94: =H94*(I94+J94) -> 0 | O94: =L94*(M94+N94) -> 0 | S94: =P94*(Q94+R94) -> 0 | W94: =T94*(U94+V94) -> 0
B95: BR 7 (Kapasite:………..m3/h) | C95: adet | G95: =D95*(E95+F95) -> 0 | K95: =H95*(I95+J95) -> 0 | O95: =L95*(M95+N95) -> 0 | S95: =P95*(Q95+R95) -> 0 | W95: =T95*(U95+V95) -> 0
B96: BR 8 (Kapasite:………. m3/h) | C96: adet | G96: =D96*(E96+F96) -> 0 | K96: =H96*(I96+J96) -> 0 | O96: =L96*(M96+N96) -> 0 | S96: =P96*(Q96+R96) -> 0 | W96: =T96*(U96+V96) -> 0
B97: BR 9 (Kapasite:………. m3/h) | C97: adet | G97: =D97*(E97+F97) -> 0 | K97: =H97*(I97+J97) -> 0 | O97: =L97*(M97+N97) -> 0 | S97: =P97*(Q97+R97) -> 0 | W97: =T97*(U97+V97) -> 0
B98: BR 10 (Kapasite:………. m3/h) | C98: adet | G98: =D98*(E98+F98) -> 0 | K98: =H98*(I98+J98) -> 0 | O98: =L98*(M98+N98) -> 0 | S98: =P98*(Q98+R98) -> 0 | W98: =T98*(U98+V98) -> 0
B99: … | C99: adet | G99: =D99*(E99+F99) -> 0 | K99: =H99*(I99+J99) -> 0 | O99: =L99*(M99+N99) -> 0 | S99: =P99*(Q99+R99) -> 0 | W99: =T99*(U99+V99) -> 0
B100: … | C100: adet | G100: =D100*(E100+F100) -> 0 | K100: =H100*(I100+J100) -> 0 | O100: =L100*(M100+N100) -> 0 | S100: =P100*(Q100+R100) -> 0 | W100: =T100*(U100+V100) -> 0
B102: 2. ŞEHİR BESLEME HATTI | G102: =G103+G116+G129+G130 -> 0 | K102: =K103+K116+K129+K130 -> 0 | O102: =O103+O116+O129+O130 -> 0 | S102: =S103+S116+S129+S130 -> 0 | W102: =W103+W116+W129+W130 -> 0
B103: 2.1. Çelik Hatlar | G103: =SUM(G104:G115) -> 0 | K103: =SUM(K104:K115) -> 0 | O103: =SUM(O104:O115) -> 0 | S103: =SUM(S104:S115) -> 0 | W103: =SUM(W104:W115) -> 0
...

Sheet Yatırımlar-Genişleme2
B2: EK-21/A3: YATIRIMLAR (İLGİLİ ŞEHİR(LER))
B4: YATIRIM GİDERLERİ (TL)
D5: 41274 | H5: 41639 | L5: 42004 | P5: 42369 | T5: 42735
B6: ŞEBEKE UNSURLARI | C6: Birim | D6: Miktar | E6: Birim Malzeme Giderleri (TL/Birim) | F6: Birim İnşaat ve İşçilik Giderleri (TL/Birim) | G6: Toplam Yatırım Giderleri (TL) | H6: Miktar | I6: Birim Malzeme Giderleri (TL/Birim) | J6: Birim İnşaat ve İşçilik Giderleri (TL/Birim) | K6: Toplam Yatırım Giderleri (TL) | L6: Miktar | M6: Birim Malzeme Giderleri (TL/Birim) | N6: Birim İnşaat ve İşçilik Giderleri (TL/Birim) | O6: Toplam Yatırım Giderleri (TL) | P6: Miktar | Q6: Birim Malzeme Giderleri (TL/Birim) | R6: Birim İnşaat ve İşçilik Giderleri (TL/Birim) | S6: Toplam Yatırım Giderleri (TL) | T6: Miktar | U6: Birim Malzeme Giderleri (TL/Birim) | V6: Birim İnşaat ve İşçilik Giderleri (TL/Birim) | W6: Toplam Yatırım Giderleri (TL)
B7: TOPLAM YATIRIM TUTARI | G7: =G8+G102+G132+C165 -> 0 | K7: =K8+K102+K132+D165 -> 0 | O7: =O8+O102+O132+E165 -> 0 | S7: =S8+S102+S132+F165 -> 0 | W7: =W8+W102+W132+G165 -> 0
B8: 1. DAĞITIM ŞEBEKESİ | G8: =G9+G30+G51+G72+G73+G88 -> 0 | K8: =K9+K30+K51+K72+K73+K88 -> 0 | O8: =O9+O30+O51+O72+O73+O88 -> 0 | S8: =S9+S30+S51+S72+S73+S88 -> 0 | W8: =W9+W30+W51+W72+W73+W88 -> 0
B9: 1.1. Dağıtım Hatları | G9: =G10+G23 -> 0 | K9: =K10+K23 -> 0 | O9: =O10+O23 -> 0 | S9: =S10+S23 -> 0 | W9: =W10+W23 -> 0
B10: 1.1.1. Çelik Hatlar | G10: =SUM(G11:G22) -> 0 | K10: =SUM(K11:K22) -> 0 | O10: =SUM(O11:O22) -> 0 | S10: =SUM(S11:S22) -> 0 | W10: =SUM(W11:W22) -> 0
B11: 1-2" | C11: metre | G11: =D11*(E11+F11) -> 0 | K11: =H11*(I11+J11) -> 0 | O11: =L11*(M11+N11) -> 0 | S11: =P11*(Q11+R11) -> 0 | W11: =T11*(U11+V11) -> 0
B12: 3-4" | C12: metre | G12: =D12*(E12+F12) -> 0 | K12: =H12*(I12+J12) -> 0 | O12: =L12*(M12+N12) -> 0 | S12: =P12*(Q12+R12) -> 0 | W12: =T12*(U12+V12) -> 0
B13: 5-6" | C13: metre | G13: =D13*(E13+F13) -> 0 | K13: =H13*(I13+J13) -> 0 | O13: =L13*(M13+N13) -> 0 | S13: =P13*(Q13+R13) -> 0 | W13: =T13*(U13+V13) -> 0
B14: 7-8" | C14: metre | G14: =D14*(E14+F14) -> 0 | K14: =H14*(I14+J14) -> 0 | O14: =L14*(M14+N14) -> 0 | S14: =P14*(Q14+R14) -> 0 | W14: =T14*(U14+V14) -> 0
B15: 9-10" | C15: metre | G15: =D15*(E15+F15) -> 0 | K15: =H15*(I15+J15) -> 0 | O15: =L15*(M15+N15) -> 0 | S15: =P15*(Q15+R15) -> 0 | W15: =T15*(U15+V15) -> 0
B16: 11-12" | C16: metre | G16: =D16*(E16+F16) -> 0 | K16: =H16*(I16+J16) -> 0 | O16: =L16*(M16+N16) -> 0 | S16: =P16*(Q16+R16) -> 0 | W16: =T16*(U16+V16) -> 0
B17: 13-14" | C17: metre | G17: =D17*(E17+F17) -> 0 | K17: =H17*(I17+J17) -> 0 | O17: =L17*(M17+N17) -> 0 | S17: =P17*(Q17+R17) -> 0 | W17: =T17*(U17+V17) -> 0
B18: 15-16" | C18: metre | G18: =D18*(E18+F18) -> 0 | K18: =H18*(I18+J18) -> 0 | O18: =L18*(M18+N18) -> 0 | S18: =P18*(Q18+R18) -> 0 | W18: =T18*(U18+V18) -> 0
B19: 17-20" | C19: metre | G19: =D19*(E19+F19) -> 0 | K19: =H19*(I19+J19) -> 0 | O19: =L19*(M19+N19) -> 0 | S19: =P19*(Q19+R19) -> 0 | W19: =T19*(U19+V19) -> 0
B20: 21-24" | C20: metre | G20: =D20*(E20+F20) -> 0 | K20: =H20*(I20+J20) -> 0 | O20: =L20*(M20+N20) -> 0 | S20: =P20*(Q20+R20) -> 0 | W20: =T20*(U20+V20) -> 0
B21: 25-28" | C21: metre | G21: =D21*(E21+F21) -> 0 | K21: =H21*(I21+J21) -> 0 | O21: =L21*(M21+N21) -> 0 | S21: =P21*(Q21+R21) -> 0 | W21: =T21*(U21+V21) -> 0
B22: 28" üzeri | C22: metre | G22: =D22*(E22+F22) -> 0 | K22: =H22*(I22+J22) -> 0 | O22: =L22*(M22+N22) -> 0 | S22: =P22*(Q22+R22) -> 0 | W22: =T22*(U22+V22) -> 0
B23: 1.1.2. Polietilen Hatlar | G23: =SUM(G24:G29) -> 0 | K23: =SUM(K24:K29) -> 0 | O23: =SUM(O24:O29) -> 0 | S23: =SUM(S24:S29) -> 0 | W23: =SUM(W24:W29) -> 0
B24: ND 0-40 mm | C24: metre | G24: =D24*(E24+F24) -> 0 | K24: =H24*(I24+J24) -> 0 | O24: =L24*(M24+N24) -> 0 | S24: =P24*(Q24+R24) -> 0 | W24: =T24*(U24+V24) -> 0
B25: ND 63 mm | C25: metre | G25: =D25*(E25+F25) -> 0 | K25: =H25*(I25+J25) -> 0 | O25: =L25*(M25+N25) -> 0 | S25: =P25*(Q25+R25) -> 0 | W25: =T25*(U25+V25) -> 0
B26: ND 90 mm | C26: metre | G26: =D26*(E26+F26) -> 0 | K26: =H26*(I26+J26) -> 0 | O26: =L26*(M26+N26) -> 0 | S26: =P26*(Q26+R26) -> 0 | W26: =T26*(U26+V26) -> 0
B27: ND 110 mm | C27: metre | G27: =D27*(E27+F27) -> 0 | K27: =H27*(I27+J27) -> 0 | O27: =L27*(M27+N27) -> 0 | S27: =P27*(Q27+R27) -> 0 | W27: =T27*(U27+V27) -> 0
B28: ND 125 mm | C28: metre | G28: =D28*(E28+F28) -> 0 | K28: =H28*(I28+J28) -> 0 | O28: =L28*(M28+N28) -> 0 | S28: =P28*(Q28+R28) -> 0 | W28: =T28*(U28+V28) -> 0
B29: ND 125 mm üzeri | C29: metre | G29: =D29*(E29+F29) -> 0 | K29: =H29*(I29+J29) -> 0 | O29: =L29*(M29+N29) -> 0 | S29: =P29*(Q29+R29) -> 0 | W29: =T29*(U29+V29) -> 0
B30: 1.2. Özel Geçiş Dağıtım Hatları | G30: =G31+G44 -> 0 | K30: =K31+K44 -> 0 | O30: =O31+O44 -> 0 | S30: =S31+S44 -> 0 | W30: =W31+W44 -> 0
B31: 1.2.1. ÖG Çelik Hatlar | G31: =SUM(G32:G43) -> 0 | K31: =SUM(K32:K43) -> 0 | O31: =SUM(O32:O43) -> 0 | S31: =SUM(S32:S43) -> 0 | W31: =SUM(W32:W43) -> 0
B32: 1-2" | C32: metre | G32: =D32*(E32+F32) -> 0 | K32: =H32*(I32+J32) -> 0 | O32: =L32*(M32+N32) -> 0 | S32: =P32*(Q32+R32) -> 0 | W32: =T32*(U32+V32) -> 0
B33: 3-4" | C33: metre | G33: =D33*(E33+F33) -> 0 | K33: =H33*(I33+J33) -> 0 | O33: =L33*(M33+N33) -> 0 | S33: =P33*(Q33+R33) -> 0 | W33: =T33*(U33+V33) -> 0
B34: 5-6" | C34: metre | G34: =D34*(E34+F34) -> 0 | K34: =H34*(I34+J34) -> 0 | O34: =L34*(M34+N34) -> 0 | S34: =P34*(Q34+R34) -> 0 | W34: =T34*(U34+V34) -> 0
B35: 7-8" | C35: metre | G35: =D35*(E35+F35) -> 0 | K35: =H35*(I35+J35) -> 0 | O35: =L35*(M35+N35) -> 0 | S35: =P35*(Q35+R35) -> 0 | W35: =T35*(U35+V35) -> 0
B36: 9-10" | C36: metre | G36: =D36*(E36+F36) -> 0 | K36: =H36*(I36+J36) -> 0 | O36: =L36*(M36+N36) -> 0 | S36: =P36*(Q36+R36) -> 0 | W36: =T36*(U36+V36) -> 0
B37: 11-12" | C37: metre | G37: =D37*(E37+F37) -> 0 | K37: =H37*(I37+J37) -> 0 | O37: =L37*(M37+N37) -> 0 | S37: =P37*(Q37+R37) -> 0 | W37: =T37*(U37+V37) -> 0
B38: 13-14" | C38: metre | G38: =D38*(E38+F38) -> 0 | K38: =H38*(I38+J38) -> 0 | O38: =L38*(M38+N38) -> 0 | S38: =P38*(Q38+R38) -> 0 | W38: =T38*(U38+V38) -> 0
B39: 15-16" | C39: metre | G39: =D39*(E39+F39) -> 0 | K39: =H39*(I39+J39) -> 0 | O39: =L39*(M39+N39) -> 0 | S39: =P39*(Q39+R39) -> 0 | W39: =T39*(U39+V39) -> 0
B40: 17-20" | C40: metre | G40: =D40*(E40+F40) -> 0 | K40: =H40*(I40+J40) -> 0 | O40: =L40*(M40+N40) -> 0 | S40: =P40*(Q40+R40) -> 0 | W40: =T40*(U40+V40) -> 0
B41: 21-24" | C41: metre | G41: =D41*(E41+F41) -> 0 | K41: =H41*(I41+J41) -> 0 | O41: =L41*(M41+N41) -> 0 | S41: =P41*(Q41+R41) -> 0 | W41: =T41*(U41+V41) -> 0
B42: 25-28" | C42: metre | G42: =D42*(E42+F42) -> 0 | K42: =H42*(I42+J42) -> 0 | O42: =L42*(M42+N42) -> 0 | S42: =P42*(Q42+R42) -> 0 | W42: =T42*(U42+V42) -> 0
B43: 28" üzeri | C43: metre | G43: =D43*(E43+F43) -> 0 | K43: =H43*(I43+J43) -> 0 | O43: =L43*(M43+N43) -> 0 | S43: =P43*(Q43+R43) -> 0 | W43: =T43*(U43+V43) -> 0
B44: 1.2.2. ÖG Polietilen Hatlar | G44: =SUM(G45:G50) -> 0 | K44: =SUM(K45:K50) -> 0 | O44: =SUM(O45:O50) -> 0 | S44: =SUM(S45:S50) -> 0 | W44: =SUM(W45:W50) -> 0
B45: ND 0-40 mm | C45: metre | G45: =D45*(E45+F45) -> 0 | K45: =H45*(I45+J45) -> 0 | O45: =L45*(M45+N45) -> 0 | S45: =P45*(Q45+R45) -> 0 | W45: =T45*(U45+V45) -> 0
B46: ND 63 mm | C46: metre | G46: =D46*(E46+F46) -> 0 | K46: =H46*(I46+J46) -> 0 | O46: =L46*(M46+N46) -> 0 | S46: =P46*(Q46+R46) -> 0 | W46: =T46*(U46+V46) -> 0
B47: ND 90 mm | C47: metre | G47: =D47*(E47+F47) -> 0 | K47: =H47*(I47+J47) -> 0 | O47: =L47*(M47+N47) -> 0 | S47: =P47*(Q47+R47) -> 0 | W47: =T47*(U47+V47) -> 0
B48: ND 110 mm | C48: metre | G48: =D48*(E48+F48) -> 0 | K48: =H48*(I48+J48) -> 0 | O48: =L48*(M48+N48) -> 0 | S48: =P48*(Q48+R48) -> 0 | W48: =T48*(U48+V48) -> 0
B49: ND 125 mm | C49: metre | G49: =D49*(E49+F49) -> 0 | K49: =H49*(I49+J49) -> 0 | O49: =L49*(M49+N49) -> 0 | S49: =P49*(Q49+R49) -> 0 | W49: =T49*(U49+V49) -> 0
B50: ND 125 mm üzeri | C50: metre | G50: =D50*(E50+F50) -> 0 | K50: =H50*(I50+J50) -> 0 | O50: =L50*(M50+N50) -> 0 | S50: =P50*(Q50+R50) -> 0 | W50: =T50*(U50+V50) -> 0
B51: 1.3. Hat Vanaları ve Vana Odaları | G51: =G52+G65 -> 0 | K51: =K52+K65 -> 0 | O51: =O52+O65 -> 0 | S51: =S52+S65 -> 0 | W51: =W52+W65 -> 0
B52: 1.3.1. Çelik Vanalar | G52: =SUM(G53:G64) -> 0 | K52: =SUM(K53:K64) -> 0 | O52: =SUM(O53:O64) -> 0 | S52: =SUM(S53:S64) -> 0 | W52: =SUM(W53:W64) -> 0
B53: 1-2" | C53: adet | G53: =D53*(E53+F53) -> 0 | K53: =H53*(I53+J53) -> 0 | O53: =L53*(M53+N53) -> 0 | S53: =P53*(Q53+R53) -> 0 | W53: =T53*(U53+V53) -> 0
B54: 3-4" | C54: adet | G54: =D54*(E54+F54) -> 0 | K54: =H54*(I54+J54) -> 0 | O54: =L54*(M54+N54) -> 0 | S54: =P54*(Q54+R54) -> 0 | W54: =T54*(U54+V54) -> 0
B55: 5-6" | C55: adet | G55: =D55*(E55+F55) -> 0 | K55: =H55*(I55+J55) -> 0 | O55: =L55*(M55+N55) -> 0 | S55: =P55*(Q55+R55) -> 0 | W55: =T55*(U55+V55) -> 0
B56: 7-8" | C56: adet | G56: =D56*(E56+F56) -> 0 | K56: =H56*(I56+J56) -> 0 | O56: =L56*(M56+N56) -> 0 | S56: =P56*(Q56+R56) -> 0 | W56: =T56*(U56+V56) -> 0
B57: 9-10" | C57: adet | G57: =D57*(E57+F57) -> 0 | K57: =H57*(I57+J57) -> 0 | O57: =L57*(M57+N57) -> 0 | S57: =P57*(Q57+R57) -> 0 | W57: =T57*(U57+V57) -> 0
B58: 11-12" | C58: adet | G58: =D58*(E58+F58) -> 0 | K58: =H58*(I58+J58) -> 0 | O58: =L58*(M58+N58) -> 0 | S58: =P58*(Q58+R58) -> 0 | W58: =T58*(U58+V58) -> 0
B59: 13-14" | C59: adet | G59: =D59*(E59+F59) -> 0 | K59: =H59*(I59+J59) -> 0 | O59: =L59*(M59+N59) -> 0 | S59: =P59*(Q59+R59) -> 0 | W59: =T59*(U59+V59) -> 0
B60: 15-16" | C60: adet | G60: =D60*(E60+F60) -> 0 | K60: =H60*(I60+J60) -> 0 | O60: =L60*(M60+N60) -> 0 | S60: =P60*(Q60+R60) -> 0 | W60: =T60*(U60+V60) -> 0
B61: 17-20" | C61: adet | G61: =D61*(E61+F61) -> 0 | K61: =H61*(I61+J61) -> 0 | O61: =L61*(M61+N61) -> 0 | S61: =P61*(Q61+R61) -> 0 | W61: =T61*(U61+V61) -> 0
B62: 21-24" | C62: adet | G62: =D62*(E62+F62) -> 0 | K62: =H62*(I62+J62) -> 0 | O62: =L62*(M62+N62) -> 0 | S62: =P62*(Q62+R62) -> 0 | W62: =T62*(U62+V62) -> 0
B63: 25-28" | C63: adet | G63: =D63*(E63+F63) -> 0 | K63: =H63*(I63+J63) -> 0 | O63: =L63*(M63+N63) -> 0 | S63: =P63*(Q63+R63) -> 0 | W63: =T63*(U63+V63) -> 0
B64: 28" üzeri | C64: adet | G64: =D64*(E64+F64) -> 0 | K64: =H64*(I64+J64) -> 0 | O64: =L64*(M64+N64) -> 0 | S64: =P64*(Q64+R64) -> 0 | W64: =T64*(U64+V64) -> 0
B65: 1.3.2. Polietilen Vanalar | G65: =SUM(G66:G71) -> 0 | K65: =SUM(K66:K71) -> 0 | O65: =SUM(O66:O71) -> 0 | S65: =SUM(S66:S71) -> 0 | W65: =SUM(W66:W71) -> 0
B66: ND 0-40 mm | C66: adet | G66: =D66*(E66+F66) -> 0 | K66: =H66*(I66+J66) -> 0 | O66: =L66*(M66+N66) -> 0 | S66: =P66*(Q66+R66) -> 0 | W66: =T66*(U66+V66) -> 0
B67: ND 63 mm | C67: adet | G67: =D67*(E67+F67) -> 0 | K67: =H67*(I67+J67) -> 0 | O67: =L67*(M67+N67) -> 0 | S67: =P67*(Q67+R67) -> 0 | W67: =T67*(U67+V67) -> 0
B68: ND 90 mm | C68: adet | G68: =D68*(E68+F68) -> 0 | K68: =H68*(I68+J68) -> 0 | O68: =L68*(M68+N68) -> 0 | S68: =P68*(Q68+R68) -> 0 | W68: =T68*(U68+V68) -> 0
B69: ND 110 mm | C69: adet | G69: =D69*(E69+F69) -> 0 | K69: =H69*(I69+J69) -> 0 | O69: =L69*(M69+N69) -> 0 | S69: =P69*(Q69+R69) -> 0 | W69: =T69*(U69+V69) -> 0
B70: ND 125 mm | C70: adet | G70: =D70*(E70+F70) -> 0 | K70: =H70*(I70+J70) -> 0 | O70: =L70*(M70+N70) -> 0 | S70: =P70*(Q70+R70) -> 0 | W70: =T70*(U70+V70) -> 0
B71: ND 125 mm üzeri | C71: adet | G71: =D71*(E71+F71) -> 0 | K71: =H71*(I71+J71) -> 0 | O71: =L71*(M71+N71) -> 0 | S71: =P71*(Q71+R71) -> 0 | W71: =T71*(U71+V71) -> 0
B72: 1.4. Canlı (Hot-tap) Operasyon Gideri | C72: TL
B73: 1.5. Şehir Giriş İstasyonları | G73: =G74+G87 -> 0 | K73: =K74+K87 -> 0 | O73: =O74+O87 -> 0 | S73: =S74+S87 -> 0 | W73: =W74+W87 -> 0
B74: 1.5.1. İlk Yatırım (İstasyon Kapasitesine Göre) | G74: =SUM(G75:G86) -> 0 | K74: =SUM(K75:K86) -> 0 | O74: =SUM(O75:O86) -> 0 | S74: =SUM(S75:S86) -> 0 | W74: =SUM(W75:W86) -> 0
B75: İstasyon 1 (Kapasite:………..m3/h) | C75: adet | G75: =D75*(E75+F75) -> 0 | K75: =H75*(I75+J75) -> 0 | O75: =L75*(M75+N75) -> 0 | S75: =P75*(Q75+R75) -> 0 | W75: =T75*(U75+V75) -> 0
B76: İstasyon 2 (Kapasite:………. m3/h) | C76: adet | G76: =D76*(E76+F76) -> 0 | K76: =H76*(I76+J76) -> 0 | O76: =L76*(M76+N76) -> 0 | S76: =P76*(Q76+R76) -> 0 | W76: =T76*(U76+V76) -> 0
B77: İstasyon 3 (Kapasite:………..m3/h) | C77: adet | G77: =D77*(E77+F77) -> 0 | K77: =H77*(I77+J77) -> 0 | O77: =L77*(M77+N77) -> 0 | S77: =P77*(Q77+R77) -> 0 | W77: =T77*(U77+V77) -> 0
B78: İstasyon 4 (Kapasite:………. m3/h) | C78: adet | G78: =D78*(E78+F78) -> 0 | K78: =H78*(I78+J78) -> 0 | O78: =L78*(M78+N78) -> 0 | S78: =P78*(Q78+R78) -> 0 | W78: =T78*(U78+V78) -> 0
B79: İstasyon 5 (Kapasite:………..m3/h) | C79: adet | G79: =D79*(E79+F79) -> 0 | K79: =H79*(I79+J79) -> 0 | O79: =L79*(M79+N79) -> 0 | S79: =P79*(Q79+R79) -> 0 | W79: =T79*(U79+V79) -> 0
B80: İstasyon 6 (Kapasite:………. m3/h) | C80: adet | G80: =D80*(E80+F80) -> 0 | K80: =H80*(I80+J80) -> 0 | O80: =L80*(M80+N80) -> 0 | S80: =P80*(Q80+R80) -> 0 | W80: =T80*(U80+V80) -> 0
B81: İstasyon 7 (Kapasite:………..m3/h) | C81: adet | G81: =D81*(E81+F81) -> 0 | K81: =H81*(I81+J81) -> 0 | O81: =L81*(M81+N81) -> 0 | S81: =P81*(Q81+R81) -> 0 | W81: =T81*(U81+V81) -> 0
B82: İstasyon 8 (Kapasite:………. m3/h) | C82: adet | G82: =D82*(E82+F82) -> 0 | K82: =H82*(I82+J82) -> 0 | O82: =L82*(M82+N82) -> 0 | S82: =P82*(Q82+R82) -> 0 | W82: =T82*(U82+V82) -> 0
B83: İstasyon 9 (Kapasite:………. m3/h) | C83: adet | G83: =D83*(E83+F83) -> 0 | K83: =H83*(I83+J83) -> 0 | O83: =L83*(M83+N83) -> 0 | S83: =P83*(Q83+R83) -> 0 | W83: =T83*(U83+V83) -> 0
B84: İstasyon 10 (Kapasite:………. m3/h) | C84: adet | G84: =D84*(E84+F84) -> 0 | K84: =H84*(I84+J84) -> 0 | O84: =L84*(M84+N84) -> 0 | S84: =P84*(Q84+R84) -> 0 | W84: =T84*(U84+V84) -> 0
B85: … | C85: adet | G85: =D85*(E85+F85) -> 0 | K85: =H85*(I85+J85) -> 0 | O85: =L85*(M85+N85) -> 0 | S85: =P85*(Q85+R85) -> 0 | W85: =T85*(U85+V85) -> 0
B86: … | C86: adet | G86: =D86*(E86+F86) -> 0 | K86: =H86*(I86+J86) -> 0 | O86: =L86*(M86+N86) -> 0 | S86: =P86*(Q86+R86) -> 0 | W86: =T86*(U86+V86) -> 0
B87: 1.5.2. İlave Yatırım | C87: TL
B88: 1.6. Şehir içi Bölge İstasyonları (İstasyon Kapasitesine Göre) | G88: =SUM(G89:G100) -> 0 | K88: =SUM(K89:K100) -> 0 | O88: =SUM(O89:O100) -> 0 | S88: =SUM(S89:S100) -> 0 | W88: =SUM(W89:W100) -> 0
B89: BR 1 (Kapasite:………..m3/h) | C89: adet | G89: =D89*(E89+F89) -> 0 | K89: =H89*(I89+J89) -> 0 | O89: =L89*(M89+N89) -> 0 | S89: =P89*(Q89+R89) -> 0 | W89: =T89*(U89+V89) -> 0
B90: BR 2 (Kapasite:………. m3/h) | C90: adet | G90: =D90*(E90+F90) -> 0 | K90: =H90*(I90+J90) -> 0 | O90: =L90*(M90+N90) -> 0 | S90: =P90*(Q90+R90) -> 0 | W90: =T90*(U90+V90) -> 0
B91: BR 3 (Kapasite:………..m3/h) | C91: adet | G91: =D91*(E91+F91) -> 0 | K91: =H91*(I91+J91) -> 0 | O91: =L91*(M91+N91) -> 0 | S91: =P91*(Q91+R91) -> 0 | W91: =T91*(U91+V91) -> 0
B92: BR 4 (Kapasite:………. m3/h) | C92: adet | G92: =D92*(E92+F92) -> 0 | K92: =H92*(I92+J92) -> 0 | O92: =L92*(M92+N92) -> 0 | S92: =P92*(Q92+R92) -> 0 | W92: =T92*(U92+V92) -> 0
B93: BR 5 (Kapasite:………..m3/h) | C93: adet | G93: =D93*(E93+F93) -> 0 | K93: =H93*(I93+J93) -> 0 | O93: =L93*(M93+N93) -> 0 | S93: =P93*(Q93+R93) -> 0 | W93: =T93*(U93+V93) -> 0
B94: BR 6 (Kapasite:………. m3/h) | C94: adet | G94: =D94*(E94+F94) -> 0 | K94: =H94*(I94+J94) -> 0 | O94: =L94*(M94+N94) -> 0 | S94: =P94*(Q94+R94) -> 0 | W94: =T94*(U94+V94) -> 0
B95: BR 7 (Kapasite:………..m3/h) | C95: adet | G95: =D95*(E95+F95) -> 0 | K95: =H95*(I95+J95) -> 0 | O95: =L95*(M95+N95) -> 0 | S95: =P95*(Q95+R95) -> 0 | W95: =T95*(U95+V95) -> 0
B96: BR 8 (Kapasite:………. m3/h) | C96: adet | G96: =D96*(E96+F96) -> 0 | K96: =H96*(I96+J96) -> 0 | O96: =L96*(M96+N96) -> 0 | S96: =P96*(Q96+R96) -> 0 | W96: =T96*(U96+V96) -> 0
B97: BR 9 (Kapasite:………. m3/h) | C97: adet | G97: =D97*(E97+F97) -> 0 | K97: =H97*(I97+J97) -> 0 | O97: =L97*(M97+N97) -> 0 | S97: =P97*(Q97+R97) -> 0 | W97: =T97*(U97+V97) -> 0
B98: BR 10 (Kapasite:………. m3/h) | C98: adet | G98: =D98*(E98+F98) -> 0 | K98: =H98*(I98+J98) -> 0 | O98: =L98*(M98+N98) -> 0 | S98: =P98*(Q98+R98) -> 0 | W98: =T98*(U98+V98) -> 0
B99: … | C99: adet | G99: =D99*(E99+F99) -> 0 | K99: =H99*(I99+J99) -> 0 | O99: =L99*(M99+N99) -> 0 | S99: =P99*(Q99+R99) -> 0 | W99: =T99*(U99+V99) -> 0
B100: … | C100: adet | G100: =D100*(E100+F100) -> 0 | K100: =H100*(I100+J100) -> 0 | O100: =L100*(M100+N100) -> 0 | S100: =P100*(Q100+R100) -> 0 | W100: =T100*(U100+V100) -> 0
B102: 2. ŞEHİR BESLEME HATTI | G102: =G103+G116+G129+G130 -> 0 | K102: =K103+K116+K129+K130 -> 0 | O102: =O103+O116+O129+O130 -> 0 | S102: =S103+S116+S129+S130 -> 0 | W102: =W103+W116+W129+W130 -> 0
B103: 2.1. Çelik Hatlar | G103: =SUM(G104:G115) -> 0 | K103: =SUM(K104:K115) -> 0 | O103: =SUM(O104:O115) -> 0 | S103: =SUM(S104:S115) -> 0 | W103: =SUM(W104:W115) -> 0
...

Sheet Münferit Hatlar
B2: EK-21/A4: MÜNFERİT HATLAR
B4: YATIRIM GİDERLERİ (TL)
D5: 41274 | H5: 41639 | L5: 42004 | P5: 42369 | T5: 42735
C6: Birim | D6: Miktar | E6: Birim Malzeme Giderleri (TL/Birim) | F6: Birim İnşaat ve İşçilik Giderleri (TL/Birim) | G6: Toplam Yatırım Giderleri (TL) | H6: Miktar | I6: Birim Malzeme Giderleri (TL/Birim) | J6: Birim İnşaat ve İşçilik Giderleri (TL/Birim) | K6: Toplam Yatırım Giderleri (TL) | L6: Miktar | M6: Birim Malzeme Giderleri (TL/Birim) | N6: Birim İnşaat ve İşçilik Giderleri (TL/Birim) | O6: Toplam Yatırım Giderleri (TL) | P6: Miktar | Q6: Birim Malzeme Giderleri (TL/Birim) | R6: Birim İnşaat ve İşçilik Giderleri (TL/Birim) | S6: Toplam Yatırım Giderleri (TL) | T6: Miktar | U6: Birim Malzeme Giderleri (TL/Birim) | V6: Birim İnşaat ve İşçilik Giderleri (TL/Birim) | W6: Toplam Yatırım Giderleri (TL)
B7: TOPLAM YATIRIM TUTARI | G7: =SUM(G8,G29,G32,C35) -> 0 | K7: =SUM(K8,K29,K32,D35) -> 0 | O7: =SUM(O8,O29,O32,E35) -> 0 | S7: =SUM(S8,S29,S32,F35) -> 0 | W7: =SUM(W8,W29,W32,G35) -> 0
B8: 1. HATLAR | G8: =G9+G22 -> 0 | K8: =K9+K22 -> 0 | O8: =O9+O22 -> 0 | S8: =S9+S22 -> 0 | W8: =W9+W22 -> 0
B9: 1.1. Çelik Hatlar | G9: =SUM(G10:G21) -> 0 | K9: =SUM(K10:K21) -> 0 | O9: =SUM(O10:O21) -> 0 | S9: =SUM(S10:S21) -> 0 | W9: =SUM(W10:W21) -> 0
B10: 1-2" | C10: metre | G10: =D10*(E10+F10) -> 0 | K10: =H10*(I10+J10) -> 0 | O10: =L10*(M10+N10) -> 0 | S10: =P10*(Q10+R10) -> 0 | W10: =T10*(U10+V10) -> 0
B11: 3-4" | C11: metre | G11: =D11*(E11+F11) -> 0 | K11: =H11*(I11+J11) -> 0 | O11: =L11*(M11+N11) -> 0 | S11: =P11*(Q11+R11) -> 0 | W11: =T11*(U11+V11) -> 0
B12: 5-6" | C12: metre | G12: =D12*(E12+F12) -> 0 | K12: =H12*(I12+J12) -> 0 | O12: =L12*(M12+N12) -> 0 | S12: =P12*(Q12+R12) -> 0 | W12: =T12*(U12+V12) -> 0
B13: 7-8" | C13: metre | G13: =D13*(E13+F13) -> 0 | K13: =H13*(I13+J13) -> 0 | O13: =L13*(M13+N13) -> 0 | S13: =P13*(Q13+R13) -> 0 | W13: =T13*(U13+V13) -> 0
B14: 9-10" | C14: metre | G14: =D14*(E14+F14) -> 0 | K14: =H14*(I14+J14) -> 0 | O14: =L14*(M14+N14) -> 0 | S14: =P14*(Q14+R14) -> 0 | W14: =T14*(U14+V14) -> 0
B15: 11-12" | C15: metre | G15: =D15*(E15+F15) -> 0 | K15: =H15*(I15+J15) -> 0 | O15: =L15*(M15+N15) -> 0 | S15: =P15*(Q15+R15) -> 0 | W15: =T15*(U15+V15) -> 0
B16: 13-14" | C16: metre | G16: =D16*(E16+F16) -> 0 | K16: =H16*(I16+J16) -> 0 | O16: =L16*(M16+N16) -> 0 | S16: =P16*(Q16+R16) -> 0 | W16: =T16*(U16+V16) -> 0
B17: 15-16" | C17: metre | G17: =D17*(E17+F17) -> 0 | K17: =H17*(I17+J17) -> 0 | O17: =L17*(M17+N17) -> 0 | S17: =P17*(Q17+R17) -> 0 | W17: =T17*(U17+V17) -> 0
B18: 17-20" | C18: metre | G18: =D18*(E18+F18) -> 0 | K18: =H18*(I18+J18) -> 0 | O18: =L18*(M18+N18) -> 0 | S18: =P18*(Q18+R18) -> 0 | W18: =T18*(U18+V18) -> 0
B19: 21-24" | C19: metre | G19: =D19*(E19+F19) -> 0 | K19: =H19*(I19+J19) -> 0 | O19: =L19*(M19+N19) -> 0 | S19: =P19*(Q19+R19) -> 0 | W19: =T19*(U19+V19) -> 0
B20: 25-28" | C20: metre | G20: =D20*(E20+F20) -> 0 | K20: =H20*(I20+J20) -> 0 | O20: =L20*(M20+N20) -> 0 | S20: =P20*(Q20+R20) -> 0 | W20: =T20*(U20+V20) -> 0
B21: 28" üzeri | C21: metre | G21: =D21*(E21+F21) -> 0 | K21: =H21*(I21+J21) -> 0 | O21: =L21*(M21+N21) -> 0 | S21: =P21*(Q21+R21) -> 0 | W21: =T21*(U21+V21) -> 0
B22: 1.2. Polietilen Hatlar | G22: =SUM(G23:G28) -> 0 | K22: =SUM(K23:K28) -> 0 | O22: =SUM(O23:O28) -> 0 | S22: =SUM(S23:S28) -> 0 | W22: =SUM(W23:W28) -> 0
B23: ND 0-40 mm | C23: metre | G23: =D23*(E23+F23) -> 0 | K23: =H23*(I23+J23) -> 0 | O23: =L23*(M23+N23) -> 0 | S23: =P23*(Q23+R23) -> 0 | W23: =T23*(U23+V23) -> 0
B24: ND 63 mm | C24: metre | G24: =D24*(E24+F24) -> 0 | K24: =H24*(I24+J24) -> 0 | O24: =L24*(M24+N24) -> 0 | S24: =P24*(Q24+R24) -> 0 | W24: =T24*(U24+V24) -> 0
B25: ND 90 mm | C25: metre | G25: =D25*(E25+F25) -> 0 | K25: =H25*(I25+J25) -> 0 | O25: =L25*(M25+N25) -> 0 | S25: =P25*(Q25+R25) -> 0 | W25: =T25*(U25+V25) -> 0
B26: ND 110 mm | C26: metre | G26: =D26*(E26+F26) -> 0 | K26: =H26*(I26+J26) -> 0 | O26: =L26*(M26+N26) -> 0 | S26: =P26*(Q26+R26) -> 0 | W26: =T26*(U26+V26) -> 0
B27: ND 125 mm | C27: metre | G27: =D27*(E27+F27) -> 0 | K27: =H27*(I27+J27) -> 0 | O27: =L27*(M27+N27) -> 0 | S27: =P27*(Q27+R27) -> 0 | W27: =T27*(U27+V27) -> 0
B28: ND 125 mm üzeri | C28: metre | G28: =D28*(E28+F28) -> 0 | K28: =H28*(I28+J28) -> 0 | O28: =L28*(M28+N28) -> 0 | S28: =P28*(Q28+R28) -> 0 | W28: =T28*(U28+V28) -> 0
B29: 2. İSTASYONLAR | G29: =SUM(G30:G31) -> 0 | K29: =SUM(K30:K31) -> 0 | O29: =SUM(O30:O31) -> 0 | S29: =SUM(S30:S31) -> 0 | W29: =SUM(W30:W31) -> 0
B30: 2.1. Müşteri İstasyonu | C30: adet | G30: =D30*(E30+F30) -> 0 | K30: =H30*(I30+J30) -> 0 | O30: =L30*(M30+N30) -> 0 | S30: =P30*(Q30+R30) -> 0 | W30: =T30*(U30+V30) -> 0
B31: 2.2. Müşteri Servis Kutusu | C31: adet | G31: =D31*(E31+F31) -> 0 | K31: =H31*(I31+J31) -> 0 | O31: =L31*(M31+N31) -> 0 | S31: =P31*(Q31+R31) -> 0 | W31: =T31*(U31+V31) -> 0
B32: 3. SAYAÇLAR | C32: adet | G32: =D32*(E32+F32) -> 0 | K32: =H32*(I32+J32) -> 0 | O32: =L32*(M32+N32) -> 0 | S32: =P32*(Q32+R32) -> 0 | W32: =T32*(U32+V32) -> 0
C34: 41274 | D34: 41639 | E34: 42004 | F34: 42369 | G34: 42735
B35: 4. DİĞER YATIRIMLAR | C35: =SUM(C36:C42) -> 0 | D35: =SUM(D36:D42) -> 0 | E35: =SUM(E36:E42) -> 0 | F35: =SUM(F36:F42) -> 0 | G35: =SUM(G36:G42) -> 0
B36: 4.1. Kazı, Ruhsat, Harç Giderleri
B37: 4.2. Kamulaştırma
B38: 4.3. Üst Kaplama Giderleri
B39: 4.4. Kontrol Şirketi Maliyetleri
B40: 4.5. Katodik Koruma Sistemi
B41: 4.6. SCADA Yatırımları
B42: 4.7. Haritalama ve Coğrafi Bilgi Sistemleri

Sheet Yatırımlar-Konsolide
B2: EK-21/A5: YATIRIMLAR (KONSOLİDE)
B4: YATIRIM GİDERLERİ (TL)
D5: 41274 | H5: 41639 | L5: 42004 | P5: 42369 | T5: 42735
B6: ŞEBEKE UNSURLARI | C6: Birim | D6: Miktar | E6: Birim Malzeme Giderleri (TL/Birim) | F6: Birim İnşaat ve İşçilik Giderleri (TL/Birim) | G6: Toplam Yatırım Giderleri (TL) | H6: Miktar | I6: Birim Malzeme Giderleri (TL/Birim) | J6: Birim İnşaat ve İşçilik Giderleri (TL/Birim) | K6: Toplam Yatırım Giderleri (TL) | L6: Miktar | M6: Birim Malzeme Giderleri (TL/Birim) | N6: Birim İnşaat ve İşçilik Giderleri (TL/Birim) | O6: Toplam Yatırım Giderleri (TL) | P6: Miktar | Q6: Birim Malzeme Giderleri (TL/Birim) | R6: Birim İnşaat ve İşçilik Giderleri (TL/Birim) | S6: Toplam Yatırım Giderleri (TL) | T6: Miktar | U6: Birim Malzeme Giderleri (TL/Birim) | V6: Birim İnşaat ve İşçilik Giderleri (TL/Birim) | W6: Toplam Yatırım Giderleri (TL)
B7: TOPLAM YATIRIM TUTARI (Münferit Dahil) | G7: ='Yatırımlar-Mevcut Bölge'!G7+'Yatırımlar-Genişleme1'!G7+'Yatırımlar-Genişleme2'!G7+'Münferit Hatlar'!G7 -> 0 | K7: ='Yatırımlar-Mevcut Bölge'!K7+'Yatırımlar-Genişleme1'!K7+'Yatırımlar-Genişleme2'!K7+'Münferit Hatlar'!K7 -> 0 | O7: ='Yatırımlar-Mevcut Bölge'!O7+'Yatırımlar-Genişleme1'!O7+'Yatırımlar-Genişleme2'!O7+'Münferit Hatlar'!O7 -> 0 | S7: ='Yatırımlar-Mevcut Bölge'!S7+'Yatırımlar-Genişleme1'!S7+'Yatırımlar-Genişleme2'!S7+'Münferit Hatlar'!S7 -> 0 | W7: ='Yatırımlar-Mevcut Bölge'!W7+'Yatırımlar-Genişleme1'!W7+'Yatırımlar-Genişleme2'!W7+'Münferit Hatlar'!W7 -> 0
B8: 1. DAĞITIM ŞEBEKESİ | G8: =SUM(G9,G30,G51,G72,G73,G88) -> 0 | K8: =SUM(K9,K30,K51,K72,K73,K88) -> 0 | O8: =SUM(O9,O30,O51,O72,O73,O88) -> 0 | S8: =SUM(S9,S30,S51,S72,S73,S88) -> 0 | W8: =SUM(W9,W30,W51,W72,W73,W88) -> 0
B9: 1.1. Dağıtım Hatları | G9: =SUM(G10,G23) -> 0 | K9: =SUM(K10,K23) -> 0 | O9: =SUM(O10,O23) -> 0 | S9: =SUM(S10,S23) -> 0 | W9: =SUM(W10,W23) -> 0
B10: 1.1.1. Çelik Hatlar | G10: =SUM(G11:G22) -> 0 | K10: =SUM(K11:K22) -> 0 | O10: =SUM(O11:O22) -> 0 | S10: =SUM(S11:S22) -> 0 | W10: =SUM(W11:W22) -> 0
B11: 1-2" | C11: metre | D11: ='Yatırımlar-Mevcut Bölge'!D11+'Yatırımlar-Genişleme1'!D11+'Yatırımlar-Genişleme2'!D11 -> 0 | E11: =IFERROR((('Yatırımlar-Mevcut Bölge'!D11*'Yatırımlar-Mevcut Bölge'!E11)+('Yatırımlar-Genişleme1'!D11*'Yatırımlar-Genişleme1'!E11)+('Yatırımlar-Genişleme2'!D11*'Yatırımlar-Genişleme2'!E11))/SUM('Yatırımlar-Mevcut Bölge'!D11,'Yatırımlar-Genişleme1'!D11,'Yatırımlar-Genişleme2'!D11),"") | F11: =IFERROR((('Yatırımlar-Mevcut Bölge'!D11*'Yatırımlar-Mevcut Bölge'!F11)+('Yatırımlar-Genişleme1'!D11*'Yatırımlar-Genişleme1'!F11)+('Yatırımlar-Genişleme2'!D11*'Yatırımlar-Genişleme2'!F11))/SUM('Yatırımlar-Mevcut Bölge'!D11,'Yatırımlar-Genişleme1'!D11,'Yatırımlar-Genişleme2'!D11),"") | G11: =IFERROR(D11*(E11+F11),"") | H11: ='Yatırımlar-Mevcut Bölge'!H11+'Yatırımlar-Genişleme1'!H11+'Yatırımlar-Genişleme2'!H11 -> 0 | I11: =IFERROR((('Yatırımlar-Mevcut Bölge'!H11*'Yatırımlar-Mevcut Bölge'!I11)+('Yatırımlar-Genişleme1'!H11*'Yatırımlar-Genişleme1'!I11)+('Yatırımlar-Genişleme2'!H11*'Yatırımlar-Genişleme2'!I11))/SUM('Yatırımlar-Mevcut Bölge'!H11,'Yatırımlar-Genişleme1'!H11,'Yatırımlar-Genişleme2'!H11),"") | J11: =IFERROR((('Yatırımlar-Mevcut Bölge'!H11*'Yatırımlar-Mevcut Bölge'!J11)+('Yatırımlar-Genişleme1'!H11*'Yatırımlar-Genişleme1'!J11)+('Yatırımlar-Genişleme2'!H11*'Yatırımlar-Genişleme2'!J11))/SUM('Yatırımlar-Mevcut Bölge'!H11,'Yatırımlar-Genişleme1'!H11,'Yatırımlar-Genişleme2'!H11),"") | K11: =IFERROR(H11*(I11+J11),"") | L11: ='Yatırımlar-Mevcut Bölge'!L11+'Yatırımlar-Genişleme1'!L11+'Yatırımlar-Genişleme2'!L11 -> 0 | M11: =IFERROR((('Yatırımlar-Mevcut Bölge'!L11*'Yatırımlar-Mevcut Bölge'!M11)+('Yatırımlar-Genişleme1'!L11*'Yatırımlar-Genişleme1'!M11)+('Yatırımlar-Genişleme2'!L11*'Yatırımlar-Genişleme2'!M11))/SUM('Yatırımlar-Mevcut Bölge'!L11,'Yatırımlar-Genişleme1'!L11,'Yatırımlar-Genişleme2'!L11),"") | N11: =IFERROR((('Yatırımlar-Mevcut Bölge'!L11*'Yatırımlar-Mevcut Bölge'!N11)+('Yatırımlar-Genişleme1'!L11*'Yatırımlar-Genişleme1'!N11)+('Yatırımlar-Genişleme2'!L11*'Yatırımlar-Genişleme2'!N11))/SUM('Yatırımlar-Mevcut Bölge'!L11,'Yatırımlar-Genişleme1'!L11,'Yatırımlar-Genişleme2'!L11),"") | O11: =IFERROR(L11*(M11+N11),"") | P11: ='Yatırımlar-Mevcut Bölge'!P11+'Yatırımlar-Genişleme1'!P11+'Yatırımlar-Genişleme2'!P11 -> 0 | Q11: =IFERROR((('Yatırımlar-Mevcut Bölge'!P11*'Yatırımlar-Mevcut Bölge'!Q11)+('Yatırımlar-Genişleme1'!P11*'Yatırımlar-Genişleme1'!Q11)+('Yatırımlar-Genişleme2'!P11*'Yatırımlar-Genişleme2'!Q11))/SUM('Yatırımlar-Mevcut Bölge'!P11,'Yatırımlar-Genişleme1'!P11,'Yatırımlar-Genişleme2'!P11),"") | R11: =IFERROR((('Yatırımlar-Mevcut Bölge'!P11*'Yatırımlar-Mevcut Bölge'!R11)+('Yatırımlar-Genişleme1'!P11*'Yatırımlar-Genişleme1'!R11)+('Yatırımlar-Genişleme2'!P11*'Yatırımlar-Genişleme2'!R11))/SUM('Yatırımlar-Mevcut Bölge'!P11,'Yatırımlar-Genişleme1'!P11,'Yatırımlar-Genişleme2'!P11),"") | S11: =IFERROR(P11*(Q11+R11),"") | T11: ='Yatırımlar-Mevcut Bölge'!T11+'Yatırımlar-Genişleme1'!T11+'Yatırımlar-Genişleme2'!T11 -> 0 | U11: =IFERROR((('Yatırımlar-Mevcut Bölge'!T11*'Yatırımlar-Mevcut Bölge'!U11)+('Yatırımlar-Genişleme1'!T11*'Yatırımlar-Genişleme1'!U11)+('Yatırımlar-Genişleme2'!T11*'Yatırımlar-Genişleme2'!U11))/SUM('Yatırımlar-Mevcut Bölge'!T11,'Yatırımlar-Genişleme1'!T11,'Yatırımlar-Genişleme2'!T11),"") | V11: =IFERROR((('Yatırımlar-Mevcut Bölge'!T11*'Yatırımlar-Mevcut Bölge'!V11)+('Yatırımlar-Genişleme1'!T11*'Yatırımlar-Genişleme1'!V11)+('Yatırımlar-Genişleme2'!T11*'Yatırımlar-Genişleme2'!V11))/SUM('Yatırımlar-Mevcut Bölge'!T11,'Yatırımlar-Genişleme1'!T11,'Yatırımlar-Genişleme2'!T11),"") | W11: =IFERROR(T11*(U11+V11),"")
B12: 3-4" | C12: metre | D12: ='Yatırımlar-Mevcut Bölge'!D12+'Yatırımlar-Genişleme1'!D12+'Yatırımlar-Genişleme2'!D12 -> 0 | E12: =IFERROR((('Yatırımlar-Mevcut Bölge'!D12*'Yatırımlar-Mevcut Bölge'!E12)+('Yatırımlar-Genişleme1'!D12*'Yatırımlar-Genişleme1'!E12)+('Yatırımlar-Genişleme2'!D12*'Yatırımlar-Genişleme2'!E12))/SUM('Yatırımlar-Mevcut Bölge'!D12,'Yatırımlar-Genişleme1'!D12,'Yatırımlar-Genişleme2'!D12),"") | F12: =IFERROR((('Yatırımlar-Mevcut Bölge'!D12*'Yatırımlar-Mevcut Bölge'!F12)+('Yatırımlar-Genişleme1'!D12*'Yatırımlar-Genişleme1'!F12)+('Yatırımlar-Genişleme2'!D12*'Yatırımlar-Genişleme2'!F12))/SUM('Yatırımlar-Mevcut Bölge'!D12,'Yatırımlar-Genişleme1'!D12,'Yatırımlar-Genişleme2'!D12),"") | G12: =IFERROR(D12*(E12+F12),"") | H12: ='Yatırımlar-Mevcut Bölge'!H12+'Yatırımlar-Genişleme1'!H12+'Yatırımlar-Genişleme2'!H12 -> 0 | I12: =IFERROR((('Yatırımlar-Mevcut Bölge'!H12*'Yatırımlar-Mevcut Bölge'!I12)+('Yatırımlar-Genişleme1'!H12*'Yatırımlar-Genişleme1'!I12)+('Yatırımlar-Genişleme2'!H12*'Yatırımlar-Genişleme2'!I12))/SUM('Yatırımlar-Mevcut Bölge'!H12,'Yatırımlar-Genişleme1'!H12,'Yatırımlar-Genişleme2'!H12),"") | J12: =IFERROR((('Yatırımlar-Mevcut Bölge'!H12*'Yatırımlar-Mevcut Bölge'!J12)+('Yatırımlar-Genişleme1'!H12*'Yatırımlar-Genişleme1'!J12)+('Yatırımlar-Genişleme2'!H12*'Yatırımlar-Genişleme2'!J12))/SUM('Yatırımlar-Mevcut Bölge'!H12,'Yatırımlar-Genişleme1'!H12,'Yatırımlar-Genişleme2'!H12),"") | K12: =IFERROR(H12*(I12+J12),"") | L12: ='Yatırımlar-Mevcut Bölge'!L12+'Yatırımlar-Genişleme1'!L12+'Yatırımlar-Genişleme2'!L12 -> 0 | M12: =IFERROR((('Yatırımlar-Mevcut Bölge'!L12*'Yatırımlar-Mevcut Bölge'!M12)+('Yatırımlar-Genişleme1'!L12*'Yatırımlar-Genişleme1'!M12)+('Yatırımlar-Genişleme2'!L12*'Yatırımlar-Genişleme2'!M12))/SUM('Yatırımlar-Mevcut Bölge'!L12,'Yatırımlar-Genişleme1'!L12,'Yatırımlar-Genişleme2'!L12),"") | N12: =IFERROR((('Yatırımlar-Mevcut Bölge'!L12*'Yatırımlar-Mevcut Bölge'!N12)+('Yatırımlar-Genişleme1'!L12*'Yatırımlar-Genişleme1'!N12)+('Yatırımlar-Genişleme2'!L12*'Yatırımlar-Genişleme2'!N12))/SUM('Yatırımlar-Mevcut Bölge'!L12,'Yatırımlar-Genişleme1'!L12,'Yatırımlar-Genişleme2'!L12),"") | O12: =IFERROR(L12*(M12+N12),"") | P12: ='Yatırımlar-Mevcut Bölge'!P12+'Yatırımlar-Genişleme1'!P12+'Yatırımlar-Genişleme2'!P12 -> 0 | Q12: =IFERROR((('Yatırımlar-Mevcut Bölge'!P12*'Yatırımlar-Mevcut Bölge'!Q12)+('Yatırımlar-Genişleme1'!P12*'Yatırımlar-Genişleme1'!Q12)+('Yatırımlar-Genişleme2'!P12*'Yatırımlar-Genişleme2'!Q12))/SUM('Yatırımlar-Mevcut Bölge'!P12,'Yatırımlar-Genişleme1'!P12,'Yatırımlar-Genişleme2'!P12),"") | R12: =IFERROR((('Yatırımlar-Mevcut Bölge'!P12*'Yatırımlar-Mevcut Bölge'!R12)+('Yatırımlar-Genişleme1'!P12*'Yatırımlar-Genişleme1'!R12)+('Yatırımlar-Genişleme2'!P12*'Yatırımlar-Genişleme2'!R12))/SUM('Yatırımlar-Mevcut Bölge'!P12,'Yatırımlar-Genişleme1'!P12,'Yatırımlar-Genişleme2'!P12),"") | S12: =IFERROR(P12*(Q12+R12),"") | T12: ='Yatırımlar-Mevcut Bölge'!T12+'Yatırımlar-Genişleme1'!T12+'Yatırımlar-Genişleme2'!T12 -> 0 | U12: =IFERROR((('Yatırımlar-Mevcut Bölge'!T12*'Yatırımlar-Mevcut Bölge'!U12)+('Yatırımlar-Genişleme1'!T12*'Yatırımlar-Genişleme1'!U12)+('Yatırımlar-Genişleme2'!T12*'Yatırımlar-Genişleme2'!U12))/SUM('Yatırımlar-Mevcut Bölge'!T12,'Yatırımlar-Genişleme1'!T12,'Yatırımlar-Genişleme2'!T12),"") | V12: =IFERROR((('Yatırımlar-Mevcut Bölge'!T12*'Yatırımlar-Mevcut Bölge'!V12)+('Yatırımlar-Genişleme1'!T12*'Yatırımlar-Genişleme1'!V12)+('Yatırımlar-Genişleme2'!T12*'Yatırımlar-Genişleme2'!V12))/SUM('Yatırımlar-Mevcut Bölge'!T12,'Yatırımlar-Genişleme1'!T12,'Yatırımlar-Genişleme2'!T12),"") | W12: =IFERROR(T12*(U12+V12),"")
B13: 5-6" | C13: metre | D13: ='Yatırımlar-Mevcut Bölge'!D13+'Yatırımlar-Genişleme1'!D13+'Yatırımlar-Genişleme2'!D13 -> 0 | E13: =IFERROR((('Yatırımlar-Mevcut Bölge'!D13*'Yatırımlar-Mevcut Bölge'!E13)+('Yatırımlar-Genişleme1'!D13*'Yatırımlar-Genişleme1'!E13)+('Yatırımlar-Genişleme2'!D13*'Yatırımlar-Genişleme2'!E13))/SUM('Yatırımlar-Mevcut Bölge'!D13,'Yatırımlar-Genişleme1'!D13,'Yatırımlar-Genişleme2'!D13),"") | F13: =IFERROR((('Yatırımlar-Mevcut Bölge'!D13*'Yatırımlar-Mevcut Bölge'!F13)+('Yatırımlar-Genişleme1'!D13*'Yatırımlar-Genişleme1'!F13)+('Yatırımlar-Genişleme2'!D13*'Yatırımlar-Genişleme2'!F13))/SUM('Yatırımlar-Mevcut Bölge'!D13,'Yatırımlar-Genişleme1'!D13,'Yatırımlar-Genişleme2'!D13),"") | G13: =IFERROR(D13*(E13+F13),"") | H13: ='Yatırımlar-Mevcut Bölge'!H13+'Yatırımlar-Genişleme1'!H13+'Yatırımlar-Genişleme2'!H13 -> 0 | I13: =IFERROR((('Yatırımlar-Mevcut Bölge'!H13*'Yatırımlar-Mevcut Bölge'!I13)+('Yatırımlar-Genişleme1'!H13*'Yatırımlar-Genişleme1'!I13)+('Yatırımlar-Genişleme2'!H13*'Yatırımlar-Genişleme2'!I13))/SUM('Yatırımlar-Mevcut Bölge'!H13,'Yatırımlar-Genişleme1'!H13,'Yatırımlar-Genişleme2'!H13),"") | J13: =IFERROR((('Yatırımlar-Mevcut Bölge'!H13*'Yatırımlar-Mevcut Bölge'!J13)+('Yatırımlar-Genişleme1'!H13*'Yatırımlar-Genişleme1'!J13)+('Yatırımlar-Genişleme2'!H13*'Yatırımlar-Genişleme2'!J13))/SUM('Yatırımlar-Mevcut Bölge'!H13,'Yatırımlar-Genişleme1'!H13,'Yatırımlar-Genişleme2'!H13),"") | K13: =IFERROR(H13*(I13+J13),"") | L13: ='Yatırımlar-Mevcut Bölge'!L13+'Yatırımlar-Genişleme1'!L13+'Yatırımlar-Genişleme2'!L13 -> 0 | M13: =IFERROR((('Yatırımlar-Mevcut Bölge'!L13*'Yatırımlar-Mevcut Bölge'!M13)+('Yatırımlar-Genişleme1'!L13*'Yatırımlar-Genişleme1'!M13)+('Yatırımlar-Genişleme2'!L13*'Yatırımlar-Genişleme2'!M13))/SUM('Yatırımlar-Mevcut Bölge'!L13,'Yatırımlar-Genişleme1'!L13,'Yatırımlar-Genişleme2'!L13),"") | N13: =IFERROR((('Yatırımlar-Mevcut Bölge'!L13*'Yatırımlar-Mevcut Bölge'!N13)+('Yatırımlar-Genişleme1'!L13*'Yatırımlar-Genişleme1'!N13)+('Yatırımlar-Genişleme2'!L13*'Yatırımlar-Genişleme2'!N13))/SUM('Yatırımlar-Mevcut Bölge'!L13,'Yatırımlar-Genişleme1'!L13,'Yatırımlar-Genişleme2'!L13),"") | O13: =IFERROR(L13*(M13+N13),"") | P13: ='Yatırımlar-Mevcut Bölge'!P13+'Yatırımlar-Genişleme1'!P13+'Yatırımlar-Genişleme2'!P13 -> 0 | Q13: =IFERROR((('Yatırımlar-Mevcut Bölge'!P13*'Yatırımlar-Mevcut Bölge'!Q13)+('Yatırımlar-Genişleme1'!P13*'Yatırımlar-Genişleme1'!Q13)+('Yatırımlar-Genişleme2'!P13*'Yatırımlar-Genişleme2'!Q13))/SUM('Yatırımlar-Mevcut Bölge'!P13,'Yatırımlar-Genişleme1'!P13,'Yatırımlar-Genişleme2'!P13),"") | R13: =IFERROR((('Yatırımlar-Mevcut Bölge'!P13*'Yatırımlar-Mevcut Bölge'!R13)+('Yatırımlar-Genişleme1'!P13*'Yatırımlar-Genişleme1'!R13)+('Yatırımlar-Genişleme2'!P13*'Yatırımlar-Genişleme2'!R13))/SUM('Yatırımlar-Mevcut Bölge'!P13,'Yatırımlar-Genişleme1'!P13,'Yatırımlar-Genişleme2'!P13),"") | S13: =IFERROR(P13*(Q13+R13),"") | T13: ='Yatırımlar-Mevcut Bölge'!T13+'Yatırımlar-Genişleme1'!T13+'Yatırımlar-Genişleme2'!T13 -> 0 | U13: =IFERROR((('Yatırımlar-Mevcut Bölge'!T13*'Yatırımlar-Mevcut Bölge'!U13)+('Yatırımlar-Genişleme1'!T13*'Yatırımlar-Genişleme1'!U13)+('Yatırımlar-Genişleme2'!T13*'Yatırımlar-Genişleme2'!U13))/SUM('Yatırımlar-Mevcut Bölge'!T13,'Yatırımlar-Genişleme1'!T13,'Yatırımlar-Genişleme2'!T13),"") | V13: =IFERROR((('Yatırımlar-Mevcut Bölge'!T13*'Yatırımlar-Mevcut Bölge'!V13)+('Yatırımlar-Genişleme1'!T13*'Yatırımlar-Genişleme1'!V13)+('Yatırımlar-Genişleme2'!T13*'Yatırımlar-Genişleme2'!V13))/SUM('Yatırımlar-Mevcut Bölge'!T13,'Yatırımlar-Genişleme1'!T13,'Yatırımlar-Genişleme2'!T13),"") | W13: =IFERROR(T13*(U13+V13),"")
B14: 7-8" | C14: metre | D14: ='Yatırımlar-Mevcut Bölge'!D14+'Yatırımlar-Genişleme1'!D14+'Yatırımlar-Genişleme2'!D14 -> 0 | E14: =IFERROR((('Yatırımlar-Mevcut Bölge'!D14*'Yatırımlar-Mevcut Bölge'!E14)+('Yatırımlar-Genişleme1'!D14*'Yatırımlar-Genişleme1'!E14)+('Yatırımlar-Genişleme2'!D14*'Yatırımlar-Genişleme2'!E14))/SUM('Yatırımlar-Mevcut Bölge'!D14,'Yatırımlar-Genişleme1'!D14,'Yatırımlar-Genişleme2'!D14),"") | F14: =IFERROR((('Yatırımlar-Mevcut Bölge'!D14*'Yatırımlar-Mevcut Bölge'!F14)+('Yatırımlar-Genişleme1'!D14*'Yatırımlar-Genişleme1'!F14)+('Yatırımlar-Genişleme2'!D14*'Yatırımlar-Genişleme2'!F14))/SUM('Yatırımlar-Mevcut Bölge'!D14,'Yatırımlar-Genişleme1'!D14,'Yatırımlar-Genişleme2'!D14),"") | G14: =IFERROR(D14*(E14+F14),"") | H14: ='Yatırımlar-Mevcut Bölge'!H14+'Yatırımlar-Genişleme1'!H14+'Yatırımlar-Genişleme2'!H14 -> 0 | I14: =IFERROR((('Yatırımlar-Mevcut Bölge'!H14*'Yatırımlar-Mevcut Bölge'!I14)+('Yatırımlar-Genişleme1'!H14*'Yatırımlar-Genişleme1'!I14)+('Yatırımlar-Genişleme2'!H14*'Yatırımlar-Genişleme2'!I14))/SUM('Yatırımlar-Mevcut Bölge'!H14,'Yatırımlar-Genişleme1'!H14,'Yatırımlar-Genişleme2'!H14),"") | J14: =IFERROR((('Yatırımlar-Mevcut Bölge'!H14*'Yatırımlar-Mevcut Bölge'!J14)+('Yatırımlar-Genişleme1'!H14*'Yatırımlar-Genişleme1'!J14)+('Yatırımlar-Genişleme2'!H14*'Yatırımlar-Genişleme2'!J14))/SUM('Yatırımlar-Mevcut Bölge'!H14,'Yatırımlar-Genişleme1'!H14,'Yatırımlar-Genişleme2'!H14),"") | K14: =IFERROR(H14*(I14+J14),"") | L14: ='Yatırımlar-Mevcut Bölge'!L14+'Yatırımlar-Genişleme1'!L14+'Yatırımlar-Genişleme2'!L14 -> 0 | M14: =IFERROR((('Yatırımlar-Mevcut Bölge'!L14*'Yatırımlar-Mevcut Bölge'!M14)+('Yatırımlar-Genişleme1'!L14*'Yatırımlar-Genişleme1'!M14)+('Yatırımlar-Genişleme2'!L14*'Yatırımlar-Genişleme2'!M14))/SUM('Yatırımlar-Mevcut Bölge'!L14,'Yatırımlar-Genişleme1'!L14,'Yatırımlar-Genişleme2'!L14),"") | N14: =IFERROR((('Yatırımlar-Mevcut Bölge'!L14*'Yatırımlar-Mevcut Bölge'!N14)+('Yatırımlar-Genişleme1'!L14*'Yatırımlar-Genişleme1'!N14)+('Yatırımlar-Genişleme2'!L14*'Yatırımlar-Genişleme2'!N14))/SUM('Yatırımlar-Mevcut Bölge'!L14,'Yatırımlar-Genişleme1'!L14,'Yatırımlar-Genişleme2'!L14),"") | O14: =IFERROR(L14*(M14+N14),"") | P14: ='Yatırımlar-Mevcut Bölge'!P14+'Yatırımlar-Genişleme1'!P14+'Yatırımlar-Genişleme2'!P14 -> 0 | Q14: =IFERROR((('Yatırımlar-Mevcut Bölge'!P14*'Yatırımlar-Mevcut Bölge'!Q14)+('Yatırımlar-Genişleme1'!P14*'Yatırımlar-Genişleme1'!Q14)+('Yatırımlar-Genişleme2'!P14*'Yatırımlar-Genişleme2'!Q14))/SUM('Yatırımlar-Mevcut Bölge'!P14,'Yatırımlar-Genişleme1'!P14,'Yatırımlar-Genişleme2'!P14),"") | R14: =IFERROR((('Yatırımlar-Mevcut Bölge'!P14*'Yatırımlar-Mevcut Bölge'!R14)+('Yatırımlar-Genişleme1'!P14*'Yatırımlar-Genişleme1'!R14)+('Yatırımlar-Genişleme2'!P14*'Yatırımlar-Genişleme2'!R14))/SUM('Yatırımlar-Mevcut Bölge'!P14,'Yatırımlar-Genişleme1'!P14,'Yatırımlar-Genişleme2'!P14),"") | S14: =IFERROR(P14*(Q14+R14),"") | T14: ='Yatırımlar-Mevcut Bölge'!T14+'Yatırımlar-Genişleme1'!T14+'Yatırımlar-Genişleme2'!T14 -> 0 | U14: =IFERROR((('Yatırımlar-Mevcut Bölge'!T14*'Yatırımlar-Mevcut Bölge'!U14)+('Yatırımlar-Genişleme1'!T14*'Yatırımlar-Genişleme1'!U14)+('Yatırımlar-Genişleme2'!T14*'Yatırımlar-Genişleme2'!U14))/SUM('Yatırımlar-Mevcut Bölge'!T14,'Yatırımlar-Genişleme1'!T14,'Yatırımlar-Genişleme2'!T14),"") | V14: =IFERROR((('Yatırımlar-Mevcut Bölge'!T14*'Yatırımlar-Mevcut Bölge'!V14)+('Yatırımlar-Genişleme1'!T14*'Yatırımlar-Genişleme1'!V14)+('Yatırımlar-Genişleme2'!T14*'Yatırımlar-Genişleme2'!V14))/SUM('Yatırımlar-Mevcut Bölge'!T14,'Yatırımlar-Genişleme1'!T14,'Yatırımlar-Genişleme2'!T14),"") | W14: =IFERROR(T14*(U14+V14),"")
B15: 9-10" | C15: metre | D15: ='Yatırımlar-Mevcut Bölge'!D15+'Yatırımlar-Genişleme1'!D15+'Yatırımlar-Genişleme2'!D15 -> 0 | E15: =IFERROR((('Yatırımlar-Mevcut Bölge'!D15*'Yatırımlar-Mevcut Bölge'!E15)+('Yatırımlar-Genişleme1'!D15*'Yatırımlar-Genişleme1'!E15)+('Yatırımlar-Genişleme2'!D15*'Yatırımlar-Genişleme2'!E15))/SUM('Yatırımlar-Mevcut Bölge'!D15,'Yatırımlar-Genişleme1'!D15,'Yatırımlar-Genişleme2'!D15),"") | F15: =IFERROR((('Yatırımlar-Mevcut Bölge'!D15*'Yatırımlar-Mevcut Bölge'!F15)+('Yatırımlar-Genişleme1'!D15*'Yatırımlar-Genişleme1'!F15)+('Yatırımlar-Genişleme2'!D15*'Yatırımlar-Genişleme2'!F15))/SUM('Yatırımlar-Mevcut Bölge'!D15,'Yatırımlar-Genişleme1'!D15,'Yatırımlar-Genişleme2'!D15),"") | G15: =IFERROR(D15*(E15+F15),"") | H15: ='Yatırımlar-Mevcut Bölge'!H15+'Yatırımlar-Genişleme1'!H15+'Yatırımlar-Genişleme2'!H15 -> 0 | I15: =IFERROR((('Yatırımlar-Mevcut Bölge'!H15*'Yatırımlar-Mevcut Bölge'!I15)+('Yatırımlar-Genişleme1'!H15*'Yatırımlar-Genişleme1'!I15)+('Yatırımlar-Genişleme2'!H15*'Yatırımlar-Genişleme2'!I15))/SUM('Yatırımlar-Mevcut Bölge'!H15,'Yatırımlar-Genişleme1'!H15,'Yatırımlar-Genişleme2'!H15),"") | J15: =IFERROR((('Yatırımlar-Mevcut Bölge'!H15*'Yatırımlar-Mevcut Bölge'!J15)+('Yatırımlar-Genişleme1'!H15*'Yatırımlar-Genişleme1'!J15)+('Yatırımlar-Genişleme2'!H15*'Yatırımlar-Genişleme2'!J15))/SUM('Yatırımlar-Mevcut Bölge'!H15,'Yatırımlar-Genişleme1'!H15,'Yatırımlar-Genişleme2'!H15),"") | K15: =IFERROR(H15*(I15+J15),"") | L15: ='Yatırımlar-Mevcut Bölge'!L15+'Yatırımlar-Genişleme1'!L15+'Yatırımlar-Genişleme2'!L15 -> 0 | M15: =IFERROR((('Yatırımlar-Mevcut Bölge'!L15*'Yatırımlar-Mevcut Bölge'!M15)+('Yatırımlar-Genişleme1'!L15*'Yatırımlar-Genişleme1'!M15)+('Yatırımlar-Genişleme2'!L15*'Yatırımlar-Genişleme2'!M15))/SUM('Yatırımlar-Mevcut Bölge'!L15,'Yatırımlar-Genişleme1'!L15,'Yatırımlar-Genişleme2'!L15),"") | N15: =IFERROR((('Yatırımlar-Mevcut Bölge'!L15*'Yatırımlar-Mevcut Bölge'!N15)+('Yatırımlar-Genişleme1'!L15*'Yatırımlar-Genişleme1'!N15)+('Yatırımlar-Genişleme2'!L15*'Yatırımlar-Genişleme2'!N15))/SUM('Yatırımlar-Mevcut Bölge'!L15,'Yatırımlar-Genişleme1'!L15,'Yatırımlar-Genişleme2'!L15),"") | O15: =IFERROR(L15*(M15+N15),"") | P15: ='Yatırımlar-Mevcut Bölge'!P15+'Yatırımlar-Genişleme1'!P15+'Yatırımlar-Genişleme2'!P15 -> 0 | Q15: =IFERROR((('Yatırımlar-Mevcut Bölge'!P15*'Yatırımlar-Mevcut Bölge'!Q15)+('Yatırımlar-Genişleme1'!P15*'Yatırımlar-Genişleme1'!Q15)+('Yatırımlar-Genişleme2'!P15*'Yatırımlar-Genişleme2'!Q15))/SUM('Yatırımlar-Mevcut Bölge'!P15,'Yatırımlar-Genişleme1'!P15,'Yatırımlar-Genişleme2'!P15),"") | R15: =IFERROR((('Yatırımlar-Mevcut Bölge'!P15*'Yatırımlar-Mevcut Bölge'!R15)+('Yatırımlar-Genişleme1'!P15*'Yatırımlar-Genişleme1'!R15)+('Yatırımlar-Genişleme2'!P15*'Yatırımlar-Genişleme2'!R15))/SUM('Yatırımlar-Mevcut Bölge'!P15,'Yatırımlar-Genişleme1'!P15,'Yatırımlar-Genişleme2'!P15),"") | S15: =IFERROR(P15*(Q15+R15),"") | T15: ='Yatırımlar-Mevcut Bölge'!T15+'Yatırımlar-Genişleme1'!T15+'Yatırımlar-Genişleme2'!T15 -> 0 | U15: =IFERROR((('Yatırımlar-Mevcut Bölge'!T15*'Yatırımlar-Mevcut Bölge'!U15)+('Yatırımlar-Genişleme1'!T15*'Yatırımlar-Genişleme1'!U15)+('Yatırımlar-Genişleme2'!T15*'Yatırımlar-Genişleme2'!U15))/SUM('Yatırımlar-Mevcut Bölge'!T15,'Yatırımlar-Genişleme1'!T15,'Yatırımlar-Genişleme2'!T15),"") | V15: =IFERROR((('Yatırımlar-Mevcut Bölge'!T15*'Yatırımlar-Mevcut Bölge'!V15)+('Yatırımlar-Genişleme1'!T15*'Yatırımlar-Genişleme1'!V15)+('Yatırımlar-Genişleme2'!T15*'Yatırımlar-Genişleme2'!V15))/SUM('Yatırımlar-Mevcut Bölge'!T15,'Yatırımlar-Genişleme1'!T15,'Yatırımlar-Genişleme2'!T15),"") | W15: =IFERROR(T15*(U15+V15),"")
B16: 11-12" | C16: metre | D16: ='Yatırımlar-Mevcut Bölge'!D16+'Yatırımlar-Genişleme1'!D16+'Yatırımlar-Genişleme2'!D16 -> 0 | E16: =IFERROR((('Yatırımlar-Mevcut Bölge'!D16*'Yatırımlar-Mevcut Bölge'!E16)+('Yatırımlar-Genişleme1'!D16*'Yatırımlar-Genişleme1'!E16)+('Yatırımlar-Genişleme2'!D16*'Yatırımlar-Genişleme2'!E16))/SUM('Yatırımlar-Mevcut Bölge'!D16,'Yatırımlar-Genişleme1'!D16,'Yatırımlar-Genişleme2'!D16),"") | F16: =IFERROR((('Yatırımlar-Mevcut Bölge'!D16*'Yatırımlar-Mevcut Bölge'!F16)+('Yatırımlar-Genişleme1'!D16*'Yatırımlar-Genişleme1'!F16)+('Yatırımlar-Genişleme2'!D16*'Yatırımlar-Genişleme2'!F16))/SUM('Yatırımlar-Mevcut Bölge'!D16,'Yatırımlar-Genişleme1'!D16,'Yatırımlar-Genişleme2'!D16),"") | G16: =IFERROR(D16*(E16+F16),"") | H16: ='Yatırımlar-Mevcut Bölge'!H16+'Yatırımlar-Genişleme1'!H16+'Yatırımlar-Genişleme2'!H16 -> 0 | I16: =IFERROR((('Yatırımlar-Mevcut Bölge'!H16*'Yatırımlar-Mevcut Bölge'!I16)+('Yatırımlar-Genişleme1'!H16*'Yatırımlar-Genişleme1'!I16)+('Yatırımlar-Genişleme2'!H16*'Yatırımlar-Genişleme2'!I16))/SUM('Yatırımlar-Mevcut Bölge'!H16,'Yatırımlar-Genişleme1'!H16,'Yatırımlar-Genişleme2'!H16),"") | J16: =IFERROR((('Yatırımlar-Mevcut Bölge'!H16*'Yatırımlar-Mevcut Bölge'!J16)+('Yatırımlar-Genişleme1'!H16*'Yatırımlar-Genişleme1'!J16)+('Yatırımlar-Genişleme2'!H16*'Yatırımlar-Genişleme2'!J16))/SUM('Yatırımlar-Mevcut Bölge'!H16,'Yatırımlar-Genişleme1'!H16,'Yatırımlar-Genişleme2'!H16),"") | K16: =IFERROR(H16*(I16+J16),"") | L16: ='Yatırımlar-Mevcut Bölge'!L16+'Yatırımlar-Genişleme1'!L16+'Yatırımlar-Genişleme2'!L16 -> 0 | M16: =IFERROR((('Yatırımlar-Mevcut Bölge'!L16*'Yatırımlar-Mevcut Bölge'!M16)+('Yatırımlar-Genişleme1'!L16*'Yatırımlar-Genişleme1'!M16)+('Yatırımlar-Genişleme2'!L16*'Yatırımlar-Genişleme2'!M16))/SUM('Yatırımlar-Mevcut Bölge'!L16,'Yatırımlar-Genişleme1'!L16,'Yatırımlar-Genişleme2'!L16),"") | N16: =IFERROR((('Yatırımlar-Mevcut Bölge'!L16*'Yatırımlar-Mevcut Bölge'!N16)+('Yatırımlar-Genişleme1'!L16*'Yatırımlar-Genişleme1'!N16)+('Yatırımlar-Genişleme2'!L16*'Yatırımlar-Genişleme2'!N16))/SUM('Yatırımlar-Mevcut Bölge'!L16,'Yatırımlar-Genişleme1'!L16,'Yatırımlar-Genişleme2'!L16),"") | O16: =IFERROR(L16*(M16+N16),"") | P16: ='Yatırımlar-Mevcut Bölge'!P16+'Yatırımlar-Genişleme1'!P16+'Yatırımlar-Genişleme2'!P16 -> 0 | Q16: =IFERROR((('Yatırımlar-Mevcut Bölge'!P16*'Yatırımlar-Mevcut Bölge'!Q16)+('Yatırımlar-Genişleme1'!P16*'Yatırımlar-Genişleme1'!Q16)+('Yatırımlar-Genişleme2'!P16*'Yatırımlar-Genişleme2'!Q16))/SUM('Yatırımlar-Mevcut Bölge'!P16,'Yatırımlar-Genişleme1'!P16,'Yatırımlar-Genişleme2'!P16),"") | R16: =IFERROR((('Yatırımlar-Mevcut Bölge'!P16*'Yatırımlar-Mevcut Bölge'!R16)+('Yatırımlar-Genişleme1'!P16*'Yatırımlar-Genişleme1'!R16)+('Yatırımlar-Genişleme2'!P16*'Yatırımlar-Genişleme2'!R16))/SUM('Yatırımlar-Mevcut Bölge'!P16,'Yatırımlar-Genişleme1'!P16,'Yatırımlar-Genişleme2'!P16),"") | S16: =IFERROR(P16*(Q16+R16),"") | T16: ='Yatırımlar-Mevcut Bölge'!T16+'Yatırımlar-Genişleme1'!T16+'Yatırımlar-Genişleme2'!T16 -> 0 | U16: =IFERROR((('Yatırımlar-Mevcut Bölge'!T16*'Yatırımlar-Mevcut Bölge'!U16)+('Yatırımlar-Genişleme1'!T16*'Yatırımlar-Genişleme1'!U16)+('Yatırımlar-Genişleme2'!T16*'Yatırımlar-Genişleme2'!U16))/SUM('Yatırımlar-Mevcut Bölge'!T16,'Yatırımlar-Genişleme1'!T16,'Yatırımlar-Genişleme2'!T16),"") | V16: =IFERROR((('Yatırımlar-Mevcut Bölge'!T16*'Yatırımlar-Mevcut Bölge'!V16)+('Yatırımlar-Genişleme1'!T16*'Yatırımlar-Genişleme1'!V16)+('Yatırımlar-Genişleme2'!T16*'Yatırımlar-Genişleme2'!V16))/SUM('Yatırımlar-Mevcut Bölge'!T16,'Yatırımlar-Genişleme1'!T16,'Yatırımlar-Genişleme2'!T16),"") | W16: =IFERROR(T16*(U16+V16),"")
B17: 13-14" | C17: metre | D17: ='Yatırımlar-Mevcut Bölge'!D17+'Yatırımlar-Genişleme1'!D17+'Yatırımlar-Genişleme2'!D17 -> 0 | E17: =IFERROR((('Yatırımlar-Mevcut Bölge'!D17*'Yatırımlar-Mevcut Bölge'!E17)+('Yatırımlar-Genişleme1'!D17*'Yatırımlar-Genişleme1'!E17)+('Yatırımlar-Genişleme2'!D17*'Yatırımlar-Genişleme2'!E17))/SUM('Yatırımlar-Mevcut Bölge'!D17,'Yatırımlar-Genişleme1'!D17,'Yatırımlar-Genişleme2'!D17),"") | F17: =IFERROR((('Yatırımlar-Mevcut Bölge'!D17*'Yatırımlar-Mevcut Bölge'!F17)+('Yatırımlar-Genişleme1'!D17*'Yatırımlar-Genişleme1'!F17)+('Yatırımlar-Genişleme2'!D17*'Yatırımlar-Genişleme2'!F17))/SUM('Yatırımlar-Mevcut Bölge'!D17,'Yatırımlar-Genişleme1'!D17,'Yatırımlar-Genişleme2'!D17),"") | G17: =IFERROR(D17*(E17+F17),"") | H17: ='Yatırımlar-Mevcut Bölge'!H17+'Yatırımlar-Genişleme1'!H17+'Yatırımlar-Genişleme2'!H17 -> 0 | I17: =IFERROR((('Yatırımlar-Mevcut Bölge'!H17*'Yatırımlar-Mevcut Bölge'!I17)+('Yatırımlar-Genişleme1'!H17*'Yatırımlar-Genişleme1'!I17)+('Yatırımlar-Genişleme2'!H17*'Yatırımlar-Genişleme2'!I17))/SUM('Yatırımlar-Mevcut Bölge'!H17,'Yatırımlar-Genişleme1'!H17,'Yatırımlar-Genişleme2'!H17),"") | J17: =IFERROR((('Yatırımlar-Mevcut Bölge'!H17*'Yatırımlar-Mevcut Bölge'!J17)+('Yatırımlar-Genişleme1'!H17*'Yatırımlar-Genişleme1'!J17)+('Yatırımlar-Genişleme2'!H17*'Yatırımlar-Genişleme2'!J17))/SUM('Yatırımlar-Mevcut Bölge'!H17,'Yatırımlar-Genişleme1'!H17,'Yatırımlar-Genişleme2'!H17),"") | K17: =IFERROR(H17*(I17+J17),"") | L17: ='Yatırımlar-Mevcut Bölge'!L17+'Yatırımlar-Genişleme1'!L17+'Yatırımlar-Genişleme2'!L17 -> 0 | M17: =IFERROR((('Yatırımlar-Mevcut Bölge'!L17*'Yatırımlar-Mevcut Bölge'!M17)+('Yatırımlar-Genişleme1'!L17*'Yatırımlar-Genişleme1'!M17)+('Yatırımlar-Genişleme2'!L17*'Yatırımlar-Genişleme2'!M17))/SUM('Yatırımlar-Mevcut Bölge'!L17,'Yatırımlar-Genişleme1'!L17,'Yatırımlar-Genişleme2'!L17),"") | N17: =IFERROR((('Yatırımlar-Mevcut Bölge'!L17*'Yatırımlar-Mevcut Bölge'!N17)+('Yatırımlar-Genişleme1'!L17*'Yatırımlar-Genişleme1'!N17)+('Yatırımlar-Genişleme2'!L17*'Yatırımlar-Genişleme2'!N17))/SUM('Yatırımlar-Mevcut Bölge'!L17,'Yatırımlar-Genişleme1'!L17,'Yatırımlar-Genişleme2'!L17),"") | O17: =IFERROR(L17*(M17+N17),"") | P17: ='Yatırımlar-Mevcut Bölge'!P17+'Yatırımlar-Genişleme1'!P17+'Yatırımlar-Genişleme2'!P17 -> 0 | Q17: =IFERROR((('Yatırımlar-Mevcut Bölge'!P17*'Yatırımlar-Mevcut Bölge'!Q17)+('Yatırımlar-Genişleme1'!P17*'Yatırımlar-Genişleme1'!Q17)+('Yatırımlar-Genişleme2'!P17*'Yatırımlar-Genişleme2'!Q17))/SUM('Yatırımlar-Mevcut Bölge'!P17,'Yatırımlar-Genişleme1'!P17,'Yatırımlar-Genişleme2'!P17),"") | R17: =IFERROR((('Yatırımlar-Mevcut Bölge'!P17*'Yatırımlar-Mevcut Bölge'!R17)+('Yatırımlar-Genişleme1'!P17*'Yatırımlar-Genişleme1'!R17)+('Yatırımlar-Genişleme2'!P17*'Yatırımlar-Genişleme2'!R17))/SUM('Yatırımlar-Mevcut Bölge'!P17,'Yatırımlar-Genişleme1'!P17,'Yatırımlar-Genişleme2'!P17),"") | S17: =IFERROR(P17*(Q17+R17),"") | T17: ='Yatırımlar-Mevcut Bölge'!T17+'Yatırımlar-Genişleme1'!T17+'Yatırımlar-Genişleme2'!T17 -> 0 | U17: =IFERROR((('Yatırımlar-Mevcut Bölge'!T17*'Yatırımlar-Mevcut Bölge'!U17)+('Yatırımlar-Genişleme1'!T17*'Yatırımlar-Genişleme1'!U17)+('Yatırımlar-Genişleme2'!T17*'Yatırımlar-Genişleme2'!U17))/SUM('Yatırımlar-Mevcut Bölge'!T17,'Yatırımlar-Genişleme1'!T17,'Yatırımlar-Genişleme2'!T17),"") | V17: =IFERROR((('Yatırımlar-Mevcut Bölge'!T17*'Yatırımlar-Mevcut Bölge'!V17)+('Yatırımlar-Genişleme1'!T17*'Yatırımlar-Genişleme1'!V17)+('Yatırımlar-Genişleme2'!T17*'Yatırımlar-Genişleme2'!V17))/SUM('Yatırımlar-Mevcut Bölge'!T17,'Yatırımlar-Genişleme1'!T17,'Yatırımlar-Genişleme2'!T17),"") | W17: =IFERROR(T17*(U17+V17),"")
B18: 15-16" | C18: metre | D18: ='Yatırımlar-Mevcut Bölge'!D18+'Yatırımlar-Genişleme1'!D18+'Yatırımlar-Genişleme2'!D18 -> 0 | E18: =IFERROR((('Yatırımlar-Mevcut Bölge'!D18*'Yatırımlar-Mevcut Bölge'!E18)+('Yatırımlar-Genişleme1'!D18*'Yatırımlar-Genişleme1'!E18)+('Yatırımlar-Genişleme2'!D18*'Yatırımlar-Genişleme2'!E18))/SUM('Yatırımlar-Mevcut Bölge'!D18,'Yatırımlar-Genişleme1'!D18,'Yatırımlar-Genişleme2'!D18),"") | F18: =IFERROR((('Yatırımlar-Mevcut Bölge'!D18*'Yatırımlar-Mevcut Bölge'!F18)+('Yatırımlar-Genişleme1'!D18*'Yatırımlar-Genişleme1'!F18)+('Yatırımlar-Genişleme2'!D18*'Yatırımlar-Genişleme2'!F18))/SUM('Yatırımlar-Mevcut Bölge'!D18,'Yatırımlar-Genişleme1'!D18,'Yatırımlar-Genişleme2'!D18),"") | G18: =IFERROR(D18*(E18+F18),"") | H18: ='Yatırımlar-Mevcut Bölge'!H18+'Yatırımlar-Genişleme1'!H18+'Yatırımlar-Genişleme2'!H18 -> 0 | I18: =IFERROR((('Yatırımlar-Mevcut Bölge'!H18*'Yatırımlar-Mevcut Bölge'!I18)+('Yatırımlar-Genişleme1'!H18*'Yatırımlar-Genişleme1'!I18)+('Yatırımlar-Genişleme2'!H18*'Yatırımlar-Genişleme2'!I18))/SUM('Yatırımlar-Mevcut Bölge'!H18,'Yatırımlar-Genişleme1'!H18,'Yatırımlar-Genişleme2'!H18),"") | J18: =IFERROR((('Yatırımlar-Mevcut Bölge'!H18*'Yatırımlar-Mevcut Bölge'!J18)+('Yatırımlar-Genişleme1'!H18*'Yatırımlar-Genişleme1'!J18)+('Yatırımlar-Genişleme2'!H18*'Yatırımlar-Genişleme2'!J18))/SUM('Yatırımlar-Mevcut Bölge'!H18,'Yatırımlar-Genişleme1'!H18,'Yatırımlar-Genişleme2'!H18),"") | K18: =IFERROR(H18*(I18+J18),"") | L18: ='Yatırımlar-Mevcut Bölge'!L18+'Yatırımlar-Genişleme1'!L18+'Yatırımlar-Genişleme2'!L18 -> 0 | M18: =IFERROR((('Yatırımlar-Mevcut Bölge'!L18*'Yatırımlar-Mevcut Bölge'!M18)+('Yatırımlar-Genişleme1'!L18*'Yatırımlar-Genişleme1'!M18)+('Yatırımlar-Genişleme2'!L18*'Yatırımlar-Genişleme2'!M18))/SUM('Yatırımlar-Mevcut Bölge'!L18,'Yatırımlar-Genişleme1'!L18,'Yatırımlar-Genişleme2'!L18),"") | N18: =IFERROR((('Yatırımlar-Mevcut Bölge'!L18*'Yatırımlar-Mevcut Bölge'!N18)+('Yatırımlar-Genişleme1'!L18*'Yatırımlar-Genişleme1'!N18)+('Yatırımlar-Genişleme2'!L18*'Yatırımlar-Genişleme2'!N18))/SUM('Yatırımlar-Mevcut Bölge'!L18,'Yatırımlar-Genişleme1'!L18,'Yatırımlar-Genişleme2'!L18),"") | O18: =IFERROR(L18*(M18+N18),"") | P18: ='Yatırımlar-Mevcut Bölge'!P18+'Yatırımlar-Genişleme1'!P18+'Yatırımlar-Genişleme2'!P18 -> 0 | Q18: =IFERROR((('Yatırımlar-Mevcut Bölge'!P18*'Yatırımlar-Mevcut Bölge'!Q18)+('Yatırımlar-Genişleme1'!P18*'Yatırımlar-Genişleme1'!Q18)+('Yatırımlar-Genişleme2'!P18*'Yatırımlar-Genişleme2'!Q18))/SUM('Yatırımlar-Mevcut Bölge'!P18,'Yatırımlar-Genişleme1'!P18,'Yatırımlar-Genişleme2'!P18),"") | R18: =IFERROR((('Yatırımlar-Mevcut Bölge'!P18*'Yatırımlar-Mevcut Bölge'!R18)+('Yatırımlar-Genişleme1'!P18*'Yatırımlar-Genişleme1'!R18)+('Yatırımlar-Genişleme2'!P18*'Yatırımlar-Genişleme2'!R18))/SUM('Yatırımlar-Mevcut Bölge'!P18,'Yatırımlar-Genişleme1'!P18,'Yatırımlar-Genişleme2'!P18),"") | S18: =IFERROR(P18*(Q18+R18),"") | T18: ='Yatırımlar-Mevcut Bölge'!T18+'Yatırımlar-Genişleme1'!T18+'Yatırımlar-Genişleme2'!T18 -> 0 | U18: =IFERROR((('Yatırımlar-Mevcut Bölge'!T18*'Yatırımlar-Mevcut Bölge'!U18)+('Yatırımlar-Genişleme1'!T18*'Yatırımlar-Genişleme1'!U18)+('Yatırımlar-Genişleme2'!T18*'Yatırımlar-Genişleme2'!U18))/SUM('Yatırımlar-Mevcut Bölge'!T18,'Yatırımlar-Genişleme1'!T18,'Yatırımlar-Genişleme2'!T18),"") | V18: =IFERROR((('Yatırımlar-Mevcut Bölge'!T18*'Yatırımlar-Mevcut Bölge'!V18)+('Yatırımlar-Genişleme1'!T18*'Yatırımlar-Genişleme1'!V18)+('Yatırımlar-Genişleme2'!T18*'Yatırımlar-Genişleme2'!V18))/SUM('Yatırımlar-Mevcut Bölge'!T18,'Yatırımlar-Genişleme1'!T18,'Yatırımlar-Genişleme2'!T18),"") | W18: =IFERROR(T18*(U18+V18),"")
B19: 17-20" | C19: metre | D19: ='Yatırımlar-Mevcut Bölge'!D19+'Yatırımlar-Genişleme1'!D19+'Yatırımlar-Genişleme2'!D19 -> 0 | E19: =IFERROR((('Yatırımlar-Mevcut Bölge'!D19*'Yatırımlar-Mevcut Bölge'!E19)+('Yatırımlar-Genişleme1'!D19*'Yatırımlar-Genişleme1'!E19)+('Yatırımlar-Genişleme2'!D19*'Yatırımlar-Genişleme2'!E19))/SUM('Yatırımlar-Mevcut Bölge'!D19,'Yatırımlar-Genişleme1'!D19,'Yatırımlar-Genişleme2'!D19),"") | F19: =IFERROR((('Yatırımlar-Mevcut Bölge'!D19*'Yatırımlar-Mevcut Bölge'!F19)+('Yatırımlar-Genişleme1'!D19*'Yatırımlar-Genişleme1'!F19)+('Yatırımlar-Genişleme2'!D19*'Yatırımlar-Genişleme2'!F19))/SUM('Yatırımlar-Mevcut Bölge'!D19,'Yatırımlar-Genişleme1'!D19,'Yatırımlar-Genişleme2'!D19),"") | G19: =IFERROR(D19*(E19+F19),"") | H19: ='Yatırımlar-Mevcut Bölge'!H19+'Yatırımlar-Genişleme1'!H19+'Yatırımlar-Genişleme2'!H19 -> 0 | I19: =IFERROR((('Yatırımlar-Mevcut Bölge'!H19*'Yatırımlar-Mevcut Bölge'!I19)+('Yatırımlar-Genişleme1'!H19*'Yatırımlar-Genişleme1'!I19)+('Yatırımlar-Genişleme2'!H19*'Yatırımlar-Genişleme2'!I19))/SUM('Yatırımlar-Mevcut Bölge'!H19,'Yatırımlar-Genişleme1'!H19,'Yatırımlar-Genişleme2'!H19),"") | J19: =IFERROR((('Yatırımlar-Mevcut Bölge'!H19*'Yatırımlar-Mevcut Bölge'!J19)+('Yatırımlar-Genişleme1'!H19*'Yatırımlar-Genişleme1'!J19)+('Yatırımlar-Genişleme2'!H19*'Yatırımlar-Genişleme2'!J19))/SUM('Yatırımlar-Mevcut Bölge'!H19,'Yatırımlar-Genişleme1'!H19,'Yatırımlar-Genişleme2'!H19),"") | K19: =IFERROR(H19*(I19+J19),"") | L19: ='Yatırımlar-Mevcut Bölge'!L19+'Yatırımlar-Genişleme1'!L19+'Yatırımlar-Genişleme2'!L19 -> 0 | M19: =IFERROR((('Yatırımlar-Mevcut Bölge'!L19*'Yatırımlar-Mevcut Bölge'!M19)+('Yatırımlar-Genişleme1'!L19*'Yatırımlar-Genişleme1'!M19)+('Yatırımlar-Genişleme2'!L19*'Yatırımlar-Genişleme2'!M19))/SUM('Yatırımlar-Mevcut Bölge'!L19,'Yatırımlar-Genişleme1'!L19,'Yatırımlar-Genişleme2'!L19),"") | N19: =IFERROR((('Yatırımlar-Mevcut Bölge'!L19*'Yatırımlar-Mevcut Bölge'!N19)+('Yatırımlar-Genişleme1'!L19*'Yatırımlar-Genişleme1'!N19)+('Yatırımlar-Genişleme2'!L19*'Yatırımlar-Genişleme2'!N19))/SUM('Yatırımlar-Mevcut Bölge'!L19,'Yatırımlar-Genişleme1'!L19,'Yatırımlar-Genişleme2'!L19),"") | O19: =IFERROR(L19*(M19+N19),"") | P19: ='Yatırımlar-Mevcut Bölge'!P19+'Yatırımlar-Genişleme1'!P19+'Yatırımlar-Genişleme2'!P19 -> 0 | Q19: =IFERROR((('Yatırımlar-Mevcut Bölge'!P19*'Yatırımlar-Mevcut Bölge'!Q19)+('Yatırımlar-Genişleme1'!P19*'Yatırımlar-Genişleme1'!Q19)+('Yatırımlar-Genişleme2'!P19*'Yatırımlar-Genişleme2'!Q19))/SUM('Yatırımlar-Mevcut Bölge'!P19,'Yatırımlar-Genişleme1'!P19,'Yatırımlar-Genişleme2'!P19),"") | R19: =IFERROR((('Yatırımlar-Mevcut Bölge'!P19*'Yatırımlar-Mevcut Bölge'!R19)+('Yatırımlar-Genişleme1'!P19*'Yatırımlar-Genişleme1'!R19)+('Yatırımlar-Genişleme2'!P19*'Yatırımlar-Genişleme2'!R19))/SUM('Yatırımlar-Mevcut Bölge'!P19,'Yatırımlar-Genişleme1'!P19,'Yatırımlar-Genişleme2'!P19),"") | S19: =IFERROR(P19*(Q19+R19),"") | T19: ='Yatırımlar-Mevcut Bölge'!T19+'Yatırımlar-Genişleme1'!T19+'Yatırımlar-Genişleme2'!T19 -> 0 | U19: =IFERROR((('Yatırımlar-Mevcut Bölge'!T19*'Yatırımlar-Mevcut Bölge'!U19)+('Yatırımlar-Genişleme1'!T19*'Yatırımlar-Genişleme1'!U19)+('Yatırımlar-Genişleme2'!T19*'Yatırımlar-Genişleme2'!U19))/SUM('Yatırımlar-Mevcut Bölge'!T19,'Yatırımlar-Genişleme1'!T19,'Yatırımlar-Genişleme2'!T19),"") | V19: =IFERROR((('Yatırımlar-Mevcut Bölge'!T19*'Yatırımlar-Mevcut Bölge'!V19)+('Yatırımlar-Genişleme1'!T19*'Yatırımlar-Genişleme1'!V19)+('Yatırımlar-Genişleme2'!T19*'Yatırımlar-Genişleme2'!V19))/SUM('Yatırımlar-Mevcut Bölge'!T19,'Yatırımlar-Genişleme1'!T19,'Yatırımlar-Genişleme2'!T19),"") | W19: =IFERROR(T19*(U19+V19),"")
B20: 21-24" | C20: metre | D20: ='Yatırımlar-Mevcut Bölge'!D20+'Yatırımlar-Genişleme1'!D20+'Yatırımlar-Genişleme2'!D20 -> 0 | E20: =IFERROR((('Yatırımlar-Mevcut Bölge'!D20*'Yatırımlar-Mevcut Bölge'!E20)+('Yatırımlar-Genişleme1'!D20*'Yatırımlar-Genişleme1'!E20)+('Yatırımlar-Genişleme2'!D20*'Yatırımlar-Genişleme2'!E20))/SUM('Yatırımlar-Mevcut Bölge'!D20,'Yatırımlar-Genişleme1'!D20,'Yatırımlar-Genişleme2'!D20),"") | F20: =IFERROR((('Yatırımlar-Mevcut Bölge'!D20*'Yatırımlar-Mevcut Bölge'!F20)+('Yatırımlar-Genişleme1'!D20*'Yatırımlar-Genişleme1'!F20)+('Yatırımlar-Genişleme2'!D20*'Yatırımlar-Genişleme2'!F20))/SUM('Yatırımlar-Mevcut Bölge'!D20,'Yatırımlar-Genişleme1'!D20,'Yatırımlar-Genişleme2'!D20),"") | G20: =IFERROR(D20*(E20+F20),"") | H20: ='Yatırımlar-Mevcut Bölge'!H20+'Yatırımlar-Genişleme1'!H20+'Yatırımlar-Genişleme2'!H20 -> 0 | I20: =IFERROR((('Yatırımlar-Mevcut Bölge'!H20*'Yatırımlar-Mevcut Bölge'!I20)+('Yatırımlar-Genişleme1'!H20*'Yatırımlar-Genişleme1'!I20)+('Yatırımlar-Genişleme2'!H20*'Yatırımlar-Genişleme2'!I20))/SUM('Yatırımlar-Mevcut Bölge'!H20,'Yatırımlar-Genişleme1'!H20,'Yatırımlar-Genişleme2'!H20),"") | J20: =IFERROR((('Yatırımlar-Mevcut Bölge'!H20*'Yatırımlar-Mevcut Bölge'!J20)+('Yatırımlar-Genişleme1'!H20*'Yatırımlar-Genişleme1'!J20)+('Yatırımlar-Genişleme2'!H20*'Yatırımlar-Genişleme2'!J20))/SUM('Yatırımlar-Mevcut Bölge'!H20,'Yatırımlar-Genişleme1'!H20,'Yatırımlar-Genişleme2'!H20),"") | K20: =IFERROR(H20*(I20+J20),"") | L20: ='Yatırımlar-Mevcut Bölge'!L20+'Yatırımlar-Genişleme1'!L20+'Yatırımlar-Genişleme2'!L20 -> 0 | M20: =IFERROR((('Yatırımlar-Mevcut Bölge'!L20*'Yatırımlar-Mevcut Bölge'!M20)+('Yatırımlar-Genişleme1'!L20*'Yatırımlar-Genişleme1'!M20)+('Yatırımlar-Genişleme2'!L20*'Yatırımlar-Genişleme2'!M20))/SUM('Yatırımlar-Mevcut Bölge'!L20,'Yatırımlar-Genişleme1'!L20,'Yatırımlar-Genişleme2'!L20),"") | N20: =IFERROR((('Yatırımlar-Mevcut Bölge'!L20*'Yatırımlar-Mevcut Bölge'!N20)+('Yatırımlar-Genişleme1'!L20*'Yatırımlar-Genişleme1'!N20)+('Yatırımlar-Genişleme2'!L20*'Yatırımlar-Genişleme2'!N20))/SUM('Yatırımlar-Mevcut Bölge'!L20,'Yatırımlar-Genişleme1'!L20,'Yatırımlar-Genişleme2'!L20),"") | O20: =IFERROR(L20*(M20+N20),"") | P20: ='Yatırımlar-Mevcut Bölge'!P20+'Yatırımlar-Genişleme1'!P20+'Yatırımlar-Genişleme2'!P20 -> 0 | Q20: =IFERROR((('Yatırımlar-Mevcut Bölge'!P20*'Yatırımlar-Mevcut Bölge'!Q20)+('Yatırımlar-Genişleme1'!P20*'Yatırımlar-Genişleme1'!Q20)+('Yatırımlar-Genişleme2'!P20*'Yatırımlar-Genişleme2'!Q20))/SUM('Yatırımlar-Mevcut Bölge'!P20,'Yatırımlar-Genişleme1'!P20,'Yatırımlar-Genişleme2'!P20),"") | R20: =IFERROR((('Yatırımlar-Mevcut Bölge'!P20*'Yatırımlar-Mevcut Bölge'!R20)+('Yatırımlar-Genişleme1'!P20*'Yatırımlar-Genişleme1'!R20)+('Yatırımlar-Genişleme2'!P20*'Yatırımlar-Genişleme2'!R20))/SUM('Yatırımlar-Mevcut Bölge'!P20,'Yatırımlar-Genişleme1'!P20,'Yatırımlar-Genişleme2'!P20),"") | S20: =IFERROR(P20*(Q20+R20),"") | T20: ='Yatırımlar-Mevcut Bölge'!T20+'Yatırımlar-Genişleme1'!T20+'Yatırımlar-Genişleme2'!T20 -> 0 | U20: =IFERROR((('Yatırımlar-Mevcut Bölge'!T20*'Yatırımlar-Mevcut Bölge'!U20)+('Yatırımlar-Genişleme1'!T20*'Yatırımlar-Genişleme1'!U20)+('Yatırımlar-Genişleme2'!T20*'Yatırımlar-Genişleme2'!U20))/SUM('Yatırımlar-Mevcut Bölge'!T20,'Yatırımlar-Genişleme1'!T20,'Yatırımlar-Genişleme2'!T20),"") | V20: =IFERROR((('Yatırımlar-Mevcut Bölge'!T20*'Yatırımlar-Mevcut Bölge'!V20)+('Yatırımlar-Genişleme1'!T20*'Yatırımlar-Genişleme1'!V20)+('Yatırımlar-Genişleme2'!T20*'Yatırımlar-Genişleme2'!V20))/SUM('Yatırımlar-Mevcut Bölge'!T20,'Yatırımlar-Genişleme1'!T20,'Yatırımlar-Genişleme2'!T20),"") | W20: =IFERROR(T20*(U20+V20),"")
B21: 25-28" | C21: metre | D21: ='Yatırımlar-Mevcut Bölge'!D21+'Yatırımlar-Genişleme1'!D21+'Yatırımlar-Genişleme2'!D21 -> 0 | E21: =IFERROR((('Yatırımlar-Mevcut Bölge'!D21*'Yatırımlar-Mevcut Bölge'!E21)+('Yatırımlar-Genişleme1'!D21*'Yatırımlar-Genişleme1'!E21)+('Yatırımlar-Genişleme2'!D21*'Yatırımlar-Genişleme2'!E21))/SUM('Yatırımlar-Mevcut Bölge'!D21,'Yatırımlar-Genişleme1'!D21,'Yatırımlar-Genişleme2'!D21),"") | F21: =IFERROR((('Yatırımlar-Mevcut Bölge'!D21*'Yatırımlar-Mevcut Bölge'!F21)+('Yatırımlar-Genişleme1'!D21*'Yatırımlar-Genişleme1'!F21)+('Yatırımlar-Genişleme2'!D21*'Yatırımlar-Genişleme2'!F21))/SUM('Yatırımlar-Mevcut Bölge'!D21,'Yatırımlar-Genişleme1'!D21,'Yatırımlar-Genişleme2'!D21),"") | G21: =IFERROR(D21*(E21+F21),"") | H21: ='Yatırımlar-Mevcut Bölge'!H21+'Yatırımlar-Genişleme1'!H21+'Yatırımlar-Genişleme2'!H21 -> 0 | I21: =IFERROR((('Yatırımlar-Mevcut Bölge'!H21*'Yatırımlar-Mevcut Bölge'!I21)+('Yatırımlar-Genişleme1'!H21*'Yatırımlar-Genişleme1'!I21)+('Yatırımlar-Genişleme2'!H21*'Yatırımlar-Genişleme2'!I21))/SUM('Yatırımlar-Mevcut Bölge'!H21,'Yatırımlar-Genişleme1'!H21,'Yatırımlar-Genişleme2'!H21),"") | J21: =IFERROR((('Yatırımlar-Mevcut Bölge'!H21*'Yatırımlar-Mevcut Bölge'!J21)+('Yatırımlar-Genişleme1'!H21*'Yatırımlar-Genişleme1'!J21)+('Yatırımlar-Genişleme2'!H21*'Yatırımlar-Genişleme2'!J21))/SUM('Yatırımlar-Mevcut Bölge'!H21,'Yatırımlar-Genişleme1'!H21,'Yatırımlar-Genişleme2'!H21),"") | K21: =IFERROR(H21*(I21+J21),"") | L21: ='Yatırımlar-Mevcut Bölge'!L21+'Yatırımlar-Genişleme1'!L21+'Yatırımlar-Genişleme2'!L21 -> 0 | M21: =IFERROR((('Yatırımlar-Mevcut Bölge'!L21*'Yatırımlar-Mevcut Bölge'!M21)+('Yatırımlar-Genişleme1'!L21*'Yatırımlar-Genişleme1'!M21)+('Yatırımlar-Genişleme2'!L21*'Yatırımlar-Genişleme2'!M21))/SUM('Yatırımlar-Mevcut Bölge'!L21,'Yatırımlar-Genişleme1'!L21,'Yatırımlar-Genişleme2'!L21),"") | N21: =IFERROR((('Yatırımlar-Mevcut Bölge'!L21*'Yatırımlar-Mevcut Bölge'!N21)+('Yatırımlar-Genişleme1'!L21*'Yatırımlar-Genişleme1'!N21)+('Yatırımlar-Genişleme2'!L21*'Yatırımlar-Genişleme2'!N21))/SUM('Yatırımlar-Mevcut Bölge'!L21,'Yatırımlar-Genişleme1'!L21,'Yatırımlar-Genişleme2'!L21),"") | O21: =IFERROR(L21*(M21+N21),"") | P21: ='Yatırımlar-Mevcut Bölge'!P21+'Yatırımlar-Genişleme1'!P21+'Yatırımlar-Genişleme2'!P21 -> 0 | Q21: =IFERROR((('Yatırımlar-Mevcut Bölge'!P21*'Yatırımlar-Mevcut Bölge'!Q21)+('Yatırımlar-Genişleme1'!P21*'Yatırımlar-Genişleme1'!Q21)+('Yatırımlar-Genişleme2'!P21*'Yatırımlar-Genişleme2'!Q21))/SUM('Yatırımlar-Mevcut Bölge'!P21,'Yatırımlar-Genişleme1'!P21,'Yatırımlar-Genişleme2'!P21),"") | R21: =IFERROR((('Yatırımlar-Mevcut Bölge'!P21*'Yatırımlar-Mevcut Bölge'!R21)+('Yatırımlar-Genişleme1'!P21*'Yatırımlar-Genişleme1'!R21)+('Yatırımlar-Genişleme2'!P21*'Yatırımlar-Genişleme2'!R21))/SUM('Yatırımlar-Mevcut Bölge'!P21,'Yatırımlar-Genişleme1'!P21,'Yatırımlar-Genişleme2'!P21),"") | S21: =IFERROR(P21*(Q21+R21),"") | T21: ='Yatırımlar-Mevcut Bölge'!T21+'Yatırımlar-Genişleme1'!T21+'Yatırımlar-Genişleme2'!T21 -> 0 | U21: =IFERROR((('Yatırımlar-Mevcut Bölge'!T21*'Yatırımlar-Mevcut Bölge'!U21)+('Yatırımlar-Genişleme1'!T21*'Yatırımlar-Genişleme1'!U21)+('Yatırımlar-Genişleme2'!T21*'Yatırımlar-Genişleme2'!U21))/SUM('Yatırımlar-Mevcut Bölge'!T21,'Yatırımlar-Genişleme1'!T21,'Yatırımlar-Genişleme2'!T21),"") | V21: =IFERROR((('Yatırımlar-Mevcut Bölge'!T21*'Yatırımlar-Mevcut Bölge'!V21)+('Yatırımlar-Genişleme1'!T21*'Yatırımlar-Genişleme1'!V21)+('Yatırımlar-Genişleme2'!T21*'Yatırımlar-Genişleme2'!V21))/SUM('Yatırımlar-Mevcut Bölge'!T21,'Yatırımlar-Genişleme1'!T21,'Yatırımlar-Genişleme2'!T21),"") | W21: =IFERROR(T21*(U21+V21),"")
B22: 28" üzeri | C22: metre | D22: ='Yatırımlar-Mevcut Bölge'!D22+'Yatırımlar-Genişleme1'!D22+'Yatırımlar-Genişleme2'!D22 -> 0 | E22: =IFERROR((('Yatırımlar-Mevcut Bölge'!D22*'Yatırımlar-Mevcut Bölge'!E22)+('Yatırımlar-Genişleme1'!D22*'Yatırımlar-Genişleme1'!E22)+('Yatırımlar-Genişleme2'!D22*'Yatırımlar-Genişleme2'!E22))/SUM('Yatırımlar-Mevcut Bölge'!D22,'Yatırımlar-Genişleme1'!D22,'Yatırımlar-Genişleme2'!D22),"") | F22: =IFERROR((('Yatırımlar-Mevcut Bölge'!D22*'Yatırımlar-Mevcut Bölge'!F22)+('Yatırımlar-Genişleme1'!D22*'Yatırımlar-Genişleme1'!F22)+('Yatırımlar-Genişleme2'!D22*'Yatırımlar-Genişleme2'!F22))/SUM('Yatırımlar-Mevcut Bölge'!D22,'Yatırımlar-Genişleme1'!D22,'Yatırımlar-Genişleme2'!D22),"") | G22: =IFERROR(D22*(E22+F22),"") | H22: ='Yatırımlar-Mevcut Bölge'!H22+'Yatırımlar-Genişleme1'!H22+'Yatırımlar-Genişleme2'!H22 -> 0 | I22: =IFERROR((('Yatırımlar-Mevcut Bölge'!H22*'Yatırımlar-Mevcut Bölge'!I22)+('Yatırımlar-Genişleme1'!H22*'Yatırımlar-Genişleme1'!I22)+('Yatırımlar-Genişleme2'!H22*'Yatırımlar-Genişleme2'!I22))/SUM('Yatırımlar-Mevcut Bölge'!H22,'Yatırımlar-Genişleme1'!H22,'Yatırımlar-Genişleme2'!H22),"") | J22: =IFERROR((('Yatırımlar-Mevcut Bölge'!H22*'Yatırımlar-Mevcut Bölge'!J22)+('Yatırımlar-Genişleme1'!H22*'Yatırımlar-Genişleme1'!J22)+('Yatırımlar-Genişleme2'!H22*'Yatırımlar-Genişleme2'!J22))/SUM('Yatırımlar-Mevcut Bölge'!H22,'Yatırımlar-Genişleme1'!H22,'Yatırımlar-Genişleme2'!H22),"") | K22: =IFERROR(H22*(I22+J22),"") | L22: ='Yatırımlar-Mevcut Bölge'!L22+'Yatırımlar-Genişleme1'!L22+'Yatırımlar-Genişleme2'!L22 -> 0 | M22: =IFERROR((('Yatırımlar-Mevcut Bölge'!L22*'Yatırımlar-Mevcut Bölge'!M22)+('Yatırımlar-Genişleme1'!L22*'Yatırımlar-Genişleme1'!M22)+('Yatırımlar-Genişleme2'!L22*'Yatırımlar-Genişleme2'!M22))/SUM('Yatırımlar-Mevcut Bölge'!L22,'Yatırımlar-Genişleme1'!L22,'Yatırımlar-Genişleme2'!L22),"") | N22: =IFERROR((('Yatırımlar-Mevcut Bölge'!L22*'Yatırımlar-Mevcut Bölge'!N22)+('Yatırımlar-Genişleme1'!L22*'Yatırımlar-Genişleme1'!N22)+('Yatırımlar-Genişleme2'!L22*'Yatırımlar-Genişleme2'!N22))/SUM('Yatırımlar-Mevcut Bölge'!L22,'Yatırımlar-Genişleme1'!L22,'Yatırımlar-Genişleme2'!L22),"") | O22: =IFERROR(L22*(M22+N22),"") | P22: ='Yatırımlar-Mevcut Bölge'!P22+'Yatırımlar-Genişleme1'!P22+'Yatırımlar-Genişleme2'!P22 -> 0 | Q22: =IFERROR((('Yatırımlar-Mevcut Bölge'!P22*'Yatırımlar-Mevcut Bölge'!Q22)+('Yatırımlar-Genişleme1'!P22*'Yatırımlar-Genişleme1'!Q22)+('Yatırımlar-Genişleme2'!P22*'Yatırımlar-Genişleme2'!Q22))/SUM('Yatırımlar-Mevcut Bölge'!P22,'Yatırımlar-Genişleme1'!P22,'Yatırımlar-Genişleme2'!P22),"") | R22: =IFERROR((('Yatırımlar-Mevcut Bölge'!P22*'Yatırımlar-Mevcut Bölge'!R22)+('Yatırımlar-Genişleme1'!P22*'Yatırımlar-Genişleme1'!R22)+('Yatırımlar-Genişleme2'!P22*'Yatırımlar-Genişleme2'!R22))/SUM('Yatırımlar-Mevcut Bölge'!P22,'Yatırımlar-Genişleme1'!P22,'Yatırımlar-Genişleme2'!P22),"") | S22: =IFERROR(P22*(Q22+R22),"") | T22: ='Yatırımlar-Mevcut Bölge'!T22+'Yatırımlar-Genişleme1'!T22+'Yatırımlar-Genişleme2'!T22 -> 0 | U22: =IFERROR((('Yatırımlar-Mevcut Bölge'!T22*'Yatırımlar-Mevcut Bölge'!U22)+('Yatırımlar-Genişleme1'!T22*'Yatırımlar-Genişleme1'!U22)+('Yatırımlar-Genişleme2'!T22*'Yatırımlar-Genişleme2'!U22))/SUM('Yatırımlar-Mevcut Bölge'!T22,'Yatırımlar-Genişleme1'!T22,'Yatırımlar-Genişleme2'!T22),"") | V22: =IFERROR((('Yatırımlar-Mevcut Bölge'!T22*'Yatırımlar-Mevcut Bölge'!V22)+('Yatırımlar-Genişleme1'!T22*'Yatırımlar-Genişleme1'!V22)+('Yatırımlar-Genişleme2'!T22*'Yatırımlar-Genişleme2'!V22))/SUM('Yatırımlar-Mevcut Bölge'!T22,'Yatırımlar-Genişleme1'!T22,'Yatırımlar-Genişleme2'!T22),"") | W22: =IFERROR(T22*(U22+V22),"")
B23: 1.1.2. Polietilen Hatlar | G23: =SUM(G24:G29) -> 0 | K23: =SUM(K24:K29) -> 0 | O23: =SUM(O24:O29) -> 0 | S23: =SUM(S24:S29) -> 0 | W23: =SUM(W24:W29) -> 0
B24: ND 0-40 mm | C24: metre | D24: ='Yatırımlar-Mevcut Bölge'!D24+'Yatırımlar-Genişleme1'!D24+'Yatırımlar-Genişleme2'!D24 -> 0 | E24: =IFERROR((('Yatırımlar-Mevcut Bölge'!D24*'Yatırımlar-Mevcut Bölge'!E24)+('Yatırımlar-Genişleme1'!D24*'Yatırımlar-Genişleme1'!E24)+('Yatırımlar-Genişleme2'!D24*'Yatırımlar-Genişleme2'!E24))/SUM('Yatırımlar-Mevcut Bölge'!D24,'Yatırımlar-Genişleme1'!D24,'Yatırımlar-Genişleme2'!D24),"") | F24: =IFERROR((('Yatırımlar-Mevcut Bölge'!D24*'Yatırımlar-Mevcut Bölge'!F24)+('Yatırımlar-Genişleme1'!D24*'Yatırımlar-Genişleme1'!F24)+('Yatırımlar-Genişleme2'!D24*'Yatırımlar-Genişleme2'!F24))/SUM('Yatırımlar-Mevcut Bölge'!D24,'Yatırımlar-Genişleme1'!D24,'Yatırımlar-Genişleme2'!D24),"") | G24: =IFERROR(D24*(E24+F24),"") | H24: ='Yatırımlar-Mevcut Bölge'!H24+'Yatırımlar-Genişleme1'!H24+'Yatırımlar-Genişleme2'!H24 -> 0 | I24: =IFERROR((('Yatırımlar-Mevcut Bölge'!H24*'Yatırımlar-Mevcut Bölge'!I24)+('Yatırımlar-Genişleme1'!H24*'Yatırımlar-Genişleme1'!I24)+('Yatırımlar-Genişleme2'!H24*'Yatırımlar-Genişleme2'!I24))/SUM('Yatırımlar-Mevcut Bölge'!H24,'Yatırımlar-Genişleme1'!H24,'Yatırımlar-Genişleme2'!H24),"") | J24: =IFERROR((('Yatırımlar-Mevcut Bölge'!H24*'Yatırımlar-Mevcut Bölge'!J24)+('Yatırımlar-Genişleme1'!H24*'Yatırımlar-Genişleme1'!J24)+('Yatırımlar-Genişleme2'!H24*'Yatırımlar-Genişleme2'!J24))/SUM('Yatırımlar-Mevcut Bölge'!H24,'Yatırımlar-Genişleme1'!H24,'Yatırımlar-Genişleme2'!H24),"") | K24: =IFERROR(H24*(I24+J24),"") | L24: ='Yatırımlar-Mevcut Bölge'!L24+'Yatırımlar-Genişleme1'!L24+'Yatırımlar-Genişleme2'!L24 -> 0 | M24: =IFERROR((('Yatırımlar-Mevcut Bölge'!L24*'Yatırımlar-Mevcut Bölge'!M24)+('Yatırımlar-Genişleme1'!L24*'Yatırımlar-Genişleme1'!M24)+('Yatırımlar-Genişleme2'!L24*'Yatırımlar-Genişleme2'!M24))/SUM('Yatırımlar-Mevcut Bölge'!L24,'Yatırımlar-Genişleme1'!L24,'Yatırımlar-Genişleme2'!L24),"") | N24: =IFERROR((('Yatırımlar-Mevcut Bölge'!L24*'Yatırımlar-Mevcut Bölge'!N24)+('Yatırımlar-Genişleme1'!L24*'Yatırımlar-Genişleme1'!N24)+('Yatırımlar-Genişleme2'!L24*'Yatırımlar-Genişleme2'!N24))/SUM('Yatırımlar-Mevcut Bölge'!L24,'Yatırımlar-Genişleme1'!L24,'Yatırımlar-Genişleme2'!L24),"") | O24: =IFERROR(L24*(M24+N24),"") | P24: ='Yatırımlar-Mevcut Bölge'!P24+'Yatırımlar-Genişleme1'!P24+'Yatırımlar-Genişleme2'!P24 -> 0 | Q24: =IFERROR((('Yatırımlar-Mevcut Bölge'!P24*'Yatırımlar-Mevcut Bölge'!Q24)+('Yatırımlar-Genişleme1'!P24*'Yatırımlar-Genişleme1'!Q24)+('Yatırımlar-Genişleme2'!P24*'Yatırımlar-Genişleme2'!Q24))/SUM('Yatırımlar-Mevcut Bölge'!P24,'Yatırımlar-Genişleme1'!P24,'Yatırımlar-Genişleme2'!P24),"") | R24: =IFERROR((('Yatırımlar-Mevcut Bölge'!P24*'Yatırımlar-Mevcut Bölge'!R24)+('Yatırımlar-Genişleme1'!P24*'Yatırımlar-Genişleme1'!R24)+('Yatırımlar-Genişleme2'!P24*'Yatırımlar-Genişleme2'!R24))/SUM('Yatırımlar-Mevcut Bölge'!P24,'Yatırımlar-Genişleme1'!P24,'Yatırımlar-Genişleme2'!P24),"") | S24: =IFERROR(P24*(Q24+R24),"") | T24: ='Yatırımlar-Mevcut Bölge'!T24+'Yatırımlar-Genişleme1'!T24+'Yatırımlar-Genişleme2'!T24 -> 0 | U24: =IFERROR((('Yatırımlar-Mevcut Bölge'!T24*'Yatırımlar-Mevcut Bölge'!U24)+('Yatırımlar-Genişleme1'!T24*'Yatırımlar-Genişleme1'!U24)+('Yatırımlar-Genişleme2'!T24*'Yatırımlar-Genişleme2'!U24))/SUM('Yatırımlar-Mevcut Bölge'!T24,'Yatırımlar-Genişleme1'!T24,'Yatırımlar-Genişleme2'!T24),"") | V24: =IFERROR((('Yatırımlar-Mevcut Bölge'!T24*'Yatırımlar-Mevcut Bölge'!V24)+('Yatırımlar-Genişleme1'!T24*'Yatırımlar-Genişleme1'!V24)+('Yatırımlar-Genişleme2'!T24*'Yatırımlar-Genişleme2'!V24))/SUM('Yatırımlar-Mevcut Bölge'!T24,'Yatırımlar-Genişleme1'!T24,'Yatırımlar-Genişleme2'!T24),"") | W24: =IFERROR(T24*(U24+V24),"")
B25: ND 63 mm | C25: metre | D25: ='Yatırımlar-Mevcut Bölge'!D25+'Yatırımlar-Genişleme1'!D25+'Yatırımlar-Genişleme2'!D25 -> 0 | E25: =IFERROR((('Yatırımlar-Mevcut Bölge'!D25*'Yatırımlar-Mevcut Bölge'!E25)+('Yatırımlar-Genişleme1'!D25*'Yatırımlar-Genişleme1'!E25)+('Yatırımlar-Genişleme2'!D25*'Yatırımlar-Genişleme2'!E25))/SUM('Yatırımlar-Mevcut Bölge'!D25,'Yatırımlar-Genişleme1'!D25,'Yatırımlar-Genişleme2'!D25),"") | F25: =IFERROR((('Yatırımlar-Mevcut Bölge'!D25*'Yatırımlar-Mevcut Bölge'!F25)+('Yatırımlar-Genişleme1'!D25*'Yatırımlar-Genişleme1'!F25)+('Yatırımlar-Genişleme2'!D25*'Yatırımlar-Genişleme2'!F25))/SUM('Yatırımlar-Mevcut Bölge'!D25,'Yatırımlar-Genişleme1'!D25,'Yatırımlar-Genişleme2'!D25),"") | G25: =IFERROR(D25*(E25+F25),"") | H25: ='Yatırımlar-Mevcut Bölge'!H25+'Yatırımlar-Genişleme1'!H25+'Yatırımlar-Genişleme2'!H25 -> 0 | I25: =IFERROR((('Yatırımlar-Mevcut Bölge'!H25*'Yatırımlar-Mevcut Bölge'!I25)+('Yatırımlar-Genişleme1'!H25*'Yatırımlar-Genişleme1'!I25)+('Yatırımlar-Genişleme2'!H25*'Yatırımlar-Genişleme2'!I25))/SUM('Yatırımlar-Mevcut Bölge'!H25,'Yatırımlar-Genişleme1'!H25,'Yatırımlar-Genişleme2'!H25),"") | J25: =IFERROR((('Yatırımlar-Mevcut Bölge'!H25*'Yatırımlar-Mevcut Bölge'!J25)+('Yatırımlar-Genişleme1'!H25*'Yatırımlar-Genişleme1'!J25)+('Yatırımlar-Genişleme2'!H25*'Yatırımlar-Genişleme2'!J25))/SUM('Yatırımlar-Mevcut Bölge'!H25,'Yatırımlar-Genişleme1'!H25,'Yatırımlar-Genişleme2'!H25),"") | K25: =IFERROR(H25*(I25+J25),"") | L25: ='Yatırımlar-Mevcut Bölge'!L25+'Yatırımlar-Genişleme1'!L25+'Yatırımlar-Genişleme2'!L25 -> 0 | M25: =IFERROR((('Yatırımlar-Mevcut Bölge'!L25*'Yatırımlar-Mevcut Bölge'!M25)+('Yatırımlar-Genişleme1'!L25*'Yatırımlar-Genişleme1'!M25)+('Yatırımlar-Genişleme2'!L25*'Yatırımlar-Genişleme2'!M25))/SUM('Yatırımlar-Mevcut Bölge'!L25,'Yatırımlar-Genişleme1'!L25,'Yatırımlar-Genişleme2'!L25),"") | N25: =IFERROR((('Yatırımlar-Mevcut Bölge'!L25*'Yatırımlar-Mevcut Bölge'!N25)+('Yatırımlar-Genişleme1'!L25*'Yatırımlar-Genişleme1'!N25)+('Yatırımlar-Genişleme2'!L25*'Yatırımlar-Genişleme2'!N25))/SUM('Yatırımlar-Mevcut Bölge'!L25,'Yatırımlar-Genişleme1'!L25,'Yatırımlar-Genişleme2'!L25),"") | O25: =IFERROR(L25*(M25+N25),"") | P25: ='Yatırımlar-Mevcut Bölge'!P25+'Yatırımlar-Genişleme1'!P25+'Yatırımlar-Genişleme2'!P25 -> 0 | Q25: =IFERROR((('Yatırımlar-Mevcut Bölge'!P25*'Yatırımlar-Mevcut Bölge'!Q25)+('Yatırımlar-Genişleme1'!P25*'Yatırımlar-Genişleme1'!Q25)+('Yatırımlar-Genişleme2'!P25*'Yatırımlar-Genişleme2'!Q25))/SUM('Yatırımlar-Mevcut Bölge'!P25,'Yatırımlar-Genişleme1'!P25,'Yatırımlar-Genişleme2'!P25),"") | R25: =IFERROR((('Yatırımlar-Mevcut Bölge'!P25*'Yatırımlar-Mevcut Bölge'!R25)+('Yatırımlar-Genişleme1'!P25*'Yatırımlar-Genişleme1'!R25)+('Yatırımlar-Genişleme2'!P25*'Yatırımlar-Genişleme2'!R25))/SUM('Yatırımlar-Mevcut Bölge'!P25,'Yatırımlar-Genişleme1'!P25,'Yatırımlar-Genişleme2'!P25),"") | S25: =IFERROR(P25*(Q25+R25),"") | T25: ='Yatırımlar-Mevcut Bölge'!T25+'Yatırımlar-Genişleme1'!T25+'Yatırımlar-Genişleme2'!T25 -> 0 | U25: =IFERROR((('Yatırımlar-Mevcut Bölge'!T25*'Yatırımlar-Mevcut Bölge'!U25)+('Yatırımlar-Genişleme1'!T25*'Yatırımlar-Genişleme1'!U25)+('Yatırımlar-Genişleme2'!T25*'Yatırımlar-Genişleme2'!U25))/SUM('Yatırımlar-Mevcut Bölge'!T25,'Yatırımlar-Genişleme1'!T25,'Yatırımlar-Genişleme2'!T25),"") | V25: =IFERROR((('Yatırımlar-Mevcut Bölge'!T25*'Yatırımlar-Mevcut Bölge'!V25)+('Yatırımlar-Genişleme1'!T25*'Yatırımlar-Genişleme1'!V25)+('Yatırımlar-Genişleme2'!T25*'Yatırımlar-Genişleme2'!V25))/SUM('Yatırımlar-Mevcut Bölge'!T25,'Yatırımlar-Genişleme1'!T25,'Yatırımlar-Genişleme2'!T25),"") | W25: =IFERROR(T25*(U25+V25),"")
B26: ND 90 mm | C26: metre | D26: ='Yatırımlar-Mevcut Bölge'!D26+'Yatırımlar-Genişleme1'!D26+'Yatırımlar-Genişleme2'!D26 -> 0 | E26: =IFERROR((('Yatırımlar-Mevcut Bölge'!D26*'Yatırımlar-Mevcut Bölge'!E26)+('Yatırımlar-Genişleme1'!D26*'Yatırımlar-Genişleme1'!E26)+('Yatırımlar-Genişleme2'!D26*'Yatırımlar-Genişleme2'!E26))/SUM('Yatırımlar-Mevcut Bölge'!D26,'Yatırımlar-Genişleme1'!D26,'Yatırımlar-Genişleme2'!D26),"") | F26: =IFERROR((('Yatırımlar-Mevcut Bölge'!D26*'Yatırımlar-Mevcut Bölge'!F26)+('Yatırımlar-Genişleme1'!D26*'Yatırımlar-Genişleme1'!F26)+('Yatırımlar-Genişleme2'!D26*'Yatırımlar-Genişleme2'!F26))/SUM('Yatırımlar-Mevcut Bölge'!D26,'Yatırımlar-Genişleme1'!D26,'Yatırımlar-Genişleme2'!D26),"") | G26: =IFERROR(D26*(E26+F26),"") | H26: ='Yatırımlar-Mevcut Bölge'!H26+'Yatırımlar-Genişleme1'!H26+'Yatırımlar-Genişleme2'!H26 -> 0 | I26: =IFERROR((('Yatırımlar-Mevcut Bölge'!H26*'Yatırımlar-Mevcut Bölge'!I26)+('Yatırımlar-Genişleme1'!H26*'Yatırımlar-Genişleme1'!I26)+('Yatırımlar-Genişleme2'!H26*'Yatırımlar-Genişleme2'!I26))/SUM('Yatırımlar-Mevcut Bölge'!H26,'Yatırımlar-Genişleme1'!H26,'Yatırımlar-Genişleme2'!H26),"") | J26: =IFERROR((('Yatırımlar-Mevcut Bölge'!H26*'Yatırımlar-Mevcut Bölge'!J26)+('Yatırımlar-Genişleme1'!H26*'Yatırımlar-Genişleme1'!J26)+('Yatırımlar-Genişleme2'!H26*'Yatırımlar-Genişleme2'!J26))/SUM('Yatırımlar-Mevcut Bölge'!H26,'Yatırımlar-Genişleme1'!H26,'Yatırımlar-Genişleme2'!H26),"") | K26: =IFERROR(H26*(I26+J26),"") | L26: ='Yatırımlar-Mevcut Bölge'!L26+'Yatırımlar-Genişleme1'!L26+'Yatırımlar-Genişleme2'!L26 -> 0 | M26: =IFERROR((('Yatırımlar-Mevcut Bölge'!L26*'Yatırımlar-Mevcut Bölge'!M26)+('Yatırımlar-Genişleme1'!L26*'Yatırımlar-Genişleme1'!M26)+('Yatırımlar-Genişleme2'!L26*'Yatırımlar-Genişleme2'!M26))/SUM('Yatırımlar-Mevcut Bölge'!L26,'Yatırımlar-Genişleme1'!L26,'Yatırımlar-Genişleme2'!L26),"") | N26: =IFERROR((('Yatırımlar-Mevcut Bölge'!L26*'Yatırımlar-Mevcut Bölge'!N26)+('Yatırımlar-Genişleme1'!L26*'Yatırımlar-Genişleme1'!N26)+('Yatırımlar-Genişleme2'!L26*'Yatırımlar-Genişleme2'!N26))/SUM('Yatırımlar-Mevcut Bölge'!L26,'Yatırımlar-Genişleme1'!L26,'Yatırımlar-Genişleme2'!L26),"") | O26: =IFERROR(L26*(M26+N26),"") | P26: ='Yatırımlar-Mevcut Bölge'!P26+'Yatırımlar-Genişleme1'!P26+'Yatırımlar-Genişleme2'!P26 -> 0 | Q26: =IFERROR((('Yatırımlar-Mevcut Bölge'!P26*'Yatırımlar-Mevcut Bölge'!Q26)+('Yatırımlar-Genişleme1'!P26*'Yatırımlar-Genişleme1'!Q26)+('Yatırımlar-Genişleme2'!P26*'Yatırımlar-Genişleme2'!Q26))/SUM('Yatırımlar-Mevcut Bölge'!P26,'Yatırımlar-Genişleme1'!P26,'Yatırımlar-Genişleme2'!P26),"") | R26: =IFERROR((('Yatırımlar-Mevcut Bölge'!P26*'Yatırımlar-Mevcut Bölge'!R26)+('Yatırımlar-Genişleme1'!P26*'Yatırımlar-Genişleme1'!R26)+('Yatırımlar-Genişleme2'!P26*'Yatırımlar-Genişleme2'!R26))/SUM('Yatırımlar-Mevcut Bölge'!P26,'Yatırımlar-Genişleme1'!P26,'Yatırımlar-Genişleme2'!P26),"") | S26: =IFERROR(P26*(Q26+R26),"") | T26: ='Yatırımlar-Mevcut Bölge'!T26+'Yatırımlar-Genişleme1'!T26+'Yatırımlar-Genişleme2'!T26 -> 0 | U26: =IFERROR((('Yatırımlar-Mevcut Bölge'!T26*'Yatırımlar-Mevcut Bölge'!U26)+('Yatırımlar-Genişleme1'!T26*'Yatırımlar-Genişleme1'!U26)+('Yatırımlar-Genişleme2'!T26*'Yatırımlar-Genişleme2'!U26))/SUM('Yatırımlar-Mevcut Bölge'!T26,'Yatırımlar-Genişleme1'!T26,'Yatırımlar-Genişleme2'!T26),"") | V26: =IFERROR((('Yatırımlar-Mevcut Bölge'!T26*'Yatırımlar-Mevcut Bölge'!V26)+('Yatırımlar-Genişleme1'!T26*'Yatırımlar-Genişleme1'!V26)+('Yatırımlar-Genişleme2'!T26*'Yatırımlar-Genişleme2'!V26))/SUM('Yatırımlar-Mevcut Bölge'!T26,'Yatırımlar-Genişleme1'!T26,'Yatırımlar-Genişleme2'!T26),"") | W26: =IFERROR(T26*(U26+V26),"")
B27: ND 110 mm | C27: metre | D27: ='Yatırımlar-Mevcut Bölge'!D27+'Yatırımlar-Genişleme1'!D27+'Yatırımlar-Genişleme2'!D27 -> 0 | E27: =IFERROR((('Yatırımlar-Mevcut Bölge'!D27*'Yatırımlar-Mevcut Bölge'!E27)+('Yatırımlar-Genişleme1'!D27*'Yatırımlar-Genişleme1'!E27)+('Yatırımlar-Genişleme2'!D27*'Yatırımlar-Genişleme2'!E27))/SUM('Yatırımlar-Mevcut Bölge'!D27,'Yatırımlar-Genişleme1'!D27,'Yatırımlar-Genişleme2'!D27),"") | F27: =IFERROR((('Yatırımlar-Mevcut Bölge'!D27*'Yatırımlar-Mevcut Bölge'!F27)+('Yatırımlar-Genişleme1'!D27*'Yatırımlar-Genişleme1'!F27)+('Yatırımlar-Genişleme2'!D27*'Yatırımlar-Genişleme2'!F27))/SUM('Yatırımlar-Mevcut Bölge'!D27,'Yatırımlar-Genişleme1'!D27,'Yatırımlar-Genişleme2'!D27),"") | G27: =IFERROR(D27*(E27+F27),"") | H27: ='Yatırımlar-Mevcut Bölge'!H27+'Yatırımlar-Genişleme1'!H27+'Yatırımlar-Genişleme2'!H27 -> 0 | I27: =IFERROR((('Yatırımlar-Mevcut Bölge'!H27*'Yatırımlar-Mevcut Bölge'!I27)+('Yatırımlar-Genişleme1'!H27*'Yatırımlar-Genişleme1'!I27)+('Yatırımlar-Genişleme2'!H27*'Yatırımlar-Genişleme2'!I27))/SUM('Yatırımlar-Mevcut Bölge'!H27,'Yatırımlar-Genişleme1'!H27,'Yatırımlar-Genişleme2'!H27),"") | J27: =IFERROR((('Yatırımlar-Mevcut Bölge'!H27*'Yatırımlar-Mevcut Bölge'!J27)+('Yatırımlar-Genişleme1'!H27*'Yatırımlar-Genişleme1'!J27)+('Yatırımlar-Genişleme2'!H27*'Yatırımlar-Genişleme2'!J27))/SUM('Yatırımlar-Mevcut Bölge'!H27,'Yatırımlar-Genişleme1'!H27,'Yatırımlar-Genişleme2'!H27),"") | K27: =IFERROR(H27*(I27+J27),"") | L27: ='Yatırımlar-Mevcut Bölge'!L27+'Yatırımlar-Genişleme1'!L27+'Yatırımlar-Genişleme2'!L27 -> 0 | M27: =IFERROR((('Yatırımlar-Mevcut Bölge'!L27*'Yatırımlar-Mevcut Bölge'!M27)+('Yatırımlar-Genişleme1'!L27*'Yatırımlar-Genişleme1'!M27)+('Yatırımlar-Genişleme2'!L27*'Yatırımlar-Genişleme2'!M27))/SUM('Yatırımlar-Mevcut Bölge'!L27,'Yatırımlar-Genişleme1'!L27,'Yatırımlar-Genişleme2'!L27),"") | N27: =IFERROR((('Yatırımlar-Mevcut Bölge'!L27*'Yatırımlar-Mevcut Bölge'!N27)+('Yatırımlar-Genişleme1'!L27*'Yatırımlar-Genişleme1'!N27)+('Yatırımlar-Genişleme2'!L27*'Yatırımlar-Genişleme2'!N27))/SUM('Yatırımlar-Mevcut Bölge'!L27,'Yatırımlar-Genişleme1'!L27,'Yatırımlar-Genişleme2'!L27),"") | O27: =IFERROR(L27*(M27+N27),"") | P27: ='Yatırımlar-Mevcut Bölge'!P27+'Yatırımlar-Genişleme1'!P27+'Yatırımlar-Genişleme2'!P27 -> 0 | Q27: =IFERROR((('Yatırımlar-Mevcut Bölge'!P27*'Yatırımlar-Mevcut Bölge'!Q27)+('Yatırımlar-Genişleme1'!P27*'Yatırımlar-Genişleme1'!Q27)+('Yatırımlar-Genişleme2'!P27*'Yatırımlar-Genişleme2'!Q27))/SUM('Yatırımlar-Mevcut Bölge'!P27,'Yatırımlar-Genişleme1'!P27,'Yatırımlar-Genişleme2'!P27),"") | R27: =IFERROR((('Yatırımlar-Mevcut Bölge'!P27*'Yatırımlar-Mevcut Bölge'!R27)+('Yatırımlar-Genişleme1'!P27*'Yatırımlar-Genişleme1'!R27)+('Yatırımlar-Genişleme2'!P27*'Yatırımlar-Genişleme2'!R27))/SUM('Yatırımlar-Mevcut Bölge'!P27,'Yatırımlar-Genişleme1'!P27,'Yatırımlar-Genişleme2'!P27),"") | S27: =IFERROR(P27*(Q27+R27),"") | T27: ='Yatırımlar-Mevcut Bölge'!T27+'Yatırımlar-Genişleme1'!T27+'Yatırımlar-Genişleme2'!T27 -> 0 | U27: =IFERROR((('Yatırımlar-Mevcut Bölge'!T27*'Yatırımlar-Mevcut Bölge'!U27)+('Yatırımlar-Genişleme1'!T27*'Yatırımlar-Genişleme1'!U27)+('Yatırımlar-Genişleme2'!T27*'Yatırımlar-Genişleme2'!U27))/SUM('Yatırımlar-Mevcut Bölge'!T27,'Yatırımlar-Genişleme1'!T27,'Yatırımlar-Genişleme2'!T27),"") | V27: =IFERROR((('Yatırımlar-Mevcut Bölge'!T27*'Yatırımlar-Mevcut Bölge'!V27)+('Yatırımlar-Genişleme1'!T27*'Yatırımlar-Genişleme1'!V27)+('Yatırımlar-Genişleme2'!T27*'Yatırımlar-Genişleme2'!V27))/SUM('Yatırımlar-Mevcut Bölge'!T27,'Yatırımlar-Genişleme1'!T27,'Yatırımlar-Genişleme2'!T27),"") | W27: =IFERROR(T27*(U27+V27),"")
B28: ND 125 mm | C28: metre | D28: ='Yatırımlar-Mevcut Bölge'!D28+'Yatırımlar-Genişleme1'!D28+'Yatırımlar-Genişleme2'!D28 -> 0 | E28: =IFERROR((('Yatırımlar-Mevcut Bölge'!D28*'Yatırımlar-Mevcut Bölge'!E28)+('Yatırımlar-Genişleme1'!D28*'Yatırımlar-Genişleme1'!E28)+('Yatırımlar-Genişleme2'!D28*'Yatırımlar-Genişleme2'!E28))/SUM('Yatırımlar-Mevcut Bölge'!D28,'Yatırımlar-Genişleme1'!D28,'Yatırımlar-Genişleme2'!D28),"") | F28: =IFERROR((('Yatırımlar-Mevcut Bölge'!D28*'Yatırımlar-Mevcut Bölge'!F28)+('Yatırımlar-Genişleme1'!D28*'Yatırımlar-Genişleme1'!F28)+('Yatırımlar-Genişleme2'!D28*'Yatırımlar-Genişleme2'!F28))/SUM('Yatırımlar-Mevcut Bölge'!D28,'Yatırımlar-Genişleme1'!D28,'Yatırımlar-Genişleme2'!D28),"") | G28: =IFERROR(D28*(E28+F28),"") | H28: ='Yatırımlar-Mevcut Bölge'!H28+'Yatırımlar-Genişleme1'!H28+'Yatırımlar-Genişleme2'!H28 -> 0 | I28: =IFERROR((('Yatırımlar-Mevcut Bölge'!H28*'Yatırımlar-Mevcut Bölge'!I28)+('Yatırımlar-Genişleme1'!H28*'Yatırımlar-Genişleme1'!I28)+('Yatırımlar-Genişleme2'!H28*'Yatırımlar-Genişleme2'!I28))/SUM('Yatırımlar-Mevcut Bölge'!H28,'Yatırımlar-Genişleme1'!H28,'Yatırımlar-Genişleme2'!H28),"") | J28: =IFERROR((('Yatırımlar-Mevcut Bölge'!H28*'Yatırımlar-Mevcut Bölge'!J28)+('Yatırımlar-Genişleme1'!H28*'Yatırımlar-Genişleme1'!J28)+('Yatırımlar-Genişleme2'!H28*'Yatırımlar-Genişleme2'!J28))/SUM('Yatırımlar-Mevcut Bölge'!H28,'Yatırımlar-Genişleme1'!H28,'Yatırımlar-Genişleme2'!H28),"") | K28: =IFERROR(H28*(I28+J28),"") | L28: ='Yatırımlar-Mevcut Bölge'!L28+'Yatırımlar-Genişleme1'!L28+'Yatırımlar-Genişleme2'!L28 -> 0 | M28: =IFERROR((('Yatırımlar-Mevcut Bölge'!L28*'Yatırımlar-Mevcut Bölge'!M28)+('Yatırımlar-Genişleme1'!L28*'Yatırımlar-Genişleme1'!M28)+('Yatırımlar-Genişleme2'!L28*'Yatırımlar-Genişleme2'!M28))/SUM('Yatırımlar-Mevcut Bölge'!L28,'Yatırımlar-Genişleme1'!L28,'Yatırımlar-Genişleme2'!L28),"") | N28: =IFERROR((('Yatırımlar-Mevcut Bölge'!L28*'Yatırımlar-Mevcut Bölge'!N28)+('Yatırımlar-Genişleme1'!L28*'Yatırımlar-Genişleme1'!N28)+('Yatırımlar-Genişleme2'!L28*'Yatırımlar-Genişleme2'!N28))/SUM('Yatırımlar-Mevcut Bölge'!L28,'Yatırımlar-Genişleme1'!L28,'Yatırımlar-Genişleme2'!L28),"") | O28: =IFERROR(L28*(M28+N28),"") | P28: ='Yatırımlar-Mevcut Bölge'!P28+'Yatırımlar-Genişleme1'!P28+'Yatırımlar-Genişleme2'!P28 -> 0 | Q28: =IFERROR((('Yatırımlar-Mevcut Bölge'!P28*'Yatırımlar-Mevcut Bölge'!Q28)+('Yatırımlar-Genişleme1'!P28*'Yatırımlar-Genişleme1'!Q28)+('Yatırımlar-Genişleme2'!P28*'Yatırımlar-Genişleme2'!Q28))/SUM('Yatırımlar-Mevcut Bölge'!P28,'Yatırımlar-Genişleme1'!P28,'Yatırımlar-Genişleme2'!P28),"") | R28: =IFERROR((('Yatırımlar-Mevcut Bölge'!P28*'Yatırımlar-Mevcut Bölge'!R28)+('Yatırımlar-Genişleme1'!P28*'Yatırımlar-Genişleme1'!R28)+('Yatırımlar-Genişleme2'!P28*'Yatırımlar-Genişleme2'!R28))/SUM('Yatırımlar-Mevcut Bölge'!P28,'Yatırımlar-Genişleme1'!P28,'Yatırımlar-Genişleme2'!P28),"") | S28: =IFERROR(P28*(Q28+R28),"") | T28: ='Yatırımlar-Mevcut Bölge'!T28+'Yatırımlar-Genişleme1'!T28+'Yatırımlar-Genişleme2'!T28 -> 0 | U28: =IFERROR((('Yatırımlar-Mevcut Bölge'!T28*'Yatırımlar-Mevcut Bölge'!U28)+('Yatırımlar-Genişleme1'!T28*'Yatırımlar-Genişleme1'!U28)+('Yatırımlar-Genişleme2'!T28*'Yatırımlar-Genişleme2'!U28))/SUM('Yatırımlar-Mevcut Bölge'!T28,'Yatırımlar-Genişleme1'!T28,'Yatırımlar-Genişleme2'!T28),"") | V28: =IFERROR((('Yatırımlar-Mevcut Bölge'!T28*'Yatırımlar-Mevcut Bölge'!V28)+('Yatırımlar-Genişleme1'!T28*'Yatırımlar-Genişleme1'!V28)+('Yatırımlar-Genişleme2'!T28*'Yatırımlar-Genişleme2'!V28))/SUM('Yatırımlar-Mevcut Bölge'!T28,'Yatırımlar-Genişleme1'!T28,'Yatırımlar-Genişleme2'!T28),"") | W28: =IFERROR(T28*(U28+V28),"")
B29: ND 125 mm üzeri | C29: metre | D29: ='Yatırımlar-Mevcut Bölge'!D29+'Yatırımlar-Genişleme1'!D29+'Yatırımlar-Genişleme2'!D29 -> 0 | E29: =IFERROR((('Yatırımlar-Mevcut Bölge'!D29*'Yatırımlar-Mevcut Bölge'!E29)+('Yatırımlar-Genişleme1'!D29*'Yatırımlar-Genişleme1'!E29)+('Yatırımlar-Genişleme2'!D29*'Yatırımlar-Genişleme2'!E29))/SUM('Yatırımlar-Mevcut Bölge'!D29,'Yatırımlar-Genişleme1'!D29,'Yatırımlar-Genişleme2'!D29),"") | F29: =IFERROR((('Yatırımlar-Mevcut Bölge'!D29*'Yatırımlar-Mevcut Bölge'!F29)+('Yatırımlar-Genişleme1'!D29*'Yatırımlar-Genişleme1'!F29)+('Yatırımlar-Genişleme2'!D29*'Yatırımlar-Genişleme2'!F29))/SUM('Yatırımlar-Mevcut Bölge'!D29,'Yatırımlar-Genişleme1'!D29,'Yatırımlar-Genişleme2'!D29),"") | G29: =IFERROR(D29*(E29+F29),"") | H29: ='Yatırımlar-Mevcut Bölge'!H29+'Yatırımlar-Genişleme1'!H29+'Yatırımlar-Genişleme2'!H29 -> 0 | I29: =IFERROR((('Yatırımlar-Mevcut Bölge'!H29*'Yatırımlar-Mevcut Bölge'!I29)+('Yatırımlar-Genişleme1'!H29*'Yatırımlar-Genişleme1'!I29)+('Yatırımlar-Genişleme2'!H29*'Yatırımlar-Genişleme2'!I29))/SUM('Yatırımlar-Mevcut Bölge'!H29,'Yatırımlar-Genişleme1'!H29,'Yatırımlar-Genişleme2'!H29),"") | J29: =IFERROR((('Yatırımlar-Mevcut Bölge'!H29*'Yatırımlar-Mevcut Bölge'!J29)+('Yatırımlar-Genişleme1'!H29*'Yatırımlar-Genişleme1'!J29)+('Yatırımlar-Genişleme2'!H29*'Yatırımlar-Genişleme2'!J29))/SUM('Yatırımlar-Mevcut Bölge'!H29,'Yatırımlar-Genişleme1'!H29,'Yatırımlar-Genişleme2'!H29),"") | K29: =IFERROR(H29*(I29+J29),"") | L29: ='Yatırımlar-Mevcut Bölge'!L29+'Yatırımlar-Genişleme1'!L29+'Yatırımlar-Genişleme2'!L29 -> 0 | M29: =IFERROR((('Yatırımlar-Mevcut Bölge'!L29*'Yatırımlar-Mevcut Bölge'!M29)+('Yatırımlar-Genişleme1'!L29*'Yatırımlar-Genişleme1'!M29)+('Yatırımlar-Genişleme2'!L29*'Yatırımlar-Genişleme2'!M29))/SUM('Yatırımlar-Mevcut Bölge'!L29,'Yatırımlar-Genişleme1'!L29,'Yatırımlar-Genişleme2'!L29),"") | N29: =IFERROR((('Yatırımlar-Mevcut Bölge'!L29*'Yatırımlar-Mevcut Bölge'!N29)+('Yatırımlar-Genişleme1'!L29*'Yatırımlar-Genişleme1'!N29)+('Yatırımlar-Genişleme2'!L29*'Yatırımlar-Genişleme2'!N29))/SUM('Yatırımlar-Mevcut Bölge'!L29,'Yatırımlar-Genişleme1'!L29,'Yatırımlar-Genişleme2'!L29),"") | O29: =IFERROR(L29*(M29+N29),"") | P29: ='Yatırımlar-Mevcut Bölge'!P29+'Yatırımlar-Genişleme1'!P29+'Yatırımlar-Genişleme2'!P29 -> 0 | Q29: =IFERROR((('Yatırımlar-Mevcut Bölge'!P29*'Yatırımlar-Mevcut Bölge'!Q29)+('Yatırımlar-Genişleme1'!P29*'Yatırımlar-Genişleme1'!Q29)+('Yatırımlar-Genişleme2'!P29*'Yatırımlar-Genişleme2'!Q29))/SUM('Yatırımlar-Mevcut Bölge'!P29,'Yatırımlar-Genişleme1'!P29,'Yatırımlar-Genişleme2'!P29),"") | R29: =IFERROR((('Yatırımlar-Mevcut Bölge'!P29*'Yatırımlar-Mevcut Bölge'!R29)+('Yatırımlar-Genişleme1'!P29*'Yatırımlar-Genişleme1'!R29)+('Yatırımlar-Genişleme2'!P29*'Yatırımlar-Genişleme2'!R29))/SUM('Yatırımlar-Mevcut Bölge'!P29,'Yatırımlar-Genişleme1'!P29,'Yatırımlar-Genişleme2'!P29),"") | S29: =IFERROR(P29*(Q29+R29),"") | T29: ='Yatırımlar-Mevcut Bölge'!T29+'Yatırımlar-Genişleme1'!T29+'Yatırımlar-Genişleme2'!T29 -> 0 | U29: =IFERROR((('Yatırımlar-Mevcut Bölge'!T29*'Yatırımlar-Mevcut Bölge'!U29)+('Yatırımlar-Genişleme1'!T29*'Yatırımlar-Genişleme1'!U29)+('Yatırımlar-Genişleme2'!T29*'Yatırımlar-Genişleme2'!U29))/SUM('Yatırımlar-Mevcut Bölge'!T29,'Yatırımlar-Genişleme1'!T29,'Yatırımlar-Genişleme2'!T29),"") | V29: =IFERROR((('Yatırımlar-Mevcut Bölge'!T29*'Yatırımlar-Mevcut Bölge'!V29)+('Yatırımlar-Genişleme1'!T29*'Yatırımlar-Genişleme1'!V29)+('Yatırımlar-Genişleme2'!T29*'Yatırımlar-Genişleme2'!V29))/SUM('Yatırımlar-Mevcut Bölge'!T29,'Yatırımlar-Genişleme1'!T29,'Yatırımlar-Genişleme2'!T29),"") | W29: =IFERROR(T29*(U29+V29),"")
B30: 1.2. Özel Geçiş Dağıtım Hatları | G30: =SUM(G31,G44) -> 0 | K30: =SUM(K31,K44) -> 0 | O30: =SUM(O31,O44) -> 0 | S30: =SUM(S31,S44) -> 0 | W30: =SUM(W31,W44) -> 0
