Workbook
Name __fdf1: '[1]#REF'!$B$4
Name __fdf2: '[1]#REF'!$B$5
Name __Lot123: #REF!
Name __tr1: '[1]Travel Rates'!#REF!
Name __tr2: #REF!
Name __tr3: '[1]Travel Rates'!#REF!
Name __tr4: #REF!
Name __tr5: '[1]Travel Rates'!#REF!
Name __TTL4000: '[1]#REF'!$L$16
Name __TTL5000: '[1]#REF'!$N$211
Name __TTL5400: '[1]#REF'!$N$58
Name __TTL6000: '[1]#REF'!$N$102
Name __TTL8000: '[1]#REF'!$N$176
Name __wdf2: '[1]#REF'!$B$7
Name _1Y_0Crite: #REF!
Name _1Y_0Crite: #REF!
Name _1Y_0Crite: #REF!
Name _1Y_0Crite: #REF!
Name _2Y_0Crite: #REF!
Name _2Y_0Crite: #REF!
Name _2Y_0Crite: #REF!
Name _2Y_0Crite: #REF!
Name _2Y_0Extr: #REF!
Name _3Y__Crite: '[1]Labour Hours'!#REF!
Name _4Y__Extr: '[1]Labour Hours'!#REF!
Name _4Y__Extr: '[1]Labour Hours'!#REF!
Name _4Y__Extr: '[1]Labour Hours'!#REF!
Name _4Y__Extr: '[1]Labour Hours'!#REF!
Name _4Y_0Extr: #REF!
Name _4Y_0Extr: #REF!
Name _4Y_0Extr: #REF!
Name _4Y_0Extr: #REF!
Name _4Y_0Extr: #REF!
Name _6Y__Crite: '[1]Labour Hours'!#REF!
Name _6Y__Crite: '[1]Labour Hours'!#REF!
Name _6Y__Crite: '[1]Labour Hours'!#REF!
Name _6Y__Crite: '[1]Labour Hours'!#REF!
Name _6Y__Crite: '[1]Labour Hours'!#REF!
Name _8Y__Extr: '[1]Labour Hours'!#REF!
Name _8Y__Extr: '[1]Labour Hours'!#REF!
Name _fdf1: '[1]#REF'!$B$4
Name _fdf2: '[1]#REF'!$B$5
Name _Lot123: #REF!
Name _Lot123: #REF!
Name _Lot123: #REF!
Name _Lot123: #REF!
Name _tr1: '[1]Travel Rates'!#REF!
Name _tr1: '[1]Travel Rates'!#REF!
Name _tr1: '[1]Travel Rates'!#REF!
Name _tr1: '[1]Travel Rates'!#REF!
Name _tr2: #REF!
Name _tr2: #REF!
Name _tr2: #REF!
Name _tr2: #REF!
Name _tr2: #REF!
Name _tr3: '[1]Travel Rates'!#REF!
Name _tr3: '[1]Travel Rates'!#REF!
Name _tr3: '[1]Travel Rates'!#REF!
Name _tr3: '[1]Travel Rates'!#REF!
Name _tr4: #REF!

Sheet Ekler
B2: DAĞITIM ŞİRKETLERİ YILLIK TARİFE TABLOLARI LİSTESİ:
B4: ='Profil ve Lisans Bilgileri'!B2 -> EK-1: FİRMA PROFİLİ VE LİSANS BİLGİLERİ
B5: ='Temel Veriler'!B2 -> EK-2: TEMEL VERİLER
B6: ='Yıllık Bilanço'!B2 -> EK-3: YILLIK BİLANÇOLAR
B7: ='Yıllık Gelir Tablosu'!B2 -> EK-4: YILLIK GELİR TABLOLARI
B8: ='Yıllık Nakit Akım'!B2 -> EK-5: YILLIK NAKİT AKIM TABLOLARI
B9: =Mizanlar!B2 -> EK-6: MİZANLAR
B10: =Alımlar!B2 -> EK-7: DAĞITIM ŞİRKETLERİ DOĞAL GAZ ALIM FİYAT, MİKTAR VE BEDELLERİ
B11: ='Satışlar '!B2 -> EK-8/A: DAĞITIM ŞİRKETLERİ DOĞAL GAZ SATIŞ FİYAT, MİKTAR VE BEDELLERİ
B12: EK-8/B: DAĞITIM ŞİRKETLERİNİN 2021 YILINA KADAR DOĞAL GAZ MİKTAR TAHMİNLERİ (Bu yıl istenmemektedir.)
B13: ='Serbest Tüketiciler'!B2 -> EK-8/C: 100.000 m3 ÜZERİ TÜKETEN SERBEST TÜKETİCİLERİN LİSTESİ
B14: EK-8/D: DAĞITIM ŞİRKETLERİNİN GÜNLÜK DOĞAL GAZ ÇEKİŞLERİ (Bu yıl istenmemektedir.)
B15: =Taşıma!B2 -> EK-9: TEDARİKÇİLERDEN DOĞAL GAZ ALAN SERBEST TÜKETİCİLERİN LİSTESİ
B16: EK-10/A: DOĞAL GAZ HİZMET MALİYETİ (Bu yıl istenmemektedir.)
B17: ='İşletme Giderleri'!B2 -> EK-10/B: İŞLETME GİDERLERİ
B18: ='İşletme Gideri Mizan Karşılığı'!B2 -> EK-10/C: İŞLETME GİDERLERİ - MİZAN KARŞILIĞI
B19: ='Bina Kira Giderleri'!B2 -> EK-10/D: GAYRİMENKUL KİRA GİDERLERİ
B20: ='Taşıt Kira Giderleri'!B2 -> EK-10/E: TAŞIT KİRA GİDERLERİ
B21: ='Yazılım Kira Giderleri'!B2 -> EK-10/F: YAZILIM KİRA GİDERLERİ
B22: ='Fatura Bilgileri'!B2 -> EK-10/G: FATURA BİLGİLERİ
B23: ='Periyodik Muayene Bilgileri'!B2 -> EK-10/H: PERİYODİK MUAYENE BİLGİLERİ
B24: EK-11: DOĞAL GAZ HİZMETİNDE KULLANILAN SABİT KIYMETLER (Bu yıl istenmemektedir.)
B25: EK-12: BİRİKMİŞ AMORTİSMAN VE TÜKENME PAYLARI (Bu yıl istenmemektedir.)
B26: =İstihdam!B2 -> EK-13: PERSONEL SAYISI VE PERSONEL GİDERLERİ
B27: EK-14/A: DAĞITIM ŞİRKETLERİNİN ÖNEMLİ BORÇLARI (Bu yıl istenmemektedir.)
B28: =Krediler!B2 -> EK-14/B: DAĞITIM ŞİRKETLERİNİN KREDİLERİ
B29: EK-14/C: DAĞITIM ŞİRKETLERİNİN KREDİ GERİ ÖDEME TABLOSU (Bu yıl istenmemektedir.)
B30: EK-15: DAĞITIM ŞİRKETLERİNİN ÖNEMLİ ALACAKLARI (Bu yıl istenmemektedir.)
B31: EK-16: DAĞITIM ŞİRKETLERİ TARİFE ÖNERİSİ (Şirket üst yazısında sunulacaktır.)
B32: EK-17: VERİMLİLİK (Bu yıl istenmemektedir.)
B33: EK-18: BAĞLANTI BEDELİ MALİYETİ (Bu yıl istenmemektedir.)
B34: ='Hizmet Kalitesi'!B2 -> EK-19: HİZMET KALİTESİ PERFORMANS GÖSTERGELERİ
B35: ='Tüketici Bilgileri'!B2 -> EK-20: TÜKETİCİ SAYISI DETAY TABLOSU
B36: ='Yatırımlar-Mevcut Bölge'!B2 -> EK-21/A1: YATIRIMLAR (MEVCUT BÖLGE)
B37: ='Yatırımlar-Genişleme1'!B2 -> EK-21/A2: YATIRIMLAR (İLGİLİ ŞEHİR(LER))
B38: ='Yatırımlar-Genişleme2'!B2 -> EK-21/A3: YATIRIMLAR (İLGİLİ ŞEHİR(LER))
B39: ='Münferit Hatlar'!B2 -> EK-21/A4: MÜNFERİT HATLAR
B40: ='Yatırımlar-Konsolide'!B2 -> EK-21/A5: YATIRIMLAR (KONSOLİDE)
B41: ='Yatırım Dağılımı'!B2 -> EK-21/B: YATIRIM DAĞILIMI
B42: ='Planlanan Yatırımlar'!B2 -> EK-21/C: PLANLANAN YATIRIMLAR
...

Sheet Profil ve Lisans Bilgileri
B2: EK-1: FİRMA PROFİLİ VE LİSANS BİLGİLERİ
C3: 1. Kişi | D3: 2. Kişi | E3: 3. Kişi | F3: 4. Kişi | G3: 5. Kişi
B4: Tabloları Düzenleyenler :
B5: Düzenleyenlerin Telefonu :
B6: Düzenleyenlerin Faksı :
B7: Düzenleyenlerin E-mail Adresi :
B9: 1. ŞİRKET KİMLİĞİ
B10: 1.1. Şirket Unvanı
B11: 1.2. Kuruluş Tarihi
B13: 2. LİSANS BİLGİLERİ
B14: 2.1. Lisans Tarihi ve Sayısı
B15: 2.2. Lisans Türü
B16: 2.3. Lisans Süresi
B17: 2.4. Tarifeye Esas Faaliyeti
B18: 2.5. Güncel Lisans Bölgesi (01.01.2017 itibariyle)
B19: 2.6. Lisans Bölgesi Genişledi mi? | C19: EVET | E19: EVET
B20: Eğer yukarıdaki soruya verilen cevap "EVET" ise 3 numaralı bölümü doldurmanız gerekmektedir. | E20: HAYIR
B22: 3. GENİŞLEME BİLGİLERİ
B23: Genişleme Kurul Karar Tarih ve Sayısı | C23: Lisans Kapsamına Alınan Şehir(ler) | D23: Tarife Revizyon Kurul Karar Tarih ve Sayısı
B24: … tarihli ve … sayılı | D24: … tarihli ve … sayılı
B25: … tarihli ve … sayılı | D25: … tarihli ve … sayılı
B26: … tarihli ve … sayılı | D26: … tarihli ve … sayılı
B27: … tarihli ve … sayılı | D27: … tarihli ve … sayılı
B28: … tarihli ve … sayılı | D28: … tarihli ve … sayılı
B29: … tarihli ve … sayılı | D29: … tarihli ve … sayılı
B30: … tarihli ve … sayılı | D30: … tarihli ve … sayılı
B31: … tarihli ve … sayılı | D31: … tarihli ve … sayılı
B32: … tarihli ve … sayılı | D32: … tarihli ve … sayılı
B33: … tarihli ve … sayılı | D33: … tarihli ve … sayılı
B34: … tarihli ve … sayılı | D34: … tarihli ve … sayılı
B35: … tarihli ve … sayılı | D35: … tarihli ve … sayılı
... B39: … tarihli ve … sayılı | D39: … tarihli ve … sayılı
B41: 4. İLETİŞİM BİLGİLERİ
B42: 4.1. Yazışma Adresi
B43: 4.2. Telefon Numarası
B44: 4.3. Faks Numarası
B45: 4.4. Şirket İnternet Adresi
B46: 4.5. Şirket E-posta adresi
B47: 4.6. Bağlantı kurulacak sorumlu yetkililer

Sheet Temel Veriler
B2: EK-2: TEMEL VERİLER
B4: 1. TEMEL BİLGİLER (2016 yılı sonu)
B5: 1.1. Nüfus (adet)
B6: 1.2. Şehir Sayısı (adet)
B7: 1.3. Toplam Bina Sayısı (adet
B8: 1.4. Toplam Daire Sayısı (adet)
B9: 1.5. Abone Merkezi Sayısı (adet)
B10: 1.6. Acil Müdahale Lokasyon Sayısı (adet)
B11: 1.7. Toplam Acil Müdahale Araç Sayısı (adet)
B13: 2. ŞEBEKE BİLGİLERİ | C13: Birim | D13: 2012 | E13: 2013 | F13: 2014 | G13: 2015 | H13: 2016
B14: 2.1. Faaliyette bulunulan alan | C14: km2
B15: 2.2. Toplam Boru Hattı Uzunluğu (kümülatif) | C15: metre | D15: =SUM(D16:D18) -> 0 | E15: =SUM(E16:E18) -> 0 | F15: =SUM(F16:F18) -> 0 | G15: =SUM(G16:G18) -> 0 | H15: =SUM(H16:H18) -> 0
B16: 2.2.1. Çelik hat uzunluğu (kümülatif) | C16: metre
B17: 2.2.2. PE hat uzunluğu (kümülatif) | C17: metre
B18: 2.2.3. Servis hattı uzunluğu (kümülatif) | C18: metre
B19: 2.3. Toplam Sayaç Sayısı (Kümülatif) | C19: adet
B20: 2.4. Penetrasyon oranı | C20: %
B21: 2.5. Pik Gün Verileri
B22: 2.5.1. Şebekenin Günlük Gaz Taşıma Kapasitesi | C22: Sm3/gün
B23: 2.5.2. Pik Gün | C23: gg/aa/yyyy
B24: 2.5.3. Şebekenin Pik Gününde Şebekeden Geçen Toplam Gaz Miktarı | C24: Sm3
B25: 2.5.4. Pik Günde Serbest Tüketicilerce Tüketilen Gaz Miktarı (Taşıma Hizmeti verilenler dahil) | C25: Sm3
B26: 2.5.5. Pik Günde Abonelerce Tüketilen Gaz Miktarı | C26: Sm3 | D26: =D24-D25 -> 0 | E26: =E24-E25 -> 0 | F26: =F24-F25 -> 0 | G26: =G24-G25 -> 0 | H26: =H24-H25 -> 0
B28: 3. ABONE BİLGİLERİ | C28: Birim | D28: 2012 | E28: 2013 | F28: 2014 | G28: 2015 | H28: 2016
B29: 3.1. Bağlantı Sözleşmesi Yapılan Tüketici Sayısı (Kümülatif) | C29: adet
B30: 3.2. Gaz Verilen Bina Sayısı (Aboneler için) (Kümülatif) | C30: adet
B32: 4. DOĞAL GAZ ALIŞ, SATIŞ VE TAŞIMA BİLGİLERİ | C32: Birim | D32: 2012 | E32: 2013 | F32: 2014 | G32: 2015 | H32: 2016
B33: 4.1. Satın Alınan Doğal Gaz Miktarı | C33: Sm3
B34: 4.2. Satılan Doğal Gaz Miktarı | C34: Sm3
B35: 4.3. Taşınan Gaz Miktarı | C35: Sm3

Sheet Yıllık Bilanço
B2: EK-3: YILLIK BİLANÇOLAR
B3: YILLIK BİLANÇO
G4: (TL)
B5: AKTİF
C6: 41274 | D6: 41639 | E6: 42004 | F6: 42369 | G6: 42735
B7: I-DÖNEN VARLIKLAR | C7: =+C8+C14+C20+C28+C37+C45+C48+C51 -> 0 | D7: =+D8+D14+D20+D28+D37+D45+D48+D51 -> 0 | E7: =+E8+E14+E20+E28+E37+E45+E48+E51 -> 0 | F7: =+F8+F14+F20+F28+F37+F45+F48+F51 -> 0 | G7: =+G8+G14+G20+G28+G37+G45+G48+G51 -> 0
B8: A - HAZIR DEĞERLER | C8: =C9+C10+C11-C12+C13 -> 0 | D8: =D9+D10+D11-D12+D13 -> 0 | E8: =E9+E10+E11-E12+E13 -> 0 | F8: =F9+F10+F11-F12+F13 -> 0 | G8: =G9+G10+G11-G12+G13 -> 0
B9: 1 - Kasa Hesabı
B10: 2 - Alınan Çekler Hesabı
B11: 3 - Bankalar Hesabı
B12: 4 - Verilen Çekler ve Ödeme Emirleri (-)
B13: 5 - Diğer Hazır Değerler
B14: B - MENKUL KIYMETLER | C14: =C15+C16+C17+C18-C19 -> 0 | D14: =D15+D16+D17+D18-D19 -> 0 | E14: =E15+E16+E17+E18-E19 -> 0 | F14: =F15+F16+F17+F18-F19 -> 0 | G14: =G15+G16+G17+G18-G19 -> 0
B15: 1 - Hisse Senetleri
B16: 2 - Özel Kesim Tahvil, Senet ve Bonoları
B17: 3 - Kamu Kesim Tahvil, Senet ve Bonoları
B18: 4 - Diğer Menkul Kıymetler
B19: 5 - Menkul Kıymetler Değer Düşüklüğü Karşılığı Hesabı (-)
B20: C - TİCARİ ALACAKLAR | C20: =+C21+C22-C23+C24+C25+C26-C27 -> 0 | D20: =+D21+D22-D23+D24+D25+D26-D27 -> 0 | E20: =+E21+E22-E23+E24+E25+E26-E27 -> 0 | F20: =+F21+F22-F23+F24+F25+F26-F27 -> 0 | G20: =+G21+G22-G23+G24+G25+G26-G27 -> 0
B21: 1 - Alıcılar
B22: 2 - Alacak Senetleri
B23: 3 - Alacak Senetleri Reeskontu (-)
B24: 4 - Verilen Depozito ve Teminatlar
B25: 5 - Diğer Ticari Alacaklar
B26: 6 - Şüpheli Ticari Alacaklar
B27: 7 - Şüpheli Ticari Alacaklar Karşılığı (-)
B28: D - DİĞER ALACAKLAR | C28: =C29+C30+C31+C32+C33-C34+C35-C36 -> 0 | D28: =D29+D30+D31+D32+D33-D34+D35-D36 -> 0 | E28: =E29+E30+E31+E32+E33-E34+E35-E36 -> 0 | F28: =F29+F30+F31+F32+F33-F34+F35-F36 -> 0 | G28: =G29+G30+G31+G32+G33-G34+G35-G36 -> 0
B29: 1 - Ortaklardan Alacaklar
B30: 2 - İştiraklerden Alacaklar
B31: 3 - Bağlı Ortaklıklardan Alacaklar
B32: 4 - Personelden Alacaklar
B33: 5 - Diğer Çeşitli Alacaklar
B34: 6 - Diğer Alacak Senetleri Reeskontu (-)
B35: 7 - Şüpheli Diğer Alacaklar
B36: 8 - Şüpheli Diğer Alacaklar Karşılığı (-)
B37: E - STOKLAR | C37: =+C38+C39+C40+C41+C42-C43+C44 -> 0 | D37: =+D38+D39+D40+D41+D42-D43+D44 -> 0 | E37: =+E38+E39+E40+E41+E42-E43+E44 -> 0 | F37: =+F38+F39+F40+F41+F42-F43+F44 -> 0 | G37: =+G38+G39+G40+G41+G42-G43+G44 -> 0
B38: 1 - İlk Madde ve Malzeme Giderleri
B39: 2 - Yarı Mamül Üretim Hesabı
B40: 3 - Mamüller Hesabı
B41: 4 - Ticari Mallar
...

Sheet Yıllık Gelir Tablosu
B2: EK-4: YILLIK GELİR TABLOLARI
B3: YILLIK GELİR TABLOSU
G4: (TL)
C5: 41274 | D5: 41639 | E5: 42004 | F5: 42369 | G5: 42735
B6: A - Brüt Satışlar | C6: =SUM(C7:C9) -> 0 | D6: =SUM(D7:D9) -> 0 | E6: =SUM(E7:E9) -> 0 | F6: =SUM(F7:F9) -> 0 | G6: =SUM(G7:G9) -> 0
B7: 1 - Yurtiçi Satışlar
B8: 2 - Yurtdışı Satışlar
B9: 3 - Diğer Gelirler
B11: B - Satış İndirimleri (-) | C11: =SUM(C12:C14) -> 0 | D11: =SUM(D12:D14) -> 0 | E11: =SUM(E12:E14) -> 0 | F11: =SUM(F12:F14) -> 0 | G11: =SUM(G12:G14) -> 0
B12: 1 - Satıştan İadeler (-)
B13: 2 - Satış İskontoları (-)
B14: 3 - Diğer İndirimler (-)
B16: C - NET SATIŞLAR | C16: =+C6-C11 -> 0 | D16: =+D6-D11 -> 0 | E16: =+E6-E11 -> 0 | F16: =+F6-F11 -> 0 | G16: =+G6-G11 -> 0
B18: D - Satışların Maliyeti (-) | C18: =SUM(C19:C22) -> 0 | D18: =SUM(D19:D22) -> 0 | E18: =SUM(E19:E22) -> 0 | F18: =SUM(F19:F22) -> 0 | G18: =SUM(G19:G22) -> 0
B19: 1 - Satılan Mamüller Maliyeti (-)
B20: 2 - Satılan Ticari Mallar Maliyeti (-)
B21: 3 - Satılan Hizmet Maliyeti (-)
B22: 4 - Diğer Satışların Maliyeti (-)
B24: BRÜT SATIŞ KARI VEYA ZARARI | C24: =+C16-C18 -> 0 | D24: =+D16-D18 -> 0 | E24: =+E16-E18 -> 0 | F24: =+F16-F18 -> 0 | G24: =+G16-G18 -> 0
B26: E - Faaliyet Giderleri (-) | C26: =SUM(C27:C29) -> 0 | D26: =SUM(D27:D29) -> 0 | E26: =SUM(E27:E29) -> 0 | F26: =SUM(F27:F29) -> 0 | G26: =SUM(G27:G29) -> 0
B27: 1 - Araştırma ve Geliştirme Giderleri (-)
B28: 2 - Pazarlama, Satış ve Dağıtım Giderleri (-)
B29: 3 - Genel Yönetim Giderleri (-)
B31: FAALİYET KARI VEYA ZARARI | C31: =+C24-C26 -> 0 | D31: =+D24-D26 -> 0 | E31: =+E24-E26 -> 0 | F31: =+F24-F26 -> 0 | G31: =+G24-G26 -> 0
B33: F - Diğer Faaliyetlerden Olağan Gelir ve Karlar | C33: =SUM(C34:C42) -> 0 | D33: =SUM(D34:D42) -> 0 | E33: =SUM(E34:E42) -> 0 | F33: =SUM(F34:F42) -> 0 | G33: =SUM(G34:G42) -> 0
B34: 1 - İştiraklerden Temettü Gelirleri
B35: 2 - Bağlı Ortaklıklardan Temettü Gelirleri
B36: 3 - Faiz Gelirleri
B37: 4 - Komisyon Gelirleri
B38: 5 - Konusu Kalmayan Karşılıklar
B39: 6 - Menkul Kıymet Satış Karları
B40: 7 - Kambiyo Karları
B41: 8 - Reeskont Faiz Gelirleri
B42: 9 - Diğer Olağan Gelir ve Karlar
B44: G - Diğer Faaliyetlerden Olağan Gider ve Zararlar (-) | C44: =SUM(C45:C50) -> 0 | D44: =SUM(D45:D50) -> 0 | E44: =SUM(E45:E50) -> 0 | F44: =SUM(F45:F50) -> 0 | G44: =SUM(G45:G50) -> 0
B45: 1 - Komisyon Giderleri (-)
B46: 2 - Karşılık Giderleri (-)
B47: 3 - Menkul Kıymet Satış Zararları (-)
B48: 4 - Kambiyo Zararları (-)
B49: 5 - Reeskont Faiz Giderleri (-)
...

Sheet Yıllık Nakit Akım
B2: EK-5: YILLIK NAKİT AKIM TABLOLARI
B3: YILLIK NAKİT AKIM TABLOSU
G4: (TL)
C5: 41274 | D5: 41639 | E5: 42004 | F5: 42369 | G5: 42735
B6: A - DÖNEM BAŞI NAKİT MEVCUDU
B8: B - DÖNEM İÇİ NAKİT GİRİŞLERİ | C8: =C9+C13+C14+C15+C19+C23+C24+C25 -> 0 | D8: =D9+D13+D14+D15+D19+D23+D24+D25 -> 0 | E8: =E9+E13+E14+E15+E19+E23+E24+E25 -> 0 | F8: =F9+F13+F14+F15+F19+F23+F24+F25 -> 0 | G8: =G9+G13+G14+G15+G19+G23+G24+G25 -> 0
B9: 1 - Satışlardan Elde Edilen Nakit | C9: =C10+C11-C12 -> 0 | D9: =D10+D11-D12 -> 0 | E9: =E10+E11-E12 -> 0 | F9: =F10+F11-F12 -> 0 | G9: =G10+G11-G12 -> 0
B10: a) Net Satışlar
B11: b) Ticari Alacaklardaki Azalışlar
B12: c) Ticari Alacaklardaki Artışlar (-)
B13: 2 - Diğer Faaliyetlerden Olağan Gelir ve Karlardan Dolayı Sağlanan Nakit
B14: 3 - Olağandışı Gelir ve Karlardan Sağlanan Nakit
B15: 4 - Kısa Vadeli Yabancı Kaynaklardaki Artışlardan Sağlanan Nakit (Alımlarla İlgili Olmayan) | C15: =C16+C17+C18 -> 0 | D15: =D16+D17+D18 -> 0 | E15: =E16+E17+E18 -> 0 | F15: =F16+F17+F18 -> 0 | G15: =G16+G17+G18 -> 0
B16: a) Menkul Kıymet İhraçlarından
B17: b) Alınan Krediler
B18: c) Diğer Artışlar
B19: 5 - Uzun Vadeli Yabancı Kaynaklardaki Artışlardan Sağlanan Nakit (Alımlarla İlgili Olmayan) | C19: =C20+C21+C22 -> 0 | D19: =D20+D21+D22 -> 0 | E19: =E20+E21+E22 -> 0 | F19: =F20+F21+F22 -> 0 | G19: =G20+G21+G22 -> 0
B20: a) Menkul Kıymet İhraçlarından
B21: b) Alınan Krediler
B22: c) Diğer Artışlar
B23: 6 - Sermaye Artışlarından Sağlanan Nakit
B24: 7 - Hisse Senedi İhraç Primlerinden Sağlanan Nakit
B25: 8 - Diğer Nakit Girişleri
B27: C - DÖNEM İÇİ NAKİT ÇIKIŞLAR | C27: =C28+C35+C40+C43+C44+C47+C48+C52+C56+C57+C58 -> 0 | D27: =D28+D35+D40+D43+D44+D47+D48+D52+D56+D57+D58 -> 0 | E27: =E28+E35+E40+E43+E44+E47+E48+E52+E56+E57+E58 -> 0 | F27: =F28+F35+F40+F43+F44+F47+F48+F52+F56+F57+F58 -> 0 | G27: =G28+G35+G40+G43+G44+G47+G48+G52+G56+G57+G58 -> 0
B28: 1 - Maliyetlerden Kaynaklanan Nakit Çıkışlar | C28: =C29+C30+C31-C32-C33-C34 -> 0 | D28: =D29+D30+D31-D32-D33-D34 -> 0 | E28: =E29+E30+E31-E32-E33-E34 -> 0 | F28: =F29+F30+F31-F32-F33-F34 -> 0 | G28: =G29+G30+G31-G32-G33-G34 -> 0
B29: a) Satışların Maliyeti
B30: b) Stoklardaki Artışlar
B31: c) Ticari Borçlardaki (Alımlardan Kaynaklanan) Azalışlar
B32: d) Ticari Borçlardaki (Alımlardan Kaynaklanan) Artışlar (-)
B33: e) Amortisman ve Nakit Çıkışı Gerektirmeyen Diğer Giderler (-)
B34: f) Stoklardaki Azalışlar (-)
B35: 2 - Faaliyet Giderlerine İlişkin Nakit Çıkışları | C35: =C36+C37+C38-C39 -> 0 | D35: =D36+D37+D38-D39 -> 0 | E35: =E36+E37+E38-E39 -> 0 | F35: =F36+F37+F38-F39 -> 0 | G35: =G36+G37+G38-G39 -> 0
B36: a) Araştırma ve Geliştirme Giderleri
B37: b) Pazarlama, Satış ve Dağıtım Giderleri
B38: c) Genel Yönetim Giderleri
B39: d) Amortisman ve Nakit Çıkışı Gerektirmeyen Diğer Giderler (-)
B40: 3 - Diğer Faaliyetlerden Olağan Gider ve Zararlara İlişkin Nakit Çıkışları | C40: =C41-C42 -> 0 | D40: =D41-D42 -> 0 | E40: =E41-E42 -> 0 | F40: =F41-F42 -> 0 | G40: =G41-G42 -> 0
B41: a) Diğer Faaliyetlerle İlgili Olağan Gider ve Zararlar
B42: b) Amortisman ve Nakit Çıkışı Gerektirmeyen Diğer Gider ve Zararlar (-)
B43: 4 - Finansman Giderlerinden Dolayı Nakit Çıkışları
...

Sheet Mizanlar
B2: EK-6: MİZANLAR
B4: AÇIKLAMALAR:
B5: 1- Şirket mizanları detay kalemlerinin anlaşılacak şekilde tam adlarıyla ve bu kalemlere ilişkin açıklamaların aydınlatıcı şekilde verilmesi gerekmektedir.
B6: 2- Şirket mizanlarının excel tablosu şeklinde eklenmesi, fotoğraf veya pdf şeklinde eklenmemesi gerekmektedir.
B9: 2012-2016 YILLARI İÇİN DETAY MİZANLAR BU TABLODA ELEKTRONİK ORTAMDA,
B10: AYRICA ONAYLI BASILI ÇIKTI OLARAK YAZI EKİNDE SUNULACAKTIR.

Sheet Alımlar
B2: EK-7: DAĞITIM ŞİRKETLERİ DOĞAL GAZ ALIM FİYAT, MİKTAR VE BEDELLERİ
B4: DAĞITIM ŞİRKETLERİNİN 2012 YILI DOĞAL GAZ ALIM FİYAT, MİKTAR VE BEDELLERİ
C5: Ocak | D5: Şubat | E5: Mart | F5: Nisan | G5: Mayıs | H5: Haziran | I5: Temmuz | J5: Ağustos | K5: Eylül | L5: Ekim | M5: Kasım | N5: Aralık | O5: Yıllık
B6: TEDARİKÇİ UNVANI
B7: Abone
B8: ÖTV Dahil KDV Hariç Fiyat (TL/sm3) | O8: =IF(O9=0,0,+O10/O9) -> 0
B9: Miktar (sm3) | O9: =SUM(C9:N9) -> 0
B10: Alım Bedeli (TL) | C10: =C8*C9 -> 0 | D10: =D8*D9 -> 0 | E10: =E8*E9 -> 0 | F10: =F8*F9 -> 0 | G10: =G8*G9 -> 0 | H10: =H8*H9 -> 0 | I10: =I8*I9 -> 0 | J10: =J8*J9 -> 0 | ... N10: =N8*N9 -> 0 | O10: =SUM(C10:N10) -> 0
B11: Serbest Tüketiciler
B12: ÖTV Dahil KDV Hariç Fiyat (TL/sm3) | O12: =IF(O13=0,0,+O14/O13) -> 0
B13: Miktar (sm3) | O13: =SUM(C13:N13) -> 0
B14: Alım Bedeli (TL) | C14: =C12*C13 -> 0 | D14: =D12*D13 -> 0 | E14: =E12*E13 -> 0 | F14: =F12*F13 -> 0 | G14: =G12*G13 -> 0 | H14: =H12*H13 -> 0 | I14: =I12*I13 -> 0 | J14: =J12*J13 -> 0 | ... N14: =N12*N13 -> 0 | O14: =SUM(C14:N14) -> 0
B15: OSB
B16: ÖTV Dahil KDV Hariç Fiyat (TL/sm3) | O16: =IF(O17=0,0,+O18/O17) -> 0
B17: Miktar (sm3) | O17: =SUM(C17:N17) -> 0
B18: Alım Bedeli (TL) | C18: =C16*C17 -> 0 | D18: =D16*D17 -> 0 | E18: =E16*E17 -> 0 | F18: =F16*F17 -> 0 | G18: =G16*G17 -> 0 | H18: =H16*H17 -> 0 | I18: =I16*I17 -> 0 | J18: =J16*J17 -> 0 | ... N18: =N16*N17 -> 0 | O18: =SUM(C18:N18) -> 0
B20: TEDARİKÇİ UNVANI
B21: Abone
B22: ÖTV Dahil KDV Hariç Fiyat (TL/sm3) | O22: =IF(O23=0,0,+O24/O23) -> 0
B23: Miktar (sm3) | O23: =SUM(C23:N23) -> 0
B24: Alım Bedeli (TL) | C24: =C22*C23 -> 0 | D24: =D22*D23 -> 0 | E24: =E22*E23 -> 0 | F24: =F22*F23 -> 0 | G24: =G22*G23 -> 0 | H24: =H22*H23 -> 0 | I24: =I22*I23 -> 0 | J24: =J22*J23 -> 0 | ... N24: =N22*N23 -> 0 | O24: =SUM(C24:N24) -> 0
B25: Serbest Tüketiciler
B26: ÖTV Dahil KDV Hariç Fiyat (TL/sm3) | O26: =IF(O27=0,0,+O28/O27) -> 0
B27: Miktar (sm3) | O27: =SUM(C27:N27) -> 0
B28: Alım Bedeli (TL) | C28: =C26*C27 -> 0 | D28: =D26*D27 -> 0 | E28: =E26*E27 -> 0 | F28: =F26*F27 -> 0 | G28: =G26*G27 -> 0 | H28: =H26*H27 -> 0 | I28: =I26*I27 -> 0 | J28: =J26*J27 -> 0 | ... N28: =N26*N27 -> 0 | O28: =SUM(C28:N28) -> 0
B29: OSB
B30: ÖTV Dahil KDV Hariç Fiyat (TL/sm3) | O30: =IF(O31=0,0,+O32/O31) -> 0
B31: Miktar (sm3) | O31: =SUM(C31:N31) -> 0
B32: Alım Bedeli (TL) | C32: =C30*C31 -> 0 | D32: =D30*D31 -> 0 | E32: =E30*E31 -> 0 | F32: =F30*F31 -> 0 | G32: =G30*G31 -> 0 | H32: =H30*H31 -> 0 | I32: =I30*I31 -> 0 | J32: =J30*J31 -> 0 | ... N32: =N30*N31 -> 0 | O32: =SUM(C32:N32) -> 0
B33: ……….
B35: TOPLAM ABONE DOĞAL GAZ MİKTARI (sm3)
B36: ORTALAMA ABONE FİYATI (TL/sm3) (KDV Hariç)
B37: TOPLAM ST DOĞAL GAZ MİKTARI (sm3)
B38: ORTALAMA ST FİYATI (TL/sm3) (KDV Hariç)
B39: TOPLAM OSB DOĞAL GAZ MİKTARI (sm3)
B40: ORTALAMA OSB FİYATI (TL/sm3) (KDV Hariç)
B41: GENEL TOPLAM (sm3)
B43: DAĞITIM ŞİRKETLERİNİN 2013 YILI DOĞAL GAZ ALIM FİYAT, MİKTAR VE BEDELLERİ
C44: Ocak | D44: Şubat | E44: Mart | F44: Nisan | G44: Mayıs | H44: Haziran | I44: Temmuz | J44: Ağustos | K44: Eylül | L44: Ekim | M44: Kasım | N44: Aralık | O44: Yıllık
B45: TEDARİKÇİ UNVANI
...

Sheet Satışlar 
B2: EK-8/A: DAĞITIM ŞİRKETLERİ DOĞAL GAZ SATIŞ FİYAT, MİKTAR VE BEDELLERİ
B4: DAĞITIM ŞİRKETLERİ 2012 YILI DOĞAL GAZ SATIŞ FİYAT, MİKTAR VE BEDELLERİ (sm3)
C5: Ocak | D5: Şubat | E5: Mart | F5: Nisan | G5: Mayıs | H5: Haziran | I5: Temmuz | J5: Ağustos | K5: Eylül | L5: Ekim | M5: Kasım | N5: Aralık | O5: Yıllık
B6: Abone
B7: ÖTV Dahil KDV Hariç Fiyat (TL/sm3) | C7: =IF(C8=0,0,C9/C8) -> 0 | D7: =IF(D8=0,0,D9/D8) -> 0 | E7: =IF(E8=0,0,E9/E8) -> 0 | F7: =IF(F8=0,0,F9/F8) -> 0 | G7: =IF(G8=0,0,G9/G8) -> 0 | H7: =IF(H8=0,0,H9/H8) -> 0 | I7: =IF(I8=0,0,I9/I8) -> 0 | J7: =IF(J8=0,0,J9/J8) -> 0 | ... N7: =IF(N8=0,0,N9/N8) -> 0 | O7: =IF(O8=0,0,+O9/O8) -> 0
B8: Tüketim (sm3) | O8: =SUM(C8:N8) -> 0
B9: Hasılat (TL) | O9: =SUM(C9:N9) -> 0
B10: Müşteri Sayısı (Fatura Kesilen)
B11: Serbest Tüketici (OSB Hariç)
B12: ÖTV Dahil KDV Hariç Fiyat (TL/sm3) | C12: =IF(C13=0,0,C14/C13) -> 0 | D12: =IF(D13=0,0,D14/D13) -> 0 | E12: =IF(E13=0,0,E14/E13) -> 0 | F12: =IF(F13=0,0,F14/F13) -> 0 | G12: =IF(G13=0,0,G14/G13) -> 0 | H12: =IF(H13=0,0,H14/H13) -> 0 | I12: =IF(I13=0,0,I14/I13) -> 0 | J12: =IF(J13=0,0,J14/J13) -> 0 | ... N12: =IF(N13=0,0,N14/N13) -> 0 | O12: =IF(O13=0,0,+O14/O13) -> 0
B13: Tüketim (sm3) | O13: =SUM(C13:N13) -> 0
B14: Hasılat (TL) | O14: =SUM(C14:N14) -> 0
B15: Müşteri Sayısı (Fatura Kesilen)
B16: OSB
B17: ÖTV Dahil KDV Hariç Fiyat (TL/sm3) | C17: =IF(C18=0,0,C19/C18) -> 0 | D17: =IF(D18=0,0,D19/D18) -> 0 | E17: =IF(E18=0,0,E19/E18) -> 0 | F17: =IF(F18=0,0,F19/F18) -> 0 | G17: =IF(G18=0,0,G19/G18) -> 0 | H17: =IF(H18=0,0,H19/H18) -> 0 | I17: =IF(I18=0,0,I19/I18) -> 0 | J17: =IF(J18=0,0,J19/J18) -> 0 | ... N17: =IF(N18=0,0,N19/N18) -> 0 | O17: =IF(O18=0,0,+O19/O18) -> 0
B18: Tüketim (sm3) | O18: =SUM(C18:N18) -> 0
B19: Hasılat (TL) | O19: =SUM(C19:N19) -> 0
B20: Müşteri Sayısı (Fatura Kesilen)
B21: CNG Lisansı Sahiplerine Satış
B22: ÖTV Dahil KDV Hariç Fiyat (TL/sm3) | C22: =IF(C23=0,0,C24/C23) -> 0 | D22: =IF(D23=0,0,D24/D23) -> 0 | E22: =IF(E23=0,0,E24/E23) -> 0 | F22: =IF(F23=0,0,F24/F23) -> 0 | G22: =IF(G23=0,0,G24/G23) -> 0 | H22: =IF(H23=0,0,H24/H23) -> 0 | I22: =IF(I23=0,0,I24/I23) -> 0 | J22: =IF(J23=0,0,J24/J23) -> 0 | ... N22: =IF(N23=0,0,N24/N23) -> 0 | O22: =IF(O23=0,0,+O24/O23) -> 0
B23: Tüketim (sm3) | O23: =SUM(C23:N23) -> 0
B24: Hasılat (TL) | O24: =SUM(C24:N24) -> 0
B25: Müşteri Sayısı (Fatura Kesilen)
B26: Isıtma Gazı ve Diğer Amaçlı Kullanım
B27: ÖTV Dahil KDV Hariç Fiyat (TL/sm3) | C27: =IF(C28=0,0,C29/C28) -> 0 | D27: =IF(D28=0,0,D29/D28) -> 0 | E27: =IF(E28=0,0,E29/E28) -> 0 | F27: =IF(F28=0,0,F29/F28) -> 0 | G27: =IF(G28=0,0,G29/G28) -> 0 | H27: =IF(H28=0,0,H29/H28) -> 0 | I27: =IF(I28=0,0,I29/I28) -> 0 | J27: =IF(J28=0,0,J29/J28) -> 0 | ... N27: =IF(N28=0,0,N29/N28) -> 0 | O27: =IF(O28=0,0,+O29/O28) -> 0
B28: Tüketim (sm3) | O28: =SUM(C28:N28) -> 0
B29: Gider (TL) | O29: =SUM(C29:N29) -> 0
B30: TOPLAM
B31: Toplam Tüketim (sm3) | C31: =C13+C8+C18+C23+C28 -> 0 | D31: =D13+D8+D18+D23+D28 -> 0 | E31: =E13+E8+E18+E23+E28 -> 0 | F31: =F13+F8+F18+F23+F28 -> 0 | G31: =G13+G8+G18+G23+G28 -> 0 | H31: =H13+H8+H18+H23+H28 -> 0 | I31: =I13+I8+I18+I23+I28 -> 0 | J31: =J13+J8+J18+J23+J28 -> 0 | ... O31: =O13+O8+O18+O23+O28 -> 0
B32: Toplam Hasılat (TL) | C32: =C14+C9+C19+C24+C29 -> 0 | D32: =D14+D9+D19+D24+D29 -> 0 | E32: =E14+E9+E19+E24+E29 -> 0 | F32: =F14+F9+F19+F24+F29 -> 0 | G32: =G14+G9+G19+G24+G29 -> 0 | H32: =H14+H9+H19+H24+H29 -> 0 | I32: =I14+I9+I19+I24+I29 -> 0 | J32: =J14+J9+J19+J24+J29 -> 0 | ... O32: =O14+O9+O19+O24+O29 -> 0
B33: ÖTV Dahil KDV Hariç Ortalama Fiyat (TL/sm3) | C33: =IF(C31=0,0,C32/C31) -> 0 | D33: =IF(D31=0,0,D32/D31) -> 0 | E33: =IF(E31=0,0,E32/E31) -> 0 | F33: =IF(F31=0,0,F32/F31) -> 0 | G33: =IF(G31=0,0,G32/G31) -> 0 | H33: =IF(H31=0,0,H32/H31) -> 0 | I33: =IF(I31=0,0,I32/I31) -> 0 | J33: =IF(J31=0,0,J32/J31) -> 0 | ... O33: =IF(O31=0,0,O32/O31) -> 0
B35: DAĞITIM ŞİRKETLERİ 2013 YILI DOĞAL GAZ SATIŞ FİYAT, MİKTAR VE BEDELLERİ (sm3)
C36: Ocak | D36: Şubat | E36: Mart | F36: Nisan | G36: Mayıs | H36: Haziran | I36: Temmuz | J36: Ağustos | K36: Eylül | L36: Ekim | M36: Kasım | N36: Aralık | O36: Yıllık
B37: Abone
B38: ÖTV Dahil KDV Hariç Fiyat (TL/sm3) | C38: =IF(C39=0,0,C40/C39) -> 0 | D38: =IF(D39=0,0,D40/D39) -> 0 | E38: =IF(E39=0,0,E40/E39) -> 0 | F38: =IF(F39=0,0,F40/F39) -> 0 | G38: =IF(G39=0,0,G40/G39) -> 0 | H38: =IF(H39=0,0,H40/H39) -> 0 | I38: =IF(I39=0,0,I40/I39) -> 0 | J38: =IF(J39=0,0,J40/J39) -> 0 | ... N38: =IF(N39=0,0,N40/N39) -> 0 | O38: =IF(O39=0,0,+O40/O39) -> 0
B39: Tüketim (sm3) | O39: =SUM(C39:N39) -> 0
B40: Hasılat (TL) | O40: =SUM(C40:N40) -> 0
B41: Müşteri Sayısı (Fatura Kesilen)
B42: 300.000 m3 altı tüketen Serbest Tüketici (OSB Hariç)
B43: ÖTV Dahil KDV Hariç Fiyat (TL/sm3) | C43: =IF(C44=0,0,C45/C44) -> 0 | D43: =IF(D44=0,0,D45/D44) -> 0 | E43: =IF(E44=0,0,E45/E44) -> 0 | F43: =IF(F44=0,0,F45/F44) -> 0 | G43: =IF(G44=0,0,G45/G44) -> 0 | H43: =IF(H44=0,0,H45/H44) -> 0 | I43: =IF(I44=0,0,I45/I44) -> 0 | J43: =IF(J44=0,0,J45/J44) -> 0 | ... N43: =IF(N44=0,0,N45/N44) -> 0 | O43: =IF(O44=0,0,+O45/O44) -> 0
...

Sheet Serbest Tüketiciler
B2: EK-8/C: 100.000 m3 ÜZERİ TÜKETEN SERBEST TÜKETİCİLERİN LİSTESİ
B4: Tüketicinin
B5: Sıra No. | C5: Ad/Unvanı | D5: Mevcut Tedarikçisi | E5: Tüketimleri (sm3)
E6: 2012 | F6: 2013 | G6: 2014 | H6: 2015 | I6: 2016

Sheet Taşıma
B2: EK-9: TEDARİKÇİLERDEN DOĞAL GAZ ALAN SERBEST TÜKETİCİLERİN LİSTESİ
B4: 2012 YILINDAKİ MÜŞTERİLER
C5: Ocak | D5: Şubat | E5: Mart | F5: Nisan | G5: Mayıs | H5: Haziran | I5: Temmuz | J5: Ağustos | K5: Eylül | L5: Ekim | M5: Kasım | N5: Aralık | O5: Yıllık Toplam
B6: 1- Tüketici Adı/Unvanı
B7: Tüketim Miktarı (sm3) | O7: =SUM(C7:N7) -> 0
B8: Uygulanan Sistem Kullanım Bedeli (KDV Hariç)(TL/sm3) | O8: =IF(O7=0,0,+O9/O7) -> 0
B9: Taşıma Hasılatı | C9: =C7*C8 -> 0 | D9: =D7*D8 -> 0 | E9: =E7*E8 -> 0 | F9: =F7*F8 -> 0 | G9: =G7*G8 -> 0 | H9: =H7*H8 -> 0 | I9: =I7*I8 -> 0 | J9: =J7*J8 -> 0 | ... N9: =N7*N8 -> 0 | O9: =SUM(C9:N9) -> 0
B10: 2- Tüketici Adı/Unvanı
B11: Tüketim Miktarı (sm3) | O11: =SUM(C11:N11) -> 0
B12: Uygulanan Sistem Kullanım Bedeli (KDV Hariç)(TL/sm3) | O12: =IF(O11=0,0,+O13/O11) -> 0
B13: Taşıma Hasılatı | C13: =C11*C12 -> 0 | D13: =D11*D12 -> 0 | E13: =E11*E12 -> 0 | F13: =F11*F12 -> 0 | G13: =G11*G12 -> 0 | H13: =H11*H12 -> 0 | I13: =I11*I12 -> 0 | J13: =J11*J12 -> 0 | ... N13: =N11*N12 -> 0 | O13: =SUM(C13:N13) -> 0
B14: 3- …
B15: Tüketim Miktarı (sm3) | O15: =SUM(C15:N15) -> 0
B16: Uygulanan Sistem Kullanım Bedeli (KDV Hariç)(TL/sm3) | O16: =IF(O15=0,0,+O17/O15) -> 0
B17: Taşıma Hasılatı | C17: =C15*C16 -> 0 | D17: =D15*D16 -> 0 | E17: =E15*E16 -> 0 | F17: =F15*F16 -> 0 | G17: =G15*G16 -> 0 | H17: =H15*H16 -> 0 | I17: =I15*I16 -> 0 | J17: =J15*J16 -> 0 | ... N17: =N15*N16 -> 0 | O17: =SUM(C17:N17) -> 0
B19: ……..
B21: Toplam Tüketim (sm3)
B22: Toplam Hasılat (TL)
B24: 2013 YILINDAKİ MÜŞTERİLER
C25: Ocak | D25: Şubat | E25: Mart | F25: Nisan | G25: Mayıs | H25: Haziran | I25: Temmuz | J25: Ağustos | K25: Eylül | L25: Ekim | M25: Kasım | N25: Aralık | O25: Yıllık Toplam
B26: 1- Tüketici Adı/Unvanı
B27: Tüketim Miktarı (sm3) | O27: =SUM(C27:N27) -> 0
B28: Uygulanan Sistem Kullanım Bedeli (KDV Hariç)(TL/sm3) | O28: =IF(O27=0,0,+O29/O27) -> 0
B29: Taşıma Hasılatı | C29: =C27*C28 -> 0 | D29: =D27*D28 -> 0 | E29: =E27*E28 -> 0 | F29: =F27*F28 -> 0 | G29: =G27*G28 -> 0 | H29: =H27*H28 -> 0 | I29: =I27*I28 -> 0 | J29: =J27*J28 -> 0 | ... N29: =N27*N28 -> 0 | O29: =SUM(C29:N29) -> 0
B30: 2- Tüketici Adı/Unvanı
B31: Tüketim Miktarı (sm3) | O31: =SUM(C31:N31) -> 0
B32: Uygulanan Sistem Kullanım Bedeli (KDV Hariç)(TL/sm3) | O32: =IF(O31=0,0,+O33/O31) -> 0
B33: Taşıma Hasılatı | C33: =C31*C32 -> 0 | D33: =D31*D32 -> 0 | E33: =E31*E32 -> 0 | F33: =F31*F32 -> 0 | G33: =G31*G32 -> 0 | H33: =H31*H32 -> 0 | I33: =I31*I32 -> 0 | J33: =J31*J32 -> 0 | ... N33: =N31*N32 -> 0 | O33: =SUM(C33:N33) -> 0
B34: 3- …
B35: Tüketim Miktarı (sm3) | O35: =SUM(C35:N35) -> 0
B36: Uygulanan Sistem Kullanım Bedeli (KDV Hariç)(TL/sm3) | O36: =IF(O35=0,0,+O37/O35) -> 0
B37: Taşıma Hasılatı | C37: =C35*C36 -> 0 | D37: =D35*D36 -> 0 | E37: =E35*E36 -> 0 | F37: =F35*F36 -> 0 | G37: =G35*G36 -> 0 | H37: =H35*H36 -> 0 | I37: =I35*I36 -> 0 | J37: =J35*J36 -> 0 | ... N37: =N35*N36 -> 0 | O37: =SUM(C37:N37) -> 0
B39: ……..
B41: Toplam Tüketim (sm3)
B42: Toplam Hasılat (TL)
B44: 2014 YILINDAKİ MÜŞTERİLER
C45: Ocak | D45: Şubat | E45: Mart | F45: Nisan | G45: Mayıs | H45: Haziran | I45: Temmuz | J45: Ağustos | K45: Eylül | L45: Ekim | M45: Kasım | N45: Aralık | O45: Yıllık Toplam
B46: 1- Tüketici Adı/Unvanı
B47: Tüketim Miktarı (sm3) | O47: =SUM(C47:N47) -> 0
B48: Uygulanan Sistem Kullanım Bedeli (KDV Hariç)(TL/sm3) | O48: =IF(O47=0,0,+O49/O47) -> 0
...

Sheet İşletme Giderleri
B2: EK-10/B: İŞLETME GİDERLERİ
B4: İŞLETME GİDERLERİ
C5: 41639 | D5: 42004 | E5: 42369 | F5: 42735
B6: Toplam İşletme Giderleri | C6: =C7+C19+C23+C46+C51+C58+C76+C82+C85 -> 0 | D6: =D7+D19+D23+D46+D51+D58+D76+D82+D85 -> 0 | E6: =E7+E19+E23+E46+E51+E58+E76+E82+E85 -> 0 | F6: =F7+F19+F23+F46+F51+F58+F76+F82+F85 -> 0
B7: Personel Ücret ve Giderleri | C7: =SUM(C8:C18) -> 0 | D7: =SUM(D8:D18) -> 0 | E7: =SUM(E8:E18) -> 0 | F7: =SUM(F8:F18) -> 0
B8: 01. Esas Ücretler (Ücrete bağlı vergiler dahil)
B9: 02. Sosyal Yardımlar
B10: 03. Tazminatlar
B11: 04. İşveren Payları
B12: 05. Huzur Haklar
B13: 06. Personel Sağlık Giderleri
B14: 07. Personel Eğitim Giderleri
B15: 08. Personel Yemek Giderleri
B16: 09. Personel Servis Giderleri
B17: 10. Seyahat Giderleri
B18: 11. Diğer Personel Giderleri
B19: İlk Madde ve Malzeme Giderleri | C19: =SUM(C20:C22) -> 0 | D19: =SUM(D20:D22) -> 0 | E19: =SUM(E20:E22) -> 0 | F19: =SUM(F20:F22) -> 0
B20: 01. Dağıtım Hatları
B21: 02. İstasyonlar
B22: 03. Sayaçlar (Periyodik muayene ve kalibrasyon hariç)
B23: Dışarıdan Sağlanan Hizmet Giderleri | C23: =SUM(C24:C34,C41:C42,C45) -> 0 | D23: =SUM(D24:D34,D41:D42,D45) -> 0 | E23: =SUM(E24:E34,E41:E42,E45) -> 0 | F23: =SUM(F24:F34,F41:F42,F45) -> 0
B24: 01. Sayaç Okuma ve Faturalandırma
B25: 02. İhbar Dağıtım Hizmeti
B26: 03. Sayaç Açma Kapama
B27: 04. İç Tesisat İşlemleri
B28: 05. Periyodik Muayene ve Sayaç Kalibrasyonu
B29: 06. Münferit Ölçüm Ekipmanı Muayene Giderleri
B30: 07. Tahsilat Giderleri
B31: 08. Komisyon Giderleri
B32: 09. Güvenlik Hizmeti
B33: 10. Çağrı Merkezi
B34: 11. Bakım Onarım Giderleri | C34: =SUM(C35:C40) -> 0 | D34: =SUM(D35:D40) -> 0 | E34: =SUM(E35:E40) -> 0 | F34: =SUM(F35:F40) -> 0
B35: 11.01. Dağıtım Hatları
B36: 11.02. İstasyonlar
B37: 11.03. Sayaçlar (Periyodik muayene ve kalibrasyon hariç)
B38: 11.04. Bina
B39: 11.05. Araçlar
B40: 11.06. Demirbaşlar
B41: 12. Teknoloji Hizmeti
B42: 13. Danışmanlık ve Müşavirlik Giderleri | C42: =SUM(C43:C44) -> 0 | D42: =SUM(D43:D44) -> 0 | E42: =SUM(E43:E44) -> 0 | F42: =SUM(F43:F44) -> 0
...

Sheet İşletme Gideri Mizan Karşılığı
B2: EK-10/C: İŞLETME GİDERLERİ - MİZAN KARŞILIĞI
B4: İşletme Giderleri - Ana Kalem | C4: İşletme Gider Detay | D4: 2013 | G4: 2014 | J4: 2015 | M4: 2016
D5: Hesap No | E5: Hesap Adı | F5: Tutar | G5: Hesap No | H5: Hesap Adı | I5: Tutar | J5: Hesap No | K5: Hesap Adı | L5: Tutar | M5: Hesap No | N5: Hesap Adı | O5: Tutar
B6: Personel Ücret ve Giderleri | F6: =F8+F10+F12+F14+F16+F18+F20+F22+F24+F26+F28 -> 0 | I6: =I8+I10+I12+I14+I16+I18+I20+I22+I24+I26+I28 -> 0 | L6: =L8+L10+L12+L14+L16+L18+L20+L22+L24+L26+L28 -> 0 | O6: =O8+O10+O12+O14+O16+O18+O20+O22+O24+O26+O28 -> 0
C7: 01. Esas Ücretler (Ücrete bağlı vergiler dahil)
C8: Toplam
C9: 02. Sosyal Yardımlar
C10: Toplam
C11: 03. Tazminatlar
C12: Toplam
C13: 04. İşveren Payları
C14: Toplam
C15: 05. Huzur Haklar
C16: Toplam
C17: 06. Personel Sağlık Giderleri
C18: Toplam
... C28: Toplam
B29: İlk Madde ve Malzeme Giderleri | F29: =F31+F33+F35 -> 0 | I29: =I31+I33+I35 -> 0 | L29: =L31+L33+L35 -> 0 | O29: =O31+O33+O35 -> 0
C30: 01. Dağıtım Hatları
C31: Toplam
C32: 02. İstasyonlar
C33: Toplam
C34: 03. Sayaçlar (Periyodik muayene ve kalibrasyon hariç)
C35: Toplam
B36: Dışarıdan Sağlanan Hizmet Giderleri | F36: =F38+F40+F42+F44+F46+F48+F50+F52+F54+F56+F64+F66+F70+F72 -> 0 | I36: =I38+I40+I42+I44+I46+I48+I50+I52+I54+I56+I64+I66+I70+I72 -> 0 | L36: =L38+L40+L42+L44+L46+L48+L50+L52+L54+L56+L64+L66+L70+L72 -> 0 | O36: =O38+O40+O42+O44+O46+O48+O50+O52+O54+O56+O64+O66+O70+O72 -> 0
C37: 01. Sayaç Okuma ve Faturalandırma
C38: Toplam
C39: 02. İhbar Dağıtım Hizmeti
C40: Toplam
C41: 03. Sayaç Açma Kapama
C42: Toplam
C43: 04. İç Tesisat İşlemleri
C44: Toplam
C45: 05. Periyodik Muayene ve Sayaç Kalibrasyonu
C46: Toplam
C47: 06. Münferit Ölçüm Ekipmanı Muayene Giderleri
C48: Toplam
... C72: Toplam
B73: Kira Giderleri | F73: =F75+F77+F79+F81+F83 -> 0 | I73: =I75+I77+I79+I81+I83 -> 0 | L73: =L75+L77+L79+L81+L83 -> 0 | O73: =O75+O77+O79+O81+O83 -> 0
C74: 01. Gayrimenkul Kira Giderleri
...

Sheet Bina Kira Giderleri
B2: EK-10/D: GAYRİMENKUL KİRA GİDERLERİ
B5: 2013
B6: MEVKİİ | C6: BRÜT ALAN | D6: KİRALAMA TARİHİ | E6: KİRALAMA SÜRESİ (Ay Bazında) | F6: KULLANIM AMACI | G6: İLGİLİ YIL TOPLAM KİRA BEDELİ (TL)
F12: TOPLAM | G12: =SUM(G7:G11) -> 0
B14: 2014
B15: MEVKİİ | C15: BRÜT ALAN | D15: KİRALAMA TARİHİ | E15: KİRALAMA SÜRESİ (Ay Bazında) | F15: KULLANIM AMACI | G15: İLGİLİ YIL TOPLAM KİRA BEDELİ (TL)
F21: TOPLAM | G21: =SUM(G16:G20) -> 0
B23: 2015
B24: MEVKİİ | C24: BRÜT ALAN | D24: KİRALAMA TARİHİ | E24: KİRALAMA SÜRESİ (Ay Bazında) | F24: KULLANIM AMACI | G24: İLGİLİ YIL TOPLAM KİRA BEDELİ (TL)
F30: TOPLAM | G30: =SUM(G25:G29) -> 0
B32: 2016
B33: MEVKİİ | C33: BRÜT ALAN | D33: KİRALAMA TARİHİ | E33: KİRALAMA SÜRESİ (Ay Bazında) | F33: KULLANIM AMACI | G33: İLGİLİ YIL TOPLAM KİRA BEDELİ (TL)
F39: TOPLAM | G39: =SUM(G34:G38) -> 0

Sheet Taşıt Kira Giderleri
B2: EK-10/E: TAŞIT KİRA GİDERLERİ
B5: 2013
B6: PLAKA | C6: MARKA / MODEL | D6: KİRALAMA TARİHİ | E6: KİRALANAN FİRMA | F6: KİRALAMA SÜRESİ (Ay Bazında) | G6: KULLANIM AMACI | H6: İLGİLİ YIL YAPILAN KİLOMETRE | I6: İLGİLİ YIL TOPLAM KİRA BEDELİ (TL)
G12: TOPLAM | H12: =SUM(H7:H11) -> 0 | I12: =SUM(I7:I11) -> 0
B14: 2014
B15: PLAKA | C15: MARKA / MODEL | D15: KİRALAMA TARİHİ | E15: KİRALANAN FİRMA | F15: KİRALAMA SÜRESİ (Ay Bazında) | G15: KULLANIM AMACI | H15: İLGİLİ YIL YAPILAN KİLOMETRE | I15: İLGİLİ YIL TOPLAM KİRA BEDELİ (TL)
G21: TOPLAM | H21: =SUM(H16:H20) -> 0 | I21: =SUM(I16:I20) -> 0
B23: 2015
B24: PLAKA | C24: MARKA / MODEL | D24: KİRALAMA TARİHİ | E24: KİRALANAN FİRMA | F24: KİRALAMA SÜRESİ (Ay Bazında) | G24: KULLANIM AMACI | H24: İLGİLİ YIL YAPILAN KİLOMETRE | I24: İLGİLİ YIL TOPLAM KİRA BEDELİ (TL)
G30: TOPLAM | H30: =SUM(H25:H29) -> 0 | I30: =SUM(I25:I29) -> 0
B32: 2016
B33: PLAKA | C33: MARKA / MODEL | D33: KİRALAMA TARİHİ | E33: KİRALANAN FİRMA | F33: KİRALAMA SÜRESİ (Ay Bazında) | G33: KULLANIM AMACI | H33: İLGİLİ YIL YAPILAN KİLOMETRE | I33: İLGİLİ YIL TOPLAM KİRA BEDELİ (TL)
G39: TOPLAM | H39: =SUM(H34:H38) -> 0 | I39: =SUM(I34:I38) -> 0

Sheet Yazılım Kira Giderleri
B2: EK-10/F: YAZILIM KİRA GİDERLERİ
B5: 2013
B6: YAZILIM TANIMI | C6: EDİNİM TARİHİ | D6: KULLANIM AMACI | E6: ALINAN FİRMA | F6: İLGİLİ YIL TOPLAM KİRA BEDELİ (TL)
E12: TOPLAM | F12: =SUM(F7:F11) -> 0
B14: 2014
B15: YAZILIM TANIMI | C15: EDİNİM TARİHİ | D15: KULLANIM AMACI | E15: ALINAN FİRMA | F15: İLGİLİ YIL TOPLAM KİRA BEDELİ (TL)
E21: TOPLAM | F21: =SUM(F16:F20) -> 0
B23: 2015
B24: YAZILIM TANIMI | C24: EDİNİM TARİHİ | D24: KULLANIM AMACI | E24: ALINAN FİRMA | F24: İLGİLİ YIL TOPLAM KİRA BEDELİ (TL)
E30: TOPLAM | F30: =SUM(F25:F29) -> 0
B32: 2016
B33: YAZILIM TANIMI | C33: EDİNİM TARİHİ | D33: KULLANIM AMACI | E33: ALINAN FİRMA | F33: İLGİLİ YIL TOPLAM KİRA BEDELİ (TL)
E39: TOPLAM | F39: =SUM(F34:F38) -> 0

Sheet Fatura Bilgileri
B2: EK-10/G: FATURA BİLGİLERİ
B4: FATURA BİLGİLERİ
B5: Dönem | C5: Okunan Sayaç Sayısı (adet) | D5: Kesilen Fatura Sayısı (adet) | E5: İhbarname Sayısı (adet) | F5: Fatura Tahsilat Bilgileri
F6: Şirket Tarafından Tahsil Edilen Fatura Sayısı | G6: PTT lerde Tahsil Edilen Fatura Sayısı | H6: Bankalarca Tahsil Edilen Fatura Sayısı | I6: Diğer (Tahsilat Yolunu Belirtiniz) | J6: Toplam Fatura Tahsilat Sayısı
B7: 41275 | J7: =SUM(F7:I7) -> 0
B8: 41306 | J8: =SUM(F8:I8) -> 0
B9: 41334 | J9: =SUM(F9:I9) -> 0
B10: 41365 | J10: =SUM(F10:I10) -> 0
B11: 41395 | J11: =SUM(F11:I11) -> 0
B12: 41426 | J12: =SUM(F12:I12) -> 0
B13: 41456 | J13: =SUM(F13:I13) -> 0
B14: 41487 | J14: =SUM(F14:I14) -> 0
B15: 41518 | J15: =SUM(F15:I15) -> 0
B16: 41548 | J16: =SUM(F16:I16) -> 0
B17: 41579 | J17: =SUM(F17:I17) -> 0
B18: 41609 | J18: =SUM(F18:I18) -> 0
B19: 2013 Toplamı | C19: =SUM(C7:C18) -> 0 | D19: =SUM(D7:D18) -> 0 | E19: =SUM(E7:E18) -> 0 | F19: =SUM(F7:F18) -> 0 | G19: =SUM(G7:G18) -> 0 | H19: =SUM(H7:H18) -> 0 | I19: =SUM(I7:I18) -> 0 | J19: =SUM(J7:J18) -> 0
B20: 41640 | J20: =SUM(F20:I20) -> 0
B21: 41671 | J21: =SUM(F21:I21) -> 0
B22: 41699 | J22: =SUM(F22:I22) -> 0
B23: 41730 | J23: =SUM(F23:I23) -> 0
B24: 41760 | J24: =SUM(F24:I24) -> 0
B25: 41791 | J25: =SUM(F25:I25) -> 0
B26: 41821 | J26: =SUM(F26:I26) -> 0
B27: 41852 | J27: =SUM(F27:I27) -> 0
B28: 41883 | J28: =SUM(F28:I28) -> 0
B29: 41913 | J29: =SUM(F29:I29) -> 0
B30: 41944 | J30: =SUM(F30:I30) -> 0
B31: 41974 | J31: =SUM(F31:I31) -> 0
B32: 2014 Toplamı | C32: =SUM(C20:C31) -> 0 | D32: =SUM(D20:D31) -> 0 | E32: =SUM(E20:E31) -> 0 | F32: =SUM(F20:F31) -> 0 | G32: =SUM(G20:G31) -> 0 | H32: =SUM(H20:H31) -> 0 | I32: =SUM(I20:I31) -> 0 | J32: =SUM(J20:J31) -> 0
B33: 42005 | J33: =SUM(F33:I33) -> 0
B34: 42036 | J34: =SUM(F34:I34) -> 0
B35: 42064 | J35: =SUM(F35:I35) -> 0
B36: 42095 | J36: =SUM(F36:I36) -> 0
B37: 42125 | J37: =SUM(F37:I37) -> 0
B38: 42156 | J38: =SUM(F38:I38) -> 0
B39: 42186 | J39: =SUM(F39:I39) -> 0
B40: 42217 | J40: =SUM(F40:I40) -> 0
B41: 42248 | J41: =SUM(F41:I41) -> 0
B42: 42278 | J42: =SUM(F42:I42) -> 0
...

Sheet Periyodik Muayene Bilgileri
B2: EK-10/H: PERİYODİK MUAYENE BİLGİLERİ
C4: Sayaç Bilgileri
B5: Yıl | C5: Sayaç Türü | D5: Sayaç Markası | E5: Sayaç Sayısı
B6: 2016
B7: 2016
B8: 2016
B9: 2016
B10: 2016
B11: 2016
B12: 2016

Sheet İstihdam
B2: EK-13: PERSONEL SAYISI VE PERSONEL GİDERLERİ
B4: PERSONEL SAYISI - PERSONEL GİDERLERİ | C4: 41639 | D4: 42004 | E4: 42369 | F4: 42735
B5: Dönem Başı Personel Sayısı
B6: Dönem Sonu Personel Sayısı
B7: Toplam Personel Giderleri (TL)
B9: PERSONEL SAYISI DAĞILIMI (Dönem Sonu İtibariyle) | C9: 41639 | D9: 42004 | E9: 42369 | F9: 42735
B10: 1. Müşteri Hizmetleri Personeli | C10: =SUM(C11:C13) -> 0 | D10: =SUM(D11:D13) -> 0 | E10: =SUM(E11:E13) -> 0 | F10: =SUM(F11:F13) -> 0
B11: 1.1. Sayaç Okuma ve Faturalandırma Hizmeti
B12: 1.2. Abonelik Hizmeti
B13: 1.3. Tahsilat Hizmeti
B14: 2. Güvenlik Personeli
B15: 3. Teknik Hizmetler Personeli | C15: =SUM(C16:C19) -> 0 | D15: =SUM(D16:D19) -> 0 | E15: =SUM(E16:E19) -> 0 | F15: =SUM(F16:F19) -> 0
B16: 3.1. İç Tesisat
B17: 3.2. Acil Müdahale
B18: 3.3. Bakım Onarım
B19: 3.4. Yapım, Proje ve Etüd
B20: 4. Genel Hizmet Personeli
B21: 5. Pazarlama Personeli
B22: 6. Genel Yönetim Personeli
B23: TOPLAM | C23: =C10+C14+C15+C20+C21+C22 -> 0 | D23: =D10+D14+D15+D20+D21+D22 -> 0 | E23: =E10+E14+E15+E20+E21+E22 -> 0 | F23: =F10+F14+F15+F20+F21+F22 -> 0
B25: PERSONEL GİDERLERİ DAĞILIMI (TL) (Dönem Sonu İtibariyle) | C25: 41639 | D25: 42004 | E25: 42369 | F25: 42735
B26: 1. Müşteri Hizmetleri Personel Gideri | C26: =SUM(C27:C29) -> 0 | D26: =SUM(D27:D29) -> 0 | E26: =SUM(E27:E29) -> 0 | F26: =SUM(F27:F29) -> 0
B27: 1.1. Sayaç Okuma ve Faturalandırma Hizmeti
B28: 1.2. Abonelik Hizmeti
B29: 1.3. Tahsilat Hizmeti
B30: 2. Güvenlik Personel Gideri
B31: 3. Teknik Hizmetler Personel Gideri | C31: =SUM(C32:C35) -> 0 | D31: =SUM(D32:D35) -> 0 | E31: =SUM(E32:E35) -> 0 | F31: =SUM(F32:F35) -> 0
B32: 3.1. İç Tesisat
B33: 3.2. Acil Müdahale
B34: 3.3. Bakım Onarım
B35: 3.4. Yapım, Proje ve Etüd
B36: 4. Genel Hizmet Personel Gideri
B37: 5. Pazarlama Personel Gideri
B38: 6. Genel Yönetim Personel Gideri
B39: TOPLAM | C39: =C26+C30+C31+C36+C37+C38 -> 0 | D39: =D26+D30+D31+D36+D37+D38 -> 0 | E39: =E26+E30+E31+E36+E37+E38 -> 0 | F39: =F26+F30+F31+F36+F37+F38 -> 0

Sheet Krediler
B2: EK-14/B: DAĞITIM ŞİRKETLERİNİN KREDİLERİ
B4: KREDİLER TABLOSU (31.12.2016 TARİHİ İTİBARİYLE)
B5: Kredi No | C5: Kullanıldığı Proje | D5: Krediyi Sağlayan Finans Kurumu | E5: Kredi Başlangıç Tarihi | F5: Kredi Bitiş Tarihi | G5: Para Birimi | H5: Kredi Tutarı | I5: Taksit Periyodu | J5: 31.12.2016 Bakiyesi | K5: Yıllık Faiz Oranı*

Sheet Hizmet Kalitesi
B2: EK-19: HİZMET KALİTESİ PERFORMANS GÖSTERGELERİ
B4: HİZMET KALİTESİ PERFORMANS GÖSTERGELERİ
C5: Birim | D5: 41639 | E5: 42004 | F5: 42369 | G5: 42735
B6: I) BAĞLANTI BİLGİLERİ
B7: Bağlantı başvuru sayısı | C7: Adet | D7: =D8+D9 -> 0 | E7: =E8+E9 -> 0 | F7: =F8+F9 -> 0 | G7: =G8+G9 -> 0
B8: Kabul edilen bağlantı talep sayısı | C8: Adet
B9: Reddedilen bağlantı talep sayısı | C9: Adet
B10: Ortalama bağlantı başvurusu sonuçlandırma süresi | C10: Gün
B11: II) GEÇİCİ GAZ KESİNTİSİ NEDENLERİ
B12: Müşterinin talebi | C12: Adet
B13: Fatura bedelinin ödenmemesi | C13: Adet
B14: Mahkeme veya Kurul Kararı | C14: Adet
B15: Kaçak veya usülsüz gaz kullanımı | C15: Adet
B16: Fatura Okunamaması (sayaca ulaşılamaması) | C16: Adet
B17: III) ÖLÇÜMLEME
B18: Ölçüm yapamayan sayaç | C18: Adet
B19: Hatalı ölçüm yapan sayaç | C19: Adet
B20: Sayaç açma-kapama bedeli alınan müşteri sayısı | C20: Adet
B21: Doğal gaz yükleme merkezi sayısı | C21: Adet
B22: Nöbetçi doğal gaz yükleme merkezi sayısı | C22: Adet
B23: IV-a) ŞİKAYET SEBEPLERİ
B24: Sayaç şikayetleri | C24: Adet
B25: Gaz basınç seviyesi şikayetleri | C25: Adet
B26: Gaz kesinti şikayetleri | C26: Adet
B27: Sertfika sahiplerinin şikayetleri | C27: Adet
B28: Diğer şikayetler | C28: Adet
B29: IV-b) ŞİKAYET YÖNTEMLERİ
B30: Yazılı şikayet sayısı | C30: Adet
B31: Telefonla gelen şikayet sayısı | C31: Adet
B32: Fax ile gelen şikayet sayısı | C32: Adet
B33: E-posta ile gelen şikayet sayısı | C33: Adet
B34: Ortalama şikayet giderme süresi | C34: Saat
B35: IV-c) FATURA İTİRAZLARI
B36: Faturaya itiraz sayısı | C36: Adet
B37: Faturaya itirazı kabul edilen müşteri sayısı | C37: Adet
B38: Faturaya itirazı reddedilen müşteri sayısı | C38: Adet
B39: V) TAHSİLAT BİLGİLERİ
B40: Şirkete Ait Ödeme Merkezi Sayısı | C40: Adet
B41: Şirkete Ait Vezne Sayısı | C41: Adet
B42: Şirket Web Sitesi Üzerinden Fatura Ödeme Sayısı | C42: Adet
...

Sheet Tüketici Bilgileri
B2: EK-20: TÜKETİCİ SAYISI DETAY TABLOSU
C4: Birim | D4: 39813 | E4: 40178 | F4: 40543 | G4: 40908 | H4: 41274 | I4: 41639 | J4: 42004 | K4: 42369 | L4: 42735
B5: Faaliyette Bulunulan Alan | C5: km2
B6: Dağıtım Bölgesindeki Potansiyel Tüketici Adedi (Kümülatif) | C6: Adet | D6: =D7+D8 -> 0 | E6: =E7+E8 -> 0 | F6: =F7+F8 -> 0 | G6: =G7+G8 -> 0 | H6: =H7+H8 -> 0 | I6: =I7+I8 -> 0 | J6: =J7+J8 -> 0 | K6: =K7+K8 -> 0 | L6: =L7+L8 -> 0
B7: - Konut (Daire bazında) | C7: Adet
B8: - Konut Harici (İşyeri bazında) | C8: Adet
B9: Şebekenin Ulaştığı Potansiyel Tüketici Adedi (Kümülatif) | C9: Adet | D9: =D10+D11 -> 0 | E9: =E10+E11 -> 0 | F9: =F10+F11 -> 0 | G9: =G10+G11 -> 0 | H9: =H10+H11 -> 0 | I9: =I10+I11 -> 0 | J9: =J10+J11 -> 0 | K9: =K10+K11 -> 0 | L9: =L10+L11 -> 0
B10: - Konut (Daire bazında) | C10: Adet
B11: - Konut Harici (İşyeri bazında) | C11: Adet
B13: Servis Hattı Yapım Adedi (Kümülatif) | C13: Adet
B14: Tesis Edilen Servis Hatlarının Toplam Uzunluğu (Kümülatif) | C14: Metre
B15: Servis Hatları Toplam Maliyeti (Malzeme ve İşçilik Dahil Toplam Yapım Maliyeti) (KDV Hariç) | C15: TL
B17: Servis Hattıyla Ulaşılan Potansiyel Tüketici Adedi (Kümülatif) | C17: Adet | D17: =D18+D19 -> 0 | E17: =E18+E19 -> 0 | F17: =F18+F19 -> 0 | G17: =G18+G19 -> 0 | H17: =H18+H19 -> 0 | I17: =I18+I19 -> 0 | J17: =J18+J19 -> 0 | K17: =K18+K19 -> 0 | L17: =L18+L19 -> 0
B18: - Konut (Daire bazında) | C18: Adet
B19: - Konut Harici (İşyeri bazında) | C19: Adet
B20: Servis Hattıyla Ulaşılan Potansiyel Tüketici (Kümülatif) | C20: BBS | D20: =D21+D22 -> 0 | E20: =E21+E22 -> 0 | F20: =F21+F22 -> 0 | G20: =G21+G22 -> 0 | H20: =H21+H22 -> 0 | I20: =I21+I22 -> 0 | J20: =J21+J22 -> 0 | K20: =K21+K22 -> 0 | L20: =L21+L22 -> 0
B21: - Konut (Daire bazında) | C21: BBS
B22: - Konut Harici (İşyeri bazında) | C22: BBS
B24: Bağlantı Sözleşmesi Yapılan Tüketici Adedi (Kümülatif) (Servis Hattıyla Bağlanan - Bağlantı Bedelini BBS üzerinden ödeyen tüketiciler) | C24: Adet | D24: =SUM(D25:D28) -> 0 | E24: =SUM(E25:E28) -> 0 | F24: =SUM(F25:F28) -> 0 | G24: =SUM(G25:G28) -> 0 | H24: =SUM(H25:H28) -> 0 | I24: =SUM(I25:I28) -> 0 | J24: =SUM(J25:J28) -> 0 | K24: =SUM(K25:K28) -> 0 | L24: =SUM(L25:L28) -> 0
B25: - Konut Bireysel (Merkezi sistem ile ısınmayan) | C25: Adet
B26: - Konut Merkezi | C26: Adet
B27: - Konut Harici Bireysel (Merkezi sistem ile ısınmayan) | C27: Adet
B28: - Konut Harici Merkezi | C28: Adet
B29: Bağlantı Sözleşmesi Yapılan Tüketici (Kümülatif) (Servis Hattıyla Bağlanan - Bağlantı Bedelini BBS üzerinden ödeyen tüketiciler) | C29: BBS | D29: =SUM(D30:D33) -> 0 | E29: =SUM(E30:E33) -> 0 | F29: =SUM(F30:F33) -> 0 | G29: =SUM(G30:G33) -> 0 | H29: =SUM(H30:H33) -> 0 | I29: =SUM(I30:I33) -> 0 | J29: =SUM(J30:J33) -> 0 | K29: =SUM(K30:K33) -> 0 | L29: =SUM(L30:L33) -> 0
B30: - Konut Bireysel (Merkezi sistem ile ısınmayan) | C30: BBS
B31: - Konut Merkezi | C31: BBS
B32: - Konut Harici Bireysel (Merkezi sistem ile ısınmayan) | C32: BBS
B33: - Konut Harici Merkezi | C33: BBS
B34: Bağlantısı Yapılmış Merkezi Sistem Adedi (Kümülatif) | C34: Adet
B36: Gaz Kullanım Sözleşmesi İmzalayan Tüketici Adedi (Kümülatif) | C36: Adet
B37: İç Tesisat Onayı Yapılan Tüketici Adedi (Kümülatif) | C37: Adet
B38: Gazı Açılan Tüketici Adedi (Yıl içinde gazı ilk kez açılan tüketici) | C38: Adet
B39: Yıl İçinde En Az Bir Kez Fatura Kesilen Tüketici Adedi | C39: Adet
B40: Gaz Verilen Bina Adedi (İçinde en az bir abone bulunan) (Kümülatif) | C40: Adet
B42: Dağıtım Bölgesi Su Abone Sayısı (Kümülatif) | C42: Adet

Sheet Yatırımlar-Mevcut Bölge
B2: EK-21/A1: YATIRIMLAR (MEVCUT BÖLGE)
B4: YATIRIM GİDERLERİ (TL)
D5: 41274 | H5: 41639 | L5: 42004 | P5: 42369 | T5: 42735
B6: ŞEBEKE UNSURLARI | C6: Birim | D6: Miktar | E6: Birim Malzeme Giderleri (TL/Birim) | F6: Birim İnşaat ve İşçilik Giderleri (TL/Birim) | G6: Toplam Yatırım Giderleri (TL) | H6: Miktar | I6: Birim Malzeme Giderleri (TL/Birim) | J6: Birim İnşaat ve İşçilik Giderleri (TL/Birim) | K6: Toplam Yatırım Giderleri (TL) | L6: Miktar | M6: Birim Malzeme Giderleri (TL/Birim) | N6: Birim İnşaat ve İşçilik Giderleri (TL/Birim) | O6: Toplam Yatırım Giderleri (TL) | P6: Miktar | Q6: Birim Malzeme Giderleri (TL/Birim) | R6: Birim İnşaat ve İşçilik Giderleri (TL/Birim) | S6: Toplam Yatırım Giderleri (TL) | T6: Miktar | U6: Birim Malzeme Giderleri (TL/Birim) | V6: Birim İnşaat ve İşçilik Giderleri (TL/Birim) | W6: Toplam Yatırım Giderleri (TL)
B7: TOPLAM YATIRIM TUTARI | G7: =G8+G102+G132+C165 -> 0 | K7: =K8+K102+K132+D165 -> 0 | O7: =O8+O102+O132+E165 -> 0 | S7: =S8+S102+S132+F165 -> 0 | W7: =W8+W102+W132+G165 -> 0
B8: 1. DAĞITIM ŞEBEKESİ | G8: =G9+G30+G51+G72+G73+G88 -> 0 | K8: =K9+K30+K51+K72+K73+K88 -> 0 | O8: =O9+O30+O51+O72+O73+O88 -> 0 | S8: =S9+S30+S51+S72+S73+S88 -> 0 | W8: =W9+W30+W51+W72+W73+W88 -> 0
B9: 1.1. Dağıtım Hatları | G9: =G10+G23 -> 0 | K9: =K10+K23 -> 0 | O9: =O10+O23 -> 0 | S9: =S10+S23 -> 0 | W9: =W10+W23 -> 0
B10: 1.1.1. Çelik Hatlar | G10: =SUM(G11:G22) -> 0 | K10: =SUM(K11:K22) -> 0 | O10: =SUM(O11:O22) -> 0 | S10: =SUM(S11:S22) -> 0 | W10: =SUM(W11:W22) -> 0
B11: 1-2" | C11: metre | G11: =D11*(E11+F11) -> 0 | K11: =H11*(I11+J11) -> 0 | O11: =L11*(M11+N11) -> 0 | S11: =P11*(Q11+R11) -> 0 | W11: =T11*(U11+V11) -> 0
B12: 3-4" | C12: metre | G12: =D12*(E12+F12) -> 0 | K12: =H12*(I12+J12) -> 0 | O12: =L12*(M12+N12) -> 0 | S12: =P12*(Q12+R12) -> 0 | W12: =T12*(U12+V12) -> 0
B13: 5-6" | C13: metre | G13: =D13*(E13+F13) -> 0 | K13: =H13*(I13+J13) -> 0 | O13: =L13*(M13+N13) -> 0 | S13: =P13*(Q13+R13) -> 0 | W13: =T13*(U13+V13) -> 0
B14: 7-8" | C14: metre | G14: =D14*(E14+F14) -> 0 | K14: =H14*(I14+J14) -> 0 | O14: =L14*(M14+N14) -> 0 | S14: =P14*(Q14+R14) -> 0 | W14: =T14*(U14+V14) -> 0
B15: 9-10" | C15: metre | G15: =D15*(E15+F15) -> 0 | K15: =H15*(I15+J15) -> 0 | O15: =L15*(M15+N15) -> 0 | S15: =P15*(Q15+R15) -> 0 | W15: =T15*(U15+V15) -> 0
B16: 11-12" | C16: metre | G16: =D16*(E16+F16) -> 0 | K16: =H16*(I16+J16) -> 0 | O16: =L16*(M16+N16) -> 0 | S16: =P16*(Q16+R16) -> 0 | W16: =T16*(U16+V16) -> 0
B17: 13-14" | C17: metre | G17: =D17*(E17+F17) -> 0 | K17: =H17*(I17+J17) -> 0 | O17: =L17*(M17+N17) -> 0 | S17: =P17*(Q17+R17) -> 0 | W17: =T17*(U17+V17) -> 0
B18: 15-16" | C18: metre | G18: =D18*(E18+F18) -> 0 | K18: =H18*(I18+J18) -> 0 | O18: =L18*(M18+N18) -> 0 | S18: =P18*(Q18+R18) -> 0 | W18: =T18*(U18+V18) -> 0
B19: 17-20" | C19: metre | G19: =D19*(E19+F19) -> 0 | K19: =H19*(I19+J19) -> 0 | O19: =L19*(M19+N19) -> 0 | S19: =P19*(Q19+R19) -> 0 | W19: =T19*(U19+V19) -> 0
B20: 21-24" | C20: metre | G20: =D20*(E20+F20) -> 0 | K20: =H20*(I20+J20) -> 0 | O20: =L20*(M20+N20) -> 0 | S20: =P20*(Q20+R20) -> 0 | W20: =T20*(U20+V20) -> 0
B21: 25-28" | C21: metre | G21: =D21*(E21+F21) -> 0 | K21: =H21*(I21+J21) -> 0 | O21: =L21*(M21+N21) -> 0 | S21: =P21*(Q21+R21) -> 0 | W21: =T21*(U21+V21) -> 0
B22: 28" üzeri | C22: metre | G22: =D22*(E22+F22) -> 0 | K22: =H22*(I22+J22) -> 0 | O22: =L22*(M22+N22) -> 0 | S22: =P22*(Q22+R22) -> 0 | W22: =T22*(U22+V22) -> 0
B23: 1.1.2. Polietilen Hatlar | G23: =SUM(G24:G29) -> 0 | K23: =SUM(K24:K29) -> 0 | O23: =SUM(O24:O29) -> 0 | S23: =SUM(S24:S29) -> 0 | W23: =SUM(W24:W29) -> 0
B24: ND 0-40 mm | C24: metre | G24: =D24*(E24+F24) -> 0 | K24: =H24*(I24+J24) -> 0 | O24: =L24*(M24+N24) -> 0 | S24: =P24*(Q24+R24) -> 0 | W24: =T24*(U24+V24) -> 0
B25: ND 63 mm | C25: metre | G25: =D25*(E25+F25) -> 0 | K25: =H25*(I25+J25) -> 0 | O25: =L25*(M25+N25) -> 0 | S25: =P25*(Q25+R25) -> 0 | W25: =T25*(U25+V25) -> 0
B26: ND 90 mm | C26: metre | G26: =D26*(E26+F26) -> 0 | K26: =H26*(I26+J26) -> 0 | O26: =L26*(M26+N26) -> 0 | S26: =P26*(Q26+R26) -> 0 | W26: =T26*(U26+V26) -> 0
B27: ND 110 mm | C27: metre | G27: =D27*(E27+F27) -> 0 | K27: =H27*(I27+J27) -> 0 | O27: =L27*(M27+N27) -> 0 | S27: =P27*(Q27+R27) -> 0 | W27: =T27*(U27+V27) -> 0
B28: ND 125 mm | C28: metre | G28: =D28*(E28+F28) -> 0 | K28: =H28*(I28+J28) -> 0 | O28: =L28*(M28+N28) -> 0 | S28: =P28*(Q28+R28) -> 0 | W28: =T28*(U28+V28) -> 0
B29: ND 125 mm üzeri | C29: metre | G29: =D29*(E29+F29) -> 0 | K29: =H29*(I29+J29) -> 0 | O29: =L29*(M29+N29) -> 0 | S29: =P29*(Q29+R29) -> 0 | W29: =T29*(U29+V29) -> 0
B30: 1.2. Özel Geçiş Dağıtım Hatları | G30: =G31+G44 -> 0 | K30: =K31+K44 -> 0 | O30: =O31+O44 -> 0 | S30: =S31+S44 -> 0 | W30: =W31+W44 -> 0
B31: 1.2.1. ÖG Çelik Hatlar | G31: =SUM(G32:G43) -> 0 | K31: =SUM(K32:K43) -> 0 | O31: =SUM(O32:O43) -> 0 | S31: =SUM(S32:S43) -> 0 | W31: =SUM(W32:W43) -> 0
B32: 1-2" | C32: metre | G32: =D32*(E32+F32) -> 0 | K32: =H32*(I32+J32) -> 0 | O32: =L32*(M32+N32) -> 0 | S32: =P32*(Q32+R32) -> 0 | W32: =T32*(U32+V32) -> 0
B33: 3-4" | C33: metre | G33: =D33*(E33+F33) -> 0 | K33: =H33*(I33+J33) -> 0 | O33: =L33*(M33+N33) -> 0 | S33: =P33*(Q33+R33) -> 0 | W33: =T33*(U33+V33) -> 0
B34: 5-6" | C34: metre | G34: =D34*(E34+F34) -> 0 | K34: =H34*(I34+J34) -> 0 | O34: =L34*(M34+N34) -> 0 | S34: =P34*(Q34+R34) -> 0 | W34: =T34*(U34+V34) -> 0
B35: 7-8" | C35: metre | G35: =D35*(E35+F35) -> 0 | K35: =H35*(I35+J35) -> 0 | O35: =L35*(M35+N35) -> 0 | S35: =P35*(Q35+R35) -> 0 | W35: =T35*(U35+V35) -> 0
B36: 9-10" | C36: metre | G36: =D36*(E36+F36) -> 0 | K36: =H36*(I36+J36) -> 0 | O36: =L36*(M36+N36) -> 0 | S36: =P36*(Q36+R36) -> 0 | W36: =T36*(U36+V36) -> 0
B37: 11-12" | C37: metre | G37: =D37*(E37+F37) -> 0 | K37: =H37*(I37+J37) -> 0 | O37: =L37*(M37+N37) -> 0 | S37: =P37*(Q37+R37) -> 0 | W37: =T37*(U37+V37) -> 0
B38: 13-14" | C38: metre | G38: =D38*(E38+F38) -> 0 | K38: =H38*(I38+J38) -> 0 | O38: =L38*(M38+N38) -> 0 | S38: =P38*(Q38+R38) -> 0 | W38: =T38*(U38+V38) -> 0
B39: 15-16" | C39: metre | G39: =D39*(E39+F39) -> 0 | K39: =H39*(I39+J39) -> 0 | O39: =L39*(M39+N39) -> 0 | S39: =P39*(Q39+R39) -> 0 | W39: =T39*(U39+V39) -> 0
B40: 17-20" | C40: metre | G40: =D40*(E40+F40) -> 0 | K40: =H40*(I40+J40) -> 0 | O40: =L40*(M40+N40) -> 0 | S40: =P40*(Q40+R40) -> 0 | W40: =T40*(U40+V40) -> 0
B41: 21-24" | C41: metre | G41: =D41*(E41+F41) -> 0 | K41: =H41*(I41+J41) -> 0 | O41: =L41*(M41+N41) -> 0 | S41: =P41*(Q41+R41) -> 0 | W41: =T41*(U41+V41) -> 0
B42: 25-28" | C42: metre | G42: =D42*(E42+F42) -> 0 | K42: =H42*(I42+J42) -> 0 | O42: =L42*(M42+N42) -> 0 | S42: =P42*(Q42+R42) -> 0 | W42: =T42*(U42+V42) -> 0
...

Sheet Yatırımlar-Genişleme1
B2: EK-21/A2: YATIRIMLAR (İLGİLİ ŞEHİR(LER))
B4: YATIRIM GİDERLERİ (TL)
D5: 41274 | H5: 41639 | L5: 42004 | P5: 42369 | T5: 42735
B6: ŞEBEKE UNSURLARI | C6: Birim | D6: Miktar | E6: Birim Malzeme Giderleri (TL/Birim) | F6: Birim İnşaat ve İşçilik Giderleri (TL/Birim) | G6: Toplam Yatırım Giderleri (TL) | H6: Miktar | I6: Birim Malzeme Giderleri (TL/Birim) | J6: Birim İnşaat ve İşçilik Giderleri (TL/Birim) | K6: Toplam Yatırım Giderleri (TL) | L6: Miktar | M6: Birim Malzeme Giderleri (TL/Birim) | N6: Birim İnşaat ve İşçilik Giderleri (TL/Birim) | O6: Toplam Yatırım Giderleri (TL) | P6: Miktar | Q6: Birim Malzeme Giderleri (TL/Birim) | R6: Birim İnşaat ve İşçilik Giderleri (TL/Birim) | S6: Toplam Yatırım Giderleri (TL) | T6: Miktar | U6: Birim Malzeme Giderleri (TL/Birim) | V6: Birim İnşaat ve İşçilik Giderleri (TL/Birim) | W6: Toplam Yatırım Giderleri (TL)
B7: TOPLAM YATIRIM TUTARI | G7: =G8+G102+G132+C165 -> 0 | K7: =K8+K102+K132+D165 -> 0 | O7: =O8+O102+O132+E165 -> 0 | S7: =S8+S102+S132+F165 -> 0 | W7: =W8+W102+W132+G165 -> 0
B8: 1. DAĞITIM ŞEBEKESİ | G8: =G9+G30+G51+G72+G73+G88 -> 0 | K8: =K9+K30+K51+K72+K73+K88 -> 0 | O8: =O9+O30+O51+O72+O73+O88 -> 0 | S8: =S9+S30+S51+S72+S73+S88 -> 0 | W8: =W9+W30+W51+W72+W73+W88 -> 0
B9: 1.1. Dağıtım Hatları | G9: =G10+G23 -> 0 | K9: =K10+K23 -> 0 | O9: =O10+O23 -> 0 | S9: =S10+S23 -> 0 | W9: =W10+W23 -> 0
B10: 1.1.1. Çelik Hatlar | G10: =SUM(G11:G22) -> 0 | K10: =SUM(K11:K22) -> 0 | O10: =SUM(O11:O22) -> 0 | S10: =SUM(S11:S22) -> 0 | W10: =SUM(W11:W22) -> 0
B11: 1-2" | C11: metre | G11: =D11*(E11+F11) -> 0 | K11: =H11*(I11+J11) -> 0 | O11: =L11*(M11+N11) -> 0 | S11: =P11*(Q11+R11) -> 0 | W11: =T11*(U11+V11) -> 0
B12: 3-4" | C12: metre | G12: =D12*(E12+F12) -> 0 | K12: =H12*(I12+J12) -> 0 | O12: =L12*(M12+N12) -> 0 | S12: =P12*(Q12+R12) -> 0 | W12: =T12*(U12+V12) -> 0
B13: 5-6" | C13: metre | G13: =D13*(E13+F13) -> 0 | K13: =H13*(I13+J13) -> 0 | O13: =L13*(M13+N13) -> 0 | S13: =P13*(Q13+R13) -> 0 | W13: =T13*(U13+V13) -> 0
B14: 7-8" | C14: metre | G14: =D14*(E14+F14) -> 0 | K14: =H14*(I14+J14) -> 0 | O14: =L14*(M14+N14) -> 0 | S14: =P14*(Q14+R14) -> 0 | W14: =T14*(U14+V14) -> 0
B15: 9-10" | C15: metre | G15: =D15*(E15+F15) -> 0 | K15: =H15*(I15+J15) -> 0 | O15: =L15*(M15+N15) -> 0 | S15: =P15*(Q15+R15) -> 0 | W15: =T15*(U15+V15) -> 0
B16: 11-12" | C16: metre | G16: =D16*(E16+F16) -> 0 | K16: =H16*(I16+J16) -> 0 | O16: =L16*(M16+N16) -> 0 | S16: =P16*(Q16+R16) -> 0 | W16: =T16*(U16+V16) -> 0
B17: 13-14" | C17: metre | G17: =D17*(E17+F17) -> 0 | K17: =H17*(I17+J17) -> 0 | O17: =L17*(M17+N17) -> 0 | S17: =P17*(Q17+R17) -> 0 | W17: =T17*(U17+V17) -> 0
B18: 15-16" | C18: metre | G18: =D18*(E18+F18) -> 0 | K18: =H18*(I18+J18) -> 0 | O18: =L18*(M18+N18) -> 0 | S18: =P18*(Q18+R18) -> 0 | W18: =T18*(U18+V18) -> 0
B19: 17-20" | C19: metre | G19: =D19*(E19+F19) -> 0 | K19: =H19*(I19+J19) -> 0 | O19: =L19*(M19+N19) -> 0 | S19: =P19*(Q19+R19) -> 0 | W19: =T19*(U19+V19) -> 0
B20: 21-24" | C20: metre | G20: =D20*(E20+F20) -> 0 | K20: =H20*(I20+J20) -> 0 | O20: =L20*(M20+N20) -> 0 | S20: =P20*(Q20+R20) -> 0 | W20: =T20*(U20+V20) -> 0
B21: 25-28" | C21: metre | G21: =D21*(E21+F21) -> 0 | K21: =H21*(I21+J21) -> 0 | O21: =L21*(M21+N21) -> 0 | S21: =P21*(Q21+R21) -> 0 | W21: =T21*(U21+V21) -> 0
B22: 28" üzeri | C22: metre | G22: =D22*(E22+F22) -> 0 | K22: =H22*(I22+J22) -> 0 | O22: =L22*(M22+N22) -> 0 | S22: =P22*(Q22+R22) -> 0 | W22: =T22*(U22+V22) -> 0
B23: 1.1.2. Polietilen Hatlar | G23: =SUM(G24:G29) -> 0 | K23: =SUM(K24:K29) -> 0 | O23: =SUM(O24:O29) -> 0 | S23: =SUM(S24:S29) -> 0 | W23: =SUM(W24:W29) -> 0
B24: ND 0-40 mm | C24: metre | G24: =D24*(E24+F24) -> 0 | K24: =H24*(I24+J24) -> 0 | O24: =L24*(M24+N24) -> 0 | S24: =P24*(Q24+R24) -> 0 | W24: =T24*(U24+V24) -> 0
B25: ND 63 mm | C25: metre | G25: =D25*(E25+F25) -> 0 | K25: =H25*(I25+J25) -> 0 | O25: =L25*(M25+N25) -> 0 | S25: =P25*(Q25+R25) -> 0 | W25: =T25*(U25+V25) -> 0
B26: ND 90 mm | C26: metre | G26: =D26*(E26+F26) -> 0 | K26: =H26*(I26+J26) -> 0 | O26: =L26*(M26+N26) -> 0 | S26: =P26*(Q26+R26) -> 0 | W26: =T26*(U26+V26) -> 0
B27: ND 110 mm | C27: metre | G27: =D27*(E27+F27) -> 0 | K27: =H27*(I27+J27) -> 0 | O27: =L27*(M27+N27) -> 0 | S27: =P27*(Q27+R27) -> 0 | W27: =T27*(U27+V27) -> 0
B28: ND 125 mm | C28: metre | G28: =D28*(E28+F28) -> 0 | K28: =H28*(I28+J28) -> 0 | O28: =L28*(M28+N28) -> 0 | S28: =P28*(Q28+R28) -> 0 | W28: =T28*(U28+V28) -> 0
B29: ND 125 mm üzeri | C29: metre | G29: =D29*(E29+F29) -> 0 | K29: =H29*(I29+J29) -> 0 | O29: =L29*(M29+N29) -> 0 | S29: =P29*(Q29+R29) -> 0 | W29: =T29*(U29+V29) -> 0
B30: 1.2. Özel Geçiş Dağıtım Hatları | G30: =G31+G44 -> 0 | K30: =K31+K44 -> 0 | O30: =O31+O44 -> 0 | S30: =S31+S44 -> 0 | W30: =W31+W44 -> 0
B31: 1.2.1. ÖG Çelik Hatlar | G31: =SUM(G32:G43) -> 0 | K31: =SUM(K32:K43) -> 0 | O31: =SUM(O32:O43) -> 0 | S31: =SUM(S32:S43) -> 0 | W31: =SUM(W32:W43) -> 0
B32: 1-2" | C32: metre | G32: =D32*(E32+F32) -> 0 | K32: =H32*(I32+J32) -> 0 | O32: =L32*(M32+N32) -> 0 | S32: =P32*(Q32+R32) -> 0 | W32: =T32*(U32+V32) -> 0
B33: 3-4" | C33: metre | G33: =D33*(E33+F33) -> 0 | K33: =H33*(I33+J33) -> 0 | O33: =L33*(M33+N33) -> 0 | S33: =P33*(Q33+R33) -> 0 | W33: =T33*(U33+V33) -> 0
B34: 5-6" | C34: metre | G34: =D34*(E34+F34) -> 0 | K34: =H34*(I34+J34) -> 0 | O34: =L34*(M34+N34) -> 0 | S34: =P34*(Q34+R34) -> 0 | W34: =T34*(U34+V34) -> 0
B35: 7-8" | C35: metre | G35: =D35*(E35+F35) -> 0 | K35: =H35*(I35+J35) -> 0 | O35: =L35*(M35+N35) -> 0 | S35: =P35*(Q35+R35) -> 0 | W35: =T35*(U35+V35) -> 0
B36: 9-10" | C36: metre | G36: =D36*(E36+F36) -> 0 | K36: =H36*(I36+J36) -> 0 | O36: =L36*(M36+N36) -> 0 | S36: =P36*(Q36+R36) -> 0 | W36: =T36*(U36+V36) -> 0
B37: 11-12" | C37: metre | G37: =D37*(E37+F37) -> 0 | K37: =H37*(I37+J37) -> 0 | O37: =L37*(M37+N37) -> 0 | S37: =P37*(Q37+R37) -> 0 | W37: =T37*(U37+V37) -> 0
B38: 13-14" | C38: metre | G38: =D38*(E38+F38) -> 0 | K38: =H38*(I38+J38) -> 0 | O38: =L38*(M38+N38) -> 0 | S38: =P38*(Q38+R38) -> 0 | W38: =T38*(U38+V38) -> 0
B39: 15-16" | C39: metre | G39: =D39*(E39+F39) -> 0 | K39: =H39*(I39+J39) -> 0 | O39: =L39*(M39+N39) -> 0 | S39: =P39*(Q39+R39) -> 0 | W39: =T39*(U39+V39) -> 0
B40: 17-20" | C40: metre | G40: =D40*(E40+F40) -> 0 | K40: =H40*(I40+J40) -> 0 | O40: =L40*(M40+N40) -> 0 | S40: =P40*(Q40+R40) -> 0 | W40: =T40*(U40+V40) -> 0
B41: 21-24" | C41: metre | G41: =D41*(E41+F41) -> 0 | K41: =H41*(I41+J41) -> 0 | O41: =L41*(M41+N41) -> 0 | S41: =P41*(Q41+R41) -> 0 | W41: =T41*(U41+V41) -> 0
B42: 25-28" | C42: metre | G42: =D42*(E42+F42) -> 0 | K42: =H42*(I42+J42) -> 0 | O42: =L42*(M42+N42) -> 0 | S42: =P42*(Q42+R42) -> 0 | W42: =T42*(U42+V42) -> 0
...

Sheet Yatırımlar-Genişleme2
B2: EK-21/A3: YATIRIMLAR (İLGİLİ ŞEHİR(LER))
B4: YATIRIM GİDERLERİ (TL)
D5: 41274 | H5: 41639 | L5: 42004 | P5: 42369 | T5: 42735
